{"text_format":"1","workbook":"xlsx","n_sheets":5,"sheets":["FMI Template","Z.09.00","Dropdown List","FMIs","Questions"],"not_rendered":{"charts":0,"images":0,"macros":1,"external_links":0,"defined_names":19,"comments":0,"pivot_tables":0},"unopened":[],"bounds":{"document_bytes":16777216,"sheet_cells":100000,"rows_first":2000,"rows_last":500,"rows_between":2000,"halvings":0,"cell_chars":16384,"cell_head_chars":4096},"cells_cut":0,"cells_raw":0,"read":"whole","date_system":"1900"}

{"sheet":"FMI Template","index":0,"n_rows":12,"n_cols":34,"rows_kept":12,"cut":false,"hidden":false,"merged":[[1,1,1,33],[5,12,5,13],[2,12,2,13],[3,12,3,13],[4,12,4,13],[7,33,8,33],[3,1,3,4],[7,7,7,19],[8,18,8,19],[8,14,8,17],[7,1,7,6],[7,20,8,32],[8,1,9,1],[8,2,9,2],[8,7,8,11],[8,12,8,13],[8,3,8,6]]}
[]
[null,"FMI Template"]
[]
[null,"Period of reference used for the data reported under the key metrics (B10, B20, B30, B110)",null,null,null,null,null,"Name","Identifier"]
[null,"From",null,"To",null,null,"Ultimate Parent Entity"]
[]
[]
[null,"User",null,null,null,null,null,"Providers",null,null,null,null,null,null,null,null,null,null,null,null,"Key metrics",null,null,null,null,null,null,null,null,null,null,null,null,"Communication"]
[null,"Entity name","Code","Critical functions and core business lines",null,null,null,"Financial Market Infrastructure (FMI)",null,null,null,null,"Intermediary",null,"Services and governing law",null,null,null,"Service providers"]
[null,null,null,"Country","Critical functions","ID","Core business lines","System type","Name","Code","Participation mode","Operator of the system","Name","Code","Governing law","Currency(ies) relevant for reporting entity","Services provided by FMI or intermediary","Services provided to FMI or intermediary","Communication service providers","Other service providers enabling access to FMIs","Contribution to default fund (EUR Mn)","Value of positions on proprietary accounts (EUR Mn)","Value of positions on client omnibus accounts (EUR Mn)","Value of positions on client segregated accounts (EUR Mn)","Number of clients covered by omnibus accounts (‘000)","Number of clients covered by segregated accounts (‘000)","Number of transactions on proprietary accounts (‘000) ","Number of transactions on client accounts (‘000) ","Value of transactions on proprietary accounts (EUR Mn) ","Value of transactions on client accounts (EUR Mn) ","Credit line (EUR Mn)","Peak of (intraday) liquidity or collateral requirements (EUR Mn)","Estimated additional liquidity or collateral requirements in a stress situation (EUR Mn)","Point of contact(s) at FMI/ intermediary for matters related to resolution of the entity"]
[null,"free text","free text","drop-down","multiple drop-down","multiple drop-down","free text","drop-down list","(conditional) drop-down list","free text","drop-down list","free text","free text","free text","drop-down","multiple drop-down list","free text","multiple drop-down list","multiple drop-down list","free text","amount","amount","amount","amount","amount","amount","amount","amount","amount","amount","amount","amount","amount","free text"]
[null,"010","020","030","040","050","060","070","080","090","100","110","120","130","140","150","160","170","180","190","B00","B10","B20","B30","B40","B50","B60","B70","B80","B90","B100","B110","B120","C30"]

{"sheet":"Z.09.00","index":1,"n_rows":501,"n_cols":13,"rows_kept":501,"cut":false,"hidden":false,"merged":[[0,1,0,12],[6,8,7,8],[6,9,6,10],[6,11,7,11],[5,1,5,2],[5,3,5,4],[5,5,5,11],[5,12,7,12],[6,1,7,1],[6,2,7,2],[6,3,7,3],[6,4,7,4],[6,5,6,7]]}
[null,"Z 09.00 - FMI Services - Providers and Users - Mapping to Critical Functions (FMI)"]
[null,null,"Name","Identifier"]
[null,"Ultimate Parent Entity",{"$f":"IF(OR('FMI Template'!$H$5=\"\", 'FMI Template'!$H$5=\"NA\"),\"\",'FMI Template'!$H$5)","v":""},{"$f":"IF(OR('FMI Template'!$I$5=\"\", 'FMI Template'!$I$5=\"NA\"),\"\",'FMI Template'!$I$5)","v":""}]
[]
[]
[null,"User",null,"Critical function",null,"Provider",null,null,null,null,null,null,"Governing law"]
[null,"Entity Name","Code","Country","ID","Financial Market Infrastructure (FMI)",null,null,"Participation mode","Intermediary",null,"Service Description"]
[null,null,null,null,null,"System Type","Name","FMI Code",null,"Name","Code"]
[null,"0010","0020","0030","0040","0050","0060","0070","0080","0090","0100","0110","0120"]
[null,{"$f":"IF(AND('FMI Template'!B13<>\"\",'FMI Template'!B13<>\"NA\",'FMI Template'!B13<>\"UA\"),'FMI Template'!B13,\"\")","v":""},{"$f":"IF(AND('FMI Template'!C13<>\"\",'FMI Template'!C13<>\"NA\",'FMI Template'!C13<>\"UA\"),'FMI Template'!C13,\"\")","v":""},{"$f":"IF(AND('FMI Template'!D13<>\"\",'FMI Template'!D13<>\"NA\",'FMI Template'!D13<>\"UA\"),'FMI Template'!D13,\"\")","v":""},{"$f":"IF(AND('FMI Template'!F13<>\"\",'FMI Template'!F13<>\"NA\",'FMI Template'!F13<>\"UA\"),'FMI Template'!F13,\"\")","v":""},{"$f":"IF(AND('FMI Template'!H13<>\"\", 'FMI Template'!H13<>\"UA\"),IF('FMI Template'!H13=\"CSD\",\"(I)CSD\",IF('FMI Template'!H13=\"CCP_Derivatives\",\"CCP-Derivatives\",IF('FMI Template'!H13=\"CCP_securities\",\"CCP-securities\",IF('FMI Template'!H13=\"PS_Retail\",\"PS\",IF('FMI Template'!H13=\"PS_LV\",\"PS\",'FMI Template'!H13))))),\"\")","v":""},{"$f":"IF(AND('FMI Template'!I13<>\"\", 'FMI Template'!I13<>\"UA\"),'FMI Template'!I13,\"\")","v":""},{"$f":"IF(AND('FMI Template'!J13<>\"\",'FMI Template'!J13<>\"UA\"),IF('FMI Template'!J13=\"CSD_SSS\",\"CSD-SSS\",IF('FMI Template'!J13=\"CCP_Derivatives\",\"CCP-Derivatives\",IF('FMI Template'!J13=\"CCP_securities\",\"CCP-securities\",IF('FMI Template'!J13=\"Trading_venue\",\"Trading-venue\",'FMI Template'!J13)))),\"\")","v":""},{"$f":"IF(AND('FMI Template'!K13<>\"\",'FMI Template'!K13<>\"UA\"),'FMI Template'!K13,\"\")","v":""},{"$f":"IF('FMI Template'!K13=\"direct\",\"NA\",IF(AND('FMI Template'!M13<>\"\",'FMI Template'!M13<>\"UA\"),'FMI Template'!M13,\"\"))","v":""},{"$f":"IF('FMI Template'!K13=\"direct\",\"NA\",IF(AND('FMI Template'!N13<>\"\",'FMI Template'!N13<>\"UA\"),'FMI Template'!N13,\"\"))","v":""},{"$f":"IF(OR('FMI Template'!H13=\"Other\",'FMI Template'!H13=\"NA\"),'FMI Template'!Q13,\"\")","v":""},{"$f":"IF(AND('FMI Template'!O13<>\"\",'FMI Template'!O13<>\"NA\",'FMI Template'!O13<>\"UA\"),'FMI Template'!O13,\"\")","v":""}]
[null,{"$f":"IF(AND('FMI Template'!B14<>\"\",'FMI Template'!B14<>\"NA\",'FMI Template'!B14<>\"UA\"),'FMI Template'!B14,\"\")","v":""},{"$f":"IF(AND('FMI Template'!C14<>\"\",'FMI Template'!C14<>\"NA\",'FMI Template'!C14<>\"UA\"),'FMI Template'!C14,\"\")","v":""},{"$f":"IF(AND('FMI Template'!D14<>\"\",'FMI Template'!D14<>\"NA\",'FMI Template'!D14<>\"UA\"),'FMI Template'!D14,\"\")","v":""},{"$f":"IF(AND('FMI Template'!F14<>\"\",'FMI Template'!F14<>\"NA\",'FMI Template'!F14<>\"UA\"),'FMI Template'!F14,\"\")","v":""},{"$f":"IF(AND('FMI Template'!H14<>\"\", 'FMI Template'!H14<>\"UA\"),IF('FMI Template'!H14=\"CSD\",\"(I)CSD\",IF('FMI Template'!H14=\"CCP_Derivatives\",\"CCP-Derivatives\",IF('FMI Template'!H14=\"CCP_securities\",\"CCP-securities\",IF('FMI Template'!H14=\"PS_Retail\",\"PS\",IF('FMI Template'!H14=\"PS_LV\",\"PS\",'FMI Template'!H14))))),\"\")","v":""},{"$f":"IF(AND('FMI Template'!I14<>\"\", 'FMI Template'!I14<>\"UA\"),'FMI Template'!I14,\"\")","v":""},{"$f":"IF(AND('FMI Template'!J14<>\"\",'FMI Template'!J14<>\"UA\"),IF('FMI Template'!J14=\"CSD_SSS\",\"CSD-SSS\",IF('FMI Template'!J14=\"CCP_Derivatives\",\"CCP-Derivatives\",IF('FMI Template'!J14=\"CCP_securities\",\"CCP-securities\",IF('FMI Template'!J14=\"Trading_venue\",\"Trading-venue\",'FMI Template'!J14)))),\"\")","v":""},{"$f":"IF(AND('FMI Template'!K14<>\"\",'FMI Template'!K14<>\"UA\"),'FMI Template'!K14,\"\")","v":""},{"$f":"IF('FMI Template'!K14=\"direct\",\"NA\",IF(AND('FMI Template'!M14<>\"\",'FMI Template'!M14<>\"UA\"),'FMI Template'!M14,\"\"))","v":""},{"$f":"IF('FMI Template'!K14=\"direct\",\"NA\",IF(AND('FMI Template'!N14<>\"\",'FMI Template'!N14<>\"UA\"),'FMI Template'!N14,\"\"))","v":""},{"$f":"IF(OR('FMI Template'!H14=\"Other\",'FMI Template'!H14=\"NA\"),'FMI Template'!Q14,\"\")","v":""},{"$f":"IF(AND('FMI Template'!O14<>\"\",'FMI Template'!O14<>\"NA\",'FMI Template'!O14<>\"UA\"),'FMI Template'!O14,\"\")","v":""}]
[null,{"$f":"IF(AND('FMI Template'!B15<>\"\",'FMI Template'!B15<>\"NA\",'FMI Template'!B15<>\"UA\"),'FMI Template'!B15,\"\")","v":""},{"$f":"IF(AND('FMI Template'!C15<>\"\",'FMI Template'!C15<>\"NA\",'FMI Template'!C15<>\"UA\"),'FMI Template'!C15,\"\")","v":""},{"$f":"IF(AND('FMI Template'!D15<>\"\",'FMI Template'!D15<>\"NA\",'FMI Template'!D15<>\"UA\"),'FMI Template'!D15,\"\")","v":""},{"$f":"IF(AND('FMI Template'!F15<>\"\",'FMI Template'!F15<>\"NA\",'FMI Template'!F15<>\"UA\"),'FMI Template'!F15,\"\")","v":""},{"$f":"IF(AND('FMI Template'!H15<>\"\", 'FMI Template'!H15<>\"UA\"),IF('FMI Template'!H15=\"CSD\",\"(I)CSD\",IF('FMI Template'!H15=\"CCP_Derivatives\",\"CCP-Derivatives\",IF('FMI Template'!H15=\"CCP_securities\",\"CCP-securities\",IF('FMI Template'!H15=\"PS_Retail\",\"PS\",IF('FMI Template'!H15=\"PS_LV\",\"PS\",'FMI Template'!H15))))),\"\")","v":""},{"$f":"IF(AND('FMI Template'!I15<>\"\", 'FMI Template'!I15<>\"UA\"),'FMI Template'!I15,\"\")","v":""},{"$f":"IF(AND('FMI Template'!J15<>\"\",'FMI Template'!J15<>\"UA\"),IF('FMI Template'!J15=\"CSD_SSS\",\"CSD-SSS\",IF('FMI Template'!J15=\"CCP_Derivatives\",\"CCP-Derivatives\",IF('FMI Template'!J15=\"CCP_securities\",\"CCP-securities\",IF('FMI Template'!J15=\"Trading_venue\",\"Trading-venue\",'FMI Template'!J15)))),\"\")","v":""},{"$f":"IF(AND('FMI Template'!K15<>\"\",'FMI Template'!K15<>\"UA\"),'FMI Template'!K15,\"\")","v":""},{"$f":"IF('FMI Template'!K15=\"direct\",\"NA\",IF(AND('FMI Template'!M15<>\"\",'FMI Template'!M15<>\"UA\"),'FMI Template'!M15,\"\"))","v":""},{"$f":"IF('FMI Template'!K15=\"direct\",\"NA\",IF(AND('FMI Template'!N15<>\"\",'FMI Template'!N15<>\"UA\"),'FMI Template'!N15,\"\"))","v":""},{"$f":"IF(OR('FMI Template'!H15=\"Other\",'FMI Template'!H15=\"NA\"),'FMI Template'!Q15,\"\")","v":""},{"$f":"IF(AND('FMI Template'!O15<>\"\",'FMI Template'!O15<>\"NA\",'FMI Template'!O15<>\"UA\"),'FMI Template'!O15,\"\")","v":""}]
[null,{"$f":"IF(AND('FMI Template'!B16<>\"\",'FMI Template'!B16<>\"NA\",'FMI Template'!B16<>\"UA\"),'FMI Template'!B16,\"\")","v":""},{"$f":"IF(AND('FMI Template'!C16<>\"\",'FMI Template'!C16<>\"NA\",'FMI Template'!C16<>\"UA\"),'FMI Template'!C16,\"\")","v":""},{"$f":"IF(AND('FMI Template'!D16<>\"\",'FMI Template'!D16<>\"NA\",'FMI Template'!D16<>\"UA\"),'FMI Template'!D16,\"\")","v":""},{"$f":"IF(AND('FMI Template'!F16<>\"\",'FMI Template'!F16<>\"NA\",'FMI Template'!F16<>\"UA\"),'FMI Template'!F16,\"\")","v":""},{"$f":"IF(AND('FMI Template'!H16<>\"\", 'FMI Template'!H16<>\"UA\"),IF('FMI Template'!H16=\"CSD\",\"(I)CSD\",IF('FMI Template'!H16=\"CCP_Derivatives\",\"CCP-Derivatives\",IF('FMI Template'!H16=\"CCP_securities\",\"CCP-securities\",IF('FMI Template'!H16=\"PS_Retail\",\"PS\",IF('FMI Template'!H16=\"PS_LV\",\"PS\",'FMI Template'!H16))))),\"\")","v":""},{"$f":"IF(AND('FMI Template'!I16<>\"\", 'FMI Template'!I16<>\"UA\"),'FMI Template'!I16,\"\")","v":""},{"$f":"IF(AND('FMI Template'!J16<>\"\",'FMI Template'!J16<>\"UA\"),IF('FMI Template'!J16=\"CSD_SSS\",\"CSD-SSS\",IF('FMI Template'!J16=\"CCP_Derivatives\",\"CCP-Derivatives\",IF('FMI Template'!J16=\"CCP_securities\",\"CCP-securities\",IF('FMI Template'!J16=\"Trading_venue\",\"Trading-venue\",'FMI Template'!J16)))),\"\")","v":""},{"$f":"IF(AND('FMI Template'!K16<>\"\",'FMI Template'!K16<>\"UA\"),'FMI Template'!K16,\"\")","v":""},{"$f":"IF('FMI Template'!K16=\"direct\",\"NA\",IF(AND('FMI Template'!M16<>\"\",'FMI Template'!M16<>\"UA\"),'FMI Template'!M16,\"\"))","v":""},{"$f":"IF('FMI Template'!K16=\"direct\",\"NA\",IF(AND('FMI Template'!N16<>\"\",'FMI Template'!N16<>\"UA\"),'FMI Template'!N16,\"\"))","v":""},{"$f":"IF(OR('FMI Template'!H16=\"Other\",'FMI Template'!H16=\"NA\"),'FMI Template'!Q16,\"\")","v":""},{"$f":"IF(AND('FMI Template'!O16<>\"\",'FMI Template'!O16<>\"NA\",'FMI Template'!O16<>\"UA\"),'FMI Template'!O16,\"\")","v":""}]
[null,{"$f":"IF(AND('FMI Template'!B17<>\"\",'FMI Template'!B17<>\"NA\",'FMI Template'!B17<>\"UA\"),'FMI Template'!B17,\"\")","v":""},{"$f":"IF(AND('FMI Template'!C17<>\"\",'FMI Template'!C17<>\"NA\",'FMI Template'!C17<>\"UA\"),'FMI Template'!C17,\"\")","v":""},{"$f":"IF(AND('FMI Template'!D17<>\"\",'FMI Template'!D17<>\"NA\",'FMI Template'!D17<>\"UA\"),'FMI Template'!D17,\"\")","v":""},{"$f":"IF(AND('FMI Template'!F17<>\"\",'FMI Template'!F17<>\"NA\",'FMI Template'!F17<>\"UA\"),'FMI Template'!F17,\"\")","v":""},{"$f":"IF(AND('FMI Template'!H17<>\"\", 'FMI Template'!H17<>\"UA\"),IF('FMI Template'!H17=\"CSD\",\"(I)CSD\",IF('FMI Template'!H17=\"CCP_Derivatives\",\"CCP-Derivatives\",IF('FMI Template'!H17=\"CCP_securities\",\"CCP-securities\",IF('FMI Template'!H17=\"PS_Retail\",\"PS\",IF('FMI Template'!H17=\"PS_LV\",\"PS\",'FMI Template'!H17))))),\"\")","v":""},{"$f":"IF(AND('FMI Template'!I17<>\"\", 'FMI Template'!I17<>\"UA\"),'FMI Template'!I17,\"\")","v":""},{"$f":"IF(AND('FMI Template'!J17<>\"\",'FMI Template'!J17<>\"UA\"),IF('FMI Template'!J17=\"CSD_SSS\",\"CSD-SSS\",IF('FMI Template'!J17=\"CCP_Derivatives\",\"CCP-Derivatives\",IF('FMI Template'!J17=\"CCP_securities\",\"CCP-securities\",IF('FMI Template'!J17=\"Trading_venue\",\"Trading-venue\",'FMI Template'!J17)))),\"\")","v":""},{"$f":"IF(AND('FMI Template'!K17<>\"\",'FMI Template'!K17<>\"UA\"),'FMI Template'!K17,\"\")","v":""},{"$f":"IF('FMI Template'!K17=\"direct\",\"NA\",IF(AND('FMI Template'!M17<>\"\",'FMI Template'!M17<>\"UA\"),'FMI Template'!M17,\"\"))","v":""},{"$f":"IF('FMI Template'!K17=\"direct\",\"NA\",IF(AND('FMI Template'!N17<>\"\",'FMI Template'!N17<>\"UA\"),'FMI Template'!N17,\"\"))","v":""},{"$f":"IF(OR('FMI Template'!H17=\"Other\",'FMI Template'!H17=\"NA\"),'FMI Template'!Q17,\"\")","v":""},{"$f":"IF(AND('FMI Template'!O17<>\"\",'FMI Template'!O17<>\"NA\",'FMI Template'!O17<>\"UA\"),'FMI Template'!O17,\"\")","v":""}]
[null,{"$f":"IF(AND('FMI Template'!B18<>\"\",'FMI Template'!B18<>\"NA\",'FMI Template'!B18<>\"UA\"),'FMI Template'!B18,\"\")","v":""},{"$f":"IF(AND('FMI Template'!C18<>\"\",'FMI Template'!C18<>\"NA\",'FMI Template'!C18<>\"UA\"),'FMI Template'!C18,\"\")","v":""},{"$f":"IF(AND('FMI Template'!D18<>\"\",'FMI Template'!D18<>\"NA\",'FMI Template'!D18<>\"UA\"),'FMI Template'!D18,\"\")","v":""},{"$f":"IF(AND('FMI Template'!F18<>\"\",'FMI Template'!F18<>\"NA\",'FMI Template'!F18<>\"UA\"),'FMI Template'!F18,\"\")","v":""},{"$f":"IF(AND('FMI Template'!H18<>\"\", 'FMI Template'!H18<>\"UA\"),IF('FMI Template'!H18=\"CSD\",\"(I)CSD\",IF('FMI Template'!H18=\"CCP_Derivatives\",\"CCP-Derivatives\",IF('FMI Template'!H18=\"CCP_securities\",\"CCP-securities\",IF('FMI Template'!H18=\"PS_Retail\",\"PS\",IF('FMI Template'!H18=\"PS_LV\",\"PS\",'FMI Template'!H18))))),\"\")","v":""},{"$f":"IF(AND('FMI Template'!I18<>\"\", 'FMI Template'!I18<>\"UA\"),'FMI Template'!I18,\"\")","v":""},{"$f":"IF(AND('FMI Template'!J18<>\"\",'FMI Template'!J18<>\"UA\"),IF('FMI Template'!J18=\"CSD_SSS\",\"CSD-SSS\",IF('FMI Template'!J18=\"CCP_Derivatives\",\"CCP-Derivatives\",IF('FMI Template'!J18=\"CCP_securities\",\"CCP-securities\",IF('FMI Template'!J18=\"Trading_venue\",\"Trading-venue\",'FMI Template'!J18)))),\"\")","v":""},{"$f":"IF(AND('FMI Template'!K18<>\"\",'FMI Template'!K18<>\"UA\"),'FMI Template'!K18,\"\")","v":""},{"$f":"IF('FMI Template'!K18=\"direct\",\"NA\",IF(AND('FMI Template'!M18<>\"\",'FMI Template'!M18<>\"UA\"),'FMI Template'!M18,\"\"))","v":""},{"$f":"IF('FMI Template'!K18=\"direct\",\"NA\",IF(AND('FMI Template'!N18<>\"\",'FMI Template'!N18<>\"UA\"),'FMI Template'!N18,\"\"))","v":""},{"$f":"IF(OR('FMI Template'!H18=\"Other\",'FMI Template'!H18=\"NA\"),'FMI Template'!Q18,\"\")","v":""},{"$f":"IF(AND('FMI Template'!O18<>\"\",'FMI Template'!O18<>\"NA\",'FMI Template'!O18<>\"UA\"),'FMI Template'!O18,\"\")","v":""}]
[null,{"$f":"IF(AND('FMI Template'!B19<>\"\",'FMI Template'!B19<>\"NA\",'FMI Template'!B19<>\"UA\"),'FMI Template'!B19,\"\")","v":""},{"$f":"IF(AND('FMI Template'!C19<>\"\",'FMI Template'!C19<>\"NA\",'FMI Template'!C19<>\"UA\"),'FMI Template'!C19,\"\")","v":""},{"$f":"IF(AND('FMI Template'!D19<>\"\",'FMI Template'!D19<>\"NA\",'FMI Template'!D19<>\"UA\"),'FMI Template'!D19,\"\")","v":""},{"$f":"IF(AND('FMI Template'!F19<>\"\",'FMI Template'!F19<>\"NA\",'FMI Template'!F19<>\"UA\"),'FMI Template'!F19,\"\")","v":""},{"$f":"IF(AND('FMI Template'!H19<>\"\", 'FMI Template'!H19<>\"UA\"),IF('FMI Template'!H19=\"CSD\",\"(I)CSD\",IF('FMI Template'!H19=\"CCP_Derivatives\",\"CCP-Derivatives\",IF('FMI Template'!H19=\"CCP_securities\",\"CCP-securities\",IF('FMI Template'!H19=\"PS_Retail\",\"PS\",IF('FMI Template'!H19=\"PS_LV\",\"PS\",'FMI Template'!H19))))),\"\")","v":""},{"$f":"IF(AND('FMI Template'!I19<>\"\", 'FMI Template'!I19<>\"UA\"),'FMI Template'!I19,\"\")","v":""},{"$f":"IF(AND('FMI Template'!J19<>\"\",'FMI Template'!J19<>\"UA\"),IF('FMI Template'!J19=\"CSD_SSS\",\"CSD-SSS\",IF('FMI Template'!J19=\"CCP_Derivatives\",\"CCP-Derivatives\",IF('FMI Template'!J19=\"CCP_securities\",\"CCP-securities\",IF('FMI Template'!J19=\"Trading_venue\",\"Trading-venue\",'FMI Template'!J19)))),\"\")","v":""},{"$f":"IF(AND('FMI Template'!K19<>\"\",'FMI Template'!K19<>\"UA\"),'FMI Template'!K19,\"\")","v":""},{"$f":"IF('FMI Template'!K19=\"direct\",\"NA\",IF(AND('FMI Template'!M19<>\"\",'FMI Template'!M19<>\"UA\"),'FMI Template'!M19,\"\"))","v":""},{"$f":"IF('FMI Template'!K19=\"direct\",\"NA\",IF(AND('FMI Template'!N19<>\"\",'FMI Template'!N19<>\"UA\"),'FMI Template'!N19,\"\"))","v":""},{"$f":"IF(OR('FMI Template'!H19=\"Other\",'FMI Template'!H19=\"NA\"),'FMI Template'!Q19,\"\")","v":""},{"$f":"IF(AND('FMI Template'!O19<>\"\",'FMI Template'!O19<>\"NA\",'FMI Template'!O19<>\"UA\"),'FMI Template'!O19,\"\")","v":""}]
[null,{"$f":"IF(AND('FMI Template'!B20<>\"\",'FMI Template'!B20<>\"NA\",'FMI Template'!B20<>\"UA\"),'FMI Template'!B20,\"\")","v":""},{"$f":"IF(AND('FMI Template'!C20<>\"\",'FMI Template'!C20<>\"NA\",'FMI Template'!C20<>\"UA\"),'FMI Template'!C20,\"\")","v":""},{"$f":"IF(AND('FMI Template'!D20<>\"\",'FMI Template'!D20<>\"NA\",'FMI Template'!D20<>\"UA\"),'FMI Template'!D20,\"\")","v":""},{"$f":"IF(AND('FMI Template'!F20<>\"\",'FMI Template'!F20<>\"NA\",'FMI Template'!F20<>\"UA\"),'FMI Template'!F20,\"\")","v":""},{"$f":"IF(AND('FMI Template'!H20<>\"\", 'FMI Template'!H20<>\"UA\"),IF('FMI Template'!H20=\"CSD\",\"(I)CSD\",IF('FMI Template'!H20=\"CCP_Derivatives\",\"CCP-Derivatives\",IF('FMI Template'!H20=\"CCP_securities\",\"CCP-securities\",IF('FMI Template'!H20=\"PS_Retail\",\"PS\",IF('FMI Template'!H20=\"PS_LV\",\"PS\",'FMI Template'!H20))))),\"\")","v":""},{"$f":"IF(AND('FMI Template'!I20<>\"\", 'FMI Template'!I20<>\"UA\"),'FMI Template'!I20,\"\")","v":""},{"$f":"IF(AND('FMI Template'!J20<>\"\",'FMI Template'!J20<>\"UA\"),IF('FMI Template'!J20=\"CSD_SSS\",\"CSD-SSS\",IF('FMI Template'!J20=\"CCP_Derivatives\",\"CCP-Derivatives\",IF('FMI Template'!J20=\"CCP_securities\",\"CCP-securities\",IF('FMI Template'!J20=\"Trading_venue\",\"Trading-venue\",'FMI Template'!J20)))),\"\")","v":""},{"$f":"IF(AND('FMI Template'!K20<>\"\",'FMI Template'!K20<>\"UA\"),'FMI Template'!K20,\"\")","v":""},{"$f":"IF('FMI Template'!K20=\"direct\",\"NA\",IF(AND('FMI Template'!M20<>\"\",'FMI Template'!M20<>\"UA\"),'FMI Template'!M20,\"\"))","v":""},{"$f":"IF('FMI Template'!K20=\"direct\",\"NA\",IF(AND('FMI Template'!N20<>\"\",'FMI Template'!N20<>\"UA\"),'FMI Template'!N20,\"\"))","v":""},{"$f":"IF(OR('FMI Template'!H20=\"Other\",'FMI Template'!H20=\"NA\"),'FMI Template'!Q20,\"\")","v":""},{"$f":"IF(AND('FMI Template'!O20<>\"\",'FMI Template'!O20<>\"NA\",'FMI Template'!O20<>\"UA\"),'FMI Template'!O20,\"\")","v":""}]
[null,{"$f":"IF(AND('FMI Template'!B21<>\"\",'FMI Template'!B21<>\"NA\",'FMI Template'!B21<>\"UA\"),'FMI Template'!B21,\"\")","v":""},{"$f":"IF(AND('FMI Template'!C21<>\"\",'FMI Template'!C21<>\"NA\",'FMI Template'!C21<>\"UA\"),'FMI Template'!C21,\"\")","v":""},{"$f":"IF(AND('FMI Template'!D21<>\"\",'FMI Template'!D21<>\"NA\",'FMI Template'!D21<>\"UA\"),'FMI Template'!D21,\"\")","v":""},{"$f":"IF(AND('FMI Template'!F21<>\"\",'FMI Template'!F21<>\"NA\",'FMI Template'!F21<>\"UA\"),'FMI Template'!F21,\"\")","v":""},{"$f":"IF(AND('FMI Template'!H21<>\"\", 'FMI Template'!H21<>\"UA\"),IF('FMI Template'!H21=\"CSD\",\"(I)CSD\",IF('FMI Template'!H21=\"CCP_Derivatives\",\"CCP-Derivatives\",IF('FMI Template'!H21=\"CCP_securities\",\"CCP-securities\",IF('FMI Template'!H21=\"PS_Retail\",\"PS\",IF('FMI Template'!H21=\"PS_LV\",\"PS\",'FMI Template'!H21))))),\"\")","v":""},{"$f":"IF(AND('FMI Template'!I21<>\"\", 'FMI Template'!I21<>\"UA\"),'FMI Template'!I21,\"\")","v":""},{"$f":"IF(AND('FMI Template'!J21<>\"\",'FMI Template'!J21<>\"UA\"),IF('FMI Template'!J21=\"CSD_SSS\",\"CSD-SSS\",IF('FMI Template'!J21=\"CCP_Derivatives\",\"CCP-Derivatives\",IF('FMI Template'!J21=\"CCP_securities\",\"CCP-securities\",IF('FMI Template'!J21=\"Trading_venue\",\"Trading-venue\",'FMI Template'!J21)))),\"\")","v":""},{"$f":"IF(AND('FMI Template'!K21<>\"\",'FMI Template'!K21<>\"UA\"),'FMI Template'!K21,\"\")","v":""},{"$f":"IF('FMI Template'!K21=\"direct\",\"NA\",IF(AND('FMI Template'!M21<>\"\",'FMI Template'!M21<>\"UA\"),'FMI Template'!M21,\"\"))","v":""},{"$f":"IF('FMI Template'!K21=\"direct\",\"NA\",IF(AND('FMI Template'!N21<>\"\",'FMI Template'!N21<>\"UA\"),'FMI Template'!N21,\"\"))","v":""},{"$f":"IF(OR('FMI Template'!H21=\"Other\",'FMI Template'!H21=\"NA\"),'FMI Template'!Q21,\"\")","v":""},{"$f":"IF(AND('FMI Template'!O21<>\"\",'FMI Template'!O21<>\"NA\",'FMI Template'!O21<>\"UA\"),'FMI Template'!O21,\"\")","v":""}]
[null,{"$f":"IF(AND('FMI Template'!B22<>\"\",'FMI Template'!B22<>\"NA\",'FMI Template'!B22<>\"UA\"),'FMI Template'!B22,\"\")","v":""},{"$f":"IF(AND('FMI Template'!C22<>\"\",'FMI Template'!C22<>\"NA\",'FMI Template'!C22<>\"UA\"),'FMI Template'!C22,\"\")","v":""},{"$f":"IF(AND('FMI Template'!D22<>\"\",'FMI Template'!D22<>\"NA\",'FMI Template'!D22<>\"UA\"),'FMI Template'!D22,\"\")","v":""},{"$f":"IF(AND('FMI Template'!F22<>\"\",'FMI Template'!F22<>\"NA\",'FMI Template'!F22<>\"UA\"),'FMI Template'!F22,\"\")","v":""},{"$f":"IF(AND('FMI Template'!H22<>\"\", 'FMI Template'!H22<>\"UA\"),IF('FMI Template'!H22=\"CSD\",\"(I)CSD\",IF('FMI Template'!H22=\"CCP_Derivatives\",\"CCP-Derivatives\",IF('FMI Template'!H22=\"CCP_securities\",\"CCP-securities\",IF('FMI Template'!H22=\"PS_Retail\",\"PS\",IF('FMI Template'!H22=\"PS_LV\",\"PS\",'FMI Template'!H22))))),\"\")","v":""},{"$f":"IF(AND('FMI Template'!I22<>\"\", 'FMI Template'!I22<>\"UA\"),'FMI Template'!I22,\"\")","v":""},{"$f":"IF(AND('FMI Template'!J22<>\"\",'FMI Template'!J22<>\"UA\"),IF('FMI Template'!J22=\"CSD_SSS\",\"CSD-SSS\",IF('FMI Template'!J22=\"CCP_Derivatives\",\"CCP-Derivatives\",IF('FMI Template'!J22=\"CCP_securities\",\"CCP-securities\",IF('FMI Template'!J22=\"Trading_venue\",\"Trading-venue\",'FMI Template'!J22)))),\"\")","v":""},{"$f":"IF(AND('FMI Template'!K22<>\"\",'FMI Template'!K22<>\"UA\"),'FMI Template'!K22,\"\")","v":""},{"$f":"IF('FMI Template'!K22=\"direct\",\"NA\",IF(AND('FMI Template'!M22<>\"\",'FMI Template'!M22<>\"UA\"),'FMI Template'!M22,\"\"))","v":""},{"$f":"IF('FMI Template'!K22=\"direct\",\"NA\",IF(AND('FMI Template'!N22<>\"\",'FMI Template'!N22<>\"UA\"),'FMI Template'!N22,\"\"))","v":""},{"$f":"IF(OR('FMI Template'!H22=\"Other\",'FMI Template'!H22=\"NA\"),'FMI Template'!Q22,\"\")","v":""},{"$f":"IF(AND('FMI Template'!O22<>\"\",'FMI Template'!O22<>\"NA\",'FMI Template'!O22<>\"UA\"),'FMI Template'!O22,\"\")","v":""}]
[null,{"$f":"IF(AND('FMI Template'!B23<>\"\",'FMI Template'!B23<>\"NA\",'FMI Template'!B23<>\"UA\"),'FMI Template'!B23,\"\")","v":""},{"$f":"IF(AND('FMI Template'!C23<>\"\",'FMI Template'!C23<>\"NA\",'FMI Template'!C23<>\"UA\"),'FMI Template'!C23,\"\")","v":""},{"$f":"IF(AND('FMI Template'!D23<>\"\",'FMI Template'!D23<>\"NA\",'FMI Template'!D23<>\"UA\"),'FMI Template'!D23,\"\")","v":""},{"$f":"IF(AND('FMI Template'!F23<>\"\",'FMI Template'!F23<>\"NA\",'FMI Template'!F23<>\"UA\"),'FMI Template'!F23,\"\")","v":""},{"$f":"IF(AND('FMI Template'!H23<>\"\", 'FMI Template'!H23<>\"UA\"),IF('FMI Template'!H23=\"CSD\",\"(I)CSD\",IF('FMI Template'!H23=\"CCP_Derivatives\",\"CCP-Derivatives\",IF('FMI Template'!H23=\"CCP_securities\",\"CCP-securities\",IF('FMI Template'!H23=\"PS_Retail\",\"PS\",IF('FMI Template'!H23=\"PS_LV\",\"PS\",'FMI Template'!H23))))),\"\")","v":""},{"$f":"IF(AND('FMI Template'!I23<>\"\", 'FMI Template'!I23<>\"UA\"),'FMI Template'!I23,\"\")","v":""},{"$f":"IF(AND('FMI Template'!J23<>\"\",'FMI Template'!J23<>\"UA\"),IF('FMI Template'!J23=\"CSD_SSS\",\"CSD-SSS\",IF('FMI Template'!J23=\"CCP_Derivatives\",\"CCP-Derivatives\",IF('FMI Template'!J23=\"CCP_securities\",\"CCP-securities\",IF('FMI Template'!J23=\"Trading_venue\",\"Trading-venue\",'FMI Template'!J23)))),\"\")","v":""},{"$f":"IF(AND('FMI Template'!K23<>\"\",'FMI Template'!K23<>\"UA\"),'FMI Template'!K23,\"\")","v":""},{"$f":"IF('FMI Template'!K23=\"direct\",\"NA\",IF(AND('FMI Template'!M23<>\"\",'FMI Template'!M23<>\"UA\"),'FMI Template'!M23,\"\"))","v":""},{"$f":"IF('FMI Template'!K23=\"direct\",\"NA\",IF(AND('FMI Template'!N23<>\"\",'FMI Template'!N23<>\"UA\"),'FMI Template'!N23,\"\"))","v":""},{"$f":"IF(OR('FMI Template'!H23=\"Other\",'FMI Template'!H23=\"NA\"),'FMI Template'!Q23,\"\")","v":""},{"$f":"IF(AND('FMI Template'!O23<>\"\",'FMI Template'!O23<>\"NA\",'FMI Template'!O23<>\"UA\"),'FMI Template'!O23,\"\")","v":""}]
[null,{"$f":"IF(AND('FMI Template'!B24<>\"\",'FMI Template'!B24<>\"NA\",'FMI Template'!B24<>\"UA\"),'FMI Template'!B24,\"\")","v":""},{"$f":"IF(AND('FMI Template'!C24<>\"\",'FMI Template'!C24<>\"NA\",'FMI Template'!C24<>\"UA\"),'FMI Template'!C24,\"\")","v":""},{"$f":"IF(AND('FMI Template'!D24<>\"\",'FMI Template'!D24<>\"NA\",'FMI Template'!D24<>\"UA\"),'FMI Template'!D24,\"\")","v":""},{"$f":"IF(AND('FMI Template'!F24<>\"\",'FMI Template'!F24<>\"NA\",'FMI Template'!F24<>\"UA\"),'FMI Template'!F24,\"\")","v":""},{"$f":"IF(AND('FMI Template'!H24<>\"\", 'FMI Template'!H24<>\"UA\"),IF('FMI Template'!H24=\"CSD\",\"(I)CSD\",IF('FMI Template'!H24=\"CCP_Derivatives\",\"CCP-Derivatives\",IF('FMI Template'!H24=\"CCP_securities\",\"CCP-securities\",IF('FMI Template'!H24=\"PS_Retail\",\"PS\",IF('FMI Template'!H24=\"PS_LV\",\"PS\",'FMI Template'!H24))))),\"\")","v":""},{"$f":"IF(AND('FMI Template'!I24<>\"\", 'FMI Template'!I24<>\"UA\"),'FMI Template'!I24,\"\")","v":""},{"$f":"IF(AND('FMI Template'!J24<>\"\",'FMI Template'!J24<>\"UA\"),IF('FMI Template'!J24=\"CSD_SSS\",\"CSD-SSS\",IF('FMI Template'!J24=\"CCP_Derivatives\",\"CCP-Derivatives\",IF('FMI Template'!J24=\"CCP_securities\",\"CCP-securities\",IF('FMI Template'!J24=\"Trading_venue\",\"Trading-venue\",'FMI Template'!J24)))),\"\")","v":""},{"$f":"IF(AND('FMI Template'!K24<>\"\",'FMI Template'!K24<>\"UA\"),'FMI Template'!K24,\"\")","v":""},{"$f":"IF('FMI Template'!K24=\"direct\",\"NA\",IF(AND('FMI Template'!M24<>\"\",'FMI Template'!M24<>\"UA\"),'FMI Template'!M24,\"\"))","v":""},{"$f":"IF('FMI Template'!K24=\"direct\",\"NA\",IF(AND('FMI Template'!N24<>\"\",'FMI Template'!N24<>\"UA\"),'FMI Template'!N24,\"\"))","v":""},{"$f":"IF(OR('FMI Template'!H24=\"Other\",'FMI Template'!H24=\"NA\"),'FMI Template'!Q24,\"\")","v":""},{"$f":"IF(AND('FMI Template'!O24<>\"\",'FMI Template'!O24<>\"NA\",'FMI Template'!O24<>\"UA\"),'FMI Template'!O24,\"\")","v":""}]
[null,{"$f":"IF(AND('FMI Template'!B25<>\"\",'FMI Template'!B25<>\"NA\",'FMI Template'!B25<>\"UA\"),'FMI Template'!B25,\"\")","v":""},{"$f":"IF(AND('FMI Template'!C25<>\"\",'FMI Template'!C25<>\"NA\",'FMI Template'!C25<>\"UA\"),'FMI Template'!C25,\"\")","v":""},{"$f":"IF(AND('FMI Template'!D25<>\"\",'FMI Template'!D25<>\"NA\",'FMI Template'!D25<>\"UA\"),'FMI Template'!D25,\"\")","v":""},{"$f":"IF(AND('FMI Template'!F25<>\"\",'FMI Template'!F25<>\"NA\",'FMI Template'!F25<>\"UA\"),'FMI Template'!F25,\"\")","v":""},{"$f":"IF(AND('FMI Template'!H25<>\"\", 'FMI Template'!H25<>\"UA\"),IF('FMI Template'!H25=\"CSD\",\"(I)CSD\",IF('FMI Template'!H25=\"CCP_Derivatives\",\"CCP-Derivatives\",IF('FMI Template'!H25=\"CCP_securities\",\"CCP-securities\",IF('FMI Template'!H25=\"PS_Retail\",\"PS\",IF('FMI Template'!H25=\"PS_LV\",\"PS\",'FMI Template'!H25))))),\"\")","v":""},{"$f":"IF(AND('FMI Template'!I25<>\"\", 'FMI Template'!I25<>\"UA\"),'FMI Template'!I25,\"\")","v":""},{"$f":"IF(AND('FMI Template'!J25<>\"\",'FMI Template'!J25<>\"UA\"),IF('FMI Template'!J25=\"CSD_SSS\",\"CSD-SSS\",IF('FMI Template'!J25=\"CCP_Derivatives\",\"CCP-Derivatives\",IF('FMI Template'!J25=\"CCP_securities\",\"CCP-securities\",IF('FMI Template'!J25=\"Trading_venue\",\"Trading-venue\",'FMI Template'!J25)))),\"\")","v":""},{"$f":"IF(AND('FMI Template'!K25<>\"\",'FMI Template'!K25<>\"UA\"),'FMI Template'!K25,\"\")","v":""},{"$f":"IF('FMI Template'!K25=\"direct\",\"NA\",IF(AND('FMI Template'!M25<>\"\",'FMI Template'!M25<>\"UA\"),'FMI Template'!M25,\"\"))","v":""},{"$f":"IF('FMI Template'!K25=\"direct\",\"NA\",IF(AND('FMI Template'!N25<>\"\",'FMI Template'!N25<>\"UA\"),'FMI Template'!N25,\"\"))","v":""},{"$f":"IF(OR('FMI Template'!H25=\"Other\",'FMI Template'!H25=\"NA\"),'FMI Template'!Q25,\"\")","v":""},{"$f":"IF(AND('FMI Template'!O25<>\"\",'FMI Template'!O25<>\"NA\",'FMI Template'!O25<>\"UA\"),'FMI Template'!O25,\"\")","v":""}]
[null,{"$f":"IF(AND('FMI Template'!B26<>\"\",'FMI Template'!B26<>\"NA\",'FMI Template'!B26<>\"UA\"),'FMI Template'!B26,\"\")","v":""},{"$f":"IF(AND('FMI Template'!C26<>\"\",'FMI Template'!C26<>\"NA\",'FMI Template'!C26<>\"UA\"),'FMI Template'!C26,\"\")","v":""},{"$f":"IF(AND('FMI Template'!D26<>\"\",'FMI Template'!D26<>\"NA\",'FMI Template'!D26<>\"UA\"),'FMI Template'!D26,\"\")","v":""},{"$f":"IF(AND('FMI Template'!F26<>\"\",'FMI Template'!F26<>\"NA\",'FMI Template'!F26<>\"UA\"),'FMI Template'!F26,\"\")","v":""},{"$f":"IF(AND('FMI Template'!H26<>\"\", 'FMI Template'!H26<>\"UA\"),IF('FMI Template'!H26=\"CSD\",\"(I)CSD\",IF('FMI Template'!H26=\"CCP_Derivatives\",\"CCP-Derivatives\",IF('FMI Template'!H26=\"CCP_securities\",\"CCP-securities\",IF('FMI Template'!H26=\"PS_Retail\",\"PS\",IF('FMI Template'!H26=\"PS_LV\",\"PS\",'FMI Template'!H26))))),\"\")","v":""},{"$f":"IF(AND('FMI Template'!I26<>\"\", 'FMI Template'!I26<>\"UA\"),'FMI Template'!I26,\"\")","v":""},{"$f":"IF(AND('FMI Template'!J26<>\"\",'FMI Template'!J26<>\"UA\"),IF('FMI Template'!J26=\"CSD_SSS\",\"CSD-SSS\",IF('FMI Template'!J26=\"CCP_Derivatives\",\"CCP-Derivatives\",IF('FMI Template'!J26=\"CCP_securities\",\"CCP-securities\",IF('FMI Template'!J26=\"Trading_venue\",\"Trading-venue\",'FMI Template'!J26)))),\"\")","v":""},{"$f":"IF(AND('FMI Template'!K26<>\"\",'FMI Template'!K26<>\"UA\"),'FMI Template'!K26,\"\")","v":""},{"$f":"IF('FMI Template'!K26=\"direct\",\"NA\",IF(AND('FMI Template'!M26<>\"\",'FMI Template'!M26<>\"UA\"),'FMI Template'!M26,\"\"))","v":""},{"$f":"IF('FMI Template'!K26=\"direct\",\"NA\",IF(AND('FMI Template'!N26<>\"\",'FMI Template'!N26<>\"UA\"),'FMI Template'!N26,\"\"))","v":""},{"$f":"IF(OR('FMI Template'!H26=\"Other\",'FMI Template'!H26=\"NA\"),'FMI Template'!Q26,\"\")","v":""},{"$f":"IF(AND('FMI Template'!O26<>\"\",'FMI Template'!O26<>\"NA\",'FMI Template'!O26<>\"UA\"),'FMI Template'!O26,\"\")","v":""}]
[null,{"$f":"IF(AND('FMI Template'!B27<>\"\",'FMI Template'!B27<>\"NA\",'FMI Template'!B27<>\"UA\"),'FMI Template'!B27,\"\")","v":""},{"$f":"IF(AND('FMI Template'!C27<>\"\",'FMI Template'!C27<>\"NA\",'FMI Template'!C27<>\"UA\"),'FMI Template'!C27,\"\")","v":""},{"$f":"IF(AND('FMI Template'!D27<>\"\",'FMI Template'!D27<>\"NA\",'FMI Template'!D27<>\"UA\"),'FMI Template'!D27,\"\")","v":""},{"$f":"IF(AND('FMI Template'!F27<>\"\",'FMI Template'!F27<>\"NA\",'FMI Template'!F27<>\"UA\"),'FMI Template'!F27,\"\")","v":""},{"$f":"IF(AND('FMI Template'!H27<>\"\", 'FMI Template'!H27<>\"UA\"),IF('FMI Template'!H27=\"CSD\",\"(I)CSD\",IF('FMI Template'!H27=\"CCP_Derivatives\",\"CCP-Derivatives\",IF('FMI Template'!H27=\"CCP_securities\",\"CCP-securities\",IF('FMI Template'!H27=\"PS_Retail\",\"PS\",IF('FMI Template'!H27=\"PS_LV\",\"PS\",'FMI Template'!H27))))),\"\")","v":""},{"$f":"IF(AND('FMI Template'!I27<>\"\", 'FMI Template'!I27<>\"UA\"),'FMI Template'!I27,\"\")","v":""},{"$f":"IF(AND('FMI Template'!J27<>\"\",'FMI Template'!J27<>\"UA\"),IF('FMI Template'!J27=\"CSD_SSS\",\"CSD-SSS\",IF('FMI Template'!J27=\"CCP_Derivatives\",\"CCP-Derivatives\",IF('FMI Template'!J27=\"CCP_securities\",\"CCP-securities\",IF('FMI Template'!J27=\"Trading_venue\",\"Trading-venue\",'FMI Template'!J27)))),\"\")","v":""},{"$f":"IF(AND('FMI Template'!K27<>\"\",'FMI Template'!K27<>\"UA\"),'FMI Template'!K27,\"\")","v":""},{"$f":"IF('FMI Template'!K27=\"direct\",\"NA\",IF(AND('FMI Template'!M27<>\"\",'FMI Template'!M27<>\"UA\"),'FMI Template'!M27,\"\"))","v":""},{"$f":"IF('FMI Template'!K27=\"direct\",\"NA\",IF(AND('FMI Template'!N27<>\"\",'FMI Template'!N27<>\"UA\"),'FMI Template'!N27,\"\"))","v":""},{"$f":"IF(OR('FMI Template'!H27=\"Other\",'FMI Template'!H27=\"NA\"),'FMI Template'!Q27,\"\")","v":""},{"$f":"IF(AND('FMI Template'!O27<>\"\",'FMI Template'!O27<>\"NA\",'FMI Template'!O27<>\"UA\"),'FMI Template'!O27,\"\")","v":""}]
[null,{"$f":"IF(AND('FMI Template'!B28<>\"\",'FMI Template'!B28<>\"NA\",'FMI Template'!B28<>\"UA\"),'FMI Template'!B28,\"\")","v":""},{"$f":"IF(AND('FMI Template'!C28<>\"\",'FMI Template'!C28<>\"NA\",'FMI Template'!C28<>\"UA\"),'FMI Template'!C28,\"\")","v":""},{"$f":"IF(AND('FMI Template'!D28<>\"\",'FMI Template'!D28<>\"NA\",'FMI Template'!D28<>\"UA\"),'FMI Template'!D28,\"\")","v":""},{"$f":"IF(AND('FMI Template'!F28<>\"\",'FMI Template'!F28<>\"NA\",'FMI Template'!F28<>\"UA\"),'FMI Template'!F28,\"\")","v":""},{"$f":"IF(AND('FMI Template'!H28<>\"\", 'FMI Template'!H28<>\"UA\"),IF('FMI Template'!H28=\"CSD\",\"(I)CSD\",IF('FMI Template'!H28=\"CCP_Derivatives\",\"CCP-Derivatives\",IF('FMI Template'!H28=\"CCP_securities\",\"CCP-securities\",IF('FMI Template'!H28=\"PS_Retail\",\"PS\",IF('FMI Template'!H28=\"PS_LV\",\"PS\",'FMI Template'!H28))))),\"\")","v":""},{"$f":"IF(AND('FMI Template'!I28<>\"\", 'FMI Template'!I28<>\"UA\"),'FMI Template'!I28,\"\")","v":""},{"$f":"IF(AND('FMI Template'!J28<>\"\",'FMI Template'!J28<>\"UA\"),IF('FMI Template'!J28=\"CSD_SSS\",\"CSD-SSS\",IF('FMI Template'!J28=\"CCP_Derivatives\",\"CCP-Derivatives\",IF('FMI Template'!J28=\"CCP_securities\",\"CCP-securities\",IF('FMI Template'!J28=\"Trading_venue\",\"Trading-venue\",'FMI Template'!J28)))),\"\")","v":""},{"$f":"IF(AND('FMI Template'!K28<>\"\",'FMI Template'!K28<>\"UA\"),'FMI Template'!K28,\"\")","v":""},{"$f":"IF('FMI Template'!K28=\"direct\",\"NA\",IF(AND('FMI Template'!M28<>\"\",'FMI Template'!M28<>\"UA\"),'FMI Template'!M28,\"\"))","v":""},{"$f":"IF('FMI Template'!K28=\"direct\",\"NA\",IF(AND('FMI Template'!N28<>\"\",'FMI Template'!N28<>\"UA\"),'FMI Template'!N28,\"\"))","v":""},{"$f":"IF(OR('FMI Template'!H28=\"Other\",'FMI Template'!H28=\"NA\"),'FMI Template'!Q28,\"\")","v":""},{"$f":"IF(AND('FMI Template'!O28<>\"\",'FMI Template'!O28<>\"NA\",'FMI Template'!O28<>\"UA\"),'FMI Template'!O28,\"\")","v":""}]
[null,{"$f":"IF(AND('FMI Template'!B29<>\"\",'FMI Template'!B29<>\"NA\",'FMI Template'!B29<>\"UA\"),'FMI Template'!B29,\"\")","v":""},{"$f":"IF(AND('FMI Template'!C29<>\"\",'FMI Template'!C29<>\"NA\",'FMI Template'!C29<>\"UA\"),'FMI Template'!C29,\"\")","v":""},{"$f":"IF(AND('FMI Template'!D29<>\"\",'FMI Template'!D29<>\"NA\",'FMI Template'!D29<>\"UA\"),'FMI Template'!D29,\"\")","v":""},{"$f":"IF(AND('FMI Template'!F29<>\"\",'FMI Template'!F29<>\"NA\",'FMI Template'!F29<>\"UA\"),'FMI Template'!F29,\"\")","v":""},{"$f":"IF(AND('FMI Template'!H29<>\"\", 'FMI Template'!H29<>\"UA\"),IF('FMI Template'!H29=\"CSD\",\"(I)CSD\",IF('FMI Template'!H29=\"CCP_Derivatives\",\"CCP-Derivatives\",IF('FMI Template'!H29=\"CCP_securities\",\"CCP-securities\",IF('FMI Template'!H29=\"PS_Retail\",\"PS\",IF('FMI Template'!H29=\"PS_LV\",\"PS\",'FMI Template'!H29))))),\"\")","v":""},{"$f":"IF(AND('FMI Template'!I29<>\"\", 'FMI Template'!I29<>\"UA\"),'FMI Template'!I29,\"\")","v":""},{"$f":"IF(AND('FMI Template'!J29<>\"\",'FMI Template'!J29<>\"UA\"),IF('FMI Template'!J29=\"CSD_SSS\",\"CSD-SSS\",IF('FMI Template'!J29=\"CCP_Derivatives\",\"CCP-Derivatives\",IF('FMI Template'!J29=\"CCP_securities\",\"CCP-securities\",IF('FMI Template'!J29=\"Trading_venue\",\"Trading-venue\",'FMI Template'!J29)))),\"\")","v":""},{"$f":"IF(AND('FMI Template'!K29<>\"\",'FMI Template'!K29<>\"UA\"),'FMI Template'!K29,\"\")","v":""},{"$f":"IF('FMI Template'!K29=\"direct\",\"NA\",IF(AND('FMI Template'!M29<>\"\",'FMI Template'!M29<>\"UA\"),'FMI Template'!M29,\"\"))","v":""},{"$f":"IF('FMI Template'!K29=\"direct\",\"NA\",IF(AND('FMI Template'!N29<>\"\",'FMI Template'!N29<>\"UA\"),'FMI Template'!N29,\"\"))","v":""},{"$f":"IF(OR('FMI Template'!H29=\"Other\",'FMI Template'!H29=\"NA\"),'FMI Template'!Q29,\"\")","v":""},{"$f":"IF(AND('FMI Template'!O29<>\"\",'FMI Template'!O29<>\"NA\",'FMI Template'!O29<>\"UA\"),'FMI Template'!O29,\"\")","v":""}]
[null,{"$f":"IF(AND('FMI Template'!B30<>\"\",'FMI Template'!B30<>\"NA\",'FMI Template'!B30<>\"UA\"),'FMI Template'!B30,\"\")","v":""},{"$f":"IF(AND('FMI Template'!C30<>\"\",'FMI Template'!C30<>\"NA\",'FMI Template'!C30<>\"UA\"),'FMI Template'!C30,\"\")","v":""},{"$f":"IF(AND('FMI Template'!D30<>\"\",'FMI Template'!D30<>\"NA\",'FMI Template'!D30<>\"UA\"),'FMI Template'!D30,\"\")","v":""},{"$f":"IF(AND('FMI Template'!F30<>\"\",'FMI Template'!F30<>\"NA\",'FMI Template'!F30<>\"UA\"),'FMI Template'!F30,\"\")","v":""},{"$f":"IF(AND('FMI Template'!H30<>\"\", 'FMI Template'!H30<>\"UA\"),IF('FMI Template'!H30=\"CSD\",\"(I)CSD\",IF('FMI Template'!H30=\"CCP_Derivatives\",\"CCP-Derivatives\",IF('FMI Template'!H30=\"CCP_securities\",\"CCP-securities\",IF('FMI Template'!H30=\"PS_Retail\",\"PS\",IF('FMI Template'!H30=\"PS_LV\",\"PS\",'FMI Template'!H30))))),\"\")","v":""},{"$f":"IF(AND('FMI Template'!I30<>\"\", 'FMI Template'!I30<>\"UA\"),'FMI Template'!I30,\"\")","v":""},{"$f":"IF(AND('FMI Template'!J30<>\"\",'FMI Template'!J30<>\"UA\"),IF('FMI Template'!J30=\"CSD_SSS\",\"CSD-SSS\",IF('FMI Template'!J30=\"CCP_Derivatives\",\"CCP-Derivatives\",IF('FMI Template'!J30=\"CCP_securities\",\"CCP-securities\",IF('FMI Template'!J30=\"Trading_venue\",\"Trading-venue\",'FMI Template'!J30)))),\"\")","v":""},{"$f":"IF(AND('FMI Template'!K30<>\"\",'FMI Template'!K30<>\"UA\"),'FMI Template'!K30,\"\")","v":""},{"$f":"IF('FMI Template'!K30=\"direct\",\"NA\",IF(AND('FMI Template'!M30<>\"\",'FMI Template'!M30<>\"UA\"),'FMI Template'!M30,\"\"))","v":""},{"$f":"IF('FMI Template'!K30=\"direct\",\"NA\",IF(AND('FMI Template'!N30<>\"\",'FMI Template'!N30<>\"UA\"),'FMI Template'!N30,\"\"))","v":""},{"$f":"IF(OR('FMI Template'!H30=\"Other\",'FMI Template'!H30=\"NA\"),'FMI Template'!Q30,\"\")","v":""},{"$f":"IF(AND('FMI Template'!O30<>\"\",'FMI Template'!O30<>\"NA\",'FMI Template'!O30<>\"UA\"),'FMI Template'!O30,\"\")","v":""}]
[null,{"$f":"IF(AND('FMI Template'!B31<>\"\",'FMI Template'!B31<>\"NA\",'FMI Template'!B31<>\"UA\"),'FMI Template'!B31,\"\")","v":""},{"$f":"IF(AND('FMI Template'!C31<>\"\",'FMI Template'!C31<>\"NA\",'FMI Template'!C31<>\"UA\"),'FMI Template'!C31,\"\")","v":""},{"$f":"IF(AND('FMI Template'!D31<>\"\",'FMI Template'!D31<>\"NA\",'FMI Template'!D31<>\"UA\"),'FMI Template'!D31,\"\")","v":""},{"$f":"IF(AND('FMI Template'!F31<>\"\",'FMI Template'!F31<>\"NA\",'FMI Template'!F31<>\"UA\"),'FMI Template'!F31,\"\")","v":""},{"$f":"IF(AND('FMI Template'!H31<>\"\", 'FMI Template'!H31<>\"UA\"),IF('FMI Template'!H31=\"CSD\",\"(I)CSD\",IF('FMI Template'!H31=\"CCP_Derivatives\",\"CCP-Derivatives\",IF('FMI Template'!H31=\"CCP_securities\",\"CCP-securities\",IF('FMI Template'!H31=\"PS_Retail\",\"PS\",IF('FMI Template'!H31=\"PS_LV\",\"PS\",'FMI Template'!H31))))),\"\")","v":""},{"$f":"IF(AND('FMI Template'!I31<>\"\", 'FMI Template'!I31<>\"UA\"),'FMI Template'!I31,\"\")","v":""},{"$f":"IF(AND('FMI Template'!J31<>\"\",'FMI Template'!J31<>\"UA\"),IF('FMI Template'!J31=\"CSD_SSS\",\"CSD-SSS\",IF('FMI Template'!J31=\"CCP_Derivatives\",\"CCP-Derivatives\",IF('FMI Template'!J31=\"CCP_securities\",\"CCP-securities\",IF('FMI Template'!J31=\"Trading_venue\",\"Trading-venue\",'FMI Template'!J31)))),\"\")","v":""},{"$f":"IF(AND('FMI Template'!K31<>\"\",'FMI Template'!K31<>\"UA\"),'FMI Template'!K31,\"\")","v":""},{"$f":"IF('FMI Template'!K31=\"direct\",\"NA\",IF(AND('FMI Template'!M31<>\"\",'FMI Template'!M31<>\"UA\"),'FMI Template'!M31,\"\"))","v":""},{"$f":"IF('FMI Template'!K31=\"direct\",\"NA\",IF(AND('FMI Template'!N31<>\"\",'FMI Template'!N31<>\"UA\"),'FMI Template'!N31,\"\"))","v":""},{"$f":"IF(OR('FMI Template'!H31=\"Other\",'FMI Template'!H31=\"NA\"),'FMI Template'!Q31,\"\")","v":""},{"$f":"IF(AND('FMI Template'!O31<>\"\",'FMI Template'!O31<>\"NA\",'FMI Template'!O31<>\"UA\"),'FMI Template'!O31,\"\")","v":""}]
[null,{"$f":"IF(AND('FMI Template'!B32<>\"\",'FMI Template'!B32<>\"NA\",'FMI Template'!B32<>\"UA\"),'FMI Template'!B32,\"\")","v":""},{"$f":"IF(AND('FMI Template'!C32<>\"\",'FMI Template'!C32<>\"NA\",'FMI Template'!C32<>\"UA\"),'FMI Template'!C32,\"\")","v":""},{"$f":"IF(AND('FMI Template'!D32<>\"\",'FMI Template'!D32<>\"NA\",'FMI Template'!D32<>\"UA\"),'FMI Template'!D32,\"\")","v":""},{"$f":"IF(AND('FMI Template'!F32<>\"\",'FMI Template'!F32<>\"NA\",'FMI Template'!F32<>\"UA\"),'FMI Template'!F32,\"\")","v":""},{"$f":"IF(AND('FMI Template'!H32<>\"\", 'FMI Template'!H32<>\"UA\"),IF('FMI Template'!H32=\"CSD\",\"(I)CSD\",IF('FMI Template'!H32=\"CCP_Derivatives\",\"CCP-Derivatives\",IF('FMI Template'!H32=\"CCP_securities\",\"CCP-securities\",IF('FMI Template'!H32=\"PS_Retail\",\"PS\",IF('FMI Template'!H32=\"PS_LV\",\"PS\",'FMI Template'!H32))))),\"\")","v":""},{"$f":"IF(AND('FMI Template'!I32<>\"\", 'FMI Template'!I32<>\"UA\"),'FMI Template'!I32,\"\")","v":""},{"$f":"IF(AND('FMI Template'!J32<>\"\",'FMI Template'!J32<>\"UA\"),IF('FMI Template'!J32=\"CSD_SSS\",\"CSD-SSS\",IF('FMI Template'!J32=\"CCP_Derivatives\",\"CCP-Derivatives\",IF('FMI Template'!J32=\"CCP_securities\",\"CCP-securities\",IF('FMI Template'!J32=\"Trading_venue\",\"Trading-venue\",'FMI Template'!J32)))),\"\")","v":""},{"$f":"IF(AND('FMI Template'!K32<>\"\",'FMI Template'!K32<>\"UA\"),'FMI Template'!K32,\"\")","v":""},{"$f":"IF('FMI Template'!K32=\"direct\",\"NA\",IF(AND('FMI Template'!M32<>\"\",'FMI Template'!M32<>\"UA\"),'FMI Template'!M32,\"\"))","v":""},{"$f":"IF('FMI Template'!K32=\"direct\",\"NA\",IF(AND('FMI Template'!N32<>\"\",'FMI Template'!N32<>\"UA\"),'FMI Template'!N32,\"\"))","v":""},{"$f":"IF(OR('FMI Template'!H32=\"Other\",'FMI Template'!H32=\"NA\"),'FMI Template'!Q32,\"\")","v":""},{"$f":"IF(AND('FMI Template'!O32<>\"\",'FMI Template'!O32<>\"NA\",'FMI Template'!O32<>\"UA\"),'FMI Template'!O32,\"\")","v":""}]
[null,{"$f":"IF(AND('FMI Template'!B33<>\"\",'FMI Template'!B33<>\"NA\",'FMI Template'!B33<>\"UA\"),'FMI Template'!B33,\"\")","v":""},{"$f":"IF(AND('FMI Template'!C33<>\"\",'FMI Template'!C33<>\"NA\",'FMI Template'!C33<>\"UA\"),'FMI Template'!C33,\"\")","v":""},{"$f":"IF(AND('FMI Template'!D33<>\"\",'FMI Template'!D33<>\"NA\",'FMI Template'!D33<>\"UA\"),'FMI Template'!D33,\"\")","v":""},{"$f":"IF(AND('FMI Template'!F33<>\"\",'FMI Template'!F33<>\"NA\",'FMI Template'!F33<>\"UA\"),'FMI Template'!F33,\"\")","v":""},{"$f":"IF(AND('FMI Template'!H33<>\"\", 'FMI Template'!H33<>\"UA\"),IF('FMI Template'!H33=\"CSD\",\"(I)CSD\",IF('FMI Template'!H33=\"CCP_Derivatives\",\"CCP-Derivatives\",IF('FMI Template'!H33=\"CCP_securities\",\"CCP-securities\",IF('FMI Template'!H33=\"PS_Retail\",\"PS\",IF('FMI Template'!H33=\"PS_LV\",\"PS\",'FMI Template'!H33))))),\"\")","v":""},{"$f":"IF(AND('FMI Template'!I33<>\"\", 'FMI Template'!I33<>\"UA\"),'FMI Template'!I33,\"\")","v":""},{"$f":"IF(AND('FMI Template'!J33<>\"\",'FMI Template'!J33<>\"UA\"),IF('FMI Template'!J33=\"CSD_SSS\",\"CSD-SSS\",IF('FMI Template'!J33=\"CCP_Derivatives\",\"CCP-Derivatives\",IF('FMI Template'!J33=\"CCP_securities\",\"CCP-securities\",IF('FMI Template'!J33=\"Trading_venue\",\"Trading-venue\",'FMI Template'!J33)))),\"\")","v":""},{"$f":"IF(AND('FMI Template'!K33<>\"\",'FMI Template'!K33<>\"UA\"),'FMI Template'!K33,\"\")","v":""},{"$f":"IF('FMI Template'!K33=\"direct\",\"NA\",IF(AND('FMI Template'!M33<>\"\",'FMI Template'!M33<>\"UA\"),'FMI Template'!M33,\"\"))","v":""},{"$f":"IF('FMI Template'!K33=\"direct\",\"NA\",IF(AND('FMI Template'!N33<>\"\",'FMI Template'!N33<>\"UA\"),'FMI Template'!N33,\"\"))","v":""},{"$f":"IF(OR('FMI Template'!H33=\"Other\",'FMI Template'!H33=\"NA\"),'FMI Template'!Q33,\"\")","v":""},{"$f":"IF(AND('FMI Template'!O33<>\"\",'FMI Template'!O33<>\"NA\",'FMI Template'!O33<>\"UA\"),'FMI Template'!O33,\"\")","v":""}]
[null,{"$f":"IF(AND('FMI Template'!B34<>\"\",'FMI Template'!B34<>\"NA\",'FMI Template'!B34<>\"UA\"),'FMI Template'!B34,\"\")","v":""},{"$f":"IF(AND('FMI Template'!C34<>\"\",'FMI Template'!C34<>\"NA\",'FMI Template'!C34<>\"UA\"),'FMI Template'!C34,\"\")","v":""},{"$f":"IF(AND('FMI Template'!D34<>\"\",'FMI Template'!D34<>\"NA\",'FMI Template'!D34<>\"UA\"),'FMI Template'!D34,\"\")","v":""},{"$f":"IF(AND('FMI Template'!F34<>\"\",'FMI Template'!F34<>\"NA\",'FMI Template'!F34<>\"UA\"),'FMI Template'!F34,\"\")","v":""},{"$f":"IF(AND('FMI Template'!H34<>\"\", 'FMI Template'!H34<>\"UA\"),IF('FMI Template'!H34=\"CSD\",\"(I)CSD\",IF('FMI Template'!H34=\"CCP_Derivatives\",\"CCP-Derivatives\",IF('FMI Template'!H34=\"CCP_securities\",\"CCP-securities\",IF('FMI Template'!H34=\"PS_Retail\",\"PS\",IF('FMI Template'!H34=\"PS_LV\",\"PS\",'FMI Template'!H34))))),\"\")","v":""},{"$f":"IF(AND('FMI Template'!I34<>\"\", 'FMI Template'!I34<>\"UA\"),'FMI Template'!I34,\"\")","v":""},{"$f":"IF(AND('FMI Template'!J34<>\"\",'FMI Template'!J34<>\"UA\"),IF('FMI Template'!J34=\"CSD_SSS\",\"CSD-SSS\",IF('FMI Template'!J34=\"CCP_Derivatives\",\"CCP-Derivatives\",IF('FMI Template'!J34=\"CCP_securities\",\"CCP-securities\",IF('FMI Template'!J34=\"Trading_venue\",\"Trading-venue\",'FMI Template'!J34)))),\"\")","v":""},{"$f":"IF(AND('FMI Template'!K34<>\"\",'FMI Template'!K34<>\"UA\"),'FMI Template'!K34,\"\")","v":""},{"$f":"IF('FMI Template'!K34=\"direct\",\"NA\",IF(AND('FMI Template'!M34<>\"\",'FMI Template'!M34<>\"UA\"),'FMI Template'!M34,\"\"))","v":""},{"$f":"IF('FMI Template'!K34=\"direct\",\"NA\",IF(AND('FMI Template'!N34<>\"\",'FMI Template'!N34<>\"UA\"),'FMI Template'!N34,\"\"))","v":""},{"$f":"IF(OR('FMI Template'!H34=\"Other\",'FMI Template'!H34=\"NA\"),'FMI Template'!Q34,\"\")","v":""},{"$f":"IF(AND('FMI Template'!O34<>\"\",'FMI Template'!O34<>\"NA\",'FMI Template'!O34<>\"UA\"),'FMI Template'!O34,\"\")","v":""}]
[null,{"$f":"IF(AND('FMI Template'!B35<>\"\",'FMI Template'!B35<>\"NA\",'FMI Template'!B35<>\"UA\"),'FMI Template'!B35,\"\")","v":""},{"$f":"IF(AND('FMI Template'!C35<>\"\",'FMI Template'!C35<>\"NA\",'FMI Template'!C35<>\"UA\"),'FMI Template'!C35,\"\")","v":""},{"$f":"IF(AND('FMI Template'!D35<>\"\",'FMI Template'!D35<>\"NA\",'FMI Template'!D35<>\"UA\"),'FMI Template'!D35,\"\")","v":""},{"$f":"IF(AND('FMI Template'!F35<>\"\",'FMI Template'!F35<>\"NA\",'FMI Template'!F35<>\"UA\"),'FMI Template'!F35,\"\")","v":""},{"$f":"IF(AND('FMI Template'!H35<>\"\", 'FMI Template'!H35<>\"UA\"),IF('FMI Template'!H35=\"CSD\",\"(I)CSD\",IF('FMI Template'!H35=\"CCP_Derivatives\",\"CCP-Derivatives\",IF('FMI Template'!H35=\"CCP_securities\",\"CCP-securities\",IF('FMI Template'!H35=\"PS_Retail\",\"PS\",IF('FMI Template'!H35=\"PS_LV\",\"PS\",'FMI Template'!H35))))),\"\")","v":""},{"$f":"IF(AND('FMI Template'!I35<>\"\", 'FMI Template'!I35<>\"UA\"),'FMI Template'!I35,\"\")","v":""},{"$f":"IF(AND('FMI Template'!J35<>\"\",'FMI Template'!J35<>\"UA\"),IF('FMI Template'!J35=\"CSD_SSS\",\"CSD-SSS\",IF('FMI Template'!J35=\"CCP_Derivatives\",\"CCP-Derivatives\",IF('FMI Template'!J35=\"CCP_securities\",\"CCP-securities\",IF('FMI Template'!J35=\"Trading_venue\",\"Trading-venue\",'FMI Template'!J35)))),\"\")","v":""},{"$f":"IF(AND('FMI Template'!K35<>\"\",'FMI Template'!K35<>\"UA\"),'FMI Template'!K35,\"\")","v":""},{"$f":"IF('FMI Template'!K35=\"direct\",\"NA\",IF(AND('FMI Template'!M35<>\"\",'FMI Template'!M35<>\"UA\"),'FMI Template'!M35,\"\"))","v":""},{"$f":"IF('FMI Template'!K35=\"direct\",\"NA\",IF(AND('FMI Template'!N35<>\"\",'FMI Template'!N35<>\"UA\"),'FMI Template'!N35,\"\"))","v":""},{"$f":"IF(OR('FMI Template'!H35=\"Other\",'FMI Template'!H35=\"NA\"),'FMI Template'!Q35,\"\")","v":""},{"$f":"IF(AND('FMI Template'!O35<>\"\",'FMI Template'!O35<>\"NA\",'FMI Template'!O35<>\"UA\"),'FMI Template'!O35,\"\")","v":""}]
[null,{"$f":"IF(AND('FMI Template'!B36<>\"\",'FMI Template'!B36<>\"NA\",'FMI Template'!B36<>\"UA\"),'FMI Template'!B36,\"\")","v":""},{"$f":"IF(AND('FMI Template'!C36<>\"\",'FMI Template'!C36<>\"NA\",'FMI Template'!C36<>\"UA\"),'FMI Template'!C36,\"\")","v":""},{"$f":"IF(AND('FMI Template'!D36<>\"\",'FMI Template'!D36<>\"NA\",'FMI Template'!D36<>\"UA\"),'FMI Template'!D36,\"\")","v":""},{"$f":"IF(AND('FMI Template'!F36<>\"\",'FMI Template'!F36<>\"NA\",'FMI Template'!F36<>\"UA\"),'FMI Template'!F36,\"\")","v":""},{"$f":"IF(AND('FMI Template'!H36<>\"\", 'FMI Template'!H36<>\"UA\"),IF('FMI Template'!H36=\"CSD\",\"(I)CSD\",IF('FMI Template'!H36=\"CCP_Derivatives\",\"CCP-Derivatives\",IF('FMI Template'!H36=\"CCP_securities\",\"CCP-securities\",IF('FMI Template'!H36=\"PS_Retail\",\"PS\",IF('FMI Template'!H36=\"PS_LV\",\"PS\",'FMI Template'!H36))))),\"\")","v":""},{"$f":"IF(AND('FMI Template'!I36<>\"\", 'FMI Template'!I36<>\"UA\"),'FMI Template'!I36,\"\")","v":""},{"$f":"IF(AND('FMI Template'!J36<>\"\",'FMI Template'!J36<>\"UA\"),IF('FMI Template'!J36=\"CSD_SSS\",\"CSD-SSS\",IF('FMI Template'!J36=\"CCP_Derivatives\",\"CCP-Derivatives\",IF('FMI Template'!J36=\"CCP_securities\",\"CCP-securities\",IF('FMI Template'!J36=\"Trading_venue\",\"Trading-venue\",'FMI Template'!J36)))),\"\")","v":""},{"$f":"IF(AND('FMI Template'!K36<>\"\",'FMI Template'!K36<>\"UA\"),'FMI Template'!K36,\"\")","v":""},{"$f":"IF('FMI Template'!K36=\"direct\",\"NA\",IF(AND('FMI Template'!M36<>\"\",'FMI Template'!M36<>\"UA\"),'FMI Template'!M36,\"\"))","v":""},{"$f":"IF('FMI Template'!K36=\"direct\",\"NA\",IF(AND('FMI Template'!N36<>\"\",'FMI Template'!N36<>\"UA\"),'FMI Template'!N36,\"\"))","v":""},{"$f":"IF(OR('FMI Template'!H36=\"Other\",'FMI Template'!H36=\"NA\"),'FMI Template'!Q36,\"\")","v":""},{"$f":"IF(AND('FMI Template'!O36<>\"\",'FMI Template'!O36<>\"NA\",'FMI Template'!O36<>\"UA\"),'FMI Template'!O36,\"\")","v":""}]
[null,{"$f":"IF(AND('FMI Template'!B37<>\"\",'FMI Template'!B37<>\"NA\",'FMI Template'!B37<>\"UA\"),'FMI Template'!B37,\"\")","v":""},{"$f":"IF(AND('FMI Template'!C37<>\"\",'FMI Template'!C37<>\"NA\",'FMI Template'!C37<>\"UA\"),'FMI Template'!C37,\"\")","v":""},{"$f":"IF(AND('FMI Template'!D37<>\"\",'FMI Template'!D37<>\"NA\",'FMI Template'!D37<>\"UA\"),'FMI Template'!D37,\"\")","v":""},{"$f":"IF(AND('FMI Template'!F37<>\"\",'FMI Template'!F37<>\"NA\",'FMI Template'!F37<>\"UA\"),'FMI Template'!F37,\"\")","v":""},{"$f":"IF(AND('FMI Template'!H37<>\"\", 'FMI Template'!H37<>\"UA\"),IF('FMI Template'!H37=\"CSD\",\"(I)CSD\",IF('FMI Template'!H37=\"CCP_Derivatives\",\"CCP-Derivatives\",IF('FMI Template'!H37=\"CCP_securities\",\"CCP-securities\",IF('FMI Template'!H37=\"PS_Retail\",\"PS\",IF('FMI Template'!H37=\"PS_LV\",\"PS\",'FMI Template'!H37))))),\"\")","v":""},{"$f":"IF(AND('FMI Template'!I37<>\"\", 'FMI Template'!I37<>\"UA\"),'FMI Template'!I37,\"\")","v":""},{"$f":"IF(AND('FMI Template'!J37<>\"\",'FMI Template'!J37<>\"UA\"),IF('FMI Template'!J37=\"CSD_SSS\",\"CSD-SSS\",IF('FMI Template'!J37=\"CCP_Derivatives\",\"CCP-Derivatives\",IF('FMI Template'!J37=\"CCP_securities\",\"CCP-securities\",IF('FMI Template'!J37=\"Trading_venue\",\"Trading-venue\",'FMI Template'!J37)))),\"\")","v":""},{"$f":"IF(AND('FMI Template'!K37<>\"\",'FMI Template'!K37<>\"UA\"),'FMI Template'!K37,\"\")","v":""},{"$f":"IF('FMI Template'!K37=\"direct\",\"NA\",IF(AND('FMI Template'!M37<>\"\",'FMI Template'!M37<>\"UA\"),'FMI Template'!M37,\"\"))","v":""},{"$f":"IF('FMI Template'!K37=\"direct\",\"NA\",IF(AND('FMI Template'!N37<>\"\",'FMI Template'!N37<>\"UA\"),'FMI Template'!N37,\"\"))","v":""},{"$f":"IF(OR('FMI Template'!H37=\"Other\",'FMI Template'!H37=\"NA\"),'FMI Template'!Q37,\"\")","v":""},{"$f":"IF(AND('FMI Template'!O37<>\"\",'FMI Template'!O37<>\"NA\",'FMI Template'!O37<>\"UA\"),'FMI Template'!O37,\"\")","v":""}]
[null,{"$f":"IF(AND('FMI Template'!B38<>\"\",'FMI Template'!B38<>\"NA\",'FMI Template'!B38<>\"UA\"),'FMI Template'!B38,\"\")","v":""},{"$f":"IF(AND('FMI Template'!C38<>\"\",'FMI Template'!C38<>\"NA\",'FMI Template'!C38<>\"UA\"),'FMI Template'!C38,\"\")","v":""},{"$f":"IF(AND('FMI Template'!D38<>\"\",'FMI Template'!D38<>\"NA\",'FMI Template'!D38<>\"UA\"),'FMI Template'!D38,\"\")","v":""},{"$f":"IF(AND('FMI Template'!F38<>\"\",'FMI Template'!F38<>\"NA\",'FMI Template'!F38<>\"UA\"),'FMI Template'!F38,\"\")","v":""},{"$f":"IF(AND('FMI Template'!H38<>\"\", 'FMI Template'!H38<>\"UA\"),IF('FMI Template'!H38=\"CSD\",\"(I)CSD\",IF('FMI Template'!H38=\"CCP_Derivatives\",\"CCP-Derivatives\",IF('FMI Template'!H38=\"CCP_securities\",\"CCP-securities\",IF('FMI Template'!H38=\"PS_Retail\",\"PS\",IF('FMI Template'!H38=\"PS_LV\",\"PS\",'FMI Template'!H38))))),\"\")","v":""},{"$f":"IF(AND('FMI Template'!I38<>\"\", 'FMI Template'!I38<>\"UA\"),'FMI Template'!I38,\"\")","v":""},{"$f":"IF(AND('FMI Template'!J38<>\"\",'FMI Template'!J38<>\"UA\"),IF('FMI Template'!J38=\"CSD_SSS\",\"CSD-SSS\",IF('FMI Template'!J38=\"CCP_Derivatives\",\"CCP-Derivatives\",IF('FMI Template'!J38=\"CCP_securities\",\"CCP-securities\",IF('FMI Template'!J38=\"Trading_venue\",\"Trading-venue\",'FMI Template'!J38)))),\"\")","v":""},{"$f":"IF(AND('FMI Template'!K38<>\"\",'FMI Template'!K38<>\"UA\"),'FMI Template'!K38,\"\")","v":""},{"$f":"IF('FMI Template'!K38=\"direct\",\"NA\",IF(AND('FMI Template'!M38<>\"\",'FMI Template'!M38<>\"UA\"),'FMI Template'!M38,\"\"))","v":""},{"$f":"IF('FMI Template'!K38=\"direct\",\"NA\",IF(AND('FMI Template'!N38<>\"\",'FMI Template'!N38<>\"UA\"),'FMI Template'!N38,\"\"))","v":""},{"$f":"IF(OR('FMI Template'!H38=\"Other\",'FMI Template'!H38=\"NA\"),'FMI Template'!Q38,\"\")","v":""},{"$f":"IF(AND('FMI Template'!O38<>\"\",'FMI Template'!O38<>\"NA\",'FMI Template'!O38<>\"UA\"),'FMI Template'!O38,\"\")","v":""}]
[null,{"$f":"IF(AND('FMI Template'!B39<>\"\",'FMI Template'!B39<>\"NA\",'FMI Template'!B39<>\"UA\"),'FMI Template'!B39,\"\")","v":""},{"$f":"IF(AND('FMI Template'!C39<>\"\",'FMI Template'!C39<>\"NA\",'FMI Template'!C39<>\"UA\"),'FMI Template'!C39,\"\")","v":""},{"$f":"IF(AND('FMI Template'!D39<>\"\",'FMI Template'!D39<>\"NA\",'FMI Template'!D39<>\"UA\"),'FMI Template'!D39,\"\")","v":""},{"$f":"IF(AND('FMI Template'!F39<>\"\",'FMI Template'!F39<>\"NA\",'FMI Template'!F39<>\"UA\"),'FMI Template'!F39,\"\")","v":""},{"$f":"IF(AND('FMI Template'!H39<>\"\", 'FMI Template'!H39<>\"UA\"),IF('FMI Template'!H39=\"CSD\",\"(I)CSD\",IF('FMI Template'!H39=\"CCP_Derivatives\",\"CCP-Derivatives\",IF('FMI Template'!H39=\"CCP_securities\",\"CCP-securities\",IF('FMI Template'!H39=\"PS_Retail\",\"PS\",IF('FMI Template'!H39=\"PS_LV\",\"PS\",'FMI Template'!H39))))),\"\")","v":""},{"$f":"IF(AND('FMI Template'!I39<>\"\", 'FMI Template'!I39<>\"UA\"),'FMI Template'!I39,\"\")","v":""},{"$f":"IF(AND('FMI Template'!J39<>\"\",'FMI Template'!J39<>\"UA\"),IF('FMI Template'!J39=\"CSD_SSS\",\"CSD-SSS\",IF('FMI Template'!J39=\"CCP_Derivatives\",\"CCP-Derivatives\",IF('FMI Template'!J39=\"CCP_securities\",\"CCP-securities\",IF('FMI Template'!J39=\"Trading_venue\",\"Trading-venue\",'FMI Template'!J39)))),\"\")","v":""},{"$f":"IF(AND('FMI Template'!K39<>\"\",'FMI Template'!K39<>\"UA\"),'FMI Template'!K39,\"\")","v":""},{"$f":"IF('FMI Template'!K39=\"direct\",\"NA\",IF(AND('FMI Template'!M39<>\"\",'FMI Template'!M39<>\"UA\"),'FMI Template'!M39,\"\"))","v":""},{"$f":"IF('FMI Template'!K39=\"direct\",\"NA\",IF(AND('FMI Template'!N39<>\"\",'FMI Template'!N39<>\"UA\"),'FMI Template'!N39,\"\"))","v":""},{"$f":"IF(OR('FMI Template'!H39=\"Other\",'FMI Template'!H39=\"NA\"),'FMI Template'!Q39,\"\")","v":""},{"$f":"IF(AND('FMI Template'!O39<>\"\",'FMI Template'!O39<>\"NA\",'FMI Template'!O39<>\"UA\"),'FMI Template'!O39,\"\")","v":""}]
[null,{"$f":"IF(AND('FMI Template'!B40<>\"\",'FMI Template'!B40<>\"NA\",'FMI Template'!B40<>\"UA\"),'FMI Template'!B40,\"\")","v":""},{"$f":"IF(AND('FMI Template'!C40<>\"\",'FMI Template'!C40<>\"NA\",'FMI Template'!C40<>\"UA\"),'FMI Template'!C40,\"\")","v":""},{"$f":"IF(AND('FMI Template'!D40<>\"\",'FMI Template'!D40<>\"NA\",'FMI Template'!D40<>\"UA\"),'FMI Template'!D40,\"\")","v":""},{"$f":"IF(AND('FMI Template'!F40<>\"\",'FMI Template'!F40<>\"NA\",'FMI Template'!F40<>\"UA\"),'FMI Template'!F40,\"\")","v":""},{"$f":"IF(AND('FMI Template'!H40<>\"\", 'FMI Template'!H40<>\"UA\"),IF('FMI Template'!H40=\"CSD\",\"(I)CSD\",IF('FMI Template'!H40=\"CCP_Derivatives\",\"CCP-Derivatives\",IF('FMI Template'!H40=\"CCP_securities\",\"CCP-securities\",IF('FMI Template'!H40=\"PS_Retail\",\"PS\",IF('FMI Template'!H40=\"PS_LV\",\"PS\",'FMI Template'!H40))))),\"\")","v":""},{"$f":"IF(AND('FMI Template'!I40<>\"\", 'FMI Template'!I40<>\"UA\"),'FMI Template'!I40,\"\")","v":""},{"$f":"IF(AND('FMI Template'!J40<>\"\",'FMI Template'!J40<>\"UA\"),IF('FMI Template'!J40=\"CSD_SSS\",\"CSD-SSS\",IF('FMI Template'!J40=\"CCP_Derivatives\",\"CCP-Derivatives\",IF('FMI Template'!J40=\"CCP_securities\",\"CCP-securities\",IF('FMI Template'!J40=\"Trading_venue\",\"Trading-venue\",'FMI Template'!J40)))),\"\")","v":""},{"$f":"IF(AND('FMI Template'!K40<>\"\",'FMI Template'!K40<>\"UA\"),'FMI Template'!K40,\"\")","v":""},{"$f":"IF('FMI Template'!K40=\"direct\",\"NA\",IF(AND('FMI Template'!M40<>\"\",'FMI Template'!M40<>\"UA\"),'FMI Template'!M40,\"\"))","v":""},{"$f":"IF('FMI Template'!K40=\"direct\",\"NA\",IF(AND('FMI Template'!N40<>\"\",'FMI Template'!N40<>\"UA\"),'FMI Template'!N40,\"\"))","v":""},{"$f":"IF(OR('FMI Template'!H40=\"Other\",'FMI Template'!H40=\"NA\"),'FMI Template'!Q40,\"\")","v":""},{"$f":"IF(AND('FMI Template'!O40<>\"\",'FMI Template'!O40<>\"NA\",'FMI Template'!O40<>\"UA\"),'FMI Template'!O40,\"\")","v":""}]
[null,{"$f":"IF(AND('FMI Template'!B41<>\"\",'FMI Template'!B41<>\"NA\",'FMI Template'!B41<>\"UA\"),'FMI Template'!B41,\"\")","v":""},{"$f":"IF(AND('FMI Template'!C41<>\"\",'FMI Template'!C41<>\"NA\",'FMI Template'!C41<>\"UA\"),'FMI Template'!C41,\"\")","v":""},{"$f":"IF(AND('FMI Template'!D41<>\"\",'FMI Template'!D41<>\"NA\",'FMI Template'!D41<>\"UA\"),'FMI Template'!D41,\"\")","v":""},{"$f":"IF(AND('FMI Template'!F41<>\"\",'FMI Template'!F41<>\"NA\",'FMI Template'!F41<>\"UA\"),'FMI Template'!F41,\"\")","v":""},{"$f":"IF(AND('FMI Template'!H41<>\"\", 'FMI Template'!H41<>\"UA\"),IF('FMI Template'!H41=\"CSD\",\"(I)CSD\",IF('FMI Template'!H41=\"CCP_Derivatives\",\"CCP-Derivatives\",IF('FMI Template'!H41=\"CCP_securities\",\"CCP-securities\",IF('FMI Template'!H41=\"PS_Retail\",\"PS\",IF('FMI Template'!H41=\"PS_LV\",\"PS\",'FMI Template'!H41))))),\"\")","v":""},{"$f":"IF(AND('FMI Template'!I41<>\"\", 'FMI Template'!I41<>\"UA\"),'FMI Template'!I41,\"\")","v":""},{"$f":"IF(AND('FMI Template'!J41<>\"\",'FMI Template'!J41<>\"UA\"),IF('FMI Template'!J41=\"CSD_SSS\",\"CSD-SSS\",IF('FMI Template'!J41=\"CCP_Derivatives\",\"CCP-Derivatives\",IF('FMI Template'!J41=\"CCP_securities\",\"CCP-securities\",IF('FMI Template'!J41=\"Trading_venue\",\"Trading-venue\",'FMI Template'!J41)))),\"\")","v":""},{"$f":"IF(AND('FMI Template'!K41<>\"\",'FMI Template'!K41<>\"UA\"),'FMI Template'!K41,\"\")","v":""},{"$f":"IF('FMI Template'!K41=\"direct\",\"NA\",IF(AND('FMI Template'!M41<>\"\",'FMI Template'!M41<>\"UA\"),'FMI Template'!M41,\"\"))","v":""},{"$f":"IF('FMI Template'!K41=\"direct\",\"NA\",IF(AND('FMI Template'!N41<>\"\",'FMI Template'!N41<>\"UA\"),'FMI Template'!N41,\"\"))","v":""},{"$f":"IF(OR('FMI Template'!H41=\"Other\",'FMI Template'!H41=\"NA\"),'FMI Template'!Q41,\"\")","v":""},{"$f":"IF(AND('FMI Template'!O41<>\"\",'FMI Template'!O41<>\"NA\",'FMI Template'!O41<>\"UA\"),'FMI Template'!O41,\"\")","v":""}]
[null,{"$f":"IF(AND('FMI Template'!B42<>\"\",'FMI Template'!B42<>\"NA\",'FMI Template'!B42<>\"UA\"),'FMI Template'!B42,\"\")","v":""},{"$f":"IF(AND('FMI Template'!C42<>\"\",'FMI Template'!C42<>\"NA\",'FMI Template'!C42<>\"UA\"),'FMI Template'!C42,\"\")","v":""},{"$f":"IF(AND('FMI Template'!D42<>\"\",'FMI Template'!D42<>\"NA\",'FMI Template'!D42<>\"UA\"),'FMI Template'!D42,\"\")","v":""},{"$f":"IF(AND('FMI Template'!F42<>\"\",'FMI Template'!F42<>\"NA\",'FMI Template'!F42<>\"UA\"),'FMI Template'!F42,\"\")","v":""},{"$f":"IF(AND('FMI Template'!H42<>\"\", 'FMI Template'!H42<>\"UA\"),IF('FMI Template'!H42=\"CSD\",\"(I)CSD\",IF('FMI Template'!H42=\"CCP_Derivatives\",\"CCP-Derivatives\",IF('FMI Template'!H42=\"CCP_securities\",\"CCP-securities\",IF('FMI Template'!H42=\"PS_Retail\",\"PS\",IF('FMI Template'!H42=\"PS_LV\",\"PS\",'FMI Template'!H42))))),\"\")","v":""},{"$f":"IF(AND('FMI Template'!I42<>\"\", 'FMI Template'!I42<>\"UA\"),'FMI Template'!I42,\"\")","v":""},{"$f":"IF(AND('FMI Template'!J42<>\"\",'FMI Template'!J42<>\"UA\"),IF('FMI Template'!J42=\"CSD_SSS\",\"CSD-SSS\",IF('FMI Template'!J42=\"CCP_Derivatives\",\"CCP-Derivatives\",IF('FMI Template'!J42=\"CCP_securities\",\"CCP-securities\",IF('FMI Template'!J42=\"Trading_venue\",\"Trading-venue\",'FMI Template'!J42)))),\"\")","v":""},{"$f":"IF(AND('FMI Template'!K42<>\"\",'FMI Template'!K42<>\"UA\"),'FMI Template'!K42,\"\")","v":""},{"$f":"IF('FMI Template'!K42=\"direct\",\"NA\",IF(AND('FMI Template'!M42<>\"\",'FMI Template'!M42<>\"UA\"),'FMI Template'!M42,\"\"))","v":""},{"$f":"IF('FMI Template'!K42=\"direct\",\"NA\",IF(AND('FMI Template'!N42<>\"\",'FMI Template'!N42<>\"UA\"),'FMI Template'!N42,\"\"))","v":""},{"$f":"IF(OR('FMI Template'!H42=\"Other\",'FMI Template'!H42=\"NA\"),'FMI Template'!Q42,\"\")","v":""},{"$f":"IF(AND('FMI Template'!O42<>\"\",'FMI Template'!O42<>\"NA\",'FMI Template'!O42<>\"UA\"),'FMI Template'!O42,\"\")","v":""}]
[null,{"$f":"IF(AND('FMI Template'!B43<>\"\",'FMI Template'!B43<>\"NA\",'FMI Template'!B43<>\"UA\"),'FMI Template'!B43,\"\")","v":""},{"$f":"IF(AND('FMI Template'!C43<>\"\",'FMI Template'!C43<>\"NA\",'FMI Template'!C43<>\"UA\"),'FMI Template'!C43,\"\")","v":""},{"$f":"IF(AND('FMI Template'!D43<>\"\",'FMI Template'!D43<>\"NA\",'FMI Template'!D43<>\"UA\"),'FMI Template'!D43,\"\")","v":""},{"$f":"IF(AND('FMI Template'!F43<>\"\",'FMI Template'!F43<>\"NA\",'FMI Template'!F43<>\"UA\"),'FMI Template'!F43,\"\")","v":""},{"$f":"IF(AND('FMI Template'!H43<>\"\", 'FMI Template'!H43<>\"UA\"),IF('FMI Template'!H43=\"CSD\",\"(I)CSD\",IF('FMI Template'!H43=\"CCP_Derivatives\",\"CCP-Derivatives\",IF('FMI Template'!H43=\"CCP_securities\",\"CCP-securities\",IF('FMI Template'!H43=\"PS_Retail\",\"PS\",IF('FMI Template'!H43=\"PS_LV\",\"PS\",'FMI Template'!H43))))),\"\")","v":""},{"$f":"IF(AND('FMI Template'!I43<>\"\", 'FMI Template'!I43<>\"UA\"),'FMI Template'!I43,\"\")","v":""},{"$f":"IF(AND('FMI Template'!J43<>\"\",'FMI Template'!J43<>\"UA\"),IF('FMI Template'!J43=\"CSD_SSS\",\"CSD-SSS\",IF('FMI Template'!J43=\"CCP_Derivatives\",\"CCP-Derivatives\",IF('FMI Template'!J43=\"CCP_securities\",\"CCP-securities\",IF('FMI Template'!J43=\"Trading_venue\",\"Trading-venue\",'FMI Template'!J43)))),\"\")","v":""},{"$f":"IF(AND('FMI Template'!K43<>\"\",'FMI Template'!K43<>\"UA\"),'FMI Template'!K43,\"\")","v":""},{"$f":"IF('FMI Template'!K43=\"direct\",\"NA\",IF(AND('FMI Template'!M43<>\"\",'FMI Template'!M43<>\"UA\"),'FMI Template'!M43,\"\"))","v":""},{"$f":"IF('FMI Template'!K43=\"direct\",\"NA\",IF(AND('FMI Template'!N43<>\"\",'FMI Template'!N43<>\"UA\"),'FMI Template'!N43,\"\"))","v":""},{"$f":"IF(OR('FMI Template'!H43=\"Other\",'FMI Template'!H43=\"NA\"),'FMI Template'!Q43,\"\")","v":""},{"$f":"IF(AND('FMI Template'!O43<>\"\",'FMI Template'!O43<>\"NA\",'FMI Template'!O43<>\"UA\"),'FMI Template'!O43,\"\")","v":""}]
[null,{"$f":"IF(AND('FMI Template'!B44<>\"\",'FMI Template'!B44<>\"NA\",'FMI Template'!B44<>\"UA\"),'FMI Template'!B44,\"\")","v":""},{"$f":"IF(AND('FMI Template'!C44<>\"\",'FMI Template'!C44<>\"NA\",'FMI Template'!C44<>\"UA\"),'FMI Template'!C44,\"\")","v":""},{"$f":"IF(AND('FMI Template'!D44<>\"\",'FMI Template'!D44<>\"NA\",'FMI Template'!D44<>\"UA\"),'FMI Template'!D44,\"\")","v":""},{"$f":"IF(AND('FMI Template'!F44<>\"\",'FMI Template'!F44<>\"NA\",'FMI Template'!F44<>\"UA\"),'FMI Template'!F44,\"\")","v":""},{"$f":"IF(AND('FMI Template'!H44<>\"\", 'FMI Template'!H44<>\"UA\"),IF('FMI Template'!H44=\"CSD\",\"(I)CSD\",IF('FMI Template'!H44=\"CCP_Derivatives\",\"CCP-Derivatives\",IF('FMI Template'!H44=\"CCP_securities\",\"CCP-securities\",IF('FMI Template'!H44=\"PS_Retail\",\"PS\",IF('FMI Template'!H44=\"PS_LV\",\"PS\",'FMI Template'!H44))))),\"\")","v":""},{"$f":"IF(AND('FMI Template'!I44<>\"\", 'FMI Template'!I44<>\"UA\"),'FMI Template'!I44,\"\")","v":""},{"$f":"IF(AND('FMI Template'!J44<>\"\",'FMI Template'!J44<>\"UA\"),IF('FMI Template'!J44=\"CSD_SSS\",\"CSD-SSS\",IF('FMI Template'!J44=\"CCP_Derivatives\",\"CCP-Derivatives\",IF('FMI Template'!J44=\"CCP_securities\",\"CCP-securities\",IF('FMI Template'!J44=\"Trading_venue\",\"Trading-venue\",'FMI Template'!J44)))),\"\")","v":""},{"$f":"IF(AND('FMI Template'!K44<>\"\",'FMI Template'!K44<>\"UA\"),'FMI Template'!K44,\"\")","v":""},{"$f":"IF('FMI Template'!K44=\"direct\",\"NA\",IF(AND('FMI Template'!M44<>\"\",'FMI Template'!M44<>\"UA\"),'FMI Template'!M44,\"\"))","v":""},{"$f":"IF('FMI Template'!K44=\"direct\",\"NA\",IF(AND('FMI Template'!N44<>\"\",'FMI Template'!N44<>\"UA\"),'FMI Template'!N44,\"\"))","v":""},{"$f":"IF(OR('FMI Template'!H44=\"Other\",'FMI Template'!H44=\"NA\"),'FMI Template'!Q44,\"\")","v":""},{"$f":"IF(AND('FMI Template'!O44<>\"\",'FMI Template'!O44<>\"NA\",'FMI Template'!O44<>\"UA\"),'FMI Template'!O44,\"\")","v":""}]
[null,{"$f":"IF(AND('FMI Template'!B45<>\"\",'FMI Template'!B45<>\"NA\",'FMI Template'!B45<>\"UA\"),'FMI Template'!B45,\"\")","v":""},{"$f":"IF(AND('FMI Template'!C45<>\"\",'FMI Template'!C45<>\"NA\",'FMI Template'!C45<>\"UA\"),'FMI Template'!C45,\"\")","v":""},{"$f":"IF(AND('FMI Template'!D45<>\"\",'FMI Template'!D45<>\"NA\",'FMI Template'!D45<>\"UA\"),'FMI Template'!D45,\"\")","v":""},{"$f":"IF(AND('FMI Template'!F45<>\"\",'FMI Template'!F45<>\"NA\",'FMI Template'!F45<>\"UA\"),'FMI Template'!F45,\"\")","v":""},{"$f":"IF(AND('FMI Template'!H45<>\"\", 'FMI Template'!H45<>\"UA\"),IF('FMI Template'!H45=\"CSD\",\"(I)CSD\",IF('FMI Template'!H45=\"CCP_Derivatives\",\"CCP-Derivatives\",IF('FMI Template'!H45=\"CCP_securities\",\"CCP-securities\",IF('FMI Template'!H45=\"PS_Retail\",\"PS\",IF('FMI Template'!H45=\"PS_LV\",\"PS\",'FMI Template'!H45))))),\"\")","v":""},{"$f":"IF(AND('FMI Template'!I45<>\"\", 'FMI Template'!I45<>\"UA\"),'FMI Template'!I45,\"\")","v":""},{"$f":"IF(AND('FMI Template'!J45<>\"\",'FMI Template'!J45<>\"UA\"),IF('FMI Template'!J45=\"CSD_SSS\",\"CSD-SSS\",IF('FMI Template'!J45=\"CCP_Derivatives\",\"CCP-Derivatives\",IF('FMI Template'!J45=\"CCP_securities\",\"CCP-securities\",IF('FMI Template'!J45=\"Trading_venue\",\"Trading-venue\",'FMI Template'!J45)))),\"\")","v":""},{"$f":"IF(AND('FMI Template'!K45<>\"\",'FMI Template'!K45<>\"UA\"),'FMI Template'!K45,\"\")","v":""},{"$f":"IF('FMI Template'!K45=\"direct\",\"NA\",IF(AND('FMI Template'!M45<>\"\",'FMI Template'!M45<>\"UA\"),'FMI Template'!M45,\"\"))","v":""},{"$f":"IF('FMI Template'!K45=\"direct\",\"NA\",IF(AND('FMI Template'!N45<>\"\",'FMI Template'!N45<>\"UA\"),'FMI Template'!N45,\"\"))","v":""},{"$f":"IF(OR('FMI Template'!H45=\"Other\",'FMI Template'!H45=\"NA\"),'FMI Template'!Q45,\"\")","v":""},{"$f":"IF(AND('FMI Template'!O45<>\"\",'FMI Template'!O45<>\"NA\",'FMI Template'!O45<>\"UA\"),'FMI Template'!O45,\"\")","v":""}]
[null,{"$f":"IF(AND('FMI Template'!B46<>\"\",'FMI Template'!B46<>\"NA\",'FMI Template'!B46<>\"UA\"),'FMI Template'!B46,\"\")","v":""},{"$f":"IF(AND('FMI Template'!C46<>\"\",'FMI Template'!C46<>\"NA\",'FMI Template'!C46<>\"UA\"),'FMI Template'!C46,\"\")","v":""},{"$f":"IF(AND('FMI Template'!D46<>\"\",'FMI Template'!D46<>\"NA\",'FMI Template'!D46<>\"UA\"),'FMI Template'!D46,\"\")","v":""},{"$f":"IF(AND('FMI Template'!F46<>\"\",'FMI Template'!F46<>\"NA\",'FMI Template'!F46<>\"UA\"),'FMI Template'!F46,\"\")","v":""},{"$f":"IF(AND('FMI Template'!H46<>\"\", 'FMI Template'!H46<>\"UA\"),IF('FMI Template'!H46=\"CSD\",\"(I)CSD\",IF('FMI Template'!H46=\"CCP_Derivatives\",\"CCP-Derivatives\",IF('FMI Template'!H46=\"CCP_securities\",\"CCP-securities\",IF('FMI Template'!H46=\"PS_Retail\",\"PS\",IF('FMI Template'!H46=\"PS_LV\",\"PS\",'FMI Template'!H46))))),\"\")","v":""},{"$f":"IF(AND('FMI Template'!I46<>\"\", 'FMI Template'!I46<>\"UA\"),'FMI Template'!I46,\"\")","v":""},{"$f":"IF(AND('FMI Template'!J46<>\"\",'FMI Template'!J46<>\"UA\"),IF('FMI Template'!J46=\"CSD_SSS\",\"CSD-SSS\",IF('FMI Template'!J46=\"CCP_Derivatives\",\"CCP-Derivatives\",IF('FMI Template'!J46=\"CCP_securities\",\"CCP-securities\",IF('FMI Template'!J46=\"Trading_venue\",\"Trading-venue\",'FMI Template'!J46)))),\"\")","v":""},{"$f":"IF(AND('FMI Template'!K46<>\"\",'FMI Template'!K46<>\"UA\"),'FMI Template'!K46,\"\")","v":""},{"$f":"IF('FMI Template'!K46=\"direct\",\"NA\",IF(AND('FMI Template'!M46<>\"\",'FMI Template'!M46<>\"UA\"),'FMI Template'!M46,\"\"))","v":""},{"$f":"IF('FMI Template'!K46=\"direct\",\"NA\",IF(AND('FMI Template'!N46<>\"\",'FMI Template'!N46<>\"UA\"),'FMI Template'!N46,\"\"))","v":""},{"$f":"IF(OR('FMI Template'!H46=\"Other\",'FMI Template'!H46=\"NA\"),'FMI Template'!Q46,\"\")","v":""},{"$f":"IF(AND('FMI Template'!O46<>\"\",'FMI Template'!O46<>\"NA\",'FMI Template'!O46<>\"UA\"),'FMI Template'!O46,\"\")","v":""}]
[null,{"$f":"IF(AND('FMI Template'!B47<>\"\",'FMI Template'!B47<>\"NA\",'FMI Template'!B47<>\"UA\"),'FMI Template'!B47,\"\")","v":""},{"$f":"IF(AND('FMI Template'!C47<>\"\",'FMI Template'!C47<>\"NA\",'FMI Template'!C47<>\"UA\"),'FMI Template'!C47,\"\")","v":""},{"$f":"IF(AND('FMI Template'!D47<>\"\",'FMI Template'!D47<>\"NA\",'FMI Template'!D47<>\"UA\"),'FMI Template'!D47,\"\")","v":""},{"$f":"IF(AND('FMI Template'!F47<>\"\",'FMI Template'!F47<>\"NA\",'FMI Template'!F47<>\"UA\"),'FMI Template'!F47,\"\")","v":""},{"$f":"IF(AND('FMI Template'!H47<>\"\", 'FMI Template'!H47<>\"UA\"),IF('FMI Template'!H47=\"CSD\",\"(I)CSD\",IF('FMI Template'!H47=\"CCP_Derivatives\",\"CCP-Derivatives\",IF('FMI Template'!H47=\"CCP_securities\",\"CCP-securities\",IF('FMI Template'!H47=\"PS_Retail\",\"PS\",IF('FMI Template'!H47=\"PS_LV\",\"PS\",'FMI Template'!H47))))),\"\")","v":""},{"$f":"IF(AND('FMI Template'!I47<>\"\", 'FMI Template'!I47<>\"UA\"),'FMI Template'!I47,\"\")","v":""},{"$f":"IF(AND('FMI Template'!J47<>\"\",'FMI Template'!J47<>\"UA\"),IF('FMI Template'!J47=\"CSD_SSS\",\"CSD-SSS\",IF('FMI Template'!J47=\"CCP_Derivatives\",\"CCP-Derivatives\",IF('FMI Template'!J47=\"CCP_securities\",\"CCP-securities\",IF('FMI Template'!J47=\"Trading_venue\",\"Trading-venue\",'FMI Template'!J47)))),\"\")","v":""},{"$f":"IF(AND('FMI Template'!K47<>\"\",'FMI Template'!K47<>\"UA\"),'FMI Template'!K47,\"\")","v":""},{"$f":"IF('FMI Template'!K47=\"direct\",\"NA\",IF(AND('FMI Template'!M47<>\"\",'FMI Template'!M47<>\"UA\"),'FMI Template'!M47,\"\"))","v":""},{"$f":"IF('FMI Template'!K47=\"direct\",\"NA\",IF(AND('FMI Template'!N47<>\"\",'FMI Template'!N47<>\"UA\"),'FMI Template'!N47,\"\"))","v":""},{"$f":"IF(OR('FMI Template'!H47=\"Other\",'FMI Template'!H47=\"NA\"),'FMI Template'!Q47,\"\")","v":""},{"$f":"IF(AND('FMI Template'!O47<>\"\",'FMI Template'!O47<>\"NA\",'FMI Template'!O47<>\"UA\"),'FMI Template'!O47,\"\")","v":""}]
[null,{"$f":"IF(AND('FMI Template'!B48<>\"\",'FMI Template'!B48<>\"NA\",'FMI Template'!B48<>\"UA\"),'FMI Template'!B48,\"\")","v":""},{"$f":"IF(AND('FMI Template'!C48<>\"\",'FMI Template'!C48<>\"NA\",'FMI Template'!C48<>\"UA\"),'FMI Template'!C48,\"\")","v":""},{"$f":"IF(AND('FMI Template'!D48<>\"\",'FMI Template'!D48<>\"NA\",'FMI Template'!D48<>\"UA\"),'FMI Template'!D48,\"\")","v":""},{"$f":"IF(AND('FMI Template'!F48<>\"\",'FMI Template'!F48<>\"NA\",'FMI Template'!F48<>\"UA\"),'FMI Template'!F48,\"\")","v":""},{"$f":"IF(AND('FMI Template'!H48<>\"\", 'FMI Template'!H48<>\"UA\"),IF('FMI Template'!H48=\"CSD\",\"(I)CSD\",IF('FMI Template'!H48=\"CCP_Derivatives\",\"CCP-Derivatives\",IF('FMI Template'!H48=\"CCP_securities\",\"CCP-securities\",IF('FMI Template'!H48=\"PS_Retail\",\"PS\",IF('FMI Template'!H48=\"PS_LV\",\"PS\",'FMI Template'!H48))))),\"\")","v":""},{"$f":"IF(AND('FMI Template'!I48<>\"\", 'FMI Template'!I48<>\"UA\"),'FMI Template'!I48,\"\")","v":""},{"$f":"IF(AND('FMI Template'!J48<>\"\",'FMI Template'!J48<>\"UA\"),IF('FMI Template'!J48=\"CSD_SSS\",\"CSD-SSS\",IF('FMI Template'!J48=\"CCP_Derivatives\",\"CCP-Derivatives\",IF('FMI Template'!J48=\"CCP_securities\",\"CCP-securities\",IF('FMI Template'!J48=\"Trading_venue\",\"Trading-venue\",'FMI Template'!J48)))),\"\")","v":""},{"$f":"IF(AND('FMI Template'!K48<>\"\",'FMI Template'!K48<>\"UA\"),'FMI Template'!K48,\"\")","v":""},{"$f":"IF('FMI Template'!K48=\"direct\",\"NA\",IF(AND('FMI Template'!M48<>\"\",'FMI Template'!M48<>\"UA\"),'FMI Template'!M48,\"\"))","v":""},{"$f":"IF('FMI Template'!K48=\"direct\",\"NA\",IF(AND('FMI Template'!N48<>\"\",'FMI Template'!N48<>\"UA\"),'FMI Template'!N48,\"\"))","v":""},{"$f":"IF(OR('FMI Template'!H48=\"Other\",'FMI Template'!H48=\"NA\"),'FMI Template'!Q48,\"\")","v":""},{"$f":"IF(AND('FMI Template'!O48<>\"\",'FMI Template'!O48<>\"NA\",'FMI Template'!O48<>\"UA\"),'FMI Template'!O48,\"\")","v":""}]
[null,{"$f":"IF(AND('FMI Template'!B49<>\"\",'FMI Template'!B49<>\"NA\",'FMI Template'!B49<>\"UA\"),'FMI Template'!B49,\"\")","v":""},{"$f":"IF(AND('FMI Template'!C49<>\"\",'FMI Template'!C49<>\"NA\",'FMI Template'!C49<>\"UA\"),'FMI Template'!C49,\"\")","v":""},{"$f":"IF(AND('FMI Template'!D49<>\"\",'FMI Template'!D49<>\"NA\",'FMI Template'!D49<>\"UA\"),'FMI Template'!D49,\"\")","v":""},{"$f":"IF(AND('FMI Template'!F49<>\"\",'FMI Template'!F49<>\"NA\",'FMI Template'!F49<>\"UA\"),'FMI Template'!F49,\"\")","v":""},{"$f":"IF(AND('FMI Template'!H49<>\"\", 'FMI Template'!H49<>\"UA\"),IF('FMI Template'!H49=\"CSD\",\"(I)CSD\",IF('FMI Template'!H49=\"CCP_Derivatives\",\"CCP-Derivatives\",IF('FMI Template'!H49=\"CCP_securities\",\"CCP-securities\",IF('FMI Template'!H49=\"PS_Retail\",\"PS\",IF('FMI Template'!H49=\"PS_LV\",\"PS\",'FMI Template'!H49))))),\"\")","v":""},{"$f":"IF(AND('FMI Template'!I49<>\"\", 'FMI Template'!I49<>\"UA\"),'FMI Template'!I49,\"\")","v":""},{"$f":"IF(AND('FMI Template'!J49<>\"\",'FMI Template'!J49<>\"UA\"),IF('FMI Template'!J49=\"CSD_SSS\",\"CSD-SSS\",IF('FMI Template'!J49=\"CCP_Derivatives\",\"CCP-Derivatives\",IF('FMI Template'!J49=\"CCP_securities\",\"CCP-securities\",IF('FMI Template'!J49=\"Trading_venue\",\"Trading-venue\",'FMI Template'!J49)))),\"\")","v":""},{"$f":"IF(AND('FMI Template'!K49<>\"\",'FMI Template'!K49<>\"UA\"),'FMI Template'!K49,\"\")","v":""},{"$f":"IF('FMI Template'!K49=\"direct\",\"NA\",IF(AND('FMI Template'!M49<>\"\",'FMI Template'!M49<>\"UA\"),'FMI Template'!M49,\"\"))","v":""},{"$f":"IF('FMI Template'!K49=\"direct\",\"NA\",IF(AND('FMI Template'!N49<>\"\",'FMI Template'!N49<>\"UA\"),'FMI Template'!N49,\"\"))","v":""},{"$f":"IF(OR('FMI Template'!H49=\"Other\",'FMI Template'!H49=\"NA\"),'FMI Template'!Q49,\"\")","v":""},{"$f":"IF(AND('FMI Template'!O49<>\"\",'FMI Template'!O49<>\"NA\",'FMI Template'!O49<>\"UA\"),'FMI Template'!O49,\"\")","v":""}]
[null,{"$f":"IF(AND('FMI Template'!B50<>\"\",'FMI Template'!B50<>\"NA\",'FMI Template'!B50<>\"UA\"),'FMI Template'!B50,\"\")","v":""},{"$f":"IF(AND('FMI Template'!C50<>\"\",'FMI Template'!C50<>\"NA\",'FMI Template'!C50<>\"UA\"),'FMI Template'!C50,\"\")","v":""},{"$f":"IF(AND('FMI Template'!D50<>\"\",'FMI Template'!D50<>\"NA\",'FMI Template'!D50<>\"UA\"),'FMI Template'!D50,\"\")","v":""},{"$f":"IF(AND('FMI Template'!F50<>\"\",'FMI Template'!F50<>\"NA\",'FMI Template'!F50<>\"UA\"),'FMI Template'!F50,\"\")","v":""},{"$f":"IF(AND('FMI Template'!H50<>\"\", 'FMI Template'!H50<>\"UA\"),IF('FMI Template'!H50=\"CSD\",\"(I)CSD\",IF('FMI Template'!H50=\"CCP_Derivatives\",\"CCP-Derivatives\",IF('FMI Template'!H50=\"CCP_securities\",\"CCP-securities\",IF('FMI Template'!H50=\"PS_Retail\",\"PS\",IF('FMI Template'!H50=\"PS_LV\",\"PS\",'FMI Template'!H50))))),\"\")","v":""},{"$f":"IF(AND('FMI Template'!I50<>\"\", 'FMI Template'!I50<>\"UA\"),'FMI Template'!I50,\"\")","v":""},{"$f":"IF(AND('FMI Template'!J50<>\"\",'FMI Template'!J50<>\"UA\"),IF('FMI Template'!J50=\"CSD_SSS\",\"CSD-SSS\",IF('FMI Template'!J50=\"CCP_Derivatives\",\"CCP-Derivatives\",IF('FMI Template'!J50=\"CCP_securities\",\"CCP-securities\",IF('FMI Template'!J50=\"Trading_venue\",\"Trading-venue\",'FMI Template'!J50)))),\"\")","v":""},{"$f":"IF(AND('FMI Template'!K50<>\"\",'FMI Template'!K50<>\"UA\"),'FMI Template'!K50,\"\")","v":""},{"$f":"IF('FMI Template'!K50=\"direct\",\"NA\",IF(AND('FMI Template'!M50<>\"\",'FMI Template'!M50<>\"UA\"),'FMI Template'!M50,\"\"))","v":""},{"$f":"IF('FMI Template'!K50=\"direct\",\"NA\",IF(AND('FMI Template'!N50<>\"\",'FMI Template'!N50<>\"UA\"),'FMI Template'!N50,\"\"))","v":""},{"$f":"IF(OR('FMI Template'!H50=\"Other\",'FMI Template'!H50=\"NA\"),'FMI Template'!Q50,\"\")","v":""},{"$f":"IF(AND('FMI Template'!O50<>\"\",'FMI Template'!O50<>\"NA\",'FMI Template'!O50<>\"UA\"),'FMI Template'!O50,\"\")","v":""}]
[null,{"$f":"IF(AND('FMI Template'!B51<>\"\",'FMI Template'!B51<>\"NA\",'FMI Template'!B51<>\"UA\"),'FMI Template'!B51,\"\")","v":""},{"$f":"IF(AND('FMI Template'!C51<>\"\",'FMI Template'!C51<>\"NA\",'FMI Template'!C51<>\"UA\"),'FMI Template'!C51,\"\")","v":""},{"$f":"IF(AND('FMI Template'!D51<>\"\",'FMI Template'!D51<>\"NA\",'FMI Template'!D51<>\"UA\"),'FMI Template'!D51,\"\")","v":""},{"$f":"IF(AND('FMI Template'!F51<>\"\",'FMI Template'!F51<>\"NA\",'FMI Template'!F51<>\"UA\"),'FMI Template'!F51,\"\")","v":""},{"$f":"IF(AND('FMI Template'!H51<>\"\", 'FMI Template'!H51<>\"UA\"),IF('FMI Template'!H51=\"CSD\",\"(I)CSD\",IF('FMI Template'!H51=\"CCP_Derivatives\",\"CCP-Derivatives\",IF('FMI Template'!H51=\"CCP_securities\",\"CCP-securities\",IF('FMI Template'!H51=\"PS_Retail\",\"PS\",IF('FMI Template'!H51=\"PS_LV\",\"PS\",'FMI Template'!H51))))),\"\")","v":""},{"$f":"IF(AND('FMI Template'!I51<>\"\", 'FMI Template'!I51<>\"UA\"),'FMI Template'!I51,\"\")","v":""},{"$f":"IF(AND('FMI Template'!J51<>\"\",'FMI Template'!J51<>\"UA\"),IF('FMI Template'!J51=\"CSD_SSS\",\"CSD-SSS\",IF('FMI Template'!J51=\"CCP_Derivatives\",\"CCP-Derivatives\",IF('FMI Template'!J51=\"CCP_securities\",\"CCP-securities\",IF('FMI Template'!J51=\"Trading_venue\",\"Trading-venue\",'FMI Template'!J51)))),\"\")","v":""},{"$f":"IF(AND('FMI Template'!K51<>\"\",'FMI Template'!K51<>\"UA\"),'FMI Template'!K51,\"\")","v":""},{"$f":"IF('FMI Template'!K51=\"direct\",\"NA\",IF(AND('FMI Template'!M51<>\"\",'FMI Template'!M51<>\"UA\"),'FMI Template'!M51,\"\"))","v":""},{"$f":"IF('FMI Template'!K51=\"direct\",\"NA\",IF(AND('FMI Template'!N51<>\"\",'FMI Template'!N51<>\"UA\"),'FMI Template'!N51,\"\"))","v":""},{"$f":"IF(OR('FMI Template'!H51=\"Other\",'FMI Template'!H51=\"NA\"),'FMI Template'!Q51,\"\")","v":""},{"$f":"IF(AND('FMI Template'!O51<>\"\",'FMI Template'!O51<>\"NA\",'FMI Template'!O51<>\"UA\"),'FMI Template'!O51,\"\")","v":""}]
[null,{"$f":"IF(AND('FMI Template'!B52<>\"\",'FMI Template'!B52<>\"NA\",'FMI Template'!B52<>\"UA\"),'FMI Template'!B52,\"\")","v":""},{"$f":"IF(AND('FMI Template'!C52<>\"\",'FMI Template'!C52<>\"NA\",'FMI Template'!C52<>\"UA\"),'FMI Template'!C52,\"\")","v":""},{"$f":"IF(AND('FMI Template'!D52<>\"\",'FMI Template'!D52<>\"NA\",'FMI Template'!D52<>\"UA\"),'FMI Template'!D52,\"\")","v":""},{"$f":"IF(AND('FMI Template'!F52<>\"\",'FMI Template'!F52<>\"NA\",'FMI Template'!F52<>\"UA\"),'FMI Template'!F52,\"\")","v":""},{"$f":"IF(AND('FMI Template'!H52<>\"\", 'FMI Template'!H52<>\"UA\"),IF('FMI Template'!H52=\"CSD\",\"(I)CSD\",IF('FMI Template'!H52=\"CCP_Derivatives\",\"CCP-Derivatives\",IF('FMI Template'!H52=\"CCP_securities\",\"CCP-securities\",IF('FMI Template'!H52=\"PS_Retail\",\"PS\",IF('FMI Template'!H52=\"PS_LV\",\"PS\",'FMI Template'!H52))))),\"\")","v":""},{"$f":"IF(AND('FMI Template'!I52<>\"\", 'FMI Template'!I52<>\"UA\"),'FMI Template'!I52,\"\")","v":""},{"$f":"IF(AND('FMI Template'!J52<>\"\",'FMI Template'!J52<>\"UA\"),IF('FMI Template'!J52=\"CSD_SSS\",\"CSD-SSS\",IF('FMI Template'!J52=\"CCP_Derivatives\",\"CCP-Derivatives\",IF('FMI Template'!J52=\"CCP_securities\",\"CCP-securities\",IF('FMI Template'!J52=\"Trading_venue\",\"Trading-venue\",'FMI Template'!J52)))),\"\")","v":""},{"$f":"IF(AND('FMI Template'!K52<>\"\",'FMI Template'!K52<>\"UA\"),'FMI Template'!K52,\"\")","v":""},{"$f":"IF('FMI Template'!K52=\"direct\",\"NA\",IF(AND('FMI Template'!M52<>\"\",'FMI Template'!M52<>\"UA\"),'FMI Template'!M52,\"\"))","v":""},{"$f":"IF('FMI Template'!K52=\"direct\",\"NA\",IF(AND('FMI Template'!N52<>\"\",'FMI Template'!N52<>\"UA\"),'FMI Template'!N52,\"\"))","v":""},{"$f":"IF(OR('FMI Template'!H52=\"Other\",'FMI Template'!H52=\"NA\"),'FMI Template'!Q52,\"\")","v":""},{"$f":"IF(AND('FMI Template'!O52<>\"\",'FMI Template'!O52<>\"NA\",'FMI Template'!O52<>\"UA\"),'FMI Template'!O52,\"\")","v":""}]
[null,{"$f":"IF(AND('FMI Template'!B53<>\"\",'FMI Template'!B53<>\"NA\",'FMI Template'!B53<>\"UA\"),'FMI Template'!B53,\"\")","v":""},{"$f":"IF(AND('FMI Template'!C53<>\"\",'FMI Template'!C53<>\"NA\",'FMI Template'!C53<>\"UA\"),'FMI Template'!C53,\"\")","v":""},{"$f":"IF(AND('FMI Template'!D53<>\"\",'FMI Template'!D53<>\"NA\",'FMI Template'!D53<>\"UA\"),'FMI Template'!D53,\"\")","v":""},{"$f":"IF(AND('FMI Template'!F53<>\"\",'FMI Template'!F53<>\"NA\",'FMI Template'!F53<>\"UA\"),'FMI Template'!F53,\"\")","v":""},{"$f":"IF(AND('FMI Template'!H53<>\"\", 'FMI Template'!H53<>\"UA\"),IF('FMI Template'!H53=\"CSD\",\"(I)CSD\",IF('FMI Template'!H53=\"CCP_Derivatives\",\"CCP-Derivatives\",IF('FMI Template'!H53=\"CCP_securities\",\"CCP-securities\",IF('FMI Template'!H53=\"PS_Retail\",\"PS\",IF('FMI Template'!H53=\"PS_LV\",\"PS\",'FMI Template'!H53))))),\"\")","v":""},{"$f":"IF(AND('FMI Template'!I53<>\"\", 'FMI Template'!I53<>\"UA\"),'FMI Template'!I53,\"\")","v":""},{"$f":"IF(AND('FMI Template'!J53<>\"\",'FMI Template'!J53<>\"UA\"),IF('FMI Template'!J53=\"CSD_SSS\",\"CSD-SSS\",IF('FMI Template'!J53=\"CCP_Derivatives\",\"CCP-Derivatives\",IF('FMI Template'!J53=\"CCP_securities\",\"CCP-securities\",IF('FMI Template'!J53=\"Trading_venue\",\"Trading-venue\",'FMI Template'!J53)))),\"\")","v":""},{"$f":"IF(AND('FMI Template'!K53<>\"\",'FMI Template'!K53<>\"UA\"),'FMI Template'!K53,\"\")","v":""},{"$f":"IF('FMI Template'!K53=\"direct\",\"NA\",IF(AND('FMI Template'!M53<>\"\",'FMI Template'!M53<>\"UA\"),'FMI Template'!M53,\"\"))","v":""},{"$f":"IF('FMI Template'!K53=\"direct\",\"NA\",IF(AND('FMI Template'!N53<>\"\",'FMI Template'!N53<>\"UA\"),'FMI Template'!N53,\"\"))","v":""},{"$f":"IF(OR('FMI Template'!H53=\"Other\",'FMI Template'!H53=\"NA\"),'FMI Template'!Q53,\"\")","v":""},{"$f":"IF(AND('FMI Template'!O53<>\"\",'FMI Template'!O53<>\"NA\",'FMI Template'!O53<>\"UA\"),'FMI Template'!O53,\"\")","v":""}]
[null,{"$f":"IF(AND('FMI Template'!B54<>\"\",'FMI Template'!B54<>\"NA\",'FMI Template'!B54<>\"UA\"),'FMI Template'!B54,\"\")","v":""},{"$f":"IF(AND('FMI Template'!C54<>\"\",'FMI Template'!C54<>\"NA\",'FMI Template'!C54<>\"UA\"),'FMI Template'!C54,\"\")","v":""},{"$f":"IF(AND('FMI Template'!D54<>\"\",'FMI Template'!D54<>\"NA\",'FMI Template'!D54<>\"UA\"),'FMI Template'!D54,\"\")","v":""},{"$f":"IF(AND('FMI Template'!F54<>\"\",'FMI Template'!F54<>\"NA\",'FMI Template'!F54<>\"UA\"),'FMI Template'!F54,\"\")","v":""},{"$f":"IF(AND('FMI Template'!H54<>\"\", 'FMI Template'!H54<>\"UA\"),IF('FMI Template'!H54=\"CSD\",\"(I)CSD\",IF('FMI Template'!H54=\"CCP_Derivatives\",\"CCP-Derivatives\",IF('FMI Template'!H54=\"CCP_securities\",\"CCP-securities\",IF('FMI Template'!H54=\"PS_Retail\",\"PS\",IF('FMI Template'!H54=\"PS_LV\",\"PS\",'FMI Template'!H54))))),\"\")","v":""},{"$f":"IF(AND('FMI Template'!I54<>\"\", 'FMI Template'!I54<>\"UA\"),'FMI Template'!I54,\"\")","v":""},{"$f":"IF(AND('FMI Template'!J54<>\"\",'FMI Template'!J54<>\"UA\"),IF('FMI Template'!J54=\"CSD_SSS\",\"CSD-SSS\",IF('FMI Template'!J54=\"CCP_Derivatives\",\"CCP-Derivatives\",IF('FMI Template'!J54=\"CCP_securities\",\"CCP-securities\",IF('FMI Template'!J54=\"Trading_venue\",\"Trading-venue\",'FMI Template'!J54)))),\"\")","v":""},{"$f":"IF(AND('FMI Template'!K54<>\"\",'FMI Template'!K54<>\"UA\"),'FMI Template'!K54,\"\")","v":""},{"$f":"IF('FMI Template'!K54=\"direct\",\"NA\",IF(AND('FMI Template'!M54<>\"\",'FMI Template'!M54<>\"UA\"),'FMI Template'!M54,\"\"))","v":""},{"$f":"IF('FMI Template'!K54=\"direct\",\"NA\",IF(AND('FMI Template'!N54<>\"\",'FMI Template'!N54<>\"UA\"),'FMI Template'!N54,\"\"))","v":""},{"$f":"IF(OR('FMI Template'!H54=\"Other\",'FMI Template'!H54=\"NA\"),'FMI Template'!Q54,\"\")","v":""},{"$f":"IF(AND('FMI Template'!O54<>\"\",'FMI Template'!O54<>\"NA\",'FMI Template'!O54<>\"UA\"),'FMI Template'!O54,\"\")","v":""}]
[null,{"$f":"IF(AND('FMI Template'!B55<>\"\",'FMI Template'!B55<>\"NA\",'FMI Template'!B55<>\"UA\"),'FMI Template'!B55,\"\")","v":""},{"$f":"IF(AND('FMI Template'!C55<>\"\",'FMI Template'!C55<>\"NA\",'FMI Template'!C55<>\"UA\"),'FMI Template'!C55,\"\")","v":""},{"$f":"IF(AND('FMI Template'!D55<>\"\",'FMI Template'!D55<>\"NA\",'FMI Template'!D55<>\"UA\"),'FMI Template'!D55,\"\")","v":""},{"$f":"IF(AND('FMI Template'!F55<>\"\",'FMI Template'!F55<>\"NA\",'FMI Template'!F55<>\"UA\"),'FMI Template'!F55,\"\")","v":""},{"$f":"IF(AND('FMI Template'!H55<>\"\", 'FMI Template'!H55<>\"UA\"),IF('FMI Template'!H55=\"CSD\",\"(I)CSD\",IF('FMI Template'!H55=\"CCP_Derivatives\",\"CCP-Derivatives\",IF('FMI Template'!H55=\"CCP_securities\",\"CCP-securities\",IF('FMI Template'!H55=\"PS_Retail\",\"PS\",IF('FMI Template'!H55=\"PS_LV\",\"PS\",'FMI Template'!H55))))),\"\")","v":""},{"$f":"IF(AND('FMI Template'!I55<>\"\", 'FMI Template'!I55<>\"UA\"),'FMI Template'!I55,\"\")","v":""},{"$f":"IF(AND('FMI Template'!J55<>\"\",'FMI Template'!J55<>\"UA\"),IF('FMI Template'!J55=\"CSD_SSS\",\"CSD-SSS\",IF('FMI Template'!J55=\"CCP_Derivatives\",\"CCP-Derivatives\",IF('FMI Template'!J55=\"CCP_securities\",\"CCP-securities\",IF('FMI Template'!J55=\"Trading_venue\",\"Trading-venue\",'FMI Template'!J55)))),\"\")","v":""},{"$f":"IF(AND('FMI Template'!K55<>\"\",'FMI Template'!K55<>\"UA\"),'FMI Template'!K55,\"\")","v":""},{"$f":"IF('FMI Template'!K55=\"direct\",\"NA\",IF(AND('FMI Template'!M55<>\"\",'FMI Template'!M55<>\"UA\"),'FMI Template'!M55,\"\"))","v":""},{"$f":"IF('FMI Template'!K55=\"direct\",\"NA\",IF(AND('FMI Template'!N55<>\"\",'FMI Template'!N55<>\"UA\"),'FMI Template'!N55,\"\"))","v":""},{"$f":"IF(OR('FMI Template'!H55=\"Other\",'FMI Template'!H55=\"NA\"),'FMI Template'!Q55,\"\")","v":""},{"$f":"IF(AND('FMI Template'!O55<>\"\",'FMI Template'!O55<>\"NA\",'FMI Template'!O55<>\"UA\"),'FMI Template'!O55,\"\")","v":""}]
[null,{"$f":"IF(AND('FMI Template'!B56<>\"\",'FMI Template'!B56<>\"NA\",'FMI Template'!B56<>\"UA\"),'FMI Template'!B56,\"\")","v":""},{"$f":"IF(AND('FMI Template'!C56<>\"\",'FMI Template'!C56<>\"NA\",'FMI Template'!C56<>\"UA\"),'FMI Template'!C56,\"\")","v":""},{"$f":"IF(AND('FMI Template'!D56<>\"\",'FMI Template'!D56<>\"NA\",'FMI Template'!D56<>\"UA\"),'FMI Template'!D56,\"\")","v":""},{"$f":"IF(AND('FMI Template'!F56<>\"\",'FMI Template'!F56<>\"NA\",'FMI Template'!F56<>\"UA\"),'FMI Template'!F56,\"\")","v":""},{"$f":"IF(AND('FMI Template'!H56<>\"\", 'FMI Template'!H56<>\"UA\"),IF('FMI Template'!H56=\"CSD\",\"(I)CSD\",IF('FMI Template'!H56=\"CCP_Derivatives\",\"CCP-Derivatives\",IF('FMI Template'!H56=\"CCP_securities\",\"CCP-securities\",IF('FMI Template'!H56=\"PS_Retail\",\"PS\",IF('FMI Template'!H56=\"PS_LV\",\"PS\",'FMI Template'!H56))))),\"\")","v":""},{"$f":"IF(AND('FMI Template'!I56<>\"\", 'FMI Template'!I56<>\"UA\"),'FMI Template'!I56,\"\")","v":""},{"$f":"IF(AND('FMI Template'!J56<>\"\",'FMI Template'!J56<>\"UA\"),IF('FMI Template'!J56=\"CSD_SSS\",\"CSD-SSS\",IF('FMI Template'!J56=\"CCP_Derivatives\",\"CCP-Derivatives\",IF('FMI Template'!J56=\"CCP_securities\",\"CCP-securities\",IF('FMI Template'!J56=\"Trading_venue\",\"Trading-venue\",'FMI Template'!J56)))),\"\")","v":""},{"$f":"IF(AND('FMI Template'!K56<>\"\",'FMI Template'!K56<>\"UA\"),'FMI Template'!K56,\"\")","v":""},{"$f":"IF('FMI Template'!K56=\"direct\",\"NA\",IF(AND('FMI Template'!M56<>\"\",'FMI Template'!M56<>\"UA\"),'FMI Template'!M56,\"\"))","v":""},{"$f":"IF('FMI Template'!K56=\"direct\",\"NA\",IF(AND('FMI Template'!N56<>\"\",'FMI Template'!N56<>\"UA\"),'FMI Template'!N56,\"\"))","v":""},{"$f":"IF(OR('FMI Template'!H56=\"Other\",'FMI Template'!H56=\"NA\"),'FMI Template'!Q56,\"\")","v":""},{"$f":"IF(AND('FMI Template'!O56<>\"\",'FMI Template'!O56<>\"NA\",'FMI Template'!O56<>\"UA\"),'FMI Template'!O56,\"\")","v":""}]
[null,{"$f":"IF(AND('FMI Template'!B57<>\"\",'FMI Template'!B57<>\"NA\",'FMI Template'!B57<>\"UA\"),'FMI Template'!B57,\"\")","v":""},{"$f":"IF(AND('FMI Template'!C57<>\"\",'FMI Template'!C57<>\"NA\",'FMI Template'!C57<>\"UA\"),'FMI Template'!C57,\"\")","v":""},{"$f":"IF(AND('FMI Template'!D57<>\"\",'FMI Template'!D57<>\"NA\",'FMI Template'!D57<>\"UA\"),'FMI Template'!D57,\"\")","v":""},{"$f":"IF(AND('FMI Template'!F57<>\"\",'FMI Template'!F57<>\"NA\",'FMI Template'!F57<>\"UA\"),'FMI Template'!F57,\"\")","v":""},{"$f":"IF(AND('FMI Template'!H57<>\"\", 'FMI Template'!H57<>\"UA\"),IF('FMI Template'!H57=\"CSD\",\"(I)CSD\",IF('FMI Template'!H57=\"CCP_Derivatives\",\"CCP-Derivatives\",IF('FMI Template'!H57=\"CCP_securities\",\"CCP-securities\",IF('FMI Template'!H57=\"PS_Retail\",\"PS\",IF('FMI Template'!H57=\"PS_LV\",\"PS\",'FMI Template'!H57))))),\"\")","v":""},{"$f":"IF(AND('FMI Template'!I57<>\"\", 'FMI Template'!I57<>\"UA\"),'FMI Template'!I57,\"\")","v":""},{"$f":"IF(AND('FMI Template'!J57<>\"\",'FMI Template'!J57<>\"UA\"),IF('FMI Template'!J57=\"CSD_SSS\",\"CSD-SSS\",IF('FMI Template'!J57=\"CCP_Derivatives\",\"CCP-Derivatives\",IF('FMI Template'!J57=\"CCP_securities\",\"CCP-securities\",IF('FMI Template'!J57=\"Trading_venue\",\"Trading-venue\",'FMI Template'!J57)))),\"\")","v":""},{"$f":"IF(AND('FMI Template'!K57<>\"\",'FMI Template'!K57<>\"UA\"),'FMI Template'!K57,\"\")","v":""},{"$f":"IF('FMI Template'!K57=\"direct\",\"NA\",IF(AND('FMI Template'!M57<>\"\",'FMI Template'!M57<>\"UA\"),'FMI Template'!M57,\"\"))","v":""},{"$f":"IF('FMI Template'!K57=\"direct\",\"NA\",IF(AND('FMI Template'!N57<>\"\",'FMI Template'!N57<>\"UA\"),'FMI Template'!N57,\"\"))","v":""},{"$f":"IF(OR('FMI Template'!H57=\"Other\",'FMI Template'!H57=\"NA\"),'FMI Template'!Q57,\"\")","v":""},{"$f":"IF(AND('FMI Template'!O57<>\"\",'FMI Template'!O57<>\"NA\",'FMI Template'!O57<>\"UA\"),'FMI Template'!O57,\"\")","v":""}]
[null,{"$f":"IF(AND('FMI Template'!B58<>\"\",'FMI Template'!B58<>\"NA\",'FMI Template'!B58<>\"UA\"),'FMI Template'!B58,\"\")","v":""},{"$f":"IF(AND('FMI Template'!C58<>\"\",'FMI Template'!C58<>\"NA\",'FMI Template'!C58<>\"UA\"),'FMI Template'!C58,\"\")","v":""},{"$f":"IF(AND('FMI Template'!D58<>\"\",'FMI Template'!D58<>\"NA\",'FMI Template'!D58<>\"UA\"),'FMI Template'!D58,\"\")","v":""},{"$f":"IF(AND('FMI Template'!F58<>\"\",'FMI Template'!F58<>\"NA\",'FMI Template'!F58<>\"UA\"),'FMI Template'!F58,\"\")","v":""},{"$f":"IF(AND('FMI Template'!H58<>\"\", 'FMI Template'!H58<>\"UA\"),IF('FMI Template'!H58=\"CSD\",\"(I)CSD\",IF('FMI Template'!H58=\"CCP_Derivatives\",\"CCP-Derivatives\",IF('FMI Template'!H58=\"CCP_securities\",\"CCP-securities\",IF('FMI Template'!H58=\"PS_Retail\",\"PS\",IF('FMI Template'!H58=\"PS_LV\",\"PS\",'FMI Template'!H58))))),\"\")","v":""},{"$f":"IF(AND('FMI Template'!I58<>\"\", 'FMI Template'!I58<>\"UA\"),'FMI Template'!I58,\"\")","v":""},{"$f":"IF(AND('FMI Template'!J58<>\"\",'FMI Template'!J58<>\"UA\"),IF('FMI Template'!J58=\"CSD_SSS\",\"CSD-SSS\",IF('FMI Template'!J58=\"CCP_Derivatives\",\"CCP-Derivatives\",IF('FMI Template'!J58=\"CCP_securities\",\"CCP-securities\",IF('FMI Template'!J58=\"Trading_venue\",\"Trading-venue\",'FMI Template'!J58)))),\"\")","v":""},{"$f":"IF(AND('FMI Template'!K58<>\"\",'FMI Template'!K58<>\"UA\"),'FMI Template'!K58,\"\")","v":""},{"$f":"IF('FMI Template'!K58=\"direct\",\"NA\",IF(AND('FMI Template'!M58<>\"\",'FMI Template'!M58<>\"UA\"),'FMI Template'!M58,\"\"))","v":""},{"$f":"IF('FMI Template'!K58=\"direct\",\"NA\",IF(AND('FMI Template'!N58<>\"\",'FMI Template'!N58<>\"UA\"),'FMI Template'!N58,\"\"))","v":""},{"$f":"IF(OR('FMI Template'!H58=\"Other\",'FMI Template'!H58=\"NA\"),'FMI Template'!Q58,\"\")","v":""},{"$f":"IF(AND('FMI Template'!O58<>\"\",'FMI Template'!O58<>\"NA\",'FMI Template'!O58<>\"UA\"),'FMI Template'!O58,\"\")","v":""}]
[null,{"$f":"IF(AND('FMI Template'!B59<>\"\",'FMI Template'!B59<>\"NA\",'FMI Template'!B59<>\"UA\"),'FMI Template'!B59,\"\")","v":""},{"$f":"IF(AND('FMI Template'!C59<>\"\",'FMI Template'!C59<>\"NA\",'FMI Template'!C59<>\"UA\"),'FMI Template'!C59,\"\")","v":""},{"$f":"IF(AND('FMI Template'!D59<>\"\",'FMI Template'!D59<>\"NA\",'FMI Template'!D59<>\"UA\"),'FMI Template'!D59,\"\")","v":""},{"$f":"IF(AND('FMI Template'!F59<>\"\",'FMI Template'!F59<>\"NA\",'FMI Template'!F59<>\"UA\"),'FMI Template'!F59,\"\")","v":""},{"$f":"IF(AND('FMI Template'!H59<>\"\", 'FMI Template'!H59<>\"UA\"),IF('FMI Template'!H59=\"CSD\",\"(I)CSD\",IF('FMI Template'!H59=\"CCP_Derivatives\",\"CCP-Derivatives\",IF('FMI Template'!H59=\"CCP_securities\",\"CCP-securities\",IF('FMI Template'!H59=\"PS_Retail\",\"PS\",IF('FMI Template'!H59=\"PS_LV\",\"PS\",'FMI Template'!H59))))),\"\")","v":""},{"$f":"IF(AND('FMI Template'!I59<>\"\", 'FMI Template'!I59<>\"UA\"),'FMI Template'!I59,\"\")","v":""},{"$f":"IF(AND('FMI Template'!J59<>\"\",'FMI Template'!J59<>\"UA\"),IF('FMI Template'!J59=\"CSD_SSS\",\"CSD-SSS\",IF('FMI Template'!J59=\"CCP_Derivatives\",\"CCP-Derivatives\",IF('FMI Template'!J59=\"CCP_securities\",\"CCP-securities\",IF('FMI Template'!J59=\"Trading_venue\",\"Trading-venue\",'FMI Template'!J59)))),\"\")","v":""},{"$f":"IF(AND('FMI Template'!K59<>\"\",'FMI Template'!K59<>\"UA\"),'FMI Template'!K59,\"\")","v":""},{"$f":"IF('FMI Template'!K59=\"direct\",\"NA\",IF(AND('FMI Template'!M59<>\"\",'FMI Template'!M59<>\"UA\"),'FMI Template'!M59,\"\"))","v":""},{"$f":"IF('FMI Template'!K59=\"direct\",\"NA\",IF(AND('FMI Template'!N59<>\"\",'FMI Template'!N59<>\"UA\"),'FMI Template'!N59,\"\"))","v":""},{"$f":"IF(OR('FMI Template'!H59=\"Other\",'FMI Template'!H59=\"NA\"),'FMI Template'!Q59,\"\")","v":""},{"$f":"IF(AND('FMI Template'!O59<>\"\",'FMI Template'!O59<>\"NA\",'FMI Template'!O59<>\"UA\"),'FMI Template'!O59,\"\")","v":""}]
[null,{"$f":"IF(AND('FMI Template'!B60<>\"\",'FMI Template'!B60<>\"NA\",'FMI Template'!B60<>\"UA\"),'FMI Template'!B60,\"\")","v":""},{"$f":"IF(AND('FMI Template'!C60<>\"\",'FMI Template'!C60<>\"NA\",'FMI Template'!C60<>\"UA\"),'FMI Template'!C60,\"\")","v":""},{"$f":"IF(AND('FMI Template'!D60<>\"\",'FMI Template'!D60<>\"NA\",'FMI Template'!D60<>\"UA\"),'FMI Template'!D60,\"\")","v":""},{"$f":"IF(AND('FMI Template'!F60<>\"\",'FMI Template'!F60<>\"NA\",'FMI Template'!F60<>\"UA\"),'FMI Template'!F60,\"\")","v":""},{"$f":"IF(AND('FMI Template'!H60<>\"\", 'FMI Template'!H60<>\"UA\"),IF('FMI Template'!H60=\"CSD\",\"(I)CSD\",IF('FMI Template'!H60=\"CCP_Derivatives\",\"CCP-Derivatives\",IF('FMI Template'!H60=\"CCP_securities\",\"CCP-securities\",IF('FMI Template'!H60=\"PS_Retail\",\"PS\",IF('FMI Template'!H60=\"PS_LV\",\"PS\",'FMI Template'!H60))))),\"\")","v":""},{"$f":"IF(AND('FMI Template'!I60<>\"\", 'FMI Template'!I60<>\"UA\"),'FMI Template'!I60,\"\")","v":""},{"$f":"IF(AND('FMI Template'!J60<>\"\",'FMI Template'!J60<>\"UA\"),IF('FMI Template'!J60=\"CSD_SSS\",\"CSD-SSS\",IF('FMI Template'!J60=\"CCP_Derivatives\",\"CCP-Derivatives\",IF('FMI Template'!J60=\"CCP_securities\",\"CCP-securities\",IF('FMI Template'!J60=\"Trading_venue\",\"Trading-venue\",'FMI Template'!J60)))),\"\")","v":""},{"$f":"IF(AND('FMI Template'!K60<>\"\",'FMI Template'!K60<>\"UA\"),'FMI Template'!K60,\"\")","v":""},{"$f":"IF('FMI Template'!K60=\"direct\",\"NA\",IF(AND('FMI Template'!M60<>\"\",'FMI Template'!M60<>\"UA\"),'FMI Template'!M60,\"\"))","v":""},{"$f":"IF('FMI Template'!K60=\"direct\",\"NA\",IF(AND('FMI Template'!N60<>\"\",'FMI Template'!N60<>\"UA\"),'FMI Template'!N60,\"\"))","v":""},{"$f":"IF(OR('FMI Template'!H60=\"Other\",'FMI Template'!H60=\"NA\"),'FMI Template'!Q60,\"\")","v":""},{"$f":"IF(AND('FMI Template'!O60<>\"\",'FMI Template'!O60<>\"NA\",'FMI Template'!O60<>\"UA\"),'FMI Template'!O60,\"\")","v":""}]
[null,{"$f":"IF(AND('FMI Template'!B61<>\"\",'FMI Template'!B61<>\"NA\",'FMI Template'!B61<>\"UA\"),'FMI Template'!B61,\"\")","v":""},{"$f":"IF(AND('FMI Template'!C61<>\"\",'FMI Template'!C61<>\"NA\",'FMI Template'!C61<>\"UA\"),'FMI Template'!C61,\"\")","v":""},{"$f":"IF(AND('FMI Template'!D61<>\"\",'FMI Template'!D61<>\"NA\",'FMI Template'!D61<>\"UA\"),'FMI Template'!D61,\"\")","v":""},{"$f":"IF(AND('FMI Template'!F61<>\"\",'FMI Template'!F61<>\"NA\",'FMI Template'!F61<>\"UA\"),'FMI Template'!F61,\"\")","v":""},{"$f":"IF(AND('FMI Template'!H61<>\"\", 'FMI Template'!H61<>\"UA\"),IF('FMI Template'!H61=\"CSD\",\"(I)CSD\",IF('FMI Template'!H61=\"CCP_Derivatives\",\"CCP-Derivatives\",IF('FMI Template'!H61=\"CCP_securities\",\"CCP-securities\",IF('FMI Template'!H61=\"PS_Retail\",\"PS\",IF('FMI Template'!H61=\"PS_LV\",\"PS\",'FMI Template'!H61))))),\"\")","v":""},{"$f":"IF(AND('FMI Template'!I61<>\"\", 'FMI Template'!I61<>\"UA\"),'FMI Template'!I61,\"\")","v":""},{"$f":"IF(AND('FMI Template'!J61<>\"\",'FMI Template'!J61<>\"UA\"),IF('FMI Template'!J61=\"CSD_SSS\",\"CSD-SSS\",IF('FMI Template'!J61=\"CCP_Derivatives\",\"CCP-Derivatives\",IF('FMI Template'!J61=\"CCP_securities\",\"CCP-securities\",IF('FMI Template'!J61=\"Trading_venue\",\"Trading-venue\",'FMI Template'!J61)))),\"\")","v":""},{"$f":"IF(AND('FMI Template'!K61<>\"\",'FMI Template'!K61<>\"UA\"),'FMI Template'!K61,\"\")","v":""},{"$f":"IF('FMI Template'!K61=\"direct\",\"NA\",IF(AND('FMI Template'!M61<>\"\",'FMI Template'!M61<>\"UA\"),'FMI Template'!M61,\"\"))","v":""},{"$f":"IF('FMI Template'!K61=\"direct\",\"NA\",IF(AND('FMI Template'!N61<>\"\",'FMI Template'!N61<>\"UA\"),'FMI Template'!N61,\"\"))","v":""},{"$f":"IF(OR('FMI Template'!H61=\"Other\",'FMI Template'!H61=\"NA\"),'FMI Template'!Q61,\"\")","v":""},{"$f":"IF(AND('FMI Template'!O61<>\"\",'FMI Template'!O61<>\"NA\",'FMI Template'!O61<>\"UA\"),'FMI Template'!O61,\"\")","v":""}]
[null,{"$f":"IF(AND('FMI Template'!B62<>\"\",'FMI Template'!B62<>\"NA\",'FMI Template'!B62<>\"UA\"),'FMI Template'!B62,\"\")","v":""},{"$f":"IF(AND('FMI Template'!C62<>\"\",'FMI Template'!C62<>\"NA\",'FMI Template'!C62<>\"UA\"),'FMI Template'!C62,\"\")","v":""},{"$f":"IF(AND('FMI Template'!D62<>\"\",'FMI Template'!D62<>\"NA\",'FMI Template'!D62<>\"UA\"),'FMI Template'!D62,\"\")","v":""},{"$f":"IF(AND('FMI Template'!F62<>\"\",'FMI Template'!F62<>\"NA\",'FMI Template'!F62<>\"UA\"),'FMI Template'!F62,\"\")","v":""},{"$f":"IF(AND('FMI Template'!H62<>\"\", 'FMI Template'!H62<>\"UA\"),IF('FMI Template'!H62=\"CSD\",\"(I)CSD\",IF('FMI Template'!H62=\"CCP_Derivatives\",\"CCP-Derivatives\",IF('FMI Template'!H62=\"CCP_securities\",\"CCP-securities\",IF('FMI Template'!H62=\"PS_Retail\",\"PS\",IF('FMI Template'!H62=\"PS_LV\",\"PS\",'FMI Template'!H62))))),\"\")","v":""},{"$f":"IF(AND('FMI Template'!I62<>\"\", 'FMI Template'!I62<>\"UA\"),'FMI Template'!I62,\"\")","v":""},{"$f":"IF(AND('FMI Template'!J62<>\"\",'FMI Template'!J62<>\"UA\"),IF('FMI Template'!J62=\"CSD_SSS\",\"CSD-SSS\",IF('FMI Template'!J62=\"CCP_Derivatives\",\"CCP-Derivatives\",IF('FMI Template'!J62=\"CCP_securities\",\"CCP-securities\",IF('FMI Template'!J62=\"Trading_venue\",\"Trading-venue\",'FMI Template'!J62)))),\"\")","v":""},{"$f":"IF(AND('FMI Template'!K62<>\"\",'FMI Template'!K62<>\"UA\"),'FMI Template'!K62,\"\")","v":""},{"$f":"IF('FMI Template'!K62=\"direct\",\"NA\",IF(AND('FMI Template'!M62<>\"\",'FMI Template'!M62<>\"UA\"),'FMI Template'!M62,\"\"))","v":""},{"$f":"IF('FMI Template'!K62=\"direct\",\"NA\",IF(AND('FMI Template'!N62<>\"\",'FMI Template'!N62<>\"UA\"),'FMI Template'!N62,\"\"))","v":""},{"$f":"IF(OR('FMI Template'!H62=\"Other\",'FMI Template'!H62=\"NA\"),'FMI Template'!Q62,\"\")","v":""},{"$f":"IF(AND('FMI Template'!O62<>\"\",'FMI Template'!O62<>\"NA\",'FMI Template'!O62<>\"UA\"),'FMI Template'!O62,\"\")","v":""}]
[null,{"$f":"IF(AND('FMI Template'!B63<>\"\",'FMI Template'!B63<>\"NA\",'FMI Template'!B63<>\"UA\"),'FMI Template'!B63,\"\")","v":""},{"$f":"IF(AND('FMI Template'!C63<>\"\",'FMI Template'!C63<>\"NA\",'FMI Template'!C63<>\"UA\"),'FMI Template'!C63,\"\")","v":""},{"$f":"IF(AND('FMI Template'!D63<>\"\",'FMI Template'!D63<>\"NA\",'FMI Template'!D63<>\"UA\"),'FMI Template'!D63,\"\")","v":""},{"$f":"IF(AND('FMI Template'!F63<>\"\",'FMI Template'!F63<>\"NA\",'FMI Template'!F63<>\"UA\"),'FMI Template'!F63,\"\")","v":""},{"$f":"IF(AND('FMI Template'!H63<>\"\", 'FMI Template'!H63<>\"UA\"),IF('FMI Template'!H63=\"CSD\",\"(I)CSD\",IF('FMI Template'!H63=\"CCP_Derivatives\",\"CCP-Derivatives\",IF('FMI Template'!H63=\"CCP_securities\",\"CCP-securities\",IF('FMI Template'!H63=\"PS_Retail\",\"PS\",IF('FMI Template'!H63=\"PS_LV\",\"PS\",'FMI Template'!H63))))),\"\")","v":""},{"$f":"IF(AND('FMI Template'!I63<>\"\", 'FMI Template'!I63<>\"UA\"),'FMI Template'!I63,\"\")","v":""},{"$f":"IF(AND('FMI Template'!J63<>\"\",'FMI Template'!J63<>\"UA\"),IF('FMI Template'!J63=\"CSD_SSS\",\"CSD-SSS\",IF('FMI Template'!J63=\"CCP_Derivatives\",\"CCP-Derivatives\",IF('FMI Template'!J63=\"CCP_securities\",\"CCP-securities\",IF('FMI Template'!J63=\"Trading_venue\",\"Trading-venue\",'FMI Template'!J63)))),\"\")","v":""},{"$f":"IF(AND('FMI Template'!K63<>\"\",'FMI Template'!K63<>\"UA\"),'FMI Template'!K63,\"\")","v":""},{"$f":"IF('FMI Template'!K63=\"direct\",\"NA\",IF(AND('FMI Template'!M63<>\"\",'FMI Template'!M63<>\"UA\"),'FMI Template'!M63,\"\"))","v":""},{"$f":"IF('FMI Template'!K63=\"direct\",\"NA\",IF(AND('FMI Template'!N63<>\"\",'FMI Template'!N63<>\"UA\"),'FMI Template'!N63,\"\"))","v":""},{"$f":"IF(OR('FMI Template'!H63=\"Other\",'FMI Template'!H63=\"NA\"),'FMI Template'!Q63,\"\")","v":""},{"$f":"IF(AND('FMI Template'!O63<>\"\",'FMI Template'!O63<>\"NA\",'FMI Template'!O63<>\"UA\"),'FMI Template'!O63,\"\")","v":""}]
[null,{"$f":"IF(AND('FMI Template'!B64<>\"\",'FMI Template'!B64<>\"NA\",'FMI Template'!B64<>\"UA\"),'FMI Template'!B64,\"\")","v":""},{"$f":"IF(AND('FMI Template'!C64<>\"\",'FMI Template'!C64<>\"NA\",'FMI Template'!C64<>\"UA\"),'FMI Template'!C64,\"\")","v":""},{"$f":"IF(AND('FMI Template'!D64<>\"\",'FMI Template'!D64<>\"NA\",'FMI Template'!D64<>\"UA\"),'FMI Template'!D64,\"\")","v":""},{"$f":"IF(AND('FMI Template'!F64<>\"\",'FMI Template'!F64<>\"NA\",'FMI Template'!F64<>\"UA\"),'FMI Template'!F64,\"\")","v":""},{"$f":"IF(AND('FMI Template'!H64<>\"\", 'FMI Template'!H64<>\"UA\"),IF('FMI Template'!H64=\"CSD\",\"(I)CSD\",IF('FMI Template'!H64=\"CCP_Derivatives\",\"CCP-Derivatives\",IF('FMI Template'!H64=\"CCP_securities\",\"CCP-securities\",IF('FMI Template'!H64=\"PS_Retail\",\"PS\",IF('FMI Template'!H64=\"PS_LV\",\"PS\",'FMI Template'!H64))))),\"\")","v":""},{"$f":"IF(AND('FMI Template'!I64<>\"\", 'FMI Template'!I64<>\"UA\"),'FMI Template'!I64,\"\")","v":""},{"$f":"IF(AND('FMI Template'!J64<>\"\",'FMI Template'!J64<>\"UA\"),IF('FMI Template'!J64=\"CSD_SSS\",\"CSD-SSS\",IF('FMI Template'!J64=\"CCP_Derivatives\",\"CCP-Derivatives\",IF('FMI Template'!J64=\"CCP_securities\",\"CCP-securities\",IF('FMI Template'!J64=\"Trading_venue\",\"Trading-venue\",'FMI Template'!J64)))),\"\")","v":""},{"$f":"IF(AND('FMI Template'!K64<>\"\",'FMI Template'!K64<>\"UA\"),'FMI Template'!K64,\"\")","v":""},{"$f":"IF('FMI Template'!K64=\"direct\",\"NA\",IF(AND('FMI Template'!M64<>\"\",'FMI Template'!M64<>\"UA\"),'FMI Template'!M64,\"\"))","v":""},{"$f":"IF('FMI Template'!K64=\"direct\",\"NA\",IF(AND('FMI Template'!N64<>\"\",'FMI Template'!N64<>\"UA\"),'FMI Template'!N64,\"\"))","v":""},{"$f":"IF(OR('FMI Template'!H64=\"Other\",'FMI Template'!H64=\"NA\"),'FMI Template'!Q64,\"\")","v":""},{"$f":"IF(AND('FMI Template'!O64<>\"\",'FMI Template'!O64<>\"NA\",'FMI Template'!O64<>\"UA\"),'FMI Template'!O64,\"\")","v":""}]
[null,{"$f":"IF(AND('FMI Template'!B65<>\"\",'FMI Template'!B65<>\"NA\",'FMI Template'!B65<>\"UA\"),'FMI Template'!B65,\"\")","v":""},{"$f":"IF(AND('FMI Template'!C65<>\"\",'FMI Template'!C65<>\"NA\",'FMI Template'!C65<>\"UA\"),'FMI Template'!C65,\"\")","v":""},{"$f":"IF(AND('FMI Template'!D65<>\"\",'FMI Template'!D65<>\"NA\",'FMI Template'!D65<>\"UA\"),'FMI Template'!D65,\"\")","v":""},{"$f":"IF(AND('FMI Template'!F65<>\"\",'FMI Template'!F65<>\"NA\",'FMI Template'!F65<>\"UA\"),'FMI Template'!F65,\"\")","v":""},{"$f":"IF(AND('FMI Template'!H65<>\"\", 'FMI Template'!H65<>\"UA\"),IF('FMI Template'!H65=\"CSD\",\"(I)CSD\",IF('FMI Template'!H65=\"CCP_Derivatives\",\"CCP-Derivatives\",IF('FMI Template'!H65=\"CCP_securities\",\"CCP-securities\",IF('FMI Template'!H65=\"PS_Retail\",\"PS\",IF('FMI Template'!H65=\"PS_LV\",\"PS\",'FMI Template'!H65))))),\"\")","v":""},{"$f":"IF(AND('FMI Template'!I65<>\"\", 'FMI Template'!I65<>\"UA\"),'FMI Template'!I65,\"\")","v":""},{"$f":"IF(AND('FMI Template'!J65<>\"\",'FMI Template'!J65<>\"UA\"),IF('FMI Template'!J65=\"CSD_SSS\",\"CSD-SSS\",IF('FMI Template'!J65=\"CCP_Derivatives\",\"CCP-Derivatives\",IF('FMI Template'!J65=\"CCP_securities\",\"CCP-securities\",IF('FMI Template'!J65=\"Trading_venue\",\"Trading-venue\",'FMI Template'!J65)))),\"\")","v":""},{"$f":"IF(AND('FMI Template'!K65<>\"\",'FMI Template'!K65<>\"UA\"),'FMI Template'!K65,\"\")","v":""},{"$f":"IF('FMI Template'!K65=\"direct\",\"NA\",IF(AND('FMI Template'!M65<>\"\",'FMI Template'!M65<>\"UA\"),'FMI Template'!M65,\"\"))","v":""},{"$f":"IF('FMI Template'!K65=\"direct\",\"NA\",IF(AND('FMI Template'!N65<>\"\",'FMI Template'!N65<>\"UA\"),'FMI Template'!N65,\"\"))","v":""},{"$f":"IF(OR('FMI Template'!H65=\"Other\",'FMI Template'!H65=\"NA\"),'FMI Template'!Q65,\"\")","v":""},{"$f":"IF(AND('FMI Template'!O65<>\"\",'FMI Template'!O65<>\"NA\",'FMI Template'!O65<>\"UA\"),'FMI Template'!O65,\"\")","v":""}]
[null,{"$f":"IF(AND('FMI Template'!B66<>\"\",'FMI Template'!B66<>\"NA\",'FMI Template'!B66<>\"UA\"),'FMI Template'!B66,\"\")","v":""},{"$f":"IF(AND('FMI Template'!C66<>\"\",'FMI Template'!C66<>\"NA\",'FMI Template'!C66<>\"UA\"),'FMI Template'!C66,\"\")","v":""},{"$f":"IF(AND('FMI Template'!D66<>\"\",'FMI Template'!D66<>\"NA\",'FMI Template'!D66<>\"UA\"),'FMI Template'!D66,\"\")","v":""},{"$f":"IF(AND('FMI Template'!F66<>\"\",'FMI Template'!F66<>\"NA\",'FMI Template'!F66<>\"UA\"),'FMI Template'!F66,\"\")","v":""},{"$f":"IF(AND('FMI Template'!H66<>\"\", 'FMI Template'!H66<>\"UA\"),IF('FMI Template'!H66=\"CSD\",\"(I)CSD\",IF('FMI Template'!H66=\"CCP_Derivatives\",\"CCP-Derivatives\",IF('FMI Template'!H66=\"CCP_securities\",\"CCP-securities\",IF('FMI Template'!H66=\"PS_Retail\",\"PS\",IF('FMI Template'!H66=\"PS_LV\",\"PS\",'FMI Template'!H66))))),\"\")","v":""},{"$f":"IF(AND('FMI Template'!I66<>\"\", 'FMI Template'!I66<>\"UA\"),'FMI Template'!I66,\"\")","v":""},{"$f":"IF(AND('FMI Template'!J66<>\"\",'FMI Template'!J66<>\"UA\"),IF('FMI Template'!J66=\"CSD_SSS\",\"CSD-SSS\",IF('FMI Template'!J66=\"CCP_Derivatives\",\"CCP-Derivatives\",IF('FMI Template'!J66=\"CCP_securities\",\"CCP-securities\",IF('FMI Template'!J66=\"Trading_venue\",\"Trading-venue\",'FMI Template'!J66)))),\"\")","v":""},{"$f":"IF(AND('FMI Template'!K66<>\"\",'FMI Template'!K66<>\"UA\"),'FMI Template'!K66,\"\")","v":""},{"$f":"IF('FMI Template'!K66=\"direct\",\"NA\",IF(AND('FMI Template'!M66<>\"\",'FMI Template'!M66<>\"UA\"),'FMI Template'!M66,\"\"))","v":""},{"$f":"IF('FMI Template'!K66=\"direct\",\"NA\",IF(AND('FMI Template'!N66<>\"\",'FMI Template'!N66<>\"UA\"),'FMI Template'!N66,\"\"))","v":""},{"$f":"IF(OR('FMI Template'!H66=\"Other\",'FMI Template'!H66=\"NA\"),'FMI Template'!Q66,\"\")","v":""},{"$f":"IF(AND('FMI Template'!O66<>\"\",'FMI Template'!O66<>\"NA\",'FMI Template'!O66<>\"UA\"),'FMI Template'!O66,\"\")","v":""}]
[null,{"$f":"IF(AND('FMI Template'!B67<>\"\",'FMI Template'!B67<>\"NA\",'FMI Template'!B67<>\"UA\"),'FMI Template'!B67,\"\")","v":""},{"$f":"IF(AND('FMI Template'!C67<>\"\",'FMI Template'!C67<>\"NA\",'FMI Template'!C67<>\"UA\"),'FMI Template'!C67,\"\")","v":""},{"$f":"IF(AND('FMI Template'!D67<>\"\",'FMI Template'!D67<>\"NA\",'FMI Template'!D67<>\"UA\"),'FMI Template'!D67,\"\")","v":""},{"$f":"IF(AND('FMI Template'!F67<>\"\",'FMI Template'!F67<>\"NA\",'FMI Template'!F67<>\"UA\"),'FMI Template'!F67,\"\")","v":""},{"$f":"IF(AND('FMI Template'!H67<>\"\", 'FMI Template'!H67<>\"UA\"),IF('FMI Template'!H67=\"CSD\",\"(I)CSD\",IF('FMI Template'!H67=\"CCP_Derivatives\",\"CCP-Derivatives\",IF('FMI Template'!H67=\"CCP_securities\",\"CCP-securities\",IF('FMI Template'!H67=\"PS_Retail\",\"PS\",IF('FMI Template'!H67=\"PS_LV\",\"PS\",'FMI Template'!H67))))),\"\")","v":""},{"$f":"IF(AND('FMI Template'!I67<>\"\", 'FMI Template'!I67<>\"UA\"),'FMI Template'!I67,\"\")","v":""},{"$f":"IF(AND('FMI Template'!J67<>\"\",'FMI Template'!J67<>\"UA\"),IF('FMI Template'!J67=\"CSD_SSS\",\"CSD-SSS\",IF('FMI Template'!J67=\"CCP_Derivatives\",\"CCP-Derivatives\",IF('FMI Template'!J67=\"CCP_securities\",\"CCP-securities\",IF('FMI Template'!J67=\"Trading_venue\",\"Trading-venue\",'FMI Template'!J67)))),\"\")","v":""},{"$f":"IF(AND('FMI Template'!K67<>\"\",'FMI Template'!K67<>\"UA\"),'FMI Template'!K67,\"\")","v":""},{"$f":"IF('FMI Template'!K67=\"direct\",\"NA\",IF(AND('FMI Template'!M67<>\"\",'FMI Template'!M67<>\"UA\"),'FMI Template'!M67,\"\"))","v":""},{"$f":"IF('FMI Template'!K67=\"direct\",\"NA\",IF(AND('FMI Template'!N67<>\"\",'FMI Template'!N67<>\"UA\"),'FMI Template'!N67,\"\"))","v":""},{"$f":"IF(OR('FMI Template'!H67=\"Other\",'FMI Template'!H67=\"NA\"),'FMI Template'!Q67,\"\")","v":""},{"$f":"IF(AND('FMI Template'!O67<>\"\",'FMI Template'!O67<>\"NA\",'FMI Template'!O67<>\"UA\"),'FMI Template'!O67,\"\")","v":""}]
[null,{"$f":"IF(AND('FMI Template'!B68<>\"\",'FMI Template'!B68<>\"NA\",'FMI Template'!B68<>\"UA\"),'FMI Template'!B68,\"\")","v":""},{"$f":"IF(AND('FMI Template'!C68<>\"\",'FMI Template'!C68<>\"NA\",'FMI Template'!C68<>\"UA\"),'FMI Template'!C68,\"\")","v":""},{"$f":"IF(AND('FMI Template'!D68<>\"\",'FMI Template'!D68<>\"NA\",'FMI Template'!D68<>\"UA\"),'FMI Template'!D68,\"\")","v":""},{"$f":"IF(AND('FMI Template'!F68<>\"\",'FMI Template'!F68<>\"NA\",'FMI Template'!F68<>\"UA\"),'FMI Template'!F68,\"\")","v":""},{"$f":"IF(AND('FMI Template'!H68<>\"\", 'FMI Template'!H68<>\"UA\"),IF('FMI Template'!H68=\"CSD\",\"(I)CSD\",IF('FMI Template'!H68=\"CCP_Derivatives\",\"CCP-Derivatives\",IF('FMI Template'!H68=\"CCP_securities\",\"CCP-securities\",IF('FMI Template'!H68=\"PS_Retail\",\"PS\",IF('FMI Template'!H68=\"PS_LV\",\"PS\",'FMI Template'!H68))))),\"\")","v":""},{"$f":"IF(AND('FMI Template'!I68<>\"\", 'FMI Template'!I68<>\"UA\"),'FMI Template'!I68,\"\")","v":""},{"$f":"IF(AND('FMI Template'!J68<>\"\",'FMI Template'!J68<>\"UA\"),IF('FMI Template'!J68=\"CSD_SSS\",\"CSD-SSS\",IF('FMI Template'!J68=\"CCP_Derivatives\",\"CCP-Derivatives\",IF('FMI Template'!J68=\"CCP_securities\",\"CCP-securities\",IF('FMI Template'!J68=\"Trading_venue\",\"Trading-venue\",'FMI Template'!J68)))),\"\")","v":""},{"$f":"IF(AND('FMI Template'!K68<>\"\",'FMI Template'!K68<>\"UA\"),'FMI Template'!K68,\"\")","v":""},{"$f":"IF('FMI Template'!K68=\"direct\",\"NA\",IF(AND('FMI Template'!M68<>\"\",'FMI Template'!M68<>\"UA\"),'FMI Template'!M68,\"\"))","v":""},{"$f":"IF('FMI Template'!K68=\"direct\",\"NA\",IF(AND('FMI Template'!N68<>\"\",'FMI Template'!N68<>\"UA\"),'FMI Template'!N68,\"\"))","v":""},{"$f":"IF(OR('FMI Template'!H68=\"Other\",'FMI Template'!H68=\"NA\"),'FMI Template'!Q68,\"\")","v":""},{"$f":"IF(AND('FMI Template'!O68<>\"\",'FMI Template'!O68<>\"NA\",'FMI Template'!O68<>\"UA\"),'FMI Template'!O68,\"\")","v":""}]
[null,{"$f":"IF(AND('FMI Template'!B69<>\"\",'FMI Template'!B69<>\"NA\",'FMI Template'!B69<>\"UA\"),'FMI Template'!B69,\"\")","v":""},{"$f":"IF(AND('FMI Template'!C69<>\"\",'FMI Template'!C69<>\"NA\",'FMI Template'!C69<>\"UA\"),'FMI Template'!C69,\"\")","v":""},{"$f":"IF(AND('FMI Template'!D69<>\"\",'FMI Template'!D69<>\"NA\",'FMI Template'!D69<>\"UA\"),'FMI Template'!D69,\"\")","v":""},{"$f":"IF(AND('FMI Template'!F69<>\"\",'FMI Template'!F69<>\"NA\",'FMI Template'!F69<>\"UA\"),'FMI Template'!F69,\"\")","v":""},{"$f":"IF(AND('FMI Template'!H69<>\"\", 'FMI Template'!H69<>\"UA\"),IF('FMI Template'!H69=\"CSD\",\"(I)CSD\",IF('FMI Template'!H69=\"CCP_Derivatives\",\"CCP-Derivatives\",IF('FMI Template'!H69=\"CCP_securities\",\"CCP-securities\",IF('FMI Template'!H69=\"PS_Retail\",\"PS\",IF('FMI Template'!H69=\"PS_LV\",\"PS\",'FMI Template'!H69))))),\"\")","v":""},{"$f":"IF(AND('FMI Template'!I69<>\"\", 'FMI Template'!I69<>\"UA\"),'FMI Template'!I69,\"\")","v":""},{"$f":"IF(AND('FMI Template'!J69<>\"\",'FMI Template'!J69<>\"UA\"),IF('FMI Template'!J69=\"CSD_SSS\",\"CSD-SSS\",IF('FMI Template'!J69=\"CCP_Derivatives\",\"CCP-Derivatives\",IF('FMI Template'!J69=\"CCP_securities\",\"CCP-securities\",IF('FMI Template'!J69=\"Trading_venue\",\"Trading-venue\",'FMI Template'!J69)))),\"\")","v":""},{"$f":"IF(AND('FMI Template'!K69<>\"\",'FMI Template'!K69<>\"UA\"),'FMI Template'!K69,\"\")","v":""},{"$f":"IF('FMI Template'!K69=\"direct\",\"NA\",IF(AND('FMI Template'!M69<>\"\",'FMI Template'!M69<>\"UA\"),'FMI Template'!M69,\"\"))","v":""},{"$f":"IF('FMI Template'!K69=\"direct\",\"NA\",IF(AND('FMI Template'!N69<>\"\",'FMI Template'!N69<>\"UA\"),'FMI Template'!N69,\"\"))","v":""},{"$f":"IF(OR('FMI Template'!H69=\"Other\",'FMI Template'!H69=\"NA\"),'FMI Template'!Q69,\"\")","v":""},{"$f":"IF(AND('FMI Template'!O69<>\"\",'FMI Template'!O69<>\"NA\",'FMI Template'!O69<>\"UA\"),'FMI Template'!O69,\"\")","v":""}]
[null,{"$f":"IF(AND('FMI Template'!B70<>\"\",'FMI Template'!B70<>\"NA\",'FMI Template'!B70<>\"UA\"),'FMI Template'!B70,\"\")","v":""},{"$f":"IF(AND('FMI Template'!C70<>\"\",'FMI Template'!C70<>\"NA\",'FMI Template'!C70<>\"UA\"),'FMI Template'!C70,\"\")","v":""},{"$f":"IF(AND('FMI Template'!D70<>\"\",'FMI Template'!D70<>\"NA\",'FMI Template'!D70<>\"UA\"),'FMI Template'!D70,\"\")","v":""},{"$f":"IF(AND('FMI Template'!F70<>\"\",'FMI Template'!F70<>\"NA\",'FMI Template'!F70<>\"UA\"),'FMI Template'!F70,\"\")","v":""},{"$f":"IF(AND('FMI Template'!H70<>\"\", 'FMI Template'!H70<>\"UA\"),IF('FMI Template'!H70=\"CSD\",\"(I)CSD\",IF('FMI Template'!H70=\"CCP_Derivatives\",\"CCP-Derivatives\",IF('FMI Template'!H70=\"CCP_securities\",\"CCP-securities\",IF('FMI Template'!H70=\"PS_Retail\",\"PS\",IF('FMI Template'!H70=\"PS_LV\",\"PS\",'FMI Template'!H70))))),\"\")","v":""},{"$f":"IF(AND('FMI Template'!I70<>\"\", 'FMI Template'!I70<>\"UA\"),'FMI Template'!I70,\"\")","v":""},{"$f":"IF(AND('FMI Template'!J70<>\"\",'FMI Template'!J70<>\"UA\"),IF('FMI Template'!J70=\"CSD_SSS\",\"CSD-SSS\",IF('FMI Template'!J70=\"CCP_Derivatives\",\"CCP-Derivatives\",IF('FMI Template'!J70=\"CCP_securities\",\"CCP-securities\",IF('FMI Template'!J70=\"Trading_venue\",\"Trading-venue\",'FMI Template'!J70)))),\"\")","v":""},{"$f":"IF(AND('FMI Template'!K70<>\"\",'FMI Template'!K70<>\"UA\"),'FMI Template'!K70,\"\")","v":""},{"$f":"IF('FMI Template'!K70=\"direct\",\"NA\",IF(AND('FMI Template'!M70<>\"\",'FMI Template'!M70<>\"UA\"),'FMI Template'!M70,\"\"))","v":""},{"$f":"IF('FMI Template'!K70=\"direct\",\"NA\",IF(AND('FMI Template'!N70<>\"\",'FMI Template'!N70<>\"UA\"),'FMI Template'!N70,\"\"))","v":""},{"$f":"IF(OR('FMI Template'!H70=\"Other\",'FMI Template'!H70=\"NA\"),'FMI Template'!Q70,\"\")","v":""},{"$f":"IF(AND('FMI Template'!O70<>\"\",'FMI Template'!O70<>\"NA\",'FMI Template'!O70<>\"UA\"),'FMI Template'!O70,\"\")","v":""}]
[null,{"$f":"IF(AND('FMI Template'!B71<>\"\",'FMI Template'!B71<>\"NA\",'FMI Template'!B71<>\"UA\"),'FMI Template'!B71,\"\")","v":""},{"$f":"IF(AND('FMI Template'!C71<>\"\",'FMI Template'!C71<>\"NA\",'FMI Template'!C71<>\"UA\"),'FMI Template'!C71,\"\")","v":""},{"$f":"IF(AND('FMI Template'!D71<>\"\",'FMI Template'!D71<>\"NA\",'FMI Template'!D71<>\"UA\"),'FMI Template'!D71,\"\")","v":""},{"$f":"IF(AND('FMI Template'!F71<>\"\",'FMI Template'!F71<>\"NA\",'FMI Template'!F71<>\"UA\"),'FMI Template'!F71,\"\")","v":""},{"$f":"IF(AND('FMI Template'!H71<>\"\", 'FMI Template'!H71<>\"UA\"),IF('FMI Template'!H71=\"CSD\",\"(I)CSD\",IF('FMI Template'!H71=\"CCP_Derivatives\",\"CCP-Derivatives\",IF('FMI Template'!H71=\"CCP_securities\",\"CCP-securities\",IF('FMI Template'!H71=\"PS_Retail\",\"PS\",IF('FMI Template'!H71=\"PS_LV\",\"PS\",'FMI Template'!H71))))),\"\")","v":""},{"$f":"IF(AND('FMI Template'!I71<>\"\", 'FMI Template'!I71<>\"UA\"),'FMI Template'!I71,\"\")","v":""},{"$f":"IF(AND('FMI Template'!J71<>\"\",'FMI Template'!J71<>\"UA\"),IF('FMI Template'!J71=\"CSD_SSS\",\"CSD-SSS\",IF('FMI Template'!J71=\"CCP_Derivatives\",\"CCP-Derivatives\",IF('FMI Template'!J71=\"CCP_securities\",\"CCP-securities\",IF('FMI Template'!J71=\"Trading_venue\",\"Trading-venue\",'FMI Template'!J71)))),\"\")","v":""},{"$f":"IF(AND('FMI Template'!K71<>\"\",'FMI Template'!K71<>\"UA\"),'FMI Template'!K71,\"\")","v":""},{"$f":"IF('FMI Template'!K71=\"direct\",\"NA\",IF(AND('FMI Template'!M71<>\"\",'FMI Template'!M71<>\"UA\"),'FMI Template'!M71,\"\"))","v":""},{"$f":"IF('FMI Template'!K71=\"direct\",\"NA\",IF(AND('FMI Template'!N71<>\"\",'FMI Template'!N71<>\"UA\"),'FMI Template'!N71,\"\"))","v":""},{"$f":"IF(OR('FMI Template'!H71=\"Other\",'FMI Template'!H71=\"NA\"),'FMI Template'!Q71,\"\")","v":""},{"$f":"IF(AND('FMI Template'!O71<>\"\",'FMI Template'!O71<>\"NA\",'FMI Template'!O71<>\"UA\"),'FMI Template'!O71,\"\")","v":""}]
[null,{"$f":"IF(AND('FMI Template'!B72<>\"\",'FMI Template'!B72<>\"NA\",'FMI Template'!B72<>\"UA\"),'FMI Template'!B72,\"\")","v":""},{"$f":"IF(AND('FMI Template'!C72<>\"\",'FMI Template'!C72<>\"NA\",'FMI Template'!C72<>\"UA\"),'FMI Template'!C72,\"\")","v":""},{"$f":"IF(AND('FMI Template'!D72<>\"\",'FMI Template'!D72<>\"NA\",'FMI Template'!D72<>\"UA\"),'FMI Template'!D72,\"\")","v":""},{"$f":"IF(AND('FMI Template'!F72<>\"\",'FMI Template'!F72<>\"NA\",'FMI Template'!F72<>\"UA\"),'FMI Template'!F72,\"\")","v":""},{"$f":"IF(AND('FMI Template'!H72<>\"\", 'FMI Template'!H72<>\"UA\"),IF('FMI Template'!H72=\"CSD\",\"(I)CSD\",IF('FMI Template'!H72=\"CCP_Derivatives\",\"CCP-Derivatives\",IF('FMI Template'!H72=\"CCP_securities\",\"CCP-securities\",IF('FMI Template'!H72=\"PS_Retail\",\"PS\",IF('FMI Template'!H72=\"PS_LV\",\"PS\",'FMI Template'!H72))))),\"\")","v":""},{"$f":"IF(AND('FMI Template'!I72<>\"\", 'FMI Template'!I72<>\"UA\"),'FMI Template'!I72,\"\")","v":""},{"$f":"IF(AND('FMI Template'!J72<>\"\",'FMI Template'!J72<>\"UA\"),IF('FMI Template'!J72=\"CSD_SSS\",\"CSD-SSS\",IF('FMI Template'!J72=\"CCP_Derivatives\",\"CCP-Derivatives\",IF('FMI Template'!J72=\"CCP_securities\",\"CCP-securities\",IF('FMI Template'!J72=\"Trading_venue\",\"Trading-venue\",'FMI Template'!J72)))),\"\")","v":""},{"$f":"IF(AND('FMI Template'!K72<>\"\",'FMI Template'!K72<>\"UA\"),'FMI Template'!K72,\"\")","v":""},{"$f":"IF('FMI Template'!K72=\"direct\",\"NA\",IF(AND('FMI Template'!M72<>\"\",'FMI Template'!M72<>\"UA\"),'FMI Template'!M72,\"\"))","v":""},{"$f":"IF('FMI Template'!K72=\"direct\",\"NA\",IF(AND('FMI Template'!N72<>\"\",'FMI Template'!N72<>\"UA\"),'FMI Template'!N72,\"\"))","v":""},{"$f":"IF(OR('FMI Template'!H72=\"Other\",'FMI Template'!H72=\"NA\"),'FMI Template'!Q72,\"\")","v":""},{"$f":"IF(AND('FMI Template'!O72<>\"\",'FMI Template'!O72<>\"NA\",'FMI Template'!O72<>\"UA\"),'FMI Template'!O72,\"\")","v":""}]
[null,{"$f":"IF(AND('FMI Template'!B73<>\"\",'FMI Template'!B73<>\"NA\",'FMI Template'!B73<>\"UA\"),'FMI Template'!B73,\"\")","v":""},{"$f":"IF(AND('FMI Template'!C73<>\"\",'FMI Template'!C73<>\"NA\",'FMI Template'!C73<>\"UA\"),'FMI Template'!C73,\"\")","v":""},{"$f":"IF(AND('FMI Template'!D73<>\"\",'FMI Template'!D73<>\"NA\",'FMI Template'!D73<>\"UA\"),'FMI Template'!D73,\"\")","v":""},{"$f":"IF(AND('FMI Template'!F73<>\"\",'FMI Template'!F73<>\"NA\",'FMI Template'!F73<>\"UA\"),'FMI Template'!F73,\"\")","v":""},{"$f":"IF(AND('FMI Template'!H73<>\"\", 'FMI Template'!H73<>\"UA\"),IF('FMI Template'!H73=\"CSD\",\"(I)CSD\",IF('FMI Template'!H73=\"CCP_Derivatives\",\"CCP-Derivatives\",IF('FMI Template'!H73=\"CCP_securities\",\"CCP-securities\",IF('FMI Template'!H73=\"PS_Retail\",\"PS\",IF('FMI Template'!H73=\"PS_LV\",\"PS\",'FMI Template'!H73))))),\"\")","v":""},{"$f":"IF(AND('FMI Template'!I73<>\"\", 'FMI Template'!I73<>\"UA\"),'FMI Template'!I73,\"\")","v":""},{"$f":"IF(AND('FMI Template'!J73<>\"\",'FMI Template'!J73<>\"UA\"),IF('FMI Template'!J73=\"CSD_SSS\",\"CSD-SSS\",IF('FMI Template'!J73=\"CCP_Derivatives\",\"CCP-Derivatives\",IF('FMI Template'!J73=\"CCP_securities\",\"CCP-securities\",IF('FMI Template'!J73=\"Trading_venue\",\"Trading-venue\",'FMI Template'!J73)))),\"\")","v":""},{"$f":"IF(AND('FMI Template'!K73<>\"\",'FMI Template'!K73<>\"UA\"),'FMI Template'!K73,\"\")","v":""},{"$f":"IF('FMI Template'!K73=\"direct\",\"NA\",IF(AND('FMI Template'!M73<>\"\",'FMI Template'!M73<>\"UA\"),'FMI Template'!M73,\"\"))","v":""},{"$f":"IF('FMI Template'!K73=\"direct\",\"NA\",IF(AND('FMI Template'!N73<>\"\",'FMI Template'!N73<>\"UA\"),'FMI Template'!N73,\"\"))","v":""},{"$f":"IF(OR('FMI Template'!H73=\"Other\",'FMI Template'!H73=\"NA\"),'FMI Template'!Q73,\"\")","v":""},{"$f":"IF(AND('FMI Template'!O73<>\"\",'FMI Template'!O73<>\"NA\",'FMI Template'!O73<>\"UA\"),'FMI Template'!O73,\"\")","v":""}]
[null,{"$f":"IF(AND('FMI Template'!B74<>\"\",'FMI Template'!B74<>\"NA\",'FMI Template'!B74<>\"UA\"),'FMI Template'!B74,\"\")","v":""},{"$f":"IF(AND('FMI Template'!C74<>\"\",'FMI Template'!C74<>\"NA\",'FMI Template'!C74<>\"UA\"),'FMI Template'!C74,\"\")","v":""},{"$f":"IF(AND('FMI Template'!D74<>\"\",'FMI Template'!D74<>\"NA\",'FMI Template'!D74<>\"UA\"),'FMI Template'!D74,\"\")","v":""},{"$f":"IF(AND('FMI Template'!F74<>\"\",'FMI Template'!F74<>\"NA\",'FMI Template'!F74<>\"UA\"),'FMI Template'!F74,\"\")","v":""},{"$f":"IF(AND('FMI Template'!H74<>\"\", 'FMI Template'!H74<>\"UA\"),IF('FMI Template'!H74=\"CSD\",\"(I)CSD\",IF('FMI Template'!H74=\"CCP_Derivatives\",\"CCP-Derivatives\",IF('FMI Template'!H74=\"CCP_securities\",\"CCP-securities\",IF('FMI Template'!H74=\"PS_Retail\",\"PS\",IF('FMI Template'!H74=\"PS_LV\",\"PS\",'FMI Template'!H74))))),\"\")","v":""},{"$f":"IF(AND('FMI Template'!I74<>\"\", 'FMI Template'!I74<>\"UA\"),'FMI Template'!I74,\"\")","v":""},{"$f":"IF(AND('FMI Template'!J74<>\"\",'FMI Template'!J74<>\"UA\"),IF('FMI Template'!J74=\"CSD_SSS\",\"CSD-SSS\",IF('FMI Template'!J74=\"CCP_Derivatives\",\"CCP-Derivatives\",IF('FMI Template'!J74=\"CCP_securities\",\"CCP-securities\",IF('FMI Template'!J74=\"Trading_venue\",\"Trading-venue\",'FMI Template'!J74)))),\"\")","v":""},{"$f":"IF(AND('FMI Template'!K74<>\"\",'FMI Template'!K74<>\"UA\"),'FMI Template'!K74,\"\")","v":""},{"$f":"IF('FMI Template'!K74=\"direct\",\"NA\",IF(AND('FMI Template'!M74<>\"\",'FMI Template'!M74<>\"UA\"),'FMI Template'!M74,\"\"))","v":""},{"$f":"IF('FMI Template'!K74=\"direct\",\"NA\",IF(AND('FMI Template'!N74<>\"\",'FMI Template'!N74<>\"UA\"),'FMI Template'!N74,\"\"))","v":""},{"$f":"IF(OR('FMI Template'!H74=\"Other\",'FMI Template'!H74=\"NA\"),'FMI Template'!Q74,\"\")","v":""},{"$f":"IF(AND('FMI Template'!O74<>\"\",'FMI Template'!O74<>\"NA\",'FMI Template'!O74<>\"UA\"),'FMI Template'!O74,\"\")","v":""}]
[null,{"$f":"IF(AND('FMI Template'!B75<>\"\",'FMI Template'!B75<>\"NA\",'FMI Template'!B75<>\"UA\"),'FMI Template'!B75,\"\")","v":""},{"$f":"IF(AND('FMI Template'!C75<>\"\",'FMI Template'!C75<>\"NA\",'FMI Template'!C75<>\"UA\"),'FMI Template'!C75,\"\")","v":""},{"$f":"IF(AND('FMI Template'!D75<>\"\",'FMI Template'!D75<>\"NA\",'FMI Template'!D75<>\"UA\"),'FMI Template'!D75,\"\")","v":""},{"$f":"IF(AND('FMI Template'!F75<>\"\",'FMI Template'!F75<>\"NA\",'FMI Template'!F75<>\"UA\"),'FMI Template'!F75,\"\")","v":""},{"$f":"IF(AND('FMI Template'!H75<>\"\", 'FMI Template'!H75<>\"UA\"),IF('FMI Template'!H75=\"CSD\",\"(I)CSD\",IF('FMI Template'!H75=\"CCP_Derivatives\",\"CCP-Derivatives\",IF('FMI Template'!H75=\"CCP_securities\",\"CCP-securities\",IF('FMI Template'!H75=\"PS_Retail\",\"PS\",IF('FMI Template'!H75=\"PS_LV\",\"PS\",'FMI Template'!H75))))),\"\")","v":""},{"$f":"IF(AND('FMI Template'!I75<>\"\", 'FMI Template'!I75<>\"UA\"),'FMI Template'!I75,\"\")","v":""},{"$f":"IF(AND('FMI Template'!J75<>\"\",'FMI Template'!J75<>\"UA\"),IF('FMI Template'!J75=\"CSD_SSS\",\"CSD-SSS\",IF('FMI Template'!J75=\"CCP_Derivatives\",\"CCP-Derivatives\",IF('FMI Template'!J75=\"CCP_securities\",\"CCP-securities\",IF('FMI Template'!J75=\"Trading_venue\",\"Trading-venue\",'FMI Template'!J75)))),\"\")","v":""},{"$f":"IF(AND('FMI Template'!K75<>\"\",'FMI Template'!K75<>\"UA\"),'FMI Template'!K75,\"\")","v":""},{"$f":"IF('FMI Template'!K75=\"direct\",\"NA\",IF(AND('FMI Template'!M75<>\"\",'FMI Template'!M75<>\"UA\"),'FMI Template'!M75,\"\"))","v":""},{"$f":"IF('FMI Template'!K75=\"direct\",\"NA\",IF(AND('FMI Template'!N75<>\"\",'FMI Template'!N75<>\"UA\"),'FMI Template'!N75,\"\"))","v":""},{"$f":"IF(OR('FMI Template'!H75=\"Other\",'FMI Template'!H75=\"NA\"),'FMI Template'!Q75,\"\")","v":""},{"$f":"IF(AND('FMI Template'!O75<>\"\",'FMI Template'!O75<>\"NA\",'FMI Template'!O75<>\"UA\"),'FMI Template'!O75,\"\")","v":""}]
[null,{"$f":"IF(AND('FMI Template'!B76<>\"\",'FMI Template'!B76<>\"NA\",'FMI Template'!B76<>\"UA\"),'FMI Template'!B76,\"\")","v":""},{"$f":"IF(AND('FMI Template'!C76<>\"\",'FMI Template'!C76<>\"NA\",'FMI Template'!C76<>\"UA\"),'FMI Template'!C76,\"\")","v":""},{"$f":"IF(AND('FMI Template'!D76<>\"\",'FMI Template'!D76<>\"NA\",'FMI Template'!D76<>\"UA\"),'FMI Template'!D76,\"\")","v":""},{"$f":"IF(AND('FMI Template'!F76<>\"\",'FMI Template'!F76<>\"NA\",'FMI Template'!F76<>\"UA\"),'FMI Template'!F76,\"\")","v":""},{"$f":"IF(AND('FMI Template'!H76<>\"\", 'FMI Template'!H76<>\"UA\"),IF('FMI Template'!H76=\"CSD\",\"(I)CSD\",IF('FMI Template'!H76=\"CCP_Derivatives\",\"CCP-Derivatives\",IF('FMI Template'!H76=\"CCP_securities\",\"CCP-securities\",IF('FMI Template'!H76=\"PS_Retail\",\"PS\",IF('FMI Template'!H76=\"PS_LV\",\"PS\",'FMI Template'!H76))))),\"\")","v":""},{"$f":"IF(AND('FMI Template'!I76<>\"\", 'FMI Template'!I76<>\"UA\"),'FMI Template'!I76,\"\")","v":""},{"$f":"IF(AND('FMI Template'!J76<>\"\",'FMI Template'!J76<>\"UA\"),IF('FMI Template'!J76=\"CSD_SSS\",\"CSD-SSS\",IF('FMI Template'!J76=\"CCP_Derivatives\",\"CCP-Derivatives\",IF('FMI Template'!J76=\"CCP_securities\",\"CCP-securities\",IF('FMI Template'!J76=\"Trading_venue\",\"Trading-venue\",'FMI Template'!J76)))),\"\")","v":""},{"$f":"IF(AND('FMI Template'!K76<>\"\",'FMI Template'!K76<>\"UA\"),'FMI Template'!K76,\"\")","v":""},{"$f":"IF('FMI Template'!K76=\"direct\",\"NA\",IF(AND('FMI Template'!M76<>\"\",'FMI Template'!M76<>\"UA\"),'FMI Template'!M76,\"\"))","v":""},{"$f":"IF('FMI Template'!K76=\"direct\",\"NA\",IF(AND('FMI Template'!N76<>\"\",'FMI Template'!N76<>\"UA\"),'FMI Template'!N76,\"\"))","v":""},{"$f":"IF(OR('FMI Template'!H76=\"Other\",'FMI Template'!H76=\"NA\"),'FMI Template'!Q76,\"\")","v":""},{"$f":"IF(AND('FMI Template'!O76<>\"\",'FMI Template'!O76<>\"NA\",'FMI Template'!O76<>\"UA\"),'FMI Template'!O76,\"\")","v":""}]
[null,{"$f":"IF(AND('FMI Template'!B77<>\"\",'FMI Template'!B77<>\"NA\",'FMI Template'!B77<>\"UA\"),'FMI Template'!B77,\"\")","v":""},{"$f":"IF(AND('FMI Template'!C77<>\"\",'FMI Template'!C77<>\"NA\",'FMI Template'!C77<>\"UA\"),'FMI Template'!C77,\"\")","v":""},{"$f":"IF(AND('FMI Template'!D77<>\"\",'FMI Template'!D77<>\"NA\",'FMI Template'!D77<>\"UA\"),'FMI Template'!D77,\"\")","v":""},{"$f":"IF(AND('FMI Template'!F77<>\"\",'FMI Template'!F77<>\"NA\",'FMI Template'!F77<>\"UA\"),'FMI Template'!F77,\"\")","v":""},{"$f":"IF(AND('FMI Template'!H77<>\"\", 'FMI Template'!H77<>\"UA\"),IF('FMI Template'!H77=\"CSD\",\"(I)CSD\",IF('FMI Template'!H77=\"CCP_Derivatives\",\"CCP-Derivatives\",IF('FMI Template'!H77=\"CCP_securities\",\"CCP-securities\",IF('FMI Template'!H77=\"PS_Retail\",\"PS\",IF('FMI Template'!H77=\"PS_LV\",\"PS\",'FMI Template'!H77))))),\"\")","v":""},{"$f":"IF(AND('FMI Template'!I77<>\"\", 'FMI Template'!I77<>\"UA\"),'FMI Template'!I77,\"\")","v":""},{"$f":"IF(AND('FMI Template'!J77<>\"\",'FMI Template'!J77<>\"UA\"),IF('FMI Template'!J77=\"CSD_SSS\",\"CSD-SSS\",IF('FMI Template'!J77=\"CCP_Derivatives\",\"CCP-Derivatives\",IF('FMI Template'!J77=\"CCP_securities\",\"CCP-securities\",IF('FMI Template'!J77=\"Trading_venue\",\"Trading-venue\",'FMI Template'!J77)))),\"\")","v":""},{"$f":"IF(AND('FMI Template'!K77<>\"\",'FMI Template'!K77<>\"UA\"),'FMI Template'!K77,\"\")","v":""},{"$f":"IF('FMI Template'!K77=\"direct\",\"NA\",IF(AND('FMI Template'!M77<>\"\",'FMI Template'!M77<>\"UA\"),'FMI Template'!M77,\"\"))","v":""},{"$f":"IF('FMI Template'!K77=\"direct\",\"NA\",IF(AND('FMI Template'!N77<>\"\",'FMI Template'!N77<>\"UA\"),'FMI Template'!N77,\"\"))","v":""},{"$f":"IF(OR('FMI Template'!H77=\"Other\",'FMI Template'!H77=\"NA\"),'FMI Template'!Q77,\"\")","v":""},{"$f":"IF(AND('FMI Template'!O77<>\"\",'FMI Template'!O77<>\"NA\",'FMI Template'!O77<>\"UA\"),'FMI Template'!O77,\"\")","v":""}]
[null,{"$f":"IF(AND('FMI Template'!B78<>\"\",'FMI Template'!B78<>\"NA\",'FMI Template'!B78<>\"UA\"),'FMI Template'!B78,\"\")","v":""},{"$f":"IF(AND('FMI Template'!C78<>\"\",'FMI Template'!C78<>\"NA\",'FMI Template'!C78<>\"UA\"),'FMI Template'!C78,\"\")","v":""},{"$f":"IF(AND('FMI Template'!D78<>\"\",'FMI Template'!D78<>\"NA\",'FMI Template'!D78<>\"UA\"),'FMI Template'!D78,\"\")","v":""},{"$f":"IF(AND('FMI Template'!F78<>\"\",'FMI Template'!F78<>\"NA\",'FMI Template'!F78<>\"UA\"),'FMI Template'!F78,\"\")","v":""},{"$f":"IF(AND('FMI Template'!H78<>\"\", 'FMI Template'!H78<>\"UA\"),IF('FMI Template'!H78=\"CSD\",\"(I)CSD\",IF('FMI Template'!H78=\"CCP_Derivatives\",\"CCP-Derivatives\",IF('FMI Template'!H78=\"CCP_securities\",\"CCP-securities\",IF('FMI Template'!H78=\"PS_Retail\",\"PS\",IF('FMI Template'!H78=\"PS_LV\",\"PS\",'FMI Template'!H78))))),\"\")","v":""},{"$f":"IF(AND('FMI Template'!I78<>\"\", 'FMI Template'!I78<>\"UA\"),'FMI Template'!I78,\"\")","v":""},{"$f":"IF(AND('FMI Template'!J78<>\"\",'FMI Template'!J78<>\"UA\"),IF('FMI Template'!J78=\"CSD_SSS\",\"CSD-SSS\",IF('FMI Template'!J78=\"CCP_Derivatives\",\"CCP-Derivatives\",IF('FMI Template'!J78=\"CCP_securities\",\"CCP-securities\",IF('FMI Template'!J78=\"Trading_venue\",\"Trading-venue\",'FMI Template'!J78)))),\"\")","v":""},{"$f":"IF(AND('FMI Template'!K78<>\"\",'FMI Template'!K78<>\"UA\"),'FMI Template'!K78,\"\")","v":""},{"$f":"IF('FMI Template'!K78=\"direct\",\"NA\",IF(AND('FMI Template'!M78<>\"\",'FMI Template'!M78<>\"UA\"),'FMI Template'!M78,\"\"))","v":""},{"$f":"IF('FMI Template'!K78=\"direct\",\"NA\",IF(AND('FMI Template'!N78<>\"\",'FMI Template'!N78<>\"UA\"),'FMI Template'!N78,\"\"))","v":""},{"$f":"IF(OR('FMI Template'!H78=\"Other\",'FMI Template'!H78=\"NA\"),'FMI Template'!Q78,\"\")","v":""},{"$f":"IF(AND('FMI Template'!O78<>\"\",'FMI Template'!O78<>\"NA\",'FMI Template'!O78<>\"UA\"),'FMI Template'!O78,\"\")","v":""}]
[null,{"$f":"IF(AND('FMI Template'!B79<>\"\",'FMI Template'!B79<>\"NA\",'FMI Template'!B79<>\"UA\"),'FMI Template'!B79,\"\")","v":""},{"$f":"IF(AND('FMI Template'!C79<>\"\",'FMI Template'!C79<>\"NA\",'FMI Template'!C79<>\"UA\"),'FMI Template'!C79,\"\")","v":""},{"$f":"IF(AND('FMI Template'!D79<>\"\",'FMI Template'!D79<>\"NA\",'FMI Template'!D79<>\"UA\"),'FMI Template'!D79,\"\")","v":""},{"$f":"IF(AND('FMI Template'!F79<>\"\",'FMI Template'!F79<>\"NA\",'FMI Template'!F79<>\"UA\"),'FMI Template'!F79,\"\")","v":""},{"$f":"IF(AND('FMI Template'!H79<>\"\", 'FMI Template'!H79<>\"UA\"),IF('FMI Template'!H79=\"CSD\",\"(I)CSD\",IF('FMI Template'!H79=\"CCP_Derivatives\",\"CCP-Derivatives\",IF('FMI Template'!H79=\"CCP_securities\",\"CCP-securities\",IF('FMI Template'!H79=\"PS_Retail\",\"PS\",IF('FMI Template'!H79=\"PS_LV\",\"PS\",'FMI Template'!H79))))),\"\")","v":""},{"$f":"IF(AND('FMI Template'!I79<>\"\", 'FMI Template'!I79<>\"UA\"),'FMI Template'!I79,\"\")","v":""},{"$f":"IF(AND('FMI Template'!J79<>\"\",'FMI Template'!J79<>\"UA\"),IF('FMI Template'!J79=\"CSD_SSS\",\"CSD-SSS\",IF('FMI Template'!J79=\"CCP_Derivatives\",\"CCP-Derivatives\",IF('FMI Template'!J79=\"CCP_securities\",\"CCP-securities\",IF('FMI Template'!J79=\"Trading_venue\",\"Trading-venue\",'FMI Template'!J79)))),\"\")","v":""},{"$f":"IF(AND('FMI Template'!K79<>\"\",'FMI Template'!K79<>\"UA\"),'FMI Template'!K79,\"\")","v":""},{"$f":"IF('FMI Template'!K79=\"direct\",\"NA\",IF(AND('FMI Template'!M79<>\"\",'FMI Template'!M79<>\"UA\"),'FMI Template'!M79,\"\"))","v":""},{"$f":"IF('FMI Template'!K79=\"direct\",\"NA\",IF(AND('FMI Template'!N79<>\"\",'FMI Template'!N79<>\"UA\"),'FMI Template'!N79,\"\"))","v":""},{"$f":"IF(OR('FMI Template'!H79=\"Other\",'FMI Template'!H79=\"NA\"),'FMI Template'!Q79,\"\")","v":""},{"$f":"IF(AND('FMI Template'!O79<>\"\",'FMI Template'!O79<>\"NA\",'FMI Template'!O79<>\"UA\"),'FMI Template'!O79,\"\")","v":""}]
[null,{"$f":"IF(AND('FMI Template'!B80<>\"\",'FMI Template'!B80<>\"NA\",'FMI Template'!B80<>\"UA\"),'FMI Template'!B80,\"\")","v":""},{"$f":"IF(AND('FMI Template'!C80<>\"\",'FMI Template'!C80<>\"NA\",'FMI Template'!C80<>\"UA\"),'FMI Template'!C80,\"\")","v":""},{"$f":"IF(AND('FMI Template'!D80<>\"\",'FMI Template'!D80<>\"NA\",'FMI Template'!D80<>\"UA\"),'FMI Template'!D80,\"\")","v":""},{"$f":"IF(AND('FMI Template'!F80<>\"\",'FMI Template'!F80<>\"NA\",'FMI Template'!F80<>\"UA\"),'FMI Template'!F80,\"\")","v":""},{"$f":"IF(AND('FMI Template'!H80<>\"\", 'FMI Template'!H80<>\"UA\"),IF('FMI Template'!H80=\"CSD\",\"(I)CSD\",IF('FMI Template'!H80=\"CCP_Derivatives\",\"CCP-Derivatives\",IF('FMI Template'!H80=\"CCP_securities\",\"CCP-securities\",IF('FMI Template'!H80=\"PS_Retail\",\"PS\",IF('FMI Template'!H80=\"PS_LV\",\"PS\",'FMI Template'!H80))))),\"\")","v":""},{"$f":"IF(AND('FMI Template'!I80<>\"\", 'FMI Template'!I80<>\"UA\"),'FMI Template'!I80,\"\")","v":""},{"$f":"IF(AND('FMI Template'!J80<>\"\",'FMI Template'!J80<>\"UA\"),IF('FMI Template'!J80=\"CSD_SSS\",\"CSD-SSS\",IF('FMI Template'!J80=\"CCP_Derivatives\",\"CCP-Derivatives\",IF('FMI Template'!J80=\"CCP_securities\",\"CCP-securities\",IF('FMI Template'!J80=\"Trading_venue\",\"Trading-venue\",'FMI Template'!J80)))),\"\")","v":""},{"$f":"IF(AND('FMI Template'!K80<>\"\",'FMI Template'!K80<>\"UA\"),'FMI Template'!K80,\"\")","v":""},{"$f":"IF('FMI Template'!K80=\"direct\",\"NA\",IF(AND('FMI Template'!M80<>\"\",'FMI Template'!M80<>\"UA\"),'FMI Template'!M80,\"\"))","v":""},{"$f":"IF('FMI Template'!K80=\"direct\",\"NA\",IF(AND('FMI Template'!N80<>\"\",'FMI Template'!N80<>\"UA\"),'FMI Template'!N80,\"\"))","v":""},{"$f":"IF(OR('FMI Template'!H80=\"Other\",'FMI Template'!H80=\"NA\"),'FMI Template'!Q80,\"\")","v":""},{"$f":"IF(AND('FMI Template'!O80<>\"\",'FMI Template'!O80<>\"NA\",'FMI Template'!O80<>\"UA\"),'FMI Template'!O80,\"\")","v":""}]
[null,{"$f":"IF(AND('FMI Template'!B81<>\"\",'FMI Template'!B81<>\"NA\",'FMI Template'!B81<>\"UA\"),'FMI Template'!B81,\"\")","v":""},{"$f":"IF(AND('FMI Template'!C81<>\"\",'FMI Template'!C81<>\"NA\",'FMI Template'!C81<>\"UA\"),'FMI Template'!C81,\"\")","v":""},{"$f":"IF(AND('FMI Template'!D81<>\"\",'FMI Template'!D81<>\"NA\",'FMI Template'!D81<>\"UA\"),'FMI Template'!D81,\"\")","v":""},{"$f":"IF(AND('FMI Template'!F81<>\"\",'FMI Template'!F81<>\"NA\",'FMI Template'!F81<>\"UA\"),'FMI Template'!F81,\"\")","v":""},{"$f":"IF(AND('FMI Template'!H81<>\"\", 'FMI Template'!H81<>\"UA\"),IF('FMI Template'!H81=\"CSD\",\"(I)CSD\",IF('FMI Template'!H81=\"CCP_Derivatives\",\"CCP-Derivatives\",IF('FMI Template'!H81=\"CCP_securities\",\"CCP-securities\",IF('FMI Template'!H81=\"PS_Retail\",\"PS\",IF('FMI Template'!H81=\"PS_LV\",\"PS\",'FMI Template'!H81))))),\"\")","v":""},{"$f":"IF(AND('FMI Template'!I81<>\"\", 'FMI Template'!I81<>\"UA\"),'FMI Template'!I81,\"\")","v":""},{"$f":"IF(AND('FMI Template'!J81<>\"\",'FMI Template'!J81<>\"UA\"),IF('FMI Template'!J81=\"CSD_SSS\",\"CSD-SSS\",IF('FMI Template'!J81=\"CCP_Derivatives\",\"CCP-Derivatives\",IF('FMI Template'!J81=\"CCP_securities\",\"CCP-securities\",IF('FMI Template'!J81=\"Trading_venue\",\"Trading-venue\",'FMI Template'!J81)))),\"\")","v":""},{"$f":"IF(AND('FMI Template'!K81<>\"\",'FMI Template'!K81<>\"UA\"),'FMI Template'!K81,\"\")","v":""},{"$f":"IF('FMI Template'!K81=\"direct\",\"NA\",IF(AND('FMI Template'!M81<>\"\",'FMI Template'!M81<>\"UA\"),'FMI Template'!M81,\"\"))","v":""},{"$f":"IF('FMI Template'!K81=\"direct\",\"NA\",IF(AND('FMI Template'!N81<>\"\",'FMI Template'!N81<>\"UA\"),'FMI Template'!N81,\"\"))","v":""},{"$f":"IF(OR('FMI Template'!H81=\"Other\",'FMI Template'!H81=\"NA\"),'FMI Template'!Q81,\"\")","v":""},{"$f":"IF(AND('FMI Template'!O81<>\"\",'FMI Template'!O81<>\"NA\",'FMI Template'!O81<>\"UA\"),'FMI Template'!O81,\"\")","v":""}]
[null,{"$f":"IF(AND('FMI Template'!B82<>\"\",'FMI Template'!B82<>\"NA\",'FMI Template'!B82<>\"UA\"),'FMI Template'!B82,\"\")","v":""},{"$f":"IF(AND('FMI Template'!C82<>\"\",'FMI Template'!C82<>\"NA\",'FMI Template'!C82<>\"UA\"),'FMI Template'!C82,\"\")","v":""},{"$f":"IF(AND('FMI Template'!D82<>\"\",'FMI Template'!D82<>\"NA\",'FMI Template'!D82<>\"UA\"),'FMI Template'!D82,\"\")","v":""},{"$f":"IF(AND('FMI Template'!F82<>\"\",'FMI Template'!F82<>\"NA\",'FMI Template'!F82<>\"UA\"),'FMI Template'!F82,\"\")","v":""},{"$f":"IF(AND('FMI Template'!H82<>\"\", 'FMI Template'!H82<>\"UA\"),IF('FMI Template'!H82=\"CSD\",\"(I)CSD\",IF('FMI Template'!H82=\"CCP_Derivatives\",\"CCP-Derivatives\",IF('FMI Template'!H82=\"CCP_securities\",\"CCP-securities\",IF('FMI Template'!H82=\"PS_Retail\",\"PS\",IF('FMI Template'!H82=\"PS_LV\",\"PS\",'FMI Template'!H82))))),\"\")","v":""},{"$f":"IF(AND('FMI Template'!I82<>\"\", 'FMI Template'!I82<>\"UA\"),'FMI Template'!I82,\"\")","v":""},{"$f":"IF(AND('FMI Template'!J82<>\"\",'FMI Template'!J82<>\"UA\"),IF('FMI Template'!J82=\"CSD_SSS\",\"CSD-SSS\",IF('FMI Template'!J82=\"CCP_Derivatives\",\"CCP-Derivatives\",IF('FMI Template'!J82=\"CCP_securities\",\"CCP-securities\",IF('FMI Template'!J82=\"Trading_venue\",\"Trading-venue\",'FMI Template'!J82)))),\"\")","v":""},{"$f":"IF(AND('FMI Template'!K82<>\"\",'FMI Template'!K82<>\"UA\"),'FMI Template'!K82,\"\")","v":""},{"$f":"IF('FMI Template'!K82=\"direct\",\"NA\",IF(AND('FMI Template'!M82<>\"\",'FMI Template'!M82<>\"UA\"),'FMI Template'!M82,\"\"))","v":""},{"$f":"IF('FMI Template'!K82=\"direct\",\"NA\",IF(AND('FMI Template'!N82<>\"\",'FMI Template'!N82<>\"UA\"),'FMI Template'!N82,\"\"))","v":""},{"$f":"IF(OR('FMI Template'!H82=\"Other\",'FMI Template'!H82=\"NA\"),'FMI Template'!Q82,\"\")","v":""},{"$f":"IF(AND('FMI Template'!O82<>\"\",'FMI Template'!O82<>\"NA\",'FMI Template'!O82<>\"UA\"),'FMI Template'!O82,\"\")","v":""}]
[null,{"$f":"IF(AND('FMI Template'!B83<>\"\",'FMI Template'!B83<>\"NA\",'FMI Template'!B83<>\"UA\"),'FMI Template'!B83,\"\")","v":""},{"$f":"IF(AND('FMI Template'!C83<>\"\",'FMI Template'!C83<>\"NA\",'FMI Template'!C83<>\"UA\"),'FMI Template'!C83,\"\")","v":""},{"$f":"IF(AND('FMI Template'!D83<>\"\",'FMI Template'!D83<>\"NA\",'FMI Template'!D83<>\"UA\"),'FMI Template'!D83,\"\")","v":""},{"$f":"IF(AND('FMI Template'!F83<>\"\",'FMI Template'!F83<>\"NA\",'FMI Template'!F83<>\"UA\"),'FMI Template'!F83,\"\")","v":""},{"$f":"IF(AND('FMI Template'!H83<>\"\", 'FMI Template'!H83<>\"UA\"),IF('FMI Template'!H83=\"CSD\",\"(I)CSD\",IF('FMI Template'!H83=\"CCP_Derivatives\",\"CCP-Derivatives\",IF('FMI Template'!H83=\"CCP_securities\",\"CCP-securities\",IF('FMI Template'!H83=\"PS_Retail\",\"PS\",IF('FMI Template'!H83=\"PS_LV\",\"PS\",'FMI Template'!H83))))),\"\")","v":""},{"$f":"IF(AND('FMI Template'!I83<>\"\", 'FMI Template'!I83<>\"UA\"),'FMI Template'!I83,\"\")","v":""},{"$f":"IF(AND('FMI Template'!J83<>\"\",'FMI Template'!J83<>\"UA\"),IF('FMI Template'!J83=\"CSD_SSS\",\"CSD-SSS\",IF('FMI Template'!J83=\"CCP_Derivatives\",\"CCP-Derivatives\",IF('FMI Template'!J83=\"CCP_securities\",\"CCP-securities\",IF('FMI Template'!J83=\"Trading_venue\",\"Trading-venue\",'FMI Template'!J83)))),\"\")","v":""},{"$f":"IF(AND('FMI Template'!K83<>\"\",'FMI Template'!K83<>\"UA\"),'FMI Template'!K83,\"\")","v":""},{"$f":"IF('FMI Template'!K83=\"direct\",\"NA\",IF(AND('FMI Template'!M83<>\"\",'FMI Template'!M83<>\"UA\"),'FMI Template'!M83,\"\"))","v":""},{"$f":"IF('FMI Template'!K83=\"direct\",\"NA\",IF(AND('FMI Template'!N83<>\"\",'FMI Template'!N83<>\"UA\"),'FMI Template'!N83,\"\"))","v":""},{"$f":"IF(OR('FMI Template'!H83=\"Other\",'FMI Template'!H83=\"NA\"),'FMI Template'!Q83,\"\")","v":""},{"$f":"IF(AND('FMI Template'!O83<>\"\",'FMI Template'!O83<>\"NA\",'FMI Template'!O83<>\"UA\"),'FMI Template'!O83,\"\")","v":""}]
[null,{"$f":"IF(AND('FMI Template'!B84<>\"\",'FMI Template'!B84<>\"NA\",'FMI Template'!B84<>\"UA\"),'FMI Template'!B84,\"\")","v":""},{"$f":"IF(AND('FMI Template'!C84<>\"\",'FMI Template'!C84<>\"NA\",'FMI Template'!C84<>\"UA\"),'FMI Template'!C84,\"\")","v":""},{"$f":"IF(AND('FMI Template'!D84<>\"\",'FMI Template'!D84<>\"NA\",'FMI Template'!D84<>\"UA\"),'FMI Template'!D84,\"\")","v":""},{"$f":"IF(AND('FMI Template'!F84<>\"\",'FMI Template'!F84<>\"NA\",'FMI Template'!F84<>\"UA\"),'FMI Template'!F84,\"\")","v":""},{"$f":"IF(AND('FMI Template'!H84<>\"\", 'FMI Template'!H84<>\"UA\"),IF('FMI Template'!H84=\"CSD\",\"(I)CSD\",IF('FMI Template'!H84=\"CCP_Derivatives\",\"CCP-Derivatives\",IF('FMI Template'!H84=\"CCP_securities\",\"CCP-securities\",IF('FMI Template'!H84=\"PS_Retail\",\"PS\",IF('FMI Template'!H84=\"PS_LV\",\"PS\",'FMI Template'!H84))))),\"\")","v":""},{"$f":"IF(AND('FMI Template'!I84<>\"\", 'FMI Template'!I84<>\"UA\"),'FMI Template'!I84,\"\")","v":""},{"$f":"IF(AND('FMI Template'!J84<>\"\",'FMI Template'!J84<>\"UA\"),IF('FMI Template'!J84=\"CSD_SSS\",\"CSD-SSS\",IF('FMI Template'!J84=\"CCP_Derivatives\",\"CCP-Derivatives\",IF('FMI Template'!J84=\"CCP_securities\",\"CCP-securities\",IF('FMI Template'!J84=\"Trading_venue\",\"Trading-venue\",'FMI Template'!J84)))),\"\")","v":""},{"$f":"IF(AND('FMI Template'!K84<>\"\",'FMI Template'!K84<>\"UA\"),'FMI Template'!K84,\"\")","v":""},{"$f":"IF('FMI Template'!K84=\"direct\",\"NA\",IF(AND('FMI Template'!M84<>\"\",'FMI Template'!M84<>\"UA\"),'FMI Template'!M84,\"\"))","v":""},{"$f":"IF('FMI Template'!K84=\"direct\",\"NA\",IF(AND('FMI Template'!N84<>\"\",'FMI Template'!N84<>\"UA\"),'FMI Template'!N84,\"\"))","v":""},{"$f":"IF(OR('FMI Template'!H84=\"Other\",'FMI Template'!H84=\"NA\"),'FMI Template'!Q84,\"\")","v":""},{"$f":"IF(AND('FMI Template'!O84<>\"\",'FMI Template'!O84<>\"NA\",'FMI Template'!O84<>\"UA\"),'FMI Template'!O84,\"\")","v":""}]
[null,{"$f":"IF(AND('FMI Template'!B85<>\"\",'FMI Template'!B85<>\"NA\",'FMI Template'!B85<>\"UA\"),'FMI Template'!B85,\"\")","v":""},{"$f":"IF(AND('FMI Template'!C85<>\"\",'FMI Template'!C85<>\"NA\",'FMI Template'!C85<>\"UA\"),'FMI Template'!C85,\"\")","v":""},{"$f":"IF(AND('FMI Template'!D85<>\"\",'FMI Template'!D85<>\"NA\",'FMI Template'!D85<>\"UA\"),'FMI Template'!D85,\"\")","v":""},{"$f":"IF(AND('FMI Template'!F85<>\"\",'FMI Template'!F85<>\"NA\",'FMI Template'!F85<>\"UA\"),'FMI Template'!F85,\"\")","v":""},{"$f":"IF(AND('FMI Template'!H85<>\"\", 'FMI Template'!H85<>\"UA\"),IF('FMI Template'!H85=\"CSD\",\"(I)CSD\",IF('FMI Template'!H85=\"CCP_Derivatives\",\"CCP-Derivatives\",IF('FMI Template'!H85=\"CCP_securities\",\"CCP-securities\",IF('FMI Template'!H85=\"PS_Retail\",\"PS\",IF('FMI Template'!H85=\"PS_LV\",\"PS\",'FMI Template'!H85))))),\"\")","v":""},{"$f":"IF(AND('FMI Template'!I85<>\"\", 'FMI Template'!I85<>\"UA\"),'FMI Template'!I85,\"\")","v":""},{"$f":"IF(AND('FMI Template'!J85<>\"\",'FMI Template'!J85<>\"UA\"),IF('FMI Template'!J85=\"CSD_SSS\",\"CSD-SSS\",IF('FMI Template'!J85=\"CCP_Derivatives\",\"CCP-Derivatives\",IF('FMI Template'!J85=\"CCP_securities\",\"CCP-securities\",IF('FMI Template'!J85=\"Trading_venue\",\"Trading-venue\",'FMI Template'!J85)))),\"\")","v":""},{"$f":"IF(AND('FMI Template'!K85<>\"\",'FMI Template'!K85<>\"UA\"),'FMI Template'!K85,\"\")","v":""},{"$f":"IF('FMI Template'!K85=\"direct\",\"NA\",IF(AND('FMI Template'!M85<>\"\",'FMI Template'!M85<>\"UA\"),'FMI Template'!M85,\"\"))","v":""},{"$f":"IF('FMI Template'!K85=\"direct\",\"NA\",IF(AND('FMI Template'!N85<>\"\",'FMI Template'!N85<>\"UA\"),'FMI Template'!N85,\"\"))","v":""},{"$f":"IF(OR('FMI Template'!H85=\"Other\",'FMI Template'!H85=\"NA\"),'FMI Template'!Q85,\"\")","v":""},{"$f":"IF(AND('FMI Template'!O85<>\"\",'FMI Template'!O85<>\"NA\",'FMI Template'!O85<>\"UA\"),'FMI Template'!O85,\"\")","v":""}]
[null,{"$f":"IF(AND('FMI Template'!B86<>\"\",'FMI Template'!B86<>\"NA\",'FMI Template'!B86<>\"UA\"),'FMI Template'!B86,\"\")","v":""},{"$f":"IF(AND('FMI Template'!C86<>\"\",'FMI Template'!C86<>\"NA\",'FMI Template'!C86<>\"UA\"),'FMI Template'!C86,\"\")","v":""},{"$f":"IF(AND('FMI Template'!D86<>\"\",'FMI Template'!D86<>\"NA\",'FMI Template'!D86<>\"UA\"),'FMI Template'!D86,\"\")","v":""},{"$f":"IF(AND('FMI Template'!F86<>\"\",'FMI Template'!F86<>\"NA\",'FMI Template'!F86<>\"UA\"),'FMI Template'!F86,\"\")","v":""},{"$f":"IF(AND('FMI Template'!H86<>\"\", 'FMI Template'!H86<>\"UA\"),IF('FMI Template'!H86=\"CSD\",\"(I)CSD\",IF('FMI Template'!H86=\"CCP_Derivatives\",\"CCP-Derivatives\",IF('FMI Template'!H86=\"CCP_securities\",\"CCP-securities\",IF('FMI Template'!H86=\"PS_Retail\",\"PS\",IF('FMI Template'!H86=\"PS_LV\",\"PS\",'FMI Template'!H86))))),\"\")","v":""},{"$f":"IF(AND('FMI Template'!I86<>\"\", 'FMI Template'!I86<>\"UA\"),'FMI Template'!I86,\"\")","v":""},{"$f":"IF(AND('FMI Template'!J86<>\"\",'FMI Template'!J86<>\"UA\"),IF('FMI Template'!J86=\"CSD_SSS\",\"CSD-SSS\",IF('FMI Template'!J86=\"CCP_Derivatives\",\"CCP-Derivatives\",IF('FMI Template'!J86=\"CCP_securities\",\"CCP-securities\",IF('FMI Template'!J86=\"Trading_venue\",\"Trading-venue\",'FMI Template'!J86)))),\"\")","v":""},{"$f":"IF(AND('FMI Template'!K86<>\"\",'FMI Template'!K86<>\"UA\"),'FMI Template'!K86,\"\")","v":""},{"$f":"IF('FMI Template'!K86=\"direct\",\"NA\",IF(AND('FMI Template'!M86<>\"\",'FMI Template'!M86<>\"UA\"),'FMI Template'!M86,\"\"))","v":""},{"$f":"IF('FMI Template'!K86=\"direct\",\"NA\",IF(AND('FMI Template'!N86<>\"\",'FMI Template'!N86<>\"UA\"),'FMI Template'!N86,\"\"))","v":""},{"$f":"IF(OR('FMI Template'!H86=\"Other\",'FMI Template'!H86=\"NA\"),'FMI Template'!Q86,\"\")","v":""},{"$f":"IF(AND('FMI Template'!O86<>\"\",'FMI Template'!O86<>\"NA\",'FMI Template'!O86<>\"UA\"),'FMI Template'!O86,\"\")","v":""}]
[null,{"$f":"IF(AND('FMI Template'!B87<>\"\",'FMI Template'!B87<>\"NA\",'FMI Template'!B87<>\"UA\"),'FMI Template'!B87,\"\")","v":""},{"$f":"IF(AND('FMI Template'!C87<>\"\",'FMI Template'!C87<>\"NA\",'FMI Template'!C87<>\"UA\"),'FMI Template'!C87,\"\")","v":""},{"$f":"IF(AND('FMI Template'!D87<>\"\",'FMI Template'!D87<>\"NA\",'FMI Template'!D87<>\"UA\"),'FMI Template'!D87,\"\")","v":""},{"$f":"IF(AND('FMI Template'!F87<>\"\",'FMI Template'!F87<>\"NA\",'FMI Template'!F87<>\"UA\"),'FMI Template'!F87,\"\")","v":""},{"$f":"IF(AND('FMI Template'!H87<>\"\", 'FMI Template'!H87<>\"UA\"),IF('FMI Template'!H87=\"CSD\",\"(I)CSD\",IF('FMI Template'!H87=\"CCP_Derivatives\",\"CCP-Derivatives\",IF('FMI Template'!H87=\"CCP_securities\",\"CCP-securities\",IF('FMI Template'!H87=\"PS_Retail\",\"PS\",IF('FMI Template'!H87=\"PS_LV\",\"PS\",'FMI Template'!H87))))),\"\")","v":""},{"$f":"IF(AND('FMI Template'!I87<>\"\", 'FMI Template'!I87<>\"UA\"),'FMI Template'!I87,\"\")","v":""},{"$f":"IF(AND('FMI Template'!J87<>\"\",'FMI Template'!J87<>\"UA\"),IF('FMI Template'!J87=\"CSD_SSS\",\"CSD-SSS\",IF('FMI Template'!J87=\"CCP_Derivatives\",\"CCP-Derivatives\",IF('FMI Template'!J87=\"CCP_securities\",\"CCP-securities\",IF('FMI Template'!J87=\"Trading_venue\",\"Trading-venue\",'FMI Template'!J87)))),\"\")","v":""},{"$f":"IF(AND('FMI Template'!K87<>\"\",'FMI Template'!K87<>\"UA\"),'FMI Template'!K87,\"\")","v":""},{"$f":"IF('FMI Template'!K87=\"direct\",\"NA\",IF(AND('FMI Template'!M87<>\"\",'FMI Template'!M87<>\"UA\"),'FMI Template'!M87,\"\"))","v":""},{"$f":"IF('FMI Template'!K87=\"direct\",\"NA\",IF(AND('FMI Template'!N87<>\"\",'FMI Template'!N87<>\"UA\"),'FMI Template'!N87,\"\"))","v":""},{"$f":"IF(OR('FMI Template'!H87=\"Other\",'FMI Template'!H87=\"NA\"),'FMI Template'!Q87,\"\")","v":""},{"$f":"IF(AND('FMI Template'!O87<>\"\",'FMI Template'!O87<>\"NA\",'FMI Template'!O87<>\"UA\"),'FMI Template'!O87,\"\")","v":""}]
[null,{"$f":"IF(AND('FMI Template'!B88<>\"\",'FMI Template'!B88<>\"NA\",'FMI Template'!B88<>\"UA\"),'FMI Template'!B88,\"\")","v":""},{"$f":"IF(AND('FMI Template'!C88<>\"\",'FMI Template'!C88<>\"NA\",'FMI Template'!C88<>\"UA\"),'FMI Template'!C88,\"\")","v":""},{"$f":"IF(AND('FMI Template'!D88<>\"\",'FMI Template'!D88<>\"NA\",'FMI Template'!D88<>\"UA\"),'FMI Template'!D88,\"\")","v":""},{"$f":"IF(AND('FMI Template'!F88<>\"\",'FMI Template'!F88<>\"NA\",'FMI Template'!F88<>\"UA\"),'FMI Template'!F88,\"\")","v":""},{"$f":"IF(AND('FMI Template'!H88<>\"\", 'FMI Template'!H88<>\"UA\"),IF('FMI Template'!H88=\"CSD\",\"(I)CSD\",IF('FMI Template'!H88=\"CCP_Derivatives\",\"CCP-Derivatives\",IF('FMI Template'!H88=\"CCP_securities\",\"CCP-securities\",IF('FMI Template'!H88=\"PS_Retail\",\"PS\",IF('FMI Template'!H88=\"PS_LV\",\"PS\",'FMI Template'!H88))))),\"\")","v":""},{"$f":"IF(AND('FMI Template'!I88<>\"\", 'FMI Template'!I88<>\"UA\"),'FMI Template'!I88,\"\")","v":""},{"$f":"IF(AND('FMI Template'!J88<>\"\",'FMI Template'!J88<>\"UA\"),IF('FMI Template'!J88=\"CSD_SSS\",\"CSD-SSS\",IF('FMI Template'!J88=\"CCP_Derivatives\",\"CCP-Derivatives\",IF('FMI Template'!J88=\"CCP_securities\",\"CCP-securities\",IF('FMI Template'!J88=\"Trading_venue\",\"Trading-venue\",'FMI Template'!J88)))),\"\")","v":""},{"$f":"IF(AND('FMI Template'!K88<>\"\",'FMI Template'!K88<>\"UA\"),'FMI Template'!K88,\"\")","v":""},{"$f":"IF('FMI Template'!K88=\"direct\",\"NA\",IF(AND('FMI Template'!M88<>\"\",'FMI Template'!M88<>\"UA\"),'FMI Template'!M88,\"\"))","v":""},{"$f":"IF('FMI Template'!K88=\"direct\",\"NA\",IF(AND('FMI Template'!N88<>\"\",'FMI Template'!N88<>\"UA\"),'FMI Template'!N88,\"\"))","v":""},{"$f":"IF(OR('FMI Template'!H88=\"Other\",'FMI Template'!H88=\"NA\"),'FMI Template'!Q88,\"\")","v":""},{"$f":"IF(AND('FMI Template'!O88<>\"\",'FMI Template'!O88<>\"NA\",'FMI Template'!O88<>\"UA\"),'FMI Template'!O88,\"\")","v":""}]
[null,{"$f":"IF(AND('FMI Template'!B89<>\"\",'FMI Template'!B89<>\"NA\",'FMI Template'!B89<>\"UA\"),'FMI Template'!B89,\"\")","v":""},{"$f":"IF(AND('FMI Template'!C89<>\"\",'FMI Template'!C89<>\"NA\",'FMI Template'!C89<>\"UA\"),'FMI Template'!C89,\"\")","v":""},{"$f":"IF(AND('FMI Template'!D89<>\"\",'FMI Template'!D89<>\"NA\",'FMI Template'!D89<>\"UA\"),'FMI Template'!D89,\"\")","v":""},{"$f":"IF(AND('FMI Template'!F89<>\"\",'FMI Template'!F89<>\"NA\",'FMI Template'!F89<>\"UA\"),'FMI Template'!F89,\"\")","v":""},{"$f":"IF(AND('FMI Template'!H89<>\"\", 'FMI Template'!H89<>\"UA\"),IF('FMI Template'!H89=\"CSD\",\"(I)CSD\",IF('FMI Template'!H89=\"CCP_Derivatives\",\"CCP-Derivatives\",IF('FMI Template'!H89=\"CCP_securities\",\"CCP-securities\",IF('FMI Template'!H89=\"PS_Retail\",\"PS\",IF('FMI Template'!H89=\"PS_LV\",\"PS\",'FMI Template'!H89))))),\"\")","v":""},{"$f":"IF(AND('FMI Template'!I89<>\"\", 'FMI Template'!I89<>\"UA\"),'FMI Template'!I89,\"\")","v":""},{"$f":"IF(AND('FMI Template'!J89<>\"\",'FMI Template'!J89<>\"UA\"),IF('FMI Template'!J89=\"CSD_SSS\",\"CSD-SSS\",IF('FMI Template'!J89=\"CCP_Derivatives\",\"CCP-Derivatives\",IF('FMI Template'!J89=\"CCP_securities\",\"CCP-securities\",IF('FMI Template'!J89=\"Trading_venue\",\"Trading-venue\",'FMI Template'!J89)))),\"\")","v":""},{"$f":"IF(AND('FMI Template'!K89<>\"\",'FMI Template'!K89<>\"UA\"),'FMI Template'!K89,\"\")","v":""},{"$f":"IF('FMI Template'!K89=\"direct\",\"NA\",IF(AND('FMI Template'!M89<>\"\",'FMI Template'!M89<>\"UA\"),'FMI Template'!M89,\"\"))","v":""},{"$f":"IF('FMI Template'!K89=\"direct\",\"NA\",IF(AND('FMI Template'!N89<>\"\",'FMI Template'!N89<>\"UA\"),'FMI Template'!N89,\"\"))","v":""},{"$f":"IF(OR('FMI Template'!H89=\"Other\",'FMI Template'!H89=\"NA\"),'FMI Template'!Q89,\"\")","v":""},{"$f":"IF(AND('FMI Template'!O89<>\"\",'FMI Template'!O89<>\"NA\",'FMI Template'!O89<>\"UA\"),'FMI Template'!O89,\"\")","v":""}]
[null,{"$f":"IF(AND('FMI Template'!B90<>\"\",'FMI Template'!B90<>\"NA\",'FMI Template'!B90<>\"UA\"),'FMI Template'!B90,\"\")","v":""},{"$f":"IF(AND('FMI Template'!C90<>\"\",'FMI Template'!C90<>\"NA\",'FMI Template'!C90<>\"UA\"),'FMI Template'!C90,\"\")","v":""},{"$f":"IF(AND('FMI Template'!D90<>\"\",'FMI Template'!D90<>\"NA\",'FMI Template'!D90<>\"UA\"),'FMI Template'!D90,\"\")","v":""},{"$f":"IF(AND('FMI Template'!F90<>\"\",'FMI Template'!F90<>\"NA\",'FMI Template'!F90<>\"UA\"),'FMI Template'!F90,\"\")","v":""},{"$f":"IF(AND('FMI Template'!H90<>\"\", 'FMI Template'!H90<>\"UA\"),IF('FMI Template'!H90=\"CSD\",\"(I)CSD\",IF('FMI Template'!H90=\"CCP_Derivatives\",\"CCP-Derivatives\",IF('FMI Template'!H90=\"CCP_securities\",\"CCP-securities\",IF('FMI Template'!H90=\"PS_Retail\",\"PS\",IF('FMI Template'!H90=\"PS_LV\",\"PS\",'FMI Template'!H90))))),\"\")","v":""},{"$f":"IF(AND('FMI Template'!I90<>\"\", 'FMI Template'!I90<>\"UA\"),'FMI Template'!I90,\"\")","v":""},{"$f":"IF(AND('FMI Template'!J90<>\"\",'FMI Template'!J90<>\"UA\"),IF('FMI Template'!J90=\"CSD_SSS\",\"CSD-SSS\",IF('FMI Template'!J90=\"CCP_Derivatives\",\"CCP-Derivatives\",IF('FMI Template'!J90=\"CCP_securities\",\"CCP-securities\",IF('FMI Template'!J90=\"Trading_venue\",\"Trading-venue\",'FMI Template'!J90)))),\"\")","v":""},{"$f":"IF(AND('FMI Template'!K90<>\"\",'FMI Template'!K90<>\"UA\"),'FMI Template'!K90,\"\")","v":""},{"$f":"IF('FMI Template'!K90=\"direct\",\"NA\",IF(AND('FMI Template'!M90<>\"\",'FMI Template'!M90<>\"UA\"),'FMI Template'!M90,\"\"))","v":""},{"$f":"IF('FMI Template'!K90=\"direct\",\"NA\",IF(AND('FMI Template'!N90<>\"\",'FMI Template'!N90<>\"UA\"),'FMI Template'!N90,\"\"))","v":""},{"$f":"IF(OR('FMI Template'!H90=\"Other\",'FMI Template'!H90=\"NA\"),'FMI Template'!Q90,\"\")","v":""},{"$f":"IF(AND('FMI Template'!O90<>\"\",'FMI Template'!O90<>\"NA\",'FMI Template'!O90<>\"UA\"),'FMI Template'!O90,\"\")","v":""}]
[null,{"$f":"IF(AND('FMI Template'!B91<>\"\",'FMI Template'!B91<>\"NA\",'FMI Template'!B91<>\"UA\"),'FMI Template'!B91,\"\")","v":""},{"$f":"IF(AND('FMI Template'!C91<>\"\",'FMI Template'!C91<>\"NA\",'FMI Template'!C91<>\"UA\"),'FMI Template'!C91,\"\")","v":""},{"$f":"IF(AND('FMI Template'!D91<>\"\",'FMI Template'!D91<>\"NA\",'FMI Template'!D91<>\"UA\"),'FMI Template'!D91,\"\")","v":""},{"$f":"IF(AND('FMI Template'!F91<>\"\",'FMI Template'!F91<>\"NA\",'FMI Template'!F91<>\"UA\"),'FMI Template'!F91,\"\")","v":""},{"$f":"IF(AND('FMI Template'!H91<>\"\", 'FMI Template'!H91<>\"UA\"),IF('FMI Template'!H91=\"CSD\",\"(I)CSD\",IF('FMI Template'!H91=\"CCP_Derivatives\",\"CCP-Derivatives\",IF('FMI Template'!H91=\"CCP_securities\",\"CCP-securities\",IF('FMI Template'!H91=\"PS_Retail\",\"PS\",IF('FMI Template'!H91=\"PS_LV\",\"PS\",'FMI Template'!H91))))),\"\")","v":""},{"$f":"IF(AND('FMI Template'!I91<>\"\", 'FMI Template'!I91<>\"UA\"),'FMI Template'!I91,\"\")","v":""},{"$f":"IF(AND('FMI Template'!J91<>\"\",'FMI Template'!J91<>\"UA\"),IF('FMI Template'!J91=\"CSD_SSS\",\"CSD-SSS\",IF('FMI Template'!J91=\"CCP_Derivatives\",\"CCP-Derivatives\",IF('FMI Template'!J91=\"CCP_securities\",\"CCP-securities\",IF('FMI Template'!J91=\"Trading_venue\",\"Trading-venue\",'FMI Template'!J91)))),\"\")","v":""},{"$f":"IF(AND('FMI Template'!K91<>\"\",'FMI Template'!K91<>\"UA\"),'FMI Template'!K91,\"\")","v":""},{"$f":"IF('FMI Template'!K91=\"direct\",\"NA\",IF(AND('FMI Template'!M91<>\"\",'FMI Template'!M91<>\"UA\"),'FMI Template'!M91,\"\"))","v":""},{"$f":"IF('FMI Template'!K91=\"direct\",\"NA\",IF(AND('FMI Template'!N91<>\"\",'FMI Template'!N91<>\"UA\"),'FMI Template'!N91,\"\"))","v":""},{"$f":"IF(OR('FMI Template'!H91=\"Other\",'FMI Template'!H91=\"NA\"),'FMI Template'!Q91,\"\")","v":""},{"$f":"IF(AND('FMI Template'!O91<>\"\",'FMI Template'!O91<>\"NA\",'FMI Template'!O91<>\"UA\"),'FMI Template'!O91,\"\")","v":""}]
[null,{"$f":"IF(AND('FMI Template'!B92<>\"\",'FMI Template'!B92<>\"NA\",'FMI Template'!B92<>\"UA\"),'FMI Template'!B92,\"\")","v":""},{"$f":"IF(AND('FMI Template'!C92<>\"\",'FMI Template'!C92<>\"NA\",'FMI Template'!C92<>\"UA\"),'FMI Template'!C92,\"\")","v":""},{"$f":"IF(AND('FMI Template'!D92<>\"\",'FMI Template'!D92<>\"NA\",'FMI Template'!D92<>\"UA\"),'FMI Template'!D92,\"\")","v":""},{"$f":"IF(AND('FMI Template'!F92<>\"\",'FMI Template'!F92<>\"NA\",'FMI Template'!F92<>\"UA\"),'FMI Template'!F92,\"\")","v":""},{"$f":"IF(AND('FMI Template'!H92<>\"\", 'FMI Template'!H92<>\"UA\"),IF('FMI Template'!H92=\"CSD\",\"(I)CSD\",IF('FMI Template'!H92=\"CCP_Derivatives\",\"CCP-Derivatives\",IF('FMI Template'!H92=\"CCP_securities\",\"CCP-securities\",IF('FMI Template'!H92=\"PS_Retail\",\"PS\",IF('FMI Template'!H92=\"PS_LV\",\"PS\",'FMI Template'!H92))))),\"\")","v":""},{"$f":"IF(AND('FMI Template'!I92<>\"\", 'FMI Template'!I92<>\"UA\"),'FMI Template'!I92,\"\")","v":""},{"$f":"IF(AND('FMI Template'!J92<>\"\",'FMI Template'!J92<>\"UA\"),IF('FMI Template'!J92=\"CSD_SSS\",\"CSD-SSS\",IF('FMI Template'!J92=\"CCP_Derivatives\",\"CCP-Derivatives\",IF('FMI Template'!J92=\"CCP_securities\",\"CCP-securities\",IF('FMI Template'!J92=\"Trading_venue\",\"Trading-venue\",'FMI Template'!J92)))),\"\")","v":""},{"$f":"IF(AND('FMI Template'!K92<>\"\",'FMI Template'!K92<>\"UA\"),'FMI Template'!K92,\"\")","v":""},{"$f":"IF('FMI Template'!K92=\"direct\",\"NA\",IF(AND('FMI Template'!M92<>\"\",'FMI Template'!M92<>\"UA\"),'FMI Template'!M92,\"\"))","v":""},{"$f":"IF('FMI Template'!K92=\"direct\",\"NA\",IF(AND('FMI Template'!N92<>\"\",'FMI Template'!N92<>\"UA\"),'FMI Template'!N92,\"\"))","v":""},{"$f":"IF(OR('FMI Template'!H92=\"Other\",'FMI Template'!H92=\"NA\"),'FMI Template'!Q92,\"\")","v":""},{"$f":"IF(AND('FMI Template'!O92<>\"\",'FMI Template'!O92<>\"NA\",'FMI Template'!O92<>\"UA\"),'FMI Template'!O92,\"\")","v":""}]
[null,{"$f":"IF(AND('FMI Template'!B93<>\"\",'FMI Template'!B93<>\"NA\",'FMI Template'!B93<>\"UA\"),'FMI Template'!B93,\"\")","v":""},{"$f":"IF(AND('FMI Template'!C93<>\"\",'FMI Template'!C93<>\"NA\",'FMI Template'!C93<>\"UA\"),'FMI Template'!C93,\"\")","v":""},{"$f":"IF(AND('FMI Template'!D93<>\"\",'FMI Template'!D93<>\"NA\",'FMI Template'!D93<>\"UA\"),'FMI Template'!D93,\"\")","v":""},{"$f":"IF(AND('FMI Template'!F93<>\"\",'FMI Template'!F93<>\"NA\",'FMI Template'!F93<>\"UA\"),'FMI Template'!F93,\"\")","v":""},{"$f":"IF(AND('FMI Template'!H93<>\"\", 'FMI Template'!H93<>\"UA\"),IF('FMI Template'!H93=\"CSD\",\"(I)CSD\",IF('FMI Template'!H93=\"CCP_Derivatives\",\"CCP-Derivatives\",IF('FMI Template'!H93=\"CCP_securities\",\"CCP-securities\",IF('FMI Template'!H93=\"PS_Retail\",\"PS\",IF('FMI Template'!H93=\"PS_LV\",\"PS\",'FMI Template'!H93))))),\"\")","v":""},{"$f":"IF(AND('FMI Template'!I93<>\"\", 'FMI Template'!I93<>\"UA\"),'FMI Template'!I93,\"\")","v":""},{"$f":"IF(AND('FMI Template'!J93<>\"\",'FMI Template'!J93<>\"UA\"),IF('FMI Template'!J93=\"CSD_SSS\",\"CSD-SSS\",IF('FMI Template'!J93=\"CCP_Derivatives\",\"CCP-Derivatives\",IF('FMI Template'!J93=\"CCP_securities\",\"CCP-securities\",IF('FMI Template'!J93=\"Trading_venue\",\"Trading-venue\",'FMI Template'!J93)))),\"\")","v":""},{"$f":"IF(AND('FMI Template'!K93<>\"\",'FMI Template'!K93<>\"UA\"),'FMI Template'!K93,\"\")","v":""},{"$f":"IF('FMI Template'!K93=\"direct\",\"NA\",IF(AND('FMI Template'!M93<>\"\",'FMI Template'!M93<>\"UA\"),'FMI Template'!M93,\"\"))","v":""},{"$f":"IF('FMI Template'!K93=\"direct\",\"NA\",IF(AND('FMI Template'!N93<>\"\",'FMI Template'!N93<>\"UA\"),'FMI Template'!N93,\"\"))","v":""},{"$f":"IF(OR('FMI Template'!H93=\"Other\",'FMI Template'!H93=\"NA\"),'FMI Template'!Q93,\"\")","v":""},{"$f":"IF(AND('FMI Template'!O93<>\"\",'FMI Template'!O93<>\"NA\",'FMI Template'!O93<>\"UA\"),'FMI Template'!O93,\"\")","v":""}]
[null,{"$f":"IF(AND('FMI Template'!B94<>\"\",'FMI Template'!B94<>\"NA\",'FMI Template'!B94<>\"UA\"),'FMI Template'!B94,\"\")","v":""},{"$f":"IF(AND('FMI Template'!C94<>\"\",'FMI Template'!C94<>\"NA\",'FMI Template'!C94<>\"UA\"),'FMI Template'!C94,\"\")","v":""},{"$f":"IF(AND('FMI Template'!D94<>\"\",'FMI Template'!D94<>\"NA\",'FMI Template'!D94<>\"UA\"),'FMI Template'!D94,\"\")","v":""},{"$f":"IF(AND('FMI Template'!F94<>\"\",'FMI Template'!F94<>\"NA\",'FMI Template'!F94<>\"UA\"),'FMI Template'!F94,\"\")","v":""},{"$f":"IF(AND('FMI Template'!H94<>\"\", 'FMI Template'!H94<>\"UA\"),IF('FMI Template'!H94=\"CSD\",\"(I)CSD\",IF('FMI Template'!H94=\"CCP_Derivatives\",\"CCP-Derivatives\",IF('FMI Template'!H94=\"CCP_securities\",\"CCP-securities\",IF('FMI Template'!H94=\"PS_Retail\",\"PS\",IF('FMI Template'!H94=\"PS_LV\",\"PS\",'FMI Template'!H94))))),\"\")","v":""},{"$f":"IF(AND('FMI Template'!I94<>\"\", 'FMI Template'!I94<>\"UA\"),'FMI Template'!I94,\"\")","v":""},{"$f":"IF(AND('FMI Template'!J94<>\"\",'FMI Template'!J94<>\"UA\"),IF('FMI Template'!J94=\"CSD_SSS\",\"CSD-SSS\",IF('FMI Template'!J94=\"CCP_Derivatives\",\"CCP-Derivatives\",IF('FMI Template'!J94=\"CCP_securities\",\"CCP-securities\",IF('FMI Template'!J94=\"Trading_venue\",\"Trading-venue\",'FMI Template'!J94)))),\"\")","v":""},{"$f":"IF(AND('FMI Template'!K94<>\"\",'FMI Template'!K94<>\"UA\"),'FMI Template'!K94,\"\")","v":""},{"$f":"IF('FMI Template'!K94=\"direct\",\"NA\",IF(AND('FMI Template'!M94<>\"\",'FMI Template'!M94<>\"UA\"),'FMI Template'!M94,\"\"))","v":""},{"$f":"IF('FMI Template'!K94=\"direct\",\"NA\",IF(AND('FMI Template'!N94<>\"\",'FMI Template'!N94<>\"UA\"),'FMI Template'!N94,\"\"))","v":""},{"$f":"IF(OR('FMI Template'!H94=\"Other\",'FMI Template'!H94=\"NA\"),'FMI Template'!Q94,\"\")","v":""},{"$f":"IF(AND('FMI Template'!O94<>\"\",'FMI Template'!O94<>\"NA\",'FMI Template'!O94<>\"UA\"),'FMI Template'!O94,\"\")","v":""}]
[null,{"$f":"IF(AND('FMI Template'!B95<>\"\",'FMI Template'!B95<>\"NA\",'FMI Template'!B95<>\"UA\"),'FMI Template'!B95,\"\")","v":""},{"$f":"IF(AND('FMI Template'!C95<>\"\",'FMI Template'!C95<>\"NA\",'FMI Template'!C95<>\"UA\"),'FMI Template'!C95,\"\")","v":""},{"$f":"IF(AND('FMI Template'!D95<>\"\",'FMI Template'!D95<>\"NA\",'FMI Template'!D95<>\"UA\"),'FMI Template'!D95,\"\")","v":""},{"$f":"IF(AND('FMI Template'!F95<>\"\",'FMI Template'!F95<>\"NA\",'FMI Template'!F95<>\"UA\"),'FMI Template'!F95,\"\")","v":""},{"$f":"IF(AND('FMI Template'!H95<>\"\", 'FMI Template'!H95<>\"UA\"),IF('FMI Template'!H95=\"CSD\",\"(I)CSD\",IF('FMI Template'!H95=\"CCP_Derivatives\",\"CCP-Derivatives\",IF('FMI Template'!H95=\"CCP_securities\",\"CCP-securities\",IF('FMI Template'!H95=\"PS_Retail\",\"PS\",IF('FMI Template'!H95=\"PS_LV\",\"PS\",'FMI Template'!H95))))),\"\")","v":""},{"$f":"IF(AND('FMI Template'!I95<>\"\", 'FMI Template'!I95<>\"UA\"),'FMI Template'!I95,\"\")","v":""},{"$f":"IF(AND('FMI Template'!J95<>\"\",'FMI Template'!J95<>\"UA\"),IF('FMI Template'!J95=\"CSD_SSS\",\"CSD-SSS\",IF('FMI Template'!J95=\"CCP_Derivatives\",\"CCP-Derivatives\",IF('FMI Template'!J95=\"CCP_securities\",\"CCP-securities\",IF('FMI Template'!J95=\"Trading_venue\",\"Trading-venue\",'FMI Template'!J95)))),\"\")","v":""},{"$f":"IF(AND('FMI Template'!K95<>\"\",'FMI Template'!K95<>\"UA\"),'FMI Template'!K95,\"\")","v":""},{"$f":"IF('FMI Template'!K95=\"direct\",\"NA\",IF(AND('FMI Template'!M95<>\"\",'FMI Template'!M95<>\"UA\"),'FMI Template'!M95,\"\"))","v":""},{"$f":"IF('FMI Template'!K95=\"direct\",\"NA\",IF(AND('FMI Template'!N95<>\"\",'FMI Template'!N95<>\"UA\"),'FMI Template'!N95,\"\"))","v":""},{"$f":"IF(OR('FMI Template'!H95=\"Other\",'FMI Template'!H95=\"NA\"),'FMI Template'!Q95,\"\")","v":""},{"$f":"IF(AND('FMI Template'!O95<>\"\",'FMI Template'!O95<>\"NA\",'FMI Template'!O95<>\"UA\"),'FMI Template'!O95,\"\")","v":""}]
[null,{"$f":"IF(AND('FMI Template'!B96<>\"\",'FMI Template'!B96<>\"NA\",'FMI Template'!B96<>\"UA\"),'FMI Template'!B96,\"\")","v":""},{"$f":"IF(AND('FMI Template'!C96<>\"\",'FMI Template'!C96<>\"NA\",'FMI Template'!C96<>\"UA\"),'FMI Template'!C96,\"\")","v":""},{"$f":"IF(AND('FMI Template'!D96<>\"\",'FMI Template'!D96<>\"NA\",'FMI Template'!D96<>\"UA\"),'FMI Template'!D96,\"\")","v":""},{"$f":"IF(AND('FMI Template'!F96<>\"\",'FMI Template'!F96<>\"NA\",'FMI Template'!F96<>\"UA\"),'FMI Template'!F96,\"\")","v":""},{"$f":"IF(AND('FMI Template'!H96<>\"\", 'FMI Template'!H96<>\"UA\"),IF('FMI Template'!H96=\"CSD\",\"(I)CSD\",IF('FMI Template'!H96=\"CCP_Derivatives\",\"CCP-Derivatives\",IF('FMI Template'!H96=\"CCP_securities\",\"CCP-securities\",IF('FMI Template'!H96=\"PS_Retail\",\"PS\",IF('FMI Template'!H96=\"PS_LV\",\"PS\",'FMI Template'!H96))))),\"\")","v":""},{"$f":"IF(AND('FMI Template'!I96<>\"\", 'FMI Template'!I96<>\"UA\"),'FMI Template'!I96,\"\")","v":""},{"$f":"IF(AND('FMI Template'!J96<>\"\",'FMI Template'!J96<>\"UA\"),IF('FMI Template'!J96=\"CSD_SSS\",\"CSD-SSS\",IF('FMI Template'!J96=\"CCP_Derivatives\",\"CCP-Derivatives\",IF('FMI Template'!J96=\"CCP_securities\",\"CCP-securities\",IF('FMI Template'!J96=\"Trading_venue\",\"Trading-venue\",'FMI Template'!J96)))),\"\")","v":""},{"$f":"IF(AND('FMI Template'!K96<>\"\",'FMI Template'!K96<>\"UA\"),'FMI Template'!K96,\"\")","v":""},{"$f":"IF('FMI Template'!K96=\"direct\",\"NA\",IF(AND('FMI Template'!M96<>\"\",'FMI Template'!M96<>\"UA\"),'FMI Template'!M96,\"\"))","v":""},{"$f":"IF('FMI Template'!K96=\"direct\",\"NA\",IF(AND('FMI Template'!N96<>\"\",'FMI Template'!N96<>\"UA\"),'FMI Template'!N96,\"\"))","v":""},{"$f":"IF(OR('FMI Template'!H96=\"Other\",'FMI Template'!H96=\"NA\"),'FMI Template'!Q96,\"\")","v":""},{"$f":"IF(AND('FMI Template'!O96<>\"\",'FMI Template'!O96<>\"NA\",'FMI Template'!O96<>\"UA\"),'FMI Template'!O96,\"\")","v":""}]
[null,{"$f":"IF(AND('FMI Template'!B97<>\"\",'FMI Template'!B97<>\"NA\",'FMI Template'!B97<>\"UA\"),'FMI Template'!B97,\"\")","v":""},{"$f":"IF(AND('FMI Template'!C97<>\"\",'FMI Template'!C97<>\"NA\",'FMI Template'!C97<>\"UA\"),'FMI Template'!C97,\"\")","v":""},{"$f":"IF(AND('FMI Template'!D97<>\"\",'FMI Template'!D97<>\"NA\",'FMI Template'!D97<>\"UA\"),'FMI Template'!D97,\"\")","v":""},{"$f":"IF(AND('FMI Template'!F97<>\"\",'FMI Template'!F97<>\"NA\",'FMI Template'!F97<>\"UA\"),'FMI Template'!F97,\"\")","v":""},{"$f":"IF(AND('FMI Template'!H97<>\"\", 'FMI Template'!H97<>\"UA\"),IF('FMI Template'!H97=\"CSD\",\"(I)CSD\",IF('FMI Template'!H97=\"CCP_Derivatives\",\"CCP-Derivatives\",IF('FMI Template'!H97=\"CCP_securities\",\"CCP-securities\",IF('FMI Template'!H97=\"PS_Retail\",\"PS\",IF('FMI Template'!H97=\"PS_LV\",\"PS\",'FMI Template'!H97))))),\"\")","v":""},{"$f":"IF(AND('FMI Template'!I97<>\"\", 'FMI Template'!I97<>\"UA\"),'FMI Template'!I97,\"\")","v":""},{"$f":"IF(AND('FMI Template'!J97<>\"\",'FMI Template'!J97<>\"UA\"),IF('FMI Template'!J97=\"CSD_SSS\",\"CSD-SSS\",IF('FMI Template'!J97=\"CCP_Derivatives\",\"CCP-Derivatives\",IF('FMI Template'!J97=\"CCP_securities\",\"CCP-securities\",IF('FMI Template'!J97=\"Trading_venue\",\"Trading-venue\",'FMI Template'!J97)))),\"\")","v":""},{"$f":"IF(AND('FMI Template'!K97<>\"\",'FMI Template'!K97<>\"UA\"),'FMI Template'!K97,\"\")","v":""},{"$f":"IF('FMI Template'!K97=\"direct\",\"NA\",IF(AND('FMI Template'!M97<>\"\",'FMI Template'!M97<>\"UA\"),'FMI Template'!M97,\"\"))","v":""},{"$f":"IF('FMI Template'!K97=\"direct\",\"NA\",IF(AND('FMI Template'!N97<>\"\",'FMI Template'!N97<>\"UA\"),'FMI Template'!N97,\"\"))","v":""},{"$f":"IF(OR('FMI Template'!H97=\"Other\",'FMI Template'!H97=\"NA\"),'FMI Template'!Q97,\"\")","v":""},{"$f":"IF(AND('FMI Template'!O97<>\"\",'FMI Template'!O97<>\"NA\",'FMI Template'!O97<>\"UA\"),'FMI Template'!O97,\"\")","v":""}]
[null,{"$f":"IF(AND('FMI Template'!B98<>\"\",'FMI Template'!B98<>\"NA\",'FMI Template'!B98<>\"UA\"),'FMI Template'!B98,\"\")","v":""},{"$f":"IF(AND('FMI Template'!C98<>\"\",'FMI Template'!C98<>\"NA\",'FMI Template'!C98<>\"UA\"),'FMI Template'!C98,\"\")","v":""},{"$f":"IF(AND('FMI Template'!D98<>\"\",'FMI Template'!D98<>\"NA\",'FMI Template'!D98<>\"UA\"),'FMI Template'!D98,\"\")","v":""},{"$f":"IF(AND('FMI Template'!F98<>\"\",'FMI Template'!F98<>\"NA\",'FMI Template'!F98<>\"UA\"),'FMI Template'!F98,\"\")","v":""},{"$f":"IF(AND('FMI Template'!H98<>\"\", 'FMI Template'!H98<>\"UA\"),IF('FMI Template'!H98=\"CSD\",\"(I)CSD\",IF('FMI Template'!H98=\"CCP_Derivatives\",\"CCP-Derivatives\",IF('FMI Template'!H98=\"CCP_securities\",\"CCP-securities\",IF('FMI Template'!H98=\"PS_Retail\",\"PS\",IF('FMI Template'!H98=\"PS_LV\",\"PS\",'FMI Template'!H98))))),\"\")","v":""},{"$f":"IF(AND('FMI Template'!I98<>\"\", 'FMI Template'!I98<>\"UA\"),'FMI Template'!I98,\"\")","v":""},{"$f":"IF(AND('FMI Template'!J98<>\"\",'FMI Template'!J98<>\"UA\"),IF('FMI Template'!J98=\"CSD_SSS\",\"CSD-SSS\",IF('FMI Template'!J98=\"CCP_Derivatives\",\"CCP-Derivatives\",IF('FMI Template'!J98=\"CCP_securities\",\"CCP-securities\",IF('FMI Template'!J98=\"Trading_venue\",\"Trading-venue\",'FMI Template'!J98)))),\"\")","v":""},{"$f":"IF(AND('FMI Template'!K98<>\"\",'FMI Template'!K98<>\"UA\"),'FMI Template'!K98,\"\")","v":""},{"$f":"IF('FMI Template'!K98=\"direct\",\"NA\",IF(AND('FMI Template'!M98<>\"\",'FMI Template'!M98<>\"UA\"),'FMI Template'!M98,\"\"))","v":""},{"$f":"IF('FMI Template'!K98=\"direct\",\"NA\",IF(AND('FMI Template'!N98<>\"\",'FMI Template'!N98<>\"UA\"),'FMI Template'!N98,\"\"))","v":""},{"$f":"IF(OR('FMI Template'!H98=\"Other\",'FMI Template'!H98=\"NA\"),'FMI Template'!Q98,\"\")","v":""},{"$f":"IF(AND('FMI Template'!O98<>\"\",'FMI Template'!O98<>\"NA\",'FMI Template'!O98<>\"UA\"),'FMI Template'!O98,\"\")","v":""}]
[null,{"$f":"IF(AND('FMI Template'!B99<>\"\",'FMI Template'!B99<>\"NA\",'FMI Template'!B99<>\"UA\"),'FMI Template'!B99,\"\")","v":""},{"$f":"IF(AND('FMI Template'!C99<>\"\",'FMI Template'!C99<>\"NA\",'FMI Template'!C99<>\"UA\"),'FMI Template'!C99,\"\")","v":""},{"$f":"IF(AND('FMI Template'!D99<>\"\",'FMI Template'!D99<>\"NA\",'FMI Template'!D99<>\"UA\"),'FMI Template'!D99,\"\")","v":""},{"$f":"IF(AND('FMI Template'!F99<>\"\",'FMI Template'!F99<>\"NA\",'FMI Template'!F99<>\"UA\"),'FMI Template'!F99,\"\")","v":""},{"$f":"IF(AND('FMI Template'!H99<>\"\", 'FMI Template'!H99<>\"UA\"),IF('FMI Template'!H99=\"CSD\",\"(I)CSD\",IF('FMI Template'!H99=\"CCP_Derivatives\",\"CCP-Derivatives\",IF('FMI Template'!H99=\"CCP_securities\",\"CCP-securities\",IF('FMI Template'!H99=\"PS_Retail\",\"PS\",IF('FMI Template'!H99=\"PS_LV\",\"PS\",'FMI Template'!H99))))),\"\")","v":""},{"$f":"IF(AND('FMI Template'!I99<>\"\", 'FMI Template'!I99<>\"UA\"),'FMI Template'!I99,\"\")","v":""},{"$f":"IF(AND('FMI Template'!J99<>\"\",'FMI Template'!J99<>\"UA\"),IF('FMI Template'!J99=\"CSD_SSS\",\"CSD-SSS\",IF('FMI Template'!J99=\"CCP_Derivatives\",\"CCP-Derivatives\",IF('FMI Template'!J99=\"CCP_securities\",\"CCP-securities\",IF('FMI Template'!J99=\"Trading_venue\",\"Trading-venue\",'FMI Template'!J99)))),\"\")","v":""},{"$f":"IF(AND('FMI Template'!K99<>\"\",'FMI Template'!K99<>\"UA\"),'FMI Template'!K99,\"\")","v":""},{"$f":"IF('FMI Template'!K99=\"direct\",\"NA\",IF(AND('FMI Template'!M99<>\"\",'FMI Template'!M99<>\"UA\"),'FMI Template'!M99,\"\"))","v":""},{"$f":"IF('FMI Template'!K99=\"direct\",\"NA\",IF(AND('FMI Template'!N99<>\"\",'FMI Template'!N99<>\"UA\"),'FMI Template'!N99,\"\"))","v":""},{"$f":"IF(OR('FMI Template'!H99=\"Other\",'FMI Template'!H99=\"NA\"),'FMI Template'!Q99,\"\")","v":""},{"$f":"IF(AND('FMI Template'!O99<>\"\",'FMI Template'!O99<>\"NA\",'FMI Template'!O99<>\"UA\"),'FMI Template'!O99,\"\")","v":""}]
[null,{"$f":"IF(AND('FMI Template'!B100<>\"\",'FMI Template'!B100<>\"NA\",'FMI Template'!B100<>\"UA\"),'FMI Template'!B100,\"\")","v":""},{"$f":"IF(AND('FMI Template'!C100<>\"\",'FMI Template'!C100<>\"NA\",'FMI Template'!C100<>\"UA\"),'FMI Template'!C100,\"\")","v":""},{"$f":"IF(AND('FMI Template'!D100<>\"\",'FMI Template'!D100<>\"NA\",'FMI Template'!D100<>\"UA\"),'FMI Template'!D100,\"\")","v":""},{"$f":"IF(AND('FMI Template'!F100<>\"\",'FMI Template'!F100<>\"NA\",'FMI Template'!F100<>\"UA\"),'FMI Template'!F100,\"\")","v":""},{"$f":"IF(AND('FMI Template'!H100<>\"\", 'FMI Template'!H100<>\"UA\"),IF('FMI Template'!H100=\"CSD\",\"(I)CSD\",IF('FMI Template'!H100=\"CCP_Derivatives\",\"CCP-Derivatives\",IF('FMI Template'!H100=\"CCP_securities\",\"CCP-securities\",IF('FMI Template'!H100=\"PS_Retail\",\"PS\",IF('FMI Template'!H100=\"PS_LV\",\"PS\",'FMI Template'!H100))))),\"\")","v":""},{"$f":"IF(AND('FMI Template'!I100<>\"\", 'FMI Template'!I100<>\"UA\"),'FMI Template'!I100,\"\")","v":""},{"$f":"IF(AND('FMI Template'!J100<>\"\",'FMI Template'!J100<>\"UA\"),IF('FMI Template'!J100=\"CSD_SSS\",\"CSD-SSS\",IF('FMI Template'!J100=\"CCP_Derivatives\",\"CCP-Derivatives\",IF('FMI Template'!J100=\"CCP_securities\",\"CCP-securities\",IF('FMI Template'!J100=\"Trading_venue\",\"Trading-venue\",'FMI Template'!J100)))),\"\")","v":""},{"$f":"IF(AND('FMI Template'!K100<>\"\",'FMI Template'!K100<>\"UA\"),'FMI Template'!K100,\"\")","v":""},{"$f":"IF('FMI Template'!K100=\"direct\",\"NA\",IF(AND('FMI Template'!M100<>\"\",'FMI Template'!M100<>\"UA\"),'FMI Template'!M100,\"\"))","v":""},{"$f":"IF('FMI Template'!K100=\"direct\",\"NA\",IF(AND('FMI Template'!N100<>\"\",'FMI Template'!N100<>\"UA\"),'FMI Template'!N100,\"\"))","v":""},{"$f":"IF(OR('FMI Template'!H100=\"Other\",'FMI Template'!H100=\"NA\"),'FMI Template'!Q100,\"\")","v":""},{"$f":"IF(AND('FMI Template'!O100<>\"\",'FMI Template'!O100<>\"NA\",'FMI Template'!O100<>\"UA\"),'FMI Template'!O100,\"\")","v":""}]
[null,{"$f":"IF(AND('FMI Template'!B101<>\"\",'FMI Template'!B101<>\"NA\",'FMI Template'!B101<>\"UA\"),'FMI Template'!B101,\"\")","v":""},{"$f":"IF(AND('FMI Template'!C101<>\"\",'FMI Template'!C101<>\"NA\",'FMI Template'!C101<>\"UA\"),'FMI Template'!C101,\"\")","v":""},{"$f":"IF(AND('FMI Template'!D101<>\"\",'FMI Template'!D101<>\"NA\",'FMI Template'!D101<>\"UA\"),'FMI Template'!D101,\"\")","v":""},{"$f":"IF(AND('FMI Template'!F101<>\"\",'FMI Template'!F101<>\"NA\",'FMI Template'!F101<>\"UA\"),'FMI Template'!F101,\"\")","v":""},{"$f":"IF(AND('FMI Template'!H101<>\"\", 'FMI Template'!H101<>\"UA\"),IF('FMI Template'!H101=\"CSD\",\"(I)CSD\",IF('FMI Template'!H101=\"CCP_Derivatives\",\"CCP-Derivatives\",IF('FMI Template'!H101=\"CCP_securities\",\"CCP-securities\",IF('FMI Template'!H101=\"PS_Retail\",\"PS\",IF('FMI Template'!H101=\"PS_LV\",\"PS\",'FMI Template'!H101))))),\"\")","v":""},{"$f":"IF(AND('FMI Template'!I101<>\"\", 'FMI Template'!I101<>\"UA\"),'FMI Template'!I101,\"\")","v":""},{"$f":"IF(AND('FMI Template'!J101<>\"\",'FMI Template'!J101<>\"UA\"),IF('FMI Template'!J101=\"CSD_SSS\",\"CSD-SSS\",IF('FMI Template'!J101=\"CCP_Derivatives\",\"CCP-Derivatives\",IF('FMI Template'!J101=\"CCP_securities\",\"CCP-securities\",IF('FMI Template'!J101=\"Trading_venue\",\"Trading-venue\",'FMI Template'!J101)))),\"\")","v":""},{"$f":"IF(AND('FMI Template'!K101<>\"\",'FMI Template'!K101<>\"UA\"),'FMI Template'!K101,\"\")","v":""},{"$f":"IF('FMI Template'!K101=\"direct\",\"NA\",IF(AND('FMI Template'!M101<>\"\",'FMI Template'!M101<>\"UA\"),'FMI Template'!M101,\"\"))","v":""},{"$f":"IF('FMI Template'!K101=\"direct\",\"NA\",IF(AND('FMI Template'!N101<>\"\",'FMI Template'!N101<>\"UA\"),'FMI Template'!N101,\"\"))","v":""},{"$f":"IF(OR('FMI Template'!H101=\"Other\",'FMI Template'!H101=\"NA\"),'FMI Template'!Q101,\"\")","v":""},{"$f":"IF(AND('FMI Template'!O101<>\"\",'FMI Template'!O101<>\"NA\",'FMI Template'!O101<>\"UA\"),'FMI Template'!O101,\"\")","v":""}]
[null,{"$f":"IF(AND('FMI Template'!B102<>\"\",'FMI Template'!B102<>\"NA\",'FMI Template'!B102<>\"UA\"),'FMI Template'!B102,\"\")","v":""},{"$f":"IF(AND('FMI Template'!C102<>\"\",'FMI Template'!C102<>\"NA\",'FMI Template'!C102<>\"UA\"),'FMI Template'!C102,\"\")","v":""},{"$f":"IF(AND('FMI Template'!D102<>\"\",'FMI Template'!D102<>\"NA\",'FMI Template'!D102<>\"UA\"),'FMI Template'!D102,\"\")","v":""},{"$f":"IF(AND('FMI Template'!F102<>\"\",'FMI Template'!F102<>\"NA\",'FMI Template'!F102<>\"UA\"),'FMI Template'!F102,\"\")","v":""},{"$f":"IF(AND('FMI Template'!H102<>\"\", 'FMI Template'!H102<>\"UA\"),IF('FMI Template'!H102=\"CSD\",\"(I)CSD\",IF('FMI Template'!H102=\"CCP_Derivatives\",\"CCP-Derivatives\",IF('FMI Template'!H102=\"CCP_securities\",\"CCP-securities\",IF('FMI Template'!H102=\"PS_Retail\",\"PS\",IF('FMI Template'!H102=\"PS_LV\",\"PS\",'FMI Template'!H102))))),\"\")","v":""},{"$f":"IF(AND('FMI Template'!I102<>\"\", 'FMI Template'!I102<>\"UA\"),'FMI Template'!I102,\"\")","v":""},{"$f":"IF(AND('FMI Template'!J102<>\"\",'FMI Template'!J102<>\"UA\"),IF('FMI Template'!J102=\"CSD_SSS\",\"CSD-SSS\",IF('FMI Template'!J102=\"CCP_Derivatives\",\"CCP-Derivatives\",IF('FMI Template'!J102=\"CCP_securities\",\"CCP-securities\",IF('FMI Template'!J102=\"Trading_venue\",\"Trading-venue\",'FMI Template'!J102)))),\"\")","v":""},{"$f":"IF(AND('FMI Template'!K102<>\"\",'FMI Template'!K102<>\"UA\"),'FMI Template'!K102,\"\")","v":""},{"$f":"IF('FMI Template'!K102=\"direct\",\"NA\",IF(AND('FMI Template'!M102<>\"\",'FMI Template'!M102<>\"UA\"),'FMI Template'!M102,\"\"))","v":""},{"$f":"IF('FMI Template'!K102=\"direct\",\"NA\",IF(AND('FMI Template'!N102<>\"\",'FMI Template'!N102<>\"UA\"),'FMI Template'!N102,\"\"))","v":""},{"$f":"IF(OR('FMI Template'!H102=\"Other\",'FMI Template'!H102=\"NA\"),'FMI Template'!Q102,\"\")","v":""},{"$f":"IF(AND('FMI Template'!O102<>\"\",'FMI Template'!O102<>\"NA\",'FMI Template'!O102<>\"UA\"),'FMI Template'!O102,\"\")","v":""}]
[null,{"$f":"IF(AND('FMI Template'!B103<>\"\",'FMI Template'!B103<>\"NA\",'FMI Template'!B103<>\"UA\"),'FMI Template'!B103,\"\")","v":""},{"$f":"IF(AND('FMI Template'!C103<>\"\",'FMI Template'!C103<>\"NA\",'FMI Template'!C103<>\"UA\"),'FMI Template'!C103,\"\")","v":""},{"$f":"IF(AND('FMI Template'!D103<>\"\",'FMI Template'!D103<>\"NA\",'FMI Template'!D103<>\"UA\"),'FMI Template'!D103,\"\")","v":""},{"$f":"IF(AND('FMI Template'!F103<>\"\",'FMI Template'!F103<>\"NA\",'FMI Template'!F103<>\"UA\"),'FMI Template'!F103,\"\")","v":""},{"$f":"IF(AND('FMI Template'!H103<>\"\", 'FMI Template'!H103<>\"UA\"),IF('FMI Template'!H103=\"CSD\",\"(I)CSD\",IF('FMI Template'!H103=\"CCP_Derivatives\",\"CCP-Derivatives\",IF('FMI Template'!H103=\"CCP_securities\",\"CCP-securities\",IF('FMI Template'!H103=\"PS_Retail\",\"PS\",IF('FMI Template'!H103=\"PS_LV\",\"PS\",'FMI Template'!H103))))),\"\")","v":""},{"$f":"IF(AND('FMI Template'!I103<>\"\", 'FMI Template'!I103<>\"UA\"),'FMI Template'!I103,\"\")","v":""},{"$f":"IF(AND('FMI Template'!J103<>\"\",'FMI Template'!J103<>\"UA\"),IF('FMI Template'!J103=\"CSD_SSS\",\"CSD-SSS\",IF('FMI Template'!J103=\"CCP_Derivatives\",\"CCP-Derivatives\",IF('FMI Template'!J103=\"CCP_securities\",\"CCP-securities\",IF('FMI Template'!J103=\"Trading_venue\",\"Trading-venue\",'FMI Template'!J103)))),\"\")","v":""},{"$f":"IF(AND('FMI Template'!K103<>\"\",'FMI Template'!K103<>\"UA\"),'FMI Template'!K103,\"\")","v":""},{"$f":"IF('FMI Template'!K103=\"direct\",\"NA\",IF(AND('FMI Template'!M103<>\"\",'FMI Template'!M103<>\"UA\"),'FMI Template'!M103,\"\"))","v":""},{"$f":"IF('FMI Template'!K103=\"direct\",\"NA\",IF(AND('FMI Template'!N103<>\"\",'FMI Template'!N103<>\"UA\"),'FMI Template'!N103,\"\"))","v":""},{"$f":"IF(OR('FMI Template'!H103=\"Other\",'FMI Template'!H103=\"NA\"),'FMI Template'!Q103,\"\")","v":""},{"$f":"IF(AND('FMI Template'!O103<>\"\",'FMI Template'!O103<>\"NA\",'FMI Template'!O103<>\"UA\"),'FMI Template'!O103,\"\")","v":""}]
[null,{"$f":"IF(AND('FMI Template'!B104<>\"\",'FMI Template'!B104<>\"NA\",'FMI Template'!B104<>\"UA\"),'FMI Template'!B104,\"\")","v":""},{"$f":"IF(AND('FMI Template'!C104<>\"\",'FMI Template'!C104<>\"NA\",'FMI Template'!C104<>\"UA\"),'FMI Template'!C104,\"\")","v":""},{"$f":"IF(AND('FMI Template'!D104<>\"\",'FMI Template'!D104<>\"NA\",'FMI Template'!D104<>\"UA\"),'FMI Template'!D104,\"\")","v":""},{"$f":"IF(AND('FMI Template'!F104<>\"\",'FMI Template'!F104<>\"NA\",'FMI Template'!F104<>\"UA\"),'FMI Template'!F104,\"\")","v":""},{"$f":"IF(AND('FMI Template'!H104<>\"\", 'FMI Template'!H104<>\"UA\"),IF('FMI Template'!H104=\"CSD\",\"(I)CSD\",IF('FMI Template'!H104=\"CCP_Derivatives\",\"CCP-Derivatives\",IF('FMI Template'!H104=\"CCP_securities\",\"CCP-securities\",IF('FMI Template'!H104=\"PS_Retail\",\"PS\",IF('FMI Template'!H104=\"PS_LV\",\"PS\",'FMI Template'!H104))))),\"\")","v":""},{"$f":"IF(AND('FMI Template'!I104<>\"\", 'FMI Template'!I104<>\"UA\"),'FMI Template'!I104,\"\")","v":""},{"$f":"IF(AND('FMI Template'!J104<>\"\",'FMI Template'!J104<>\"UA\"),IF('FMI Template'!J104=\"CSD_SSS\",\"CSD-SSS\",IF('FMI Template'!J104=\"CCP_Derivatives\",\"CCP-Derivatives\",IF('FMI Template'!J104=\"CCP_securities\",\"CCP-securities\",IF('FMI Template'!J104=\"Trading_venue\",\"Trading-venue\",'FMI Template'!J104)))),\"\")","v":""},{"$f":"IF(AND('FMI Template'!K104<>\"\",'FMI Template'!K104<>\"UA\"),'FMI Template'!K104,\"\")","v":""},{"$f":"IF('FMI Template'!K104=\"direct\",\"NA\",IF(AND('FMI Template'!M104<>\"\",'FMI Template'!M104<>\"UA\"),'FMI Template'!M104,\"\"))","v":""},{"$f":"IF('FMI Template'!K104=\"direct\",\"NA\",IF(AND('FMI Template'!N104<>\"\",'FMI Template'!N104<>\"UA\"),'FMI Template'!N104,\"\"))","v":""},{"$f":"IF(OR('FMI Template'!H104=\"Other\",'FMI Template'!H104=\"NA\"),'FMI Template'!Q104,\"\")","v":""},{"$f":"IF(AND('FMI Template'!O104<>\"\",'FMI Template'!O104<>\"NA\",'FMI Template'!O104<>\"UA\"),'FMI Template'!O104,\"\")","v":""}]
[null,{"$f":"IF(AND('FMI Template'!B105<>\"\",'FMI Template'!B105<>\"NA\",'FMI Template'!B105<>\"UA\"),'FMI Template'!B105,\"\")","v":""},{"$f":"IF(AND('FMI Template'!C105<>\"\",'FMI Template'!C105<>\"NA\",'FMI Template'!C105<>\"UA\"),'FMI Template'!C105,\"\")","v":""},{"$f":"IF(AND('FMI Template'!D105<>\"\",'FMI Template'!D105<>\"NA\",'FMI Template'!D105<>\"UA\"),'FMI Template'!D105,\"\")","v":""},{"$f":"IF(AND('FMI Template'!F105<>\"\",'FMI Template'!F105<>\"NA\",'FMI Template'!F105<>\"UA\"),'FMI Template'!F105,\"\")","v":""},{"$f":"IF(AND('FMI Template'!H105<>\"\", 'FMI Template'!H105<>\"UA\"),IF('FMI Template'!H105=\"CSD\",\"(I)CSD\",IF('FMI Template'!H105=\"CCP_Derivatives\",\"CCP-Derivatives\",IF('FMI Template'!H105=\"CCP_securities\",\"CCP-securities\",IF('FMI Template'!H105=\"PS_Retail\",\"PS\",IF('FMI Template'!H105=\"PS_LV\",\"PS\",'FMI Template'!H105))))),\"\")","v":""},{"$f":"IF(AND('FMI Template'!I105<>\"\", 'FMI Template'!I105<>\"UA\"),'FMI Template'!I105,\"\")","v":""},{"$f":"IF(AND('FMI Template'!J105<>\"\",'FMI Template'!J105<>\"UA\"),IF('FMI Template'!J105=\"CSD_SSS\",\"CSD-SSS\",IF('FMI Template'!J105=\"CCP_Derivatives\",\"CCP-Derivatives\",IF('FMI Template'!J105=\"CCP_securities\",\"CCP-securities\",IF('FMI Template'!J105=\"Trading_venue\",\"Trading-venue\",'FMI Template'!J105)))),\"\")","v":""},{"$f":"IF(AND('FMI Template'!K105<>\"\",'FMI Template'!K105<>\"UA\"),'FMI Template'!K105,\"\")","v":""},{"$f":"IF('FMI Template'!K105=\"direct\",\"NA\",IF(AND('FMI Template'!M105<>\"\",'FMI Template'!M105<>\"UA\"),'FMI Template'!M105,\"\"))","v":""},{"$f":"IF('FMI Template'!K105=\"direct\",\"NA\",IF(AND('FMI Template'!N105<>\"\",'FMI Template'!N105<>\"UA\"),'FMI Template'!N105,\"\"))","v":""},{"$f":"IF(OR('FMI Template'!H105=\"Other\",'FMI Template'!H105=\"NA\"),'FMI Template'!Q105,\"\")","v":""},{"$f":"IF(AND('FMI Template'!O105<>\"\",'FMI Template'!O105<>\"NA\",'FMI Template'!O105<>\"UA\"),'FMI Template'!O105,\"\")","v":""}]
[null,{"$f":"IF(AND('FMI Template'!B106<>\"\",'FMI Template'!B106<>\"NA\",'FMI Template'!B106<>\"UA\"),'FMI Template'!B106,\"\")","v":""},{"$f":"IF(AND('FMI Template'!C106<>\"\",'FMI Template'!C106<>\"NA\",'FMI Template'!C106<>\"UA\"),'FMI Template'!C106,\"\")","v":""},{"$f":"IF(AND('FMI Template'!D106<>\"\",'FMI Template'!D106<>\"NA\",'FMI Template'!D106<>\"UA\"),'FMI Template'!D106,\"\")","v":""},{"$f":"IF(AND('FMI Template'!F106<>\"\",'FMI Template'!F106<>\"NA\",'FMI Template'!F106<>\"UA\"),'FMI Template'!F106,\"\")","v":""},{"$f":"IF(AND('FMI Template'!H106<>\"\", 'FMI Template'!H106<>\"UA\"),IF('FMI Template'!H106=\"CSD\",\"(I)CSD\",IF('FMI Template'!H106=\"CCP_Derivatives\",\"CCP-Derivatives\",IF('FMI Template'!H106=\"CCP_securities\",\"CCP-securities\",IF('FMI Template'!H106=\"PS_Retail\",\"PS\",IF('FMI Template'!H106=\"PS_LV\",\"PS\",'FMI Template'!H106))))),\"\")","v":""},{"$f":"IF(AND('FMI Template'!I106<>\"\", 'FMI Template'!I106<>\"UA\"),'FMI Template'!I106,\"\")","v":""},{"$f":"IF(AND('FMI Template'!J106<>\"\",'FMI Template'!J106<>\"UA\"),IF('FMI Template'!J106=\"CSD_SSS\",\"CSD-SSS\",IF('FMI Template'!J106=\"CCP_Derivatives\",\"CCP-Derivatives\",IF('FMI Template'!J106=\"CCP_securities\",\"CCP-securities\",IF('FMI Template'!J106=\"Trading_venue\",\"Trading-venue\",'FMI Template'!J106)))),\"\")","v":""},{"$f":"IF(AND('FMI Template'!K106<>\"\",'FMI Template'!K106<>\"UA\"),'FMI Template'!K106,\"\")","v":""},{"$f":"IF('FMI Template'!K106=\"direct\",\"NA\",IF(AND('FMI Template'!M106<>\"\",'FMI Template'!M106<>\"UA\"),'FMI Template'!M106,\"\"))","v":""},{"$f":"IF('FMI Template'!K106=\"direct\",\"NA\",IF(AND('FMI Template'!N106<>\"\",'FMI Template'!N106<>\"UA\"),'FMI Template'!N106,\"\"))","v":""},{"$f":"IF(OR('FMI Template'!H106=\"Other\",'FMI Template'!H106=\"NA\"),'FMI Template'!Q106,\"\")","v":""},{"$f":"IF(AND('FMI Template'!O106<>\"\",'FMI Template'!O106<>\"NA\",'FMI Template'!O106<>\"UA\"),'FMI Template'!O106,\"\")","v":""}]
[null,{"$f":"IF(AND('FMI Template'!B107<>\"\",'FMI Template'!B107<>\"NA\",'FMI Template'!B107<>\"UA\"),'FMI Template'!B107,\"\")","v":""},{"$f":"IF(AND('FMI Template'!C107<>\"\",'FMI Template'!C107<>\"NA\",'FMI Template'!C107<>\"UA\"),'FMI Template'!C107,\"\")","v":""},{"$f":"IF(AND('FMI Template'!D107<>\"\",'FMI Template'!D107<>\"NA\",'FMI Template'!D107<>\"UA\"),'FMI Template'!D107,\"\")","v":""},{"$f":"IF(AND('FMI Template'!F107<>\"\",'FMI Template'!F107<>\"NA\",'FMI Template'!F107<>\"UA\"),'FMI Template'!F107,\"\")","v":""},{"$f":"IF(AND('FMI Template'!H107<>\"\", 'FMI Template'!H107<>\"UA\"),IF('FMI Template'!H107=\"CSD\",\"(I)CSD\",IF('FMI Template'!H107=\"CCP_Derivatives\",\"CCP-Derivatives\",IF('FMI Template'!H107=\"CCP_securities\",\"CCP-securities\",IF('FMI Template'!H107=\"PS_Retail\",\"PS\",IF('FMI Template'!H107=\"PS_LV\",\"PS\",'FMI Template'!H107))))),\"\")","v":""},{"$f":"IF(AND('FMI Template'!I107<>\"\", 'FMI Template'!I107<>\"UA\"),'FMI Template'!I107,\"\")","v":""},{"$f":"IF(AND('FMI Template'!J107<>\"\",'FMI Template'!J107<>\"UA\"),IF('FMI Template'!J107=\"CSD_SSS\",\"CSD-SSS\",IF('FMI Template'!J107=\"CCP_Derivatives\",\"CCP-Derivatives\",IF('FMI Template'!J107=\"CCP_securities\",\"CCP-securities\",IF('FMI Template'!J107=\"Trading_venue\",\"Trading-venue\",'FMI Template'!J107)))),\"\")","v":""},{"$f":"IF(AND('FMI Template'!K107<>\"\",'FMI Template'!K107<>\"UA\"),'FMI Template'!K107,\"\")","v":""},{"$f":"IF('FMI Template'!K107=\"direct\",\"NA\",IF(AND('FMI Template'!M107<>\"\",'FMI Template'!M107<>\"UA\"),'FMI Template'!M107,\"\"))","v":""},{"$f":"IF('FMI Template'!K107=\"direct\",\"NA\",IF(AND('FMI Template'!N107<>\"\",'FMI Template'!N107<>\"UA\"),'FMI Template'!N107,\"\"))","v":""},{"$f":"IF(OR('FMI Template'!H107=\"Other\",'FMI Template'!H107=\"NA\"),'FMI Template'!Q107,\"\")","v":""},{"$f":"IF(AND('FMI Template'!O107<>\"\",'FMI Template'!O107<>\"NA\",'FMI Template'!O107<>\"UA\"),'FMI Template'!O107,\"\")","v":""}]
[null,{"$f":"IF(AND('FMI Template'!B108<>\"\",'FMI Template'!B108<>\"NA\",'FMI Template'!B108<>\"UA\"),'FMI Template'!B108,\"\")","v":""},{"$f":"IF(AND('FMI Template'!C108<>\"\",'FMI Template'!C108<>\"NA\",'FMI Template'!C108<>\"UA\"),'FMI Template'!C108,\"\")","v":""},{"$f":"IF(AND('FMI Template'!D108<>\"\",'FMI Template'!D108<>\"NA\",'FMI Template'!D108<>\"UA\"),'FMI Template'!D108,\"\")","v":""},{"$f":"IF(AND('FMI Template'!F108<>\"\",'FMI Template'!F108<>\"NA\",'FMI Template'!F108<>\"UA\"),'FMI Template'!F108,\"\")","v":""},{"$f":"IF(AND('FMI Template'!H108<>\"\", 'FMI Template'!H108<>\"UA\"),IF('FMI Template'!H108=\"CSD\",\"(I)CSD\",IF('FMI Template'!H108=\"CCP_Derivatives\",\"CCP-Derivatives\",IF('FMI Template'!H108=\"CCP_securities\",\"CCP-securities\",IF('FMI Template'!H108=\"PS_Retail\",\"PS\",IF('FMI Template'!H108=\"PS_LV\",\"PS\",'FMI Template'!H108))))),\"\")","v":""},{"$f":"IF(AND('FMI Template'!I108<>\"\", 'FMI Template'!I108<>\"UA\"),'FMI Template'!I108,\"\")","v":""},{"$f":"IF(AND('FMI Template'!J108<>\"\",'FMI Template'!J108<>\"UA\"),IF('FMI Template'!J108=\"CSD_SSS\",\"CSD-SSS\",IF('FMI Template'!J108=\"CCP_Derivatives\",\"CCP-Derivatives\",IF('FMI Template'!J108=\"CCP_securities\",\"CCP-securities\",IF('FMI Template'!J108=\"Trading_venue\",\"Trading-venue\",'FMI Template'!J108)))),\"\")","v":""},{"$f":"IF(AND('FMI Template'!K108<>\"\",'FMI Template'!K108<>\"UA\"),'FMI Template'!K108,\"\")","v":""},{"$f":"IF('FMI Template'!K108=\"direct\",\"NA\",IF(AND('FMI Template'!M108<>\"\",'FMI Template'!M108<>\"UA\"),'FMI Template'!M108,\"\"))","v":""},{"$f":"IF('FMI Template'!K108=\"direct\",\"NA\",IF(AND('FMI Template'!N108<>\"\",'FMI Template'!N108<>\"UA\"),'FMI Template'!N108,\"\"))","v":""},{"$f":"IF(OR('FMI Template'!H108=\"Other\",'FMI Template'!H108=\"NA\"),'FMI Template'!Q108,\"\")","v":""},{"$f":"IF(AND('FMI Template'!O108<>\"\",'FMI Template'!O108<>\"NA\",'FMI Template'!O108<>\"UA\"),'FMI Template'!O108,\"\")","v":""}]
[null,{"$f":"IF(AND('FMI Template'!B109<>\"\",'FMI Template'!B109<>\"NA\",'FMI Template'!B109<>\"UA\"),'FMI Template'!B109,\"\")","v":""},{"$f":"IF(AND('FMI Template'!C109<>\"\",'FMI Template'!C109<>\"NA\",'FMI Template'!C109<>\"UA\"),'FMI Template'!C109,\"\")","v":""},{"$f":"IF(AND('FMI Template'!D109<>\"\",'FMI Template'!D109<>\"NA\",'FMI Template'!D109<>\"UA\"),'FMI Template'!D109,\"\")","v":""},{"$f":"IF(AND('FMI Template'!F109<>\"\",'FMI Template'!F109<>\"NA\",'FMI Template'!F109<>\"UA\"),'FMI Template'!F109,\"\")","v":""},{"$f":"IF(AND('FMI Template'!H109<>\"\", 'FMI Template'!H109<>\"UA\"),IF('FMI Template'!H109=\"CSD\",\"(I)CSD\",IF('FMI Template'!H109=\"CCP_Derivatives\",\"CCP-Derivatives\",IF('FMI Template'!H109=\"CCP_securities\",\"CCP-securities\",IF('FMI Template'!H109=\"PS_Retail\",\"PS\",IF('FMI Template'!H109=\"PS_LV\",\"PS\",'FMI Template'!H109))))),\"\")","v":""},{"$f":"IF(AND('FMI Template'!I109<>\"\", 'FMI Template'!I109<>\"UA\"),'FMI Template'!I109,\"\")","v":""},{"$f":"IF(AND('FMI Template'!J109<>\"\",'FMI Template'!J109<>\"UA\"),IF('FMI Template'!J109=\"CSD_SSS\",\"CSD-SSS\",IF('FMI Template'!J109=\"CCP_Derivatives\",\"CCP-Derivatives\",IF('FMI Template'!J109=\"CCP_securities\",\"CCP-securities\",IF('FMI Template'!J109=\"Trading_venue\",\"Trading-venue\",'FMI Template'!J109)))),\"\")","v":""},{"$f":"IF(AND('FMI Template'!K109<>\"\",'FMI Template'!K109<>\"UA\"),'FMI Template'!K109,\"\")","v":""},{"$f":"IF('FMI Template'!K109=\"direct\",\"NA\",IF(AND('FMI Template'!M109<>\"\",'FMI Template'!M109<>\"UA\"),'FMI Template'!M109,\"\"))","v":""},{"$f":"IF('FMI Template'!K109=\"direct\",\"NA\",IF(AND('FMI Template'!N109<>\"\",'FMI Template'!N109<>\"UA\"),'FMI Template'!N109,\"\"))","v":""},{"$f":"IF(OR('FMI Template'!H109=\"Other\",'FMI Template'!H109=\"NA\"),'FMI Template'!Q109,\"\")","v":""},{"$f":"IF(AND('FMI Template'!O109<>\"\",'FMI Template'!O109<>\"NA\",'FMI Template'!O109<>\"UA\"),'FMI Template'!O109,\"\")","v":""}]
[null,{"$f":"IF(AND('FMI Template'!B110<>\"\",'FMI Template'!B110<>\"NA\",'FMI Template'!B110<>\"UA\"),'FMI Template'!B110,\"\")","v":""},{"$f":"IF(AND('FMI Template'!C110<>\"\",'FMI Template'!C110<>\"NA\",'FMI Template'!C110<>\"UA\"),'FMI Template'!C110,\"\")","v":""},{"$f":"IF(AND('FMI Template'!D110<>\"\",'FMI Template'!D110<>\"NA\",'FMI Template'!D110<>\"UA\"),'FMI Template'!D110,\"\")","v":""},{"$f":"IF(AND('FMI Template'!F110<>\"\",'FMI Template'!F110<>\"NA\",'FMI Template'!F110<>\"UA\"),'FMI Template'!F110,\"\")","v":""},{"$f":"IF(AND('FMI Template'!H110<>\"\", 'FMI Template'!H110<>\"UA\"),IF('FMI Template'!H110=\"CSD\",\"(I)CSD\",IF('FMI Template'!H110=\"CCP_Derivatives\",\"CCP-Derivatives\",IF('FMI Template'!H110=\"CCP_securities\",\"CCP-securities\",IF('FMI Template'!H110=\"PS_Retail\",\"PS\",IF('FMI Template'!H110=\"PS_LV\",\"PS\",'FMI Template'!H110))))),\"\")","v":""},{"$f":"IF(AND('FMI Template'!I110<>\"\", 'FMI Template'!I110<>\"UA\"),'FMI Template'!I110,\"\")","v":""},{"$f":"IF(AND('FMI Template'!J110<>\"\",'FMI Template'!J110<>\"UA\"),IF('FMI Template'!J110=\"CSD_SSS\",\"CSD-SSS\",IF('FMI Template'!J110=\"CCP_Derivatives\",\"CCP-Derivatives\",IF('FMI Template'!J110=\"CCP_securities\",\"CCP-securities\",IF('FMI Template'!J110=\"Trading_venue\",\"Trading-venue\",'FMI Template'!J110)))),\"\")","v":""},{"$f":"IF(AND('FMI Template'!K110<>\"\",'FMI Template'!K110<>\"UA\"),'FMI Template'!K110,\"\")","v":""},{"$f":"IF('FMI Template'!K110=\"direct\",\"NA\",IF(AND('FMI Template'!M110<>\"\",'FMI Template'!M110<>\"UA\"),'FMI Template'!M110,\"\"))","v":""},{"$f":"IF('FMI Template'!K110=\"direct\",\"NA\",IF(AND('FMI Template'!N110<>\"\",'FMI Template'!N110<>\"UA\"),'FMI Template'!N110,\"\"))","v":""},{"$f":"IF(OR('FMI Template'!H110=\"Other\",'FMI Template'!H110=\"NA\"),'FMI Template'!Q110,\"\")","v":""},{"$f":"IF(AND('FMI Template'!O110<>\"\",'FMI Template'!O110<>\"NA\",'FMI Template'!O110<>\"UA\"),'FMI Template'!O110,\"\")","v":""}]
[null,{"$f":"IF(AND('FMI Template'!B111<>\"\",'FMI Template'!B111<>\"NA\",'FMI Template'!B111<>\"UA\"),'FMI Template'!B111,\"\")","v":""},{"$f":"IF(AND('FMI Template'!C111<>\"\",'FMI Template'!C111<>\"NA\",'FMI Template'!C111<>\"UA\"),'FMI Template'!C111,\"\")","v":""},{"$f":"IF(AND('FMI Template'!D111<>\"\",'FMI Template'!D111<>\"NA\",'FMI Template'!D111<>\"UA\"),'FMI Template'!D111,\"\")","v":""},{"$f":"IF(AND('FMI Template'!F111<>\"\",'FMI Template'!F111<>\"NA\",'FMI Template'!F111<>\"UA\"),'FMI Template'!F111,\"\")","v":""},{"$f":"IF(AND('FMI Template'!H111<>\"\", 'FMI Template'!H111<>\"UA\"),IF('FMI Template'!H111=\"CSD\",\"(I)CSD\",IF('FMI Template'!H111=\"CCP_Derivatives\",\"CCP-Derivatives\",IF('FMI Template'!H111=\"CCP_securities\",\"CCP-securities\",IF('FMI Template'!H111=\"PS_Retail\",\"PS\",IF('FMI Template'!H111=\"PS_LV\",\"PS\",'FMI Template'!H111))))),\"\")","v":""},{"$f":"IF(AND('FMI Template'!I111<>\"\", 'FMI Template'!I111<>\"UA\"),'FMI Template'!I111,\"\")","v":""},{"$f":"IF(AND('FMI Template'!J111<>\"\",'FMI Template'!J111<>\"UA\"),IF('FMI Template'!J111=\"CSD_SSS\",\"CSD-SSS\",IF('FMI Template'!J111=\"CCP_Derivatives\",\"CCP-Derivatives\",IF('FMI Template'!J111=\"CCP_securities\",\"CCP-securities\",IF('FMI Template'!J111=\"Trading_venue\",\"Trading-venue\",'FMI Template'!J111)))),\"\")","v":""},{"$f":"IF(AND('FMI Template'!K111<>\"\",'FMI Template'!K111<>\"UA\"),'FMI Template'!K111,\"\")","v":""},{"$f":"IF('FMI Template'!K111=\"direct\",\"NA\",IF(AND('FMI Template'!M111<>\"\",'FMI Template'!M111<>\"UA\"),'FMI Template'!M111,\"\"))","v":""},{"$f":"IF('FMI Template'!K111=\"direct\",\"NA\",IF(AND('FMI Template'!N111<>\"\",'FMI Template'!N111<>\"UA\"),'FMI Template'!N111,\"\"))","v":""},{"$f":"IF(OR('FMI Template'!H111=\"Other\",'FMI Template'!H111=\"NA\"),'FMI Template'!Q111,\"\")","v":""},{"$f":"IF(AND('FMI Template'!O111<>\"\",'FMI Template'!O111<>\"NA\",'FMI Template'!O111<>\"UA\"),'FMI Template'!O111,\"\")","v":""}]
[null,{"$f":"IF(AND('FMI Template'!B112<>\"\",'FMI Template'!B112<>\"NA\",'FMI Template'!B112<>\"UA\"),'FMI Template'!B112,\"\")","v":""},{"$f":"IF(AND('FMI Template'!C112<>\"\",'FMI Template'!C112<>\"NA\",'FMI Template'!C112<>\"UA\"),'FMI Template'!C112,\"\")","v":""},{"$f":"IF(AND('FMI Template'!D112<>\"\",'FMI Template'!D112<>\"NA\",'FMI Template'!D112<>\"UA\"),'FMI Template'!D112,\"\")","v":""},{"$f":"IF(AND('FMI Template'!F112<>\"\",'FMI Template'!F112<>\"NA\",'FMI Template'!F112<>\"UA\"),'FMI Template'!F112,\"\")","v":""},{"$f":"IF(AND('FMI Template'!H112<>\"\", 'FMI Template'!H112<>\"UA\"),IF('FMI Template'!H112=\"CSD\",\"(I)CSD\",IF('FMI Template'!H112=\"CCP_Derivatives\",\"CCP-Derivatives\",IF('FMI Template'!H112=\"CCP_securities\",\"CCP-securities\",IF('FMI Template'!H112=\"PS_Retail\",\"PS\",IF('FMI Template'!H112=\"PS_LV\",\"PS\",'FMI Template'!H112))))),\"\")","v":""},{"$f":"IF(AND('FMI Template'!I112<>\"\", 'FMI Template'!I112<>\"UA\"),'FMI Template'!I112,\"\")","v":""},{"$f":"IF(AND('FMI Template'!J112<>\"\",'FMI Template'!J112<>\"UA\"),IF('FMI Template'!J112=\"CSD_SSS\",\"CSD-SSS\",IF('FMI Template'!J112=\"CCP_Derivatives\",\"CCP-Derivatives\",IF('FMI Template'!J112=\"CCP_securities\",\"CCP-securities\",IF('FMI Template'!J112=\"Trading_venue\",\"Trading-venue\",'FMI Template'!J112)))),\"\")","v":""},{"$f":"IF(AND('FMI Template'!K112<>\"\",'FMI Template'!K112<>\"UA\"),'FMI Template'!K112,\"\")","v":""},{"$f":"IF('FMI Template'!K112=\"direct\",\"NA\",IF(AND('FMI Template'!M112<>\"\",'FMI Template'!M112<>\"UA\"),'FMI Template'!M112,\"\"))","v":""},{"$f":"IF('FMI Template'!K112=\"direct\",\"NA\",IF(AND('FMI Template'!N112<>\"\",'FMI Template'!N112<>\"UA\"),'FMI Template'!N112,\"\"))","v":""},{"$f":"IF(OR('FMI Template'!H112=\"Other\",'FMI Template'!H112=\"NA\"),'FMI Template'!Q112,\"\")","v":""},{"$f":"IF(AND('FMI Template'!O112<>\"\",'FMI Template'!O112<>\"NA\",'FMI Template'!O112<>\"UA\"),'FMI Template'!O112,\"\")","v":""}]
[null,{"$f":"IF(AND('FMI Template'!B113<>\"\",'FMI Template'!B113<>\"NA\",'FMI Template'!B113<>\"UA\"),'FMI Template'!B113,\"\")","v":""},{"$f":"IF(AND('FMI Template'!C113<>\"\",'FMI Template'!C113<>\"NA\",'FMI Template'!C113<>\"UA\"),'FMI Template'!C113,\"\")","v":""},{"$f":"IF(AND('FMI Template'!D113<>\"\",'FMI Template'!D113<>\"NA\",'FMI Template'!D113<>\"UA\"),'FMI Template'!D113,\"\")","v":""},{"$f":"IF(AND('FMI Template'!F113<>\"\",'FMI Template'!F113<>\"NA\",'FMI Template'!F113<>\"UA\"),'FMI Template'!F113,\"\")","v":""},{"$f":"IF(AND('FMI Template'!H113<>\"\", 'FMI Template'!H113<>\"UA\"),IF('FMI Template'!H113=\"CSD\",\"(I)CSD\",IF('FMI Template'!H113=\"CCP_Derivatives\",\"CCP-Derivatives\",IF('FMI Template'!H113=\"CCP_securities\",\"CCP-securities\",IF('FMI Template'!H113=\"PS_Retail\",\"PS\",IF('FMI Template'!H113=\"PS_LV\",\"PS\",'FMI Template'!H113))))),\"\")","v":""},{"$f":"IF(AND('FMI Template'!I113<>\"\", 'FMI Template'!I113<>\"UA\"),'FMI Template'!I113,\"\")","v":""},{"$f":"IF(AND('FMI Template'!J113<>\"\",'FMI Template'!J113<>\"UA\"),IF('FMI Template'!J113=\"CSD_SSS\",\"CSD-SSS\",IF('FMI Template'!J113=\"CCP_Derivatives\",\"CCP-Derivatives\",IF('FMI Template'!J113=\"CCP_securities\",\"CCP-securities\",IF('FMI Template'!J113=\"Trading_venue\",\"Trading-venue\",'FMI Template'!J113)))),\"\")","v":""},{"$f":"IF(AND('FMI Template'!K113<>\"\",'FMI Template'!K113<>\"UA\"),'FMI Template'!K113,\"\")","v":""},{"$f":"IF('FMI Template'!K113=\"direct\",\"NA\",IF(AND('FMI Template'!M113<>\"\",'FMI Template'!M113<>\"UA\"),'FMI Template'!M113,\"\"))","v":""},{"$f":"IF('FMI Template'!K113=\"direct\",\"NA\",IF(AND('FMI Template'!N113<>\"\",'FMI Template'!N113<>\"UA\"),'FMI Template'!N113,\"\"))","v":""},{"$f":"IF(OR('FMI Template'!H113=\"Other\",'FMI Template'!H113=\"NA\"),'FMI Template'!Q113,\"\")","v":""},{"$f":"IF(AND('FMI Template'!O113<>\"\",'FMI Template'!O113<>\"NA\",'FMI Template'!O113<>\"UA\"),'FMI Template'!O113,\"\")","v":""}]
[null,{"$f":"IF(AND('FMI Template'!B114<>\"\",'FMI Template'!B114<>\"NA\",'FMI Template'!B114<>\"UA\"),'FMI Template'!B114,\"\")","v":""},{"$f":"IF(AND('FMI Template'!C114<>\"\",'FMI Template'!C114<>\"NA\",'FMI Template'!C114<>\"UA\"),'FMI Template'!C114,\"\")","v":""},{"$f":"IF(AND('FMI Template'!D114<>\"\",'FMI Template'!D114<>\"NA\",'FMI Template'!D114<>\"UA\"),'FMI Template'!D114,\"\")","v":""},{"$f":"IF(AND('FMI Template'!F114<>\"\",'FMI Template'!F114<>\"NA\",'FMI Template'!F114<>\"UA\"),'FMI Template'!F114,\"\")","v":""},{"$f":"IF(AND('FMI Template'!H114<>\"\", 'FMI Template'!H114<>\"UA\"),IF('FMI Template'!H114=\"CSD\",\"(I)CSD\",IF('FMI Template'!H114=\"CCP_Derivatives\",\"CCP-Derivatives\",IF('FMI Template'!H114=\"CCP_securities\",\"CCP-securities\",IF('FMI Template'!H114=\"PS_Retail\",\"PS\",IF('FMI Template'!H114=\"PS_LV\",\"PS\",'FMI Template'!H114))))),\"\")","v":""},{"$f":"IF(AND('FMI Template'!I114<>\"\", 'FMI Template'!I114<>\"UA\"),'FMI Template'!I114,\"\")","v":""},{"$f":"IF(AND('FMI Template'!J114<>\"\",'FMI Template'!J114<>\"UA\"),IF('FMI Template'!J114=\"CSD_SSS\",\"CSD-SSS\",IF('FMI Template'!J114=\"CCP_Derivatives\",\"CCP-Derivatives\",IF('FMI Template'!J114=\"CCP_securities\",\"CCP-securities\",IF('FMI Template'!J114=\"Trading_venue\",\"Trading-venue\",'FMI Template'!J114)))),\"\")","v":""},{"$f":"IF(AND('FMI Template'!K114<>\"\",'FMI Template'!K114<>\"UA\"),'FMI Template'!K114,\"\")","v":""},{"$f":"IF('FMI Template'!K114=\"direct\",\"NA\",IF(AND('FMI Template'!M114<>\"\",'FMI Template'!M114<>\"UA\"),'FMI Template'!M114,\"\"))","v":""},{"$f":"IF('FMI Template'!K114=\"direct\",\"NA\",IF(AND('FMI Template'!N114<>\"\",'FMI Template'!N114<>\"UA\"),'FMI Template'!N114,\"\"))","v":""},{"$f":"IF(OR('FMI Template'!H114=\"Other\",'FMI Template'!H114=\"NA\"),'FMI Template'!Q114,\"\")","v":""},{"$f":"IF(AND('FMI Template'!O114<>\"\",'FMI Template'!O114<>\"NA\",'FMI Template'!O114<>\"UA\"),'FMI Template'!O114,\"\")","v":""}]
[null,{"$f":"IF(AND('FMI Template'!B115<>\"\",'FMI Template'!B115<>\"NA\",'FMI Template'!B115<>\"UA\"),'FMI Template'!B115,\"\")","v":""},{"$f":"IF(AND('FMI Template'!C115<>\"\",'FMI Template'!C115<>\"NA\",'FMI Template'!C115<>\"UA\"),'FMI Template'!C115,\"\")","v":""},{"$f":"IF(AND('FMI Template'!D115<>\"\",'FMI Template'!D115<>\"NA\",'FMI Template'!D115<>\"UA\"),'FMI Template'!D115,\"\")","v":""},{"$f":"IF(AND('FMI Template'!F115<>\"\",'FMI Template'!F115<>\"NA\",'FMI Template'!F115<>\"UA\"),'FMI Template'!F115,\"\")","v":""},{"$f":"IF(AND('FMI Template'!H115<>\"\", 'FMI Template'!H115<>\"UA\"),IF('FMI Template'!H115=\"CSD\",\"(I)CSD\",IF('FMI Template'!H115=\"CCP_Derivatives\",\"CCP-Derivatives\",IF('FMI Template'!H115=\"CCP_securities\",\"CCP-securities\",IF('FMI Template'!H115=\"PS_Retail\",\"PS\",IF('FMI Template'!H115=\"PS_LV\",\"PS\",'FMI Template'!H115))))),\"\")","v":""},{"$f":"IF(AND('FMI Template'!I115<>\"\", 'FMI Template'!I115<>\"UA\"),'FMI Template'!I115,\"\")","v":""},{"$f":"IF(AND('FMI Template'!J115<>\"\",'FMI Template'!J115<>\"UA\"),IF('FMI Template'!J115=\"CSD_SSS\",\"CSD-SSS\",IF('FMI Template'!J115=\"CCP_Derivatives\",\"CCP-Derivatives\",IF('FMI Template'!J115=\"CCP_securities\",\"CCP-securities\",IF('FMI Template'!J115=\"Trading_venue\",\"Trading-venue\",'FMI Template'!J115)))),\"\")","v":""},{"$f":"IF(AND('FMI Template'!K115<>\"\",'FMI Template'!K115<>\"UA\"),'FMI Template'!K115,\"\")","v":""},{"$f":"IF('FMI Template'!K115=\"direct\",\"NA\",IF(AND('FMI Template'!M115<>\"\",'FMI Template'!M115<>\"UA\"),'FMI Template'!M115,\"\"))","v":""},{"$f":"IF('FMI Template'!K115=\"direct\",\"NA\",IF(AND('FMI Template'!N115<>\"\",'FMI Template'!N115<>\"UA\"),'FMI Template'!N115,\"\"))","v":""},{"$f":"IF(OR('FMI Template'!H115=\"Other\",'FMI Template'!H115=\"NA\"),'FMI Template'!Q115,\"\")","v":""},{"$f":"IF(AND('FMI Template'!O115<>\"\",'FMI Template'!O115<>\"NA\",'FMI Template'!O115<>\"UA\"),'FMI Template'!O115,\"\")","v":""}]
[null,{"$f":"IF(AND('FMI Template'!B116<>\"\",'FMI Template'!B116<>\"NA\",'FMI Template'!B116<>\"UA\"),'FMI Template'!B116,\"\")","v":""},{"$f":"IF(AND('FMI Template'!C116<>\"\",'FMI Template'!C116<>\"NA\",'FMI Template'!C116<>\"UA\"),'FMI Template'!C116,\"\")","v":""},{"$f":"IF(AND('FMI Template'!D116<>\"\",'FMI Template'!D116<>\"NA\",'FMI Template'!D116<>\"UA\"),'FMI Template'!D116,\"\")","v":""},{"$f":"IF(AND('FMI Template'!F116<>\"\",'FMI Template'!F116<>\"NA\",'FMI Template'!F116<>\"UA\"),'FMI Template'!F116,\"\")","v":""},{"$f":"IF(AND('FMI Template'!H116<>\"\", 'FMI Template'!H116<>\"UA\"),IF('FMI Template'!H116=\"CSD\",\"(I)CSD\",IF('FMI Template'!H116=\"CCP_Derivatives\",\"CCP-Derivatives\",IF('FMI Template'!H116=\"CCP_securities\",\"CCP-securities\",IF('FMI Template'!H116=\"PS_Retail\",\"PS\",IF('FMI Template'!H116=\"PS_LV\",\"PS\",'FMI Template'!H116))))),\"\")","v":""},{"$f":"IF(AND('FMI Template'!I116<>\"\", 'FMI Template'!I116<>\"UA\"),'FMI Template'!I116,\"\")","v":""},{"$f":"IF(AND('FMI Template'!J116<>\"\",'FMI Template'!J116<>\"UA\"),IF('FMI Template'!J116=\"CSD_SSS\",\"CSD-SSS\",IF('FMI Template'!J116=\"CCP_Derivatives\",\"CCP-Derivatives\",IF('FMI Template'!J116=\"CCP_securities\",\"CCP-securities\",IF('FMI Template'!J116=\"Trading_venue\",\"Trading-venue\",'FMI Template'!J116)))),\"\")","v":""},{"$f":"IF(AND('FMI Template'!K116<>\"\",'FMI Template'!K116<>\"UA\"),'FMI Template'!K116,\"\")","v":""},{"$f":"IF('FMI Template'!K116=\"direct\",\"NA\",IF(AND('FMI Template'!M116<>\"\",'FMI Template'!M116<>\"UA\"),'FMI Template'!M116,\"\"))","v":""},{"$f":"IF('FMI Template'!K116=\"direct\",\"NA\",IF(AND('FMI Template'!N116<>\"\",'FMI Template'!N116<>\"UA\"),'FMI Template'!N116,\"\"))","v":""},{"$f":"IF(OR('FMI Template'!H116=\"Other\",'FMI Template'!H116=\"NA\"),'FMI Template'!Q116,\"\")","v":""},{"$f":"IF(AND('FMI Template'!O116<>\"\",'FMI Template'!O116<>\"NA\",'FMI Template'!O116<>\"UA\"),'FMI Template'!O116,\"\")","v":""}]
[null,{"$f":"IF(AND('FMI Template'!B117<>\"\",'FMI Template'!B117<>\"NA\",'FMI Template'!B117<>\"UA\"),'FMI Template'!B117,\"\")","v":""},{"$f":"IF(AND('FMI Template'!C117<>\"\",'FMI Template'!C117<>\"NA\",'FMI Template'!C117<>\"UA\"),'FMI Template'!C117,\"\")","v":""},{"$f":"IF(AND('FMI Template'!D117<>\"\",'FMI Template'!D117<>\"NA\",'FMI Template'!D117<>\"UA\"),'FMI Template'!D117,\"\")","v":""},{"$f":"IF(AND('FMI Template'!F117<>\"\",'FMI Template'!F117<>\"NA\",'FMI Template'!F117<>\"UA\"),'FMI Template'!F117,\"\")","v":""},{"$f":"IF(AND('FMI Template'!H117<>\"\", 'FMI Template'!H117<>\"UA\"),IF('FMI Template'!H117=\"CSD\",\"(I)CSD\",IF('FMI Template'!H117=\"CCP_Derivatives\",\"CCP-Derivatives\",IF('FMI Template'!H117=\"CCP_securities\",\"CCP-securities\",IF('FMI Template'!H117=\"PS_Retail\",\"PS\",IF('FMI Template'!H117=\"PS_LV\",\"PS\",'FMI Template'!H117))))),\"\")","v":""},{"$f":"IF(AND('FMI Template'!I117<>\"\", 'FMI Template'!I117<>\"UA\"),'FMI Template'!I117,\"\")","v":""},{"$f":"IF(AND('FMI Template'!J117<>\"\",'FMI Template'!J117<>\"UA\"),IF('FMI Template'!J117=\"CSD_SSS\",\"CSD-SSS\",IF('FMI Template'!J117=\"CCP_Derivatives\",\"CCP-Derivatives\",IF('FMI Template'!J117=\"CCP_securities\",\"CCP-securities\",IF('FMI Template'!J117=\"Trading_venue\",\"Trading-venue\",'FMI Template'!J117)))),\"\")","v":""},{"$f":"IF(AND('FMI Template'!K117<>\"\",'FMI Template'!K117<>\"UA\"),'FMI Template'!K117,\"\")","v":""},{"$f":"IF('FMI Template'!K117=\"direct\",\"NA\",IF(AND('FMI Template'!M117<>\"\",'FMI Template'!M117<>\"UA\"),'FMI Template'!M117,\"\"))","v":""},{"$f":"IF('FMI Template'!K117=\"direct\",\"NA\",IF(AND('FMI Template'!N117<>\"\",'FMI Template'!N117<>\"UA\"),'FMI Template'!N117,\"\"))","v":""},{"$f":"IF(OR('FMI Template'!H117=\"Other\",'FMI Template'!H117=\"NA\"),'FMI Template'!Q117,\"\")","v":""},{"$f":"IF(AND('FMI Template'!O117<>\"\",'FMI Template'!O117<>\"NA\",'FMI Template'!O117<>\"UA\"),'FMI Template'!O117,\"\")","v":""}]
[null,{"$f":"IF(AND('FMI Template'!B118<>\"\",'FMI Template'!B118<>\"NA\",'FMI Template'!B118<>\"UA\"),'FMI Template'!B118,\"\")","v":""},{"$f":"IF(AND('FMI Template'!C118<>\"\",'FMI Template'!C118<>\"NA\",'FMI Template'!C118<>\"UA\"),'FMI Template'!C118,\"\")","v":""},{"$f":"IF(AND('FMI Template'!D118<>\"\",'FMI Template'!D118<>\"NA\",'FMI Template'!D118<>\"UA\"),'FMI Template'!D118,\"\")","v":""},{"$f":"IF(AND('FMI Template'!F118<>\"\",'FMI Template'!F118<>\"NA\",'FMI Template'!F118<>\"UA\"),'FMI Template'!F118,\"\")","v":""},{"$f":"IF(AND('FMI Template'!H118<>\"\", 'FMI Template'!H118<>\"UA\"),IF('FMI Template'!H118=\"CSD\",\"(I)CSD\",IF('FMI Template'!H118=\"CCP_Derivatives\",\"CCP-Derivatives\",IF('FMI Template'!H118=\"CCP_securities\",\"CCP-securities\",IF('FMI Template'!H118=\"PS_Retail\",\"PS\",IF('FMI Template'!H118=\"PS_LV\",\"PS\",'FMI Template'!H118))))),\"\")","v":""},{"$f":"IF(AND('FMI Template'!I118<>\"\", 'FMI Template'!I118<>\"UA\"),'FMI Template'!I118,\"\")","v":""},{"$f":"IF(AND('FMI Template'!J118<>\"\",'FMI Template'!J118<>\"UA\"),IF('FMI Template'!J118=\"CSD_SSS\",\"CSD-SSS\",IF('FMI Template'!J118=\"CCP_Derivatives\",\"CCP-Derivatives\",IF('FMI Template'!J118=\"CCP_securities\",\"CCP-securities\",IF('FMI Template'!J118=\"Trading_venue\",\"Trading-venue\",'FMI Template'!J118)))),\"\")","v":""},{"$f":"IF(AND('FMI Template'!K118<>\"\",'FMI Template'!K118<>\"UA\"),'FMI Template'!K118,\"\")","v":""},{"$f":"IF('FMI Template'!K118=\"direct\",\"NA\",IF(AND('FMI Template'!M118<>\"\",'FMI Template'!M118<>\"UA\"),'FMI Template'!M118,\"\"))","v":""},{"$f":"IF('FMI Template'!K118=\"direct\",\"NA\",IF(AND('FMI Template'!N118<>\"\",'FMI Template'!N118<>\"UA\"),'FMI Template'!N118,\"\"))","v":""},{"$f":"IF(OR('FMI Template'!H118=\"Other\",'FMI Template'!H118=\"NA\"),'FMI Template'!Q118,\"\")","v":""},{"$f":"IF(AND('FMI Template'!O118<>\"\",'FMI Template'!O118<>\"NA\",'FMI Template'!O118<>\"UA\"),'FMI Template'!O118,\"\")","v":""}]
[null,{"$f":"IF(AND('FMI Template'!B119<>\"\",'FMI Template'!B119<>\"NA\",'FMI Template'!B119<>\"UA\"),'FMI Template'!B119,\"\")","v":""},{"$f":"IF(AND('FMI Template'!C119<>\"\",'FMI Template'!C119<>\"NA\",'FMI Template'!C119<>\"UA\"),'FMI Template'!C119,\"\")","v":""},{"$f":"IF(AND('FMI Template'!D119<>\"\",'FMI Template'!D119<>\"NA\",'FMI Template'!D119<>\"UA\"),'FMI Template'!D119,\"\")","v":""},{"$f":"IF(AND('FMI Template'!F119<>\"\",'FMI Template'!F119<>\"NA\",'FMI Template'!F119<>\"UA\"),'FMI Template'!F119,\"\")","v":""},{"$f":"IF(AND('FMI Template'!H119<>\"\", 'FMI Template'!H119<>\"UA\"),IF('FMI Template'!H119=\"CSD\",\"(I)CSD\",IF('FMI Template'!H119=\"CCP_Derivatives\",\"CCP-Derivatives\",IF('FMI Template'!H119=\"CCP_securities\",\"CCP-securities\",IF('FMI Template'!H119=\"PS_Retail\",\"PS\",IF('FMI Template'!H119=\"PS_LV\",\"PS\",'FMI Template'!H119))))),\"\")","v":""},{"$f":"IF(AND('FMI Template'!I119<>\"\", 'FMI Template'!I119<>\"UA\"),'FMI Template'!I119,\"\")","v":""},{"$f":"IF(AND('FMI Template'!J119<>\"\",'FMI Template'!J119<>\"UA\"),IF('FMI Template'!J119=\"CSD_SSS\",\"CSD-SSS\",IF('FMI Template'!J119=\"CCP_Derivatives\",\"CCP-Derivatives\",IF('FMI Template'!J119=\"CCP_securities\",\"CCP-securities\",IF('FMI Template'!J119=\"Trading_venue\",\"Trading-venue\",'FMI Template'!J119)))),\"\")","v":""},{"$f":"IF(AND('FMI Template'!K119<>\"\",'FMI Template'!K119<>\"UA\"),'FMI Template'!K119,\"\")","v":""},{"$f":"IF('FMI Template'!K119=\"direct\",\"NA\",IF(AND('FMI Template'!M119<>\"\",'FMI Template'!M119<>\"UA\"),'FMI Template'!M119,\"\"))","v":""},{"$f":"IF('FMI Template'!K119=\"direct\",\"NA\",IF(AND('FMI Template'!N119<>\"\",'FMI Template'!N119<>\"UA\"),'FMI Template'!N119,\"\"))","v":""},{"$f":"IF(OR('FMI Template'!H119=\"Other\",'FMI Template'!H119=\"NA\"),'FMI Template'!Q119,\"\")","v":""},{"$f":"IF(AND('FMI Template'!O119<>\"\",'FMI Template'!O119<>\"NA\",'FMI Template'!O119<>\"UA\"),'FMI Template'!O119,\"\")","v":""}]
[null,{"$f":"IF(AND('FMI Template'!B120<>\"\",'FMI Template'!B120<>\"NA\",'FMI Template'!B120<>\"UA\"),'FMI Template'!B120,\"\")","v":""},{"$f":"IF(AND('FMI Template'!C120<>\"\",'FMI Template'!C120<>\"NA\",'FMI Template'!C120<>\"UA\"),'FMI Template'!C120,\"\")","v":""},{"$f":"IF(AND('FMI Template'!D120<>\"\",'FMI Template'!D120<>\"NA\",'FMI Template'!D120<>\"UA\"),'FMI Template'!D120,\"\")","v":""},{"$f":"IF(AND('FMI Template'!F120<>\"\",'FMI Template'!F120<>\"NA\",'FMI Template'!F120<>\"UA\"),'FMI Template'!F120,\"\")","v":""},{"$f":"IF(AND('FMI Template'!H120<>\"\", 'FMI Template'!H120<>\"UA\"),IF('FMI Template'!H120=\"CSD\",\"(I)CSD\",IF('FMI Template'!H120=\"CCP_Derivatives\",\"CCP-Derivatives\",IF('FMI Template'!H120=\"CCP_securities\",\"CCP-securities\",IF('FMI Template'!H120=\"PS_Retail\",\"PS\",IF('FMI Template'!H120=\"PS_LV\",\"PS\",'FMI Template'!H120))))),\"\")","v":""},{"$f":"IF(AND('FMI Template'!I120<>\"\", 'FMI Template'!I120<>\"UA\"),'FMI Template'!I120,\"\")","v":""},{"$f":"IF(AND('FMI Template'!J120<>\"\",'FMI Template'!J120<>\"UA\"),IF('FMI Template'!J120=\"CSD_SSS\",\"CSD-SSS\",IF('FMI Template'!J120=\"CCP_Derivatives\",\"CCP-Derivatives\",IF('FMI Template'!J120=\"CCP_securities\",\"CCP-securities\",IF('FMI Template'!J120=\"Trading_venue\",\"Trading-venue\",'FMI Template'!J120)))),\"\")","v":""},{"$f":"IF(AND('FMI Template'!K120<>\"\",'FMI Template'!K120<>\"UA\"),'FMI Template'!K120,\"\")","v":""},{"$f":"IF('FMI Template'!K120=\"direct\",\"NA\",IF(AND('FMI Template'!M120<>\"\",'FMI Template'!M120<>\"UA\"),'FMI Template'!M120,\"\"))","v":""},{"$f":"IF('FMI Template'!K120=\"direct\",\"NA\",IF(AND('FMI Template'!N120<>\"\",'FMI Template'!N120<>\"UA\"),'FMI Template'!N120,\"\"))","v":""},{"$f":"IF(OR('FMI Template'!H120=\"Other\",'FMI Template'!H120=\"NA\"),'FMI Template'!Q120,\"\")","v":""},{"$f":"IF(AND('FMI Template'!O120<>\"\",'FMI Template'!O120<>\"NA\",'FMI Template'!O120<>\"UA\"),'FMI Template'!O120,\"\")","v":""}]
[null,{"$f":"IF(AND('FMI Template'!B121<>\"\",'FMI Template'!B121<>\"NA\",'FMI Template'!B121<>\"UA\"),'FMI Template'!B121,\"\")","v":""},{"$f":"IF(AND('FMI Template'!C121<>\"\",'FMI Template'!C121<>\"NA\",'FMI Template'!C121<>\"UA\"),'FMI Template'!C121,\"\")","v":""},{"$f":"IF(AND('FMI Template'!D121<>\"\",'FMI Template'!D121<>\"NA\",'FMI Template'!D121<>\"UA\"),'FMI Template'!D121,\"\")","v":""},{"$f":"IF(AND('FMI Template'!F121<>\"\",'FMI Template'!F121<>\"NA\",'FMI Template'!F121<>\"UA\"),'FMI Template'!F121,\"\")","v":""},{"$f":"IF(AND('FMI Template'!H121<>\"\", 'FMI Template'!H121<>\"UA\"),IF('FMI Template'!H121=\"CSD\",\"(I)CSD\",IF('FMI Template'!H121=\"CCP_Derivatives\",\"CCP-Derivatives\",IF('FMI Template'!H121=\"CCP_securities\",\"CCP-securities\",IF('FMI Template'!H121=\"PS_Retail\",\"PS\",IF('FMI Template'!H121=\"PS_LV\",\"PS\",'FMI Template'!H121))))),\"\")","v":""},{"$f":"IF(AND('FMI Template'!I121<>\"\", 'FMI Template'!I121<>\"UA\"),'FMI Template'!I121,\"\")","v":""},{"$f":"IF(AND('FMI Template'!J121<>\"\",'FMI Template'!J121<>\"UA\"),IF('FMI Template'!J121=\"CSD_SSS\",\"CSD-SSS\",IF('FMI Template'!J121=\"CCP_Derivatives\",\"CCP-Derivatives\",IF('FMI Template'!J121=\"CCP_securities\",\"CCP-securities\",IF('FMI Template'!J121=\"Trading_venue\",\"Trading-venue\",'FMI Template'!J121)))),\"\")","v":""},{"$f":"IF(AND('FMI Template'!K121<>\"\",'FMI Template'!K121<>\"UA\"),'FMI Template'!K121,\"\")","v":""},{"$f":"IF('FMI Template'!K121=\"direct\",\"NA\",IF(AND('FMI Template'!M121<>\"\",'FMI Template'!M121<>\"UA\"),'FMI Template'!M121,\"\"))","v":""},{"$f":"IF('FMI Template'!K121=\"direct\",\"NA\",IF(AND('FMI Template'!N121<>\"\",'FMI Template'!N121<>\"UA\"),'FMI Template'!N121,\"\"))","v":""},{"$f":"IF(OR('FMI Template'!H121=\"Other\",'FMI Template'!H121=\"NA\"),'FMI Template'!Q121,\"\")","v":""},{"$f":"IF(AND('FMI Template'!O121<>\"\",'FMI Template'!O121<>\"NA\",'FMI Template'!O121<>\"UA\"),'FMI Template'!O121,\"\")","v":""}]
[null,{"$f":"IF(AND('FMI Template'!B122<>\"\",'FMI Template'!B122<>\"NA\",'FMI Template'!B122<>\"UA\"),'FMI Template'!B122,\"\")","v":""},{"$f":"IF(AND('FMI Template'!C122<>\"\",'FMI Template'!C122<>\"NA\",'FMI Template'!C122<>\"UA\"),'FMI Template'!C122,\"\")","v":""},{"$f":"IF(AND('FMI Template'!D122<>\"\",'FMI Template'!D122<>\"NA\",'FMI Template'!D122<>\"UA\"),'FMI Template'!D122,\"\")","v":""},{"$f":"IF(AND('FMI Template'!F122<>\"\",'FMI Template'!F122<>\"NA\",'FMI Template'!F122<>\"UA\"),'FMI Template'!F122,\"\")","v":""},{"$f":"IF(AND('FMI Template'!H122<>\"\", 'FMI Template'!H122<>\"UA\"),IF('FMI Template'!H122=\"CSD\",\"(I)CSD\",IF('FMI Template'!H122=\"CCP_Derivatives\",\"CCP-Derivatives\",IF('FMI Template'!H122=\"CCP_securities\",\"CCP-securities\",IF('FMI Template'!H122=\"PS_Retail\",\"PS\",IF('FMI Template'!H122=\"PS_LV\",\"PS\",'FMI Template'!H122))))),\"\")","v":""},{"$f":"IF(AND('FMI Template'!I122<>\"\", 'FMI Template'!I122<>\"UA\"),'FMI Template'!I122,\"\")","v":""},{"$f":"IF(AND('FMI Template'!J122<>\"\",'FMI Template'!J122<>\"UA\"),IF('FMI Template'!J122=\"CSD_SSS\",\"CSD-SSS\",IF('FMI Template'!J122=\"CCP_Derivatives\",\"CCP-Derivatives\",IF('FMI Template'!J122=\"CCP_securities\",\"CCP-securities\",IF('FMI Template'!J122=\"Trading_venue\",\"Trading-venue\",'FMI Template'!J122)))),\"\")","v":""},{"$f":"IF(AND('FMI Template'!K122<>\"\",'FMI Template'!K122<>\"UA\"),'FMI Template'!K122,\"\")","v":""},{"$f":"IF('FMI Template'!K122=\"direct\",\"NA\",IF(AND('FMI Template'!M122<>\"\",'FMI Template'!M122<>\"UA\"),'FMI Template'!M122,\"\"))","v":""},{"$f":"IF('FMI Template'!K122=\"direct\",\"NA\",IF(AND('FMI Template'!N122<>\"\",'FMI Template'!N122<>\"UA\"),'FMI Template'!N122,\"\"))","v":""},{"$f":"IF(OR('FMI Template'!H122=\"Other\",'FMI Template'!H122=\"NA\"),'FMI Template'!Q122,\"\")","v":""},{"$f":"IF(AND('FMI Template'!O122<>\"\",'FMI Template'!O122<>\"NA\",'FMI Template'!O122<>\"UA\"),'FMI Template'!O122,\"\")","v":""}]
[null,{"$f":"IF(AND('FMI Template'!B123<>\"\",'FMI Template'!B123<>\"NA\",'FMI Template'!B123<>\"UA\"),'FMI Template'!B123,\"\")","v":""},{"$f":"IF(AND('FMI Template'!C123<>\"\",'FMI Template'!C123<>\"NA\",'FMI Template'!C123<>\"UA\"),'FMI Template'!C123,\"\")","v":""},{"$f":"IF(AND('FMI Template'!D123<>\"\",'FMI Template'!D123<>\"NA\",'FMI Template'!D123<>\"UA\"),'FMI Template'!D123,\"\")","v":""},{"$f":"IF(AND('FMI Template'!F123<>\"\",'FMI Template'!F123<>\"NA\",'FMI Template'!F123<>\"UA\"),'FMI Template'!F123,\"\")","v":""},{"$f":"IF(AND('FMI Template'!H123<>\"\", 'FMI Template'!H123<>\"UA\"),IF('FMI Template'!H123=\"CSD\",\"(I)CSD\",IF('FMI Template'!H123=\"CCP_Derivatives\",\"CCP-Derivatives\",IF('FMI Template'!H123=\"CCP_securities\",\"CCP-securities\",IF('FMI Template'!H123=\"PS_Retail\",\"PS\",IF('FMI Template'!H123=\"PS_LV\",\"PS\",'FMI Template'!H123))))),\"\")","v":""},{"$f":"IF(AND('FMI Template'!I123<>\"\", 'FMI Template'!I123<>\"UA\"),'FMI Template'!I123,\"\")","v":""},{"$f":"IF(AND('FMI Template'!J123<>\"\",'FMI Template'!J123<>\"UA\"),IF('FMI Template'!J123=\"CSD_SSS\",\"CSD-SSS\",IF('FMI Template'!J123=\"CCP_Derivatives\",\"CCP-Derivatives\",IF('FMI Template'!J123=\"CCP_securities\",\"CCP-securities\",IF('FMI Template'!J123=\"Trading_venue\",\"Trading-venue\",'FMI Template'!J123)))),\"\")","v":""},{"$f":"IF(AND('FMI Template'!K123<>\"\",'FMI Template'!K123<>\"UA\"),'FMI Template'!K123,\"\")","v":""},{"$f":"IF('FMI Template'!K123=\"direct\",\"NA\",IF(AND('FMI Template'!M123<>\"\",'FMI Template'!M123<>\"UA\"),'FMI Template'!M123,\"\"))","v":""},{"$f":"IF('FMI Template'!K123=\"direct\",\"NA\",IF(AND('FMI Template'!N123<>\"\",'FMI Template'!N123<>\"UA\"),'FMI Template'!N123,\"\"))","v":""},{"$f":"IF(OR('FMI Template'!H123=\"Other\",'FMI Template'!H123=\"NA\"),'FMI Template'!Q123,\"\")","v":""},{"$f":"IF(AND('FMI Template'!O123<>\"\",'FMI Template'!O123<>\"NA\",'FMI Template'!O123<>\"UA\"),'FMI Template'!O123,\"\")","v":""}]
[null,{"$f":"IF(AND('FMI Template'!B124<>\"\",'FMI Template'!B124<>\"NA\",'FMI Template'!B124<>\"UA\"),'FMI Template'!B124,\"\")","v":""},{"$f":"IF(AND('FMI Template'!C124<>\"\",'FMI Template'!C124<>\"NA\",'FMI Template'!C124<>\"UA\"),'FMI Template'!C124,\"\")","v":""},{"$f":"IF(AND('FMI Template'!D124<>\"\",'FMI Template'!D124<>\"NA\",'FMI Template'!D124<>\"UA\"),'FMI Template'!D124,\"\")","v":""},{"$f":"IF(AND('FMI Template'!F124<>\"\",'FMI Template'!F124<>\"NA\",'FMI Template'!F124<>\"UA\"),'FMI Template'!F124,\"\")","v":""},{"$f":"IF(AND('FMI Template'!H124<>\"\", 'FMI Template'!H124<>\"UA\"),IF('FMI Template'!H124=\"CSD\",\"(I)CSD\",IF('FMI Template'!H124=\"CCP_Derivatives\",\"CCP-Derivatives\",IF('FMI Template'!H124=\"CCP_securities\",\"CCP-securities\",IF('FMI Template'!H124=\"PS_Retail\",\"PS\",IF('FMI Template'!H124=\"PS_LV\",\"PS\",'FMI Template'!H124))))),\"\")","v":""},{"$f":"IF(AND('FMI Template'!I124<>\"\", 'FMI Template'!I124<>\"UA\"),'FMI Template'!I124,\"\")","v":""},{"$f":"IF(AND('FMI Template'!J124<>\"\",'FMI Template'!J124<>\"UA\"),IF('FMI Template'!J124=\"CSD_SSS\",\"CSD-SSS\",IF('FMI Template'!J124=\"CCP_Derivatives\",\"CCP-Derivatives\",IF('FMI Template'!J124=\"CCP_securities\",\"CCP-securities\",IF('FMI Template'!J124=\"Trading_venue\",\"Trading-venue\",'FMI Template'!J124)))),\"\")","v":""},{"$f":"IF(AND('FMI Template'!K124<>\"\",'FMI Template'!K124<>\"UA\"),'FMI Template'!K124,\"\")","v":""},{"$f":"IF('FMI Template'!K124=\"direct\",\"NA\",IF(AND('FMI Template'!M124<>\"\",'FMI Template'!M124<>\"UA\"),'FMI Template'!M124,\"\"))","v":""},{"$f":"IF('FMI Template'!K124=\"direct\",\"NA\",IF(AND('FMI Template'!N124<>\"\",'FMI Template'!N124<>\"UA\"),'FMI Template'!N124,\"\"))","v":""},{"$f":"IF(OR('FMI Template'!H124=\"Other\",'FMI Template'!H124=\"NA\"),'FMI Template'!Q124,\"\")","v":""},{"$f":"IF(AND('FMI Template'!O124<>\"\",'FMI Template'!O124<>\"NA\",'FMI Template'!O124<>\"UA\"),'FMI Template'!O124,\"\")","v":""}]
[null,{"$f":"IF(AND('FMI Template'!B125<>\"\",'FMI Template'!B125<>\"NA\",'FMI Template'!B125<>\"UA\"),'FMI Template'!B125,\"\")","v":""},{"$f":"IF(AND('FMI Template'!C125<>\"\",'FMI Template'!C125<>\"NA\",'FMI Template'!C125<>\"UA\"),'FMI Template'!C125,\"\")","v":""},{"$f":"IF(AND('FMI Template'!D125<>\"\",'FMI Template'!D125<>\"NA\",'FMI Template'!D125<>\"UA\"),'FMI Template'!D125,\"\")","v":""},{"$f":"IF(AND('FMI Template'!F125<>\"\",'FMI Template'!F125<>\"NA\",'FMI Template'!F125<>\"UA\"),'FMI Template'!F125,\"\")","v":""},{"$f":"IF(AND('FMI Template'!H125<>\"\", 'FMI Template'!H125<>\"UA\"),IF('FMI Template'!H125=\"CSD\",\"(I)CSD\",IF('FMI Template'!H125=\"CCP_Derivatives\",\"CCP-Derivatives\",IF('FMI Template'!H125=\"CCP_securities\",\"CCP-securities\",IF('FMI Template'!H125=\"PS_Retail\",\"PS\",IF('FMI Template'!H125=\"PS_LV\",\"PS\",'FMI Template'!H125))))),\"\")","v":""},{"$f":"IF(AND('FMI Template'!I125<>\"\", 'FMI Template'!I125<>\"UA\"),'FMI Template'!I125,\"\")","v":""},{"$f":"IF(AND('FMI Template'!J125<>\"\",'FMI Template'!J125<>\"UA\"),IF('FMI Template'!J125=\"CSD_SSS\",\"CSD-SSS\",IF('FMI Template'!J125=\"CCP_Derivatives\",\"CCP-Derivatives\",IF('FMI Template'!J125=\"CCP_securities\",\"CCP-securities\",IF('FMI Template'!J125=\"Trading_venue\",\"Trading-venue\",'FMI Template'!J125)))),\"\")","v":""},{"$f":"IF(AND('FMI Template'!K125<>\"\",'FMI Template'!K125<>\"UA\"),'FMI Template'!K125,\"\")","v":""},{"$f":"IF('FMI Template'!K125=\"direct\",\"NA\",IF(AND('FMI Template'!M125<>\"\",'FMI Template'!M125<>\"UA\"),'FMI Template'!M125,\"\"))","v":""},{"$f":"IF('FMI Template'!K125=\"direct\",\"NA\",IF(AND('FMI Template'!N125<>\"\",'FMI Template'!N125<>\"UA\"),'FMI Template'!N125,\"\"))","v":""},{"$f":"IF(OR('FMI Template'!H125=\"Other\",'FMI Template'!H125=\"NA\"),'FMI Template'!Q125,\"\")","v":""},{"$f":"IF(AND('FMI Template'!O125<>\"\",'FMI Template'!O125<>\"NA\",'FMI Template'!O125<>\"UA\"),'FMI Template'!O125,\"\")","v":""}]
[null,{"$f":"IF(AND('FMI Template'!B126<>\"\",'FMI Template'!B126<>\"NA\",'FMI Template'!B126<>\"UA\"),'FMI Template'!B126,\"\")","v":""},{"$f":"IF(AND('FMI Template'!C126<>\"\",'FMI Template'!C126<>\"NA\",'FMI Template'!C126<>\"UA\"),'FMI Template'!C126,\"\")","v":""},{"$f":"IF(AND('FMI Template'!D126<>\"\",'FMI Template'!D126<>\"NA\",'FMI Template'!D126<>\"UA\"),'FMI Template'!D126,\"\")","v":""},{"$f":"IF(AND('FMI Template'!F126<>\"\",'FMI Template'!F126<>\"NA\",'FMI Template'!F126<>\"UA\"),'FMI Template'!F126,\"\")","v":""},{"$f":"IF(AND('FMI Template'!H126<>\"\", 'FMI Template'!H126<>\"UA\"),IF('FMI Template'!H126=\"CSD\",\"(I)CSD\",IF('FMI Template'!H126=\"CCP_Derivatives\",\"CCP-Derivatives\",IF('FMI Template'!H126=\"CCP_securities\",\"CCP-securities\",IF('FMI Template'!H126=\"PS_Retail\",\"PS\",IF('FMI Template'!H126=\"PS_LV\",\"PS\",'FMI Template'!H126))))),\"\")","v":""},{"$f":"IF(AND('FMI Template'!I126<>\"\", 'FMI Template'!I126<>\"UA\"),'FMI Template'!I126,\"\")","v":""},{"$f":"IF(AND('FMI Template'!J126<>\"\",'FMI Template'!J126<>\"UA\"),IF('FMI Template'!J126=\"CSD_SSS\",\"CSD-SSS\",IF('FMI Template'!J126=\"CCP_Derivatives\",\"CCP-Derivatives\",IF('FMI Template'!J126=\"CCP_securities\",\"CCP-securities\",IF('FMI Template'!J126=\"Trading_venue\",\"Trading-venue\",'FMI Template'!J126)))),\"\")","v":""},{"$f":"IF(AND('FMI Template'!K126<>\"\",'FMI Template'!K126<>\"UA\"),'FMI Template'!K126,\"\")","v":""},{"$f":"IF('FMI Template'!K126=\"direct\",\"NA\",IF(AND('FMI Template'!M126<>\"\",'FMI Template'!M126<>\"UA\"),'FMI Template'!M126,\"\"))","v":""},{"$f":"IF('FMI Template'!K126=\"direct\",\"NA\",IF(AND('FMI Template'!N126<>\"\",'FMI Template'!N126<>\"UA\"),'FMI Template'!N126,\"\"))","v":""},{"$f":"IF(OR('FMI Template'!H126=\"Other\",'FMI Template'!H126=\"NA\"),'FMI Template'!Q126,\"\")","v":""},{"$f":"IF(AND('FMI Template'!O126<>\"\",'FMI Template'!O126<>\"NA\",'FMI Template'!O126<>\"UA\"),'FMI Template'!O126,\"\")","v":""}]
[null,{"$f":"IF(AND('FMI Template'!B127<>\"\",'FMI Template'!B127<>\"NA\",'FMI Template'!B127<>\"UA\"),'FMI Template'!B127,\"\")","v":""},{"$f":"IF(AND('FMI Template'!C127<>\"\",'FMI Template'!C127<>\"NA\",'FMI Template'!C127<>\"UA\"),'FMI Template'!C127,\"\")","v":""},{"$f":"IF(AND('FMI Template'!D127<>\"\",'FMI Template'!D127<>\"NA\",'FMI Template'!D127<>\"UA\"),'FMI Template'!D127,\"\")","v":""},{"$f":"IF(AND('FMI Template'!F127<>\"\",'FMI Template'!F127<>\"NA\",'FMI Template'!F127<>\"UA\"),'FMI Template'!F127,\"\")","v":""},{"$f":"IF(AND('FMI Template'!H127<>\"\", 'FMI Template'!H127<>\"UA\"),IF('FMI Template'!H127=\"CSD\",\"(I)CSD\",IF('FMI Template'!H127=\"CCP_Derivatives\",\"CCP-Derivatives\",IF('FMI Template'!H127=\"CCP_securities\",\"CCP-securities\",IF('FMI Template'!H127=\"PS_Retail\",\"PS\",IF('FMI Template'!H127=\"PS_LV\",\"PS\",'FMI Template'!H127))))),\"\")","v":""},{"$f":"IF(AND('FMI Template'!I127<>\"\", 'FMI Template'!I127<>\"UA\"),'FMI Template'!I127,\"\")","v":""},{"$f":"IF(AND('FMI Template'!J127<>\"\",'FMI Template'!J127<>\"UA\"),IF('FMI Template'!J127=\"CSD_SSS\",\"CSD-SSS\",IF('FMI Template'!J127=\"CCP_Derivatives\",\"CCP-Derivatives\",IF('FMI Template'!J127=\"CCP_securities\",\"CCP-securities\",IF('FMI Template'!J127=\"Trading_venue\",\"Trading-venue\",'FMI Template'!J127)))),\"\")","v":""},{"$f":"IF(AND('FMI Template'!K127<>\"\",'FMI Template'!K127<>\"UA\"),'FMI Template'!K127,\"\")","v":""},{"$f":"IF('FMI Template'!K127=\"direct\",\"NA\",IF(AND('FMI Template'!M127<>\"\",'FMI Template'!M127<>\"UA\"),'FMI Template'!M127,\"\"))","v":""},{"$f":"IF('FMI Template'!K127=\"direct\",\"NA\",IF(AND('FMI Template'!N127<>\"\",'FMI Template'!N127<>\"UA\"),'FMI Template'!N127,\"\"))","v":""},{"$f":"IF(OR('FMI Template'!H127=\"Other\",'FMI Template'!H127=\"NA\"),'FMI Template'!Q127,\"\")","v":""},{"$f":"IF(AND('FMI Template'!O127<>\"\",'FMI Template'!O127<>\"NA\",'FMI Template'!O127<>\"UA\"),'FMI Template'!O127,\"\")","v":""}]
[null,{"$f":"IF(AND('FMI Template'!B128<>\"\",'FMI Template'!B128<>\"NA\",'FMI Template'!B128<>\"UA\"),'FMI Template'!B128,\"\")","v":""},{"$f":"IF(AND('FMI Template'!C128<>\"\",'FMI Template'!C128<>\"NA\",'FMI Template'!C128<>\"UA\"),'FMI Template'!C128,\"\")","v":""},{"$f":"IF(AND('FMI Template'!D128<>\"\",'FMI Template'!D128<>\"NA\",'FMI Template'!D128<>\"UA\"),'FMI Template'!D128,\"\")","v":""},{"$f":"IF(AND('FMI Template'!F128<>\"\",'FMI Template'!F128<>\"NA\",'FMI Template'!F128<>\"UA\"),'FMI Template'!F128,\"\")","v":""},{"$f":"IF(AND('FMI Template'!H128<>\"\", 'FMI Template'!H128<>\"UA\"),IF('FMI Template'!H128=\"CSD\",\"(I)CSD\",IF('FMI Template'!H128=\"CCP_Derivatives\",\"CCP-Derivatives\",IF('FMI Template'!H128=\"CCP_securities\",\"CCP-securities\",IF('FMI Template'!H128=\"PS_Retail\",\"PS\",IF('FMI Template'!H128=\"PS_LV\",\"PS\",'FMI Template'!H128))))),\"\")","v":""},{"$f":"IF(AND('FMI Template'!I128<>\"\", 'FMI Template'!I128<>\"UA\"),'FMI Template'!I128,\"\")","v":""},{"$f":"IF(AND('FMI Template'!J128<>\"\",'FMI Template'!J128<>\"UA\"),IF('FMI Template'!J128=\"CSD_SSS\",\"CSD-SSS\",IF('FMI Template'!J128=\"CCP_Derivatives\",\"CCP-Derivatives\",IF('FMI Template'!J128=\"CCP_securities\",\"CCP-securities\",IF('FMI Template'!J128=\"Trading_venue\",\"Trading-venue\",'FMI Template'!J128)))),\"\")","v":""},{"$f":"IF(AND('FMI Template'!K128<>\"\",'FMI Template'!K128<>\"UA\"),'FMI Template'!K128,\"\")","v":""},{"$f":"IF('FMI Template'!K128=\"direct\",\"NA\",IF(AND('FMI Template'!M128<>\"\",'FMI Template'!M128<>\"UA\"),'FMI Template'!M128,\"\"))","v":""},{"$f":"IF('FMI Template'!K128=\"direct\",\"NA\",IF(AND('FMI Template'!N128<>\"\",'FMI Template'!N128<>\"UA\"),'FMI Template'!N128,\"\"))","v":""},{"$f":"IF(OR('FMI Template'!H128=\"Other\",'FMI Template'!H128=\"NA\"),'FMI Template'!Q128,\"\")","v":""},{"$f":"IF(AND('FMI Template'!O128<>\"\",'FMI Template'!O128<>\"NA\",'FMI Template'!O128<>\"UA\"),'FMI Template'!O128,\"\")","v":""}]
[null,{"$f":"IF(AND('FMI Template'!B129<>\"\",'FMI Template'!B129<>\"NA\",'FMI Template'!B129<>\"UA\"),'FMI Template'!B129,\"\")","v":""},{"$f":"IF(AND('FMI Template'!C129<>\"\",'FMI Template'!C129<>\"NA\",'FMI Template'!C129<>\"UA\"),'FMI Template'!C129,\"\")","v":""},{"$f":"IF(AND('FMI Template'!D129<>\"\",'FMI Template'!D129<>\"NA\",'FMI Template'!D129<>\"UA\"),'FMI Template'!D129,\"\")","v":""},{"$f":"IF(AND('FMI Template'!F129<>\"\",'FMI Template'!F129<>\"NA\",'FMI Template'!F129<>\"UA\"),'FMI Template'!F129,\"\")","v":""},{"$f":"IF(AND('FMI Template'!H129<>\"\", 'FMI Template'!H129<>\"UA\"),IF('FMI Template'!H129=\"CSD\",\"(I)CSD\",IF('FMI Template'!H129=\"CCP_Derivatives\",\"CCP-Derivatives\",IF('FMI Template'!H129=\"CCP_securities\",\"CCP-securities\",IF('FMI Template'!H129=\"PS_Retail\",\"PS\",IF('FMI Template'!H129=\"PS_LV\",\"PS\",'FMI Template'!H129))))),\"\")","v":""},{"$f":"IF(AND('FMI Template'!I129<>\"\", 'FMI Template'!I129<>\"UA\"),'FMI Template'!I129,\"\")","v":""},{"$f":"IF(AND('FMI Template'!J129<>\"\",'FMI Template'!J129<>\"UA\"),IF('FMI Template'!J129=\"CSD_SSS\",\"CSD-SSS\",IF('FMI Template'!J129=\"CCP_Derivatives\",\"CCP-Derivatives\",IF('FMI Template'!J129=\"CCP_securities\",\"CCP-securities\",IF('FMI Template'!J129=\"Trading_venue\",\"Trading-venue\",'FMI Template'!J129)))),\"\")","v":""},{"$f":"IF(AND('FMI Template'!K129<>\"\",'FMI Template'!K129<>\"UA\"),'FMI Template'!K129,\"\")","v":""},{"$f":"IF('FMI Template'!K129=\"direct\",\"NA\",IF(AND('FMI Template'!M129<>\"\",'FMI Template'!M129<>\"UA\"),'FMI Template'!M129,\"\"))","v":""},{"$f":"IF('FMI Template'!K129=\"direct\",\"NA\",IF(AND('FMI Template'!N129<>\"\",'FMI Template'!N129<>\"UA\"),'FMI Template'!N129,\"\"))","v":""},{"$f":"IF(OR('FMI Template'!H129=\"Other\",'FMI Template'!H129=\"NA\"),'FMI Template'!Q129,\"\")","v":""},{"$f":"IF(AND('FMI Template'!O129<>\"\",'FMI Template'!O129<>\"NA\",'FMI Template'!O129<>\"UA\"),'FMI Template'!O129,\"\")","v":""}]
[null,{"$f":"IF(AND('FMI Template'!B130<>\"\",'FMI Template'!B130<>\"NA\",'FMI Template'!B130<>\"UA\"),'FMI Template'!B130,\"\")","v":""},{"$f":"IF(AND('FMI Template'!C130<>\"\",'FMI Template'!C130<>\"NA\",'FMI Template'!C130<>\"UA\"),'FMI Template'!C130,\"\")","v":""},{"$f":"IF(AND('FMI Template'!D130<>\"\",'FMI Template'!D130<>\"NA\",'FMI Template'!D130<>\"UA\"),'FMI Template'!D130,\"\")","v":""},{"$f":"IF(AND('FMI Template'!F130<>\"\",'FMI Template'!F130<>\"NA\",'FMI Template'!F130<>\"UA\"),'FMI Template'!F130,\"\")","v":""},{"$f":"IF(AND('FMI Template'!H130<>\"\", 'FMI Template'!H130<>\"UA\"),IF('FMI Template'!H130=\"CSD\",\"(I)CSD\",IF('FMI Template'!H130=\"CCP_Derivatives\",\"CCP-Derivatives\",IF('FMI Template'!H130=\"CCP_securities\",\"CCP-securities\",IF('FMI Template'!H130=\"PS_Retail\",\"PS\",IF('FMI Template'!H130=\"PS_LV\",\"PS\",'FMI Template'!H130))))),\"\")","v":""},{"$f":"IF(AND('FMI Template'!I130<>\"\", 'FMI Template'!I130<>\"UA\"),'FMI Template'!I130,\"\")","v":""},{"$f":"IF(AND('FMI Template'!J130<>\"\",'FMI Template'!J130<>\"UA\"),IF('FMI Template'!J130=\"CSD_SSS\",\"CSD-SSS\",IF('FMI Template'!J130=\"CCP_Derivatives\",\"CCP-Derivatives\",IF('FMI Template'!J130=\"CCP_securities\",\"CCP-securities\",IF('FMI Template'!J130=\"Trading_venue\",\"Trading-venue\",'FMI Template'!J130)))),\"\")","v":""},{"$f":"IF(AND('FMI Template'!K130<>\"\",'FMI Template'!K130<>\"UA\"),'FMI Template'!K130,\"\")","v":""},{"$f":"IF('FMI Template'!K130=\"direct\",\"NA\",IF(AND('FMI Template'!M130<>\"\",'FMI Template'!M130<>\"UA\"),'FMI Template'!M130,\"\"))","v":""},{"$f":"IF('FMI Template'!K130=\"direct\",\"NA\",IF(AND('FMI Template'!N130<>\"\",'FMI Template'!N130<>\"UA\"),'FMI Template'!N130,\"\"))","v":""},{"$f":"IF(OR('FMI Template'!H130=\"Other\",'FMI Template'!H130=\"NA\"),'FMI Template'!Q130,\"\")","v":""},{"$f":"IF(AND('FMI Template'!O130<>\"\",'FMI Template'!O130<>\"NA\",'FMI Template'!O130<>\"UA\"),'FMI Template'!O130,\"\")","v":""}]
[null,{"$f":"IF(AND('FMI Template'!B131<>\"\",'FMI Template'!B131<>\"NA\",'FMI Template'!B131<>\"UA\"),'FMI Template'!B131,\"\")","v":""},{"$f":"IF(AND('FMI Template'!C131<>\"\",'FMI Template'!C131<>\"NA\",'FMI Template'!C131<>\"UA\"),'FMI Template'!C131,\"\")","v":""},{"$f":"IF(AND('FMI Template'!D131<>\"\",'FMI Template'!D131<>\"NA\",'FMI Template'!D131<>\"UA\"),'FMI Template'!D131,\"\")","v":""},{"$f":"IF(AND('FMI Template'!F131<>\"\",'FMI Template'!F131<>\"NA\",'FMI Template'!F131<>\"UA\"),'FMI Template'!F131,\"\")","v":""},{"$f":"IF(AND('FMI Template'!H131<>\"\", 'FMI Template'!H131<>\"UA\"),IF('FMI Template'!H131=\"CSD\",\"(I)CSD\",IF('FMI Template'!H131=\"CCP_Derivatives\",\"CCP-Derivatives\",IF('FMI Template'!H131=\"CCP_securities\",\"CCP-securities\",IF('FMI Template'!H131=\"PS_Retail\",\"PS\",IF('FMI Template'!H131=\"PS_LV\",\"PS\",'FMI Template'!H131))))),\"\")","v":""},{"$f":"IF(AND('FMI Template'!I131<>\"\", 'FMI Template'!I131<>\"UA\"),'FMI Template'!I131,\"\")","v":""},{"$f":"IF(AND('FMI Template'!J131<>\"\",'FMI Template'!J131<>\"UA\"),IF('FMI Template'!J131=\"CSD_SSS\",\"CSD-SSS\",IF('FMI Template'!J131=\"CCP_Derivatives\",\"CCP-Derivatives\",IF('FMI Template'!J131=\"CCP_securities\",\"CCP-securities\",IF('FMI Template'!J131=\"Trading_venue\",\"Trading-venue\",'FMI Template'!J131)))),\"\")","v":""},{"$f":"IF(AND('FMI Template'!K131<>\"\",'FMI Template'!K131<>\"UA\"),'FMI Template'!K131,\"\")","v":""},{"$f":"IF('FMI Template'!K131=\"direct\",\"NA\",IF(AND('FMI Template'!M131<>\"\",'FMI Template'!M131<>\"UA\"),'FMI Template'!M131,\"\"))","v":""},{"$f":"IF('FMI Template'!K131=\"direct\",\"NA\",IF(AND('FMI Template'!N131<>\"\",'FMI Template'!N131<>\"UA\"),'FMI Template'!N131,\"\"))","v":""},{"$f":"IF(OR('FMI Template'!H131=\"Other\",'FMI Template'!H131=\"NA\"),'FMI Template'!Q131,\"\")","v":""},{"$f":"IF(AND('FMI Template'!O131<>\"\",'FMI Template'!O131<>\"NA\",'FMI Template'!O131<>\"UA\"),'FMI Template'!O131,\"\")","v":""}]
[null,{"$f":"IF(AND('FMI Template'!B132<>\"\",'FMI Template'!B132<>\"NA\",'FMI Template'!B132<>\"UA\"),'FMI Template'!B132,\"\")","v":""},{"$f":"IF(AND('FMI Template'!C132<>\"\",'FMI Template'!C132<>\"NA\",'FMI Template'!C132<>\"UA\"),'FMI Template'!C132,\"\")","v":""},{"$f":"IF(AND('FMI Template'!D132<>\"\",'FMI Template'!D132<>\"NA\",'FMI Template'!D132<>\"UA\"),'FMI Template'!D132,\"\")","v":""},{"$f":"IF(AND('FMI Template'!F132<>\"\",'FMI Template'!F132<>\"NA\",'FMI Template'!F132<>\"UA\"),'FMI Template'!F132,\"\")","v":""},{"$f":"IF(AND('FMI Template'!H132<>\"\", 'FMI Template'!H132<>\"UA\"),IF('FMI Template'!H132=\"CSD\",\"(I)CSD\",IF('FMI Template'!H132=\"CCP_Derivatives\",\"CCP-Derivatives\",IF('FMI Template'!H132=\"CCP_securities\",\"CCP-securities\",IF('FMI Template'!H132=\"PS_Retail\",\"PS\",IF('FMI Template'!H132=\"PS_LV\",\"PS\",'FMI Template'!H132))))),\"\")","v":""},{"$f":"IF(AND('FMI Template'!I132<>\"\", 'FMI Template'!I132<>\"UA\"),'FMI Template'!I132,\"\")","v":""},{"$f":"IF(AND('FMI Template'!J132<>\"\",'FMI Template'!J132<>\"UA\"),IF('FMI Template'!J132=\"CSD_SSS\",\"CSD-SSS\",IF('FMI Template'!J132=\"CCP_Derivatives\",\"CCP-Derivatives\",IF('FMI Template'!J132=\"CCP_securities\",\"CCP-securities\",IF('FMI Template'!J132=\"Trading_venue\",\"Trading-venue\",'FMI Template'!J132)))),\"\")","v":""},{"$f":"IF(AND('FMI Template'!K132<>\"\",'FMI Template'!K132<>\"UA\"),'FMI Template'!K132,\"\")","v":""},{"$f":"IF('FMI Template'!K132=\"direct\",\"NA\",IF(AND('FMI Template'!M132<>\"\",'FMI Template'!M132<>\"UA\"),'FMI Template'!M132,\"\"))","v":""},{"$f":"IF('FMI Template'!K132=\"direct\",\"NA\",IF(AND('FMI Template'!N132<>\"\",'FMI Template'!N132<>\"UA\"),'FMI Template'!N132,\"\"))","v":""},{"$f":"IF(OR('FMI Template'!H132=\"Other\",'FMI Template'!H132=\"NA\"),'FMI Template'!Q132,\"\")","v":""},{"$f":"IF(AND('FMI Template'!O132<>\"\",'FMI Template'!O132<>\"NA\",'FMI Template'!O132<>\"UA\"),'FMI Template'!O132,\"\")","v":""}]
[null,{"$f":"IF(AND('FMI Template'!B133<>\"\",'FMI Template'!B133<>\"NA\",'FMI Template'!B133<>\"UA\"),'FMI Template'!B133,\"\")","v":""},{"$f":"IF(AND('FMI Template'!C133<>\"\",'FMI Template'!C133<>\"NA\",'FMI Template'!C133<>\"UA\"),'FMI Template'!C133,\"\")","v":""},{"$f":"IF(AND('FMI Template'!D133<>\"\",'FMI Template'!D133<>\"NA\",'FMI Template'!D133<>\"UA\"),'FMI Template'!D133,\"\")","v":""},{"$f":"IF(AND('FMI Template'!F133<>\"\",'FMI Template'!F133<>\"NA\",'FMI Template'!F133<>\"UA\"),'FMI Template'!F133,\"\")","v":""},{"$f":"IF(AND('FMI Template'!H133<>\"\", 'FMI Template'!H133<>\"UA\"),IF('FMI Template'!H133=\"CSD\",\"(I)CSD\",IF('FMI Template'!H133=\"CCP_Derivatives\",\"CCP-Derivatives\",IF('FMI Template'!H133=\"CCP_securities\",\"CCP-securities\",IF('FMI Template'!H133=\"PS_Retail\",\"PS\",IF('FMI Template'!H133=\"PS_LV\",\"PS\",'FMI Template'!H133))))),\"\")","v":""},{"$f":"IF(AND('FMI Template'!I133<>\"\", 'FMI Template'!I133<>\"UA\"),'FMI Template'!I133,\"\")","v":""},{"$f":"IF(AND('FMI Template'!J133<>\"\",'FMI Template'!J133<>\"UA\"),IF('FMI Template'!J133=\"CSD_SSS\",\"CSD-SSS\",IF('FMI Template'!J133=\"CCP_Derivatives\",\"CCP-Derivatives\",IF('FMI Template'!J133=\"CCP_securities\",\"CCP-securities\",IF('FMI Template'!J133=\"Trading_venue\",\"Trading-venue\",'FMI Template'!J133)))),\"\")","v":""},{"$f":"IF(AND('FMI Template'!K133<>\"\",'FMI Template'!K133<>\"UA\"),'FMI Template'!K133,\"\")","v":""},{"$f":"IF('FMI Template'!K133=\"direct\",\"NA\",IF(AND('FMI Template'!M133<>\"\",'FMI Template'!M133<>\"UA\"),'FMI Template'!M133,\"\"))","v":""},{"$f":"IF('FMI Template'!K133=\"direct\",\"NA\",IF(AND('FMI Template'!N133<>\"\",'FMI Template'!N133<>\"UA\"),'FMI Template'!N133,\"\"))","v":""},{"$f":"IF(OR('FMI Template'!H133=\"Other\",'FMI Template'!H133=\"NA\"),'FMI Template'!Q133,\"\")","v":""},{"$f":"IF(AND('FMI Template'!O133<>\"\",'FMI Template'!O133<>\"NA\",'FMI Template'!O133<>\"UA\"),'FMI Template'!O133,\"\")","v":""}]
[null,{"$f":"IF(AND('FMI Template'!B134<>\"\",'FMI Template'!B134<>\"NA\",'FMI Template'!B134<>\"UA\"),'FMI Template'!B134,\"\")","v":""},{"$f":"IF(AND('FMI Template'!C134<>\"\",'FMI Template'!C134<>\"NA\",'FMI Template'!C134<>\"UA\"),'FMI Template'!C134,\"\")","v":""},{"$f":"IF(AND('FMI Template'!D134<>\"\",'FMI Template'!D134<>\"NA\",'FMI Template'!D134<>\"UA\"),'FMI Template'!D134,\"\")","v":""},{"$f":"IF(AND('FMI Template'!F134<>\"\",'FMI Template'!F134<>\"NA\",'FMI Template'!F134<>\"UA\"),'FMI Template'!F134,\"\")","v":""},{"$f":"IF(AND('FMI Template'!H134<>\"\", 'FMI Template'!H134<>\"UA\"),IF('FMI Template'!H134=\"CSD\",\"(I)CSD\",IF('FMI Template'!H134=\"CCP_Derivatives\",\"CCP-Derivatives\",IF('FMI Template'!H134=\"CCP_securities\",\"CCP-securities\",IF('FMI Template'!H134=\"PS_Retail\",\"PS\",IF('FMI Template'!H134=\"PS_LV\",\"PS\",'FMI Template'!H134))))),\"\")","v":""},{"$f":"IF(AND('FMI Template'!I134<>\"\", 'FMI Template'!I134<>\"UA\"),'FMI Template'!I134,\"\")","v":""},{"$f":"IF(AND('FMI Template'!J134<>\"\",'FMI Template'!J134<>\"UA\"),IF('FMI Template'!J134=\"CSD_SSS\",\"CSD-SSS\",IF('FMI Template'!J134=\"CCP_Derivatives\",\"CCP-Derivatives\",IF('FMI Template'!J134=\"CCP_securities\",\"CCP-securities\",IF('FMI Template'!J134=\"Trading_venue\",\"Trading-venue\",'FMI Template'!J134)))),\"\")","v":""},{"$f":"IF(AND('FMI Template'!K134<>\"\",'FMI Template'!K134<>\"UA\"),'FMI Template'!K134,\"\")","v":""},{"$f":"IF('FMI Template'!K134=\"direct\",\"NA\",IF(AND('FMI Template'!M134<>\"\",'FMI Template'!M134<>\"UA\"),'FMI Template'!M134,\"\"))","v":""},{"$f":"IF('FMI Template'!K134=\"direct\",\"NA\",IF(AND('FMI Template'!N134<>\"\",'FMI Template'!N134<>\"UA\"),'FMI Template'!N134,\"\"))","v":""},{"$f":"IF(OR('FMI Template'!H134=\"Other\",'FMI Template'!H134=\"NA\"),'FMI Template'!Q134,\"\")","v":""},{"$f":"IF(AND('FMI Template'!O134<>\"\",'FMI Template'!O134<>\"NA\",'FMI Template'!O134<>\"UA\"),'FMI Template'!O134,\"\")","v":""}]
[null,{"$f":"IF(AND('FMI Template'!B135<>\"\",'FMI Template'!B135<>\"NA\",'FMI Template'!B135<>\"UA\"),'FMI Template'!B135,\"\")","v":""},{"$f":"IF(AND('FMI Template'!C135<>\"\",'FMI Template'!C135<>\"NA\",'FMI Template'!C135<>\"UA\"),'FMI Template'!C135,\"\")","v":""},{"$f":"IF(AND('FMI Template'!D135<>\"\",'FMI Template'!D135<>\"NA\",'FMI Template'!D135<>\"UA\"),'FMI Template'!D135,\"\")","v":""},{"$f":"IF(AND('FMI Template'!F135<>\"\",'FMI Template'!F135<>\"NA\",'FMI Template'!F135<>\"UA\"),'FMI Template'!F135,\"\")","v":""},{"$f":"IF(AND('FMI Template'!H135<>\"\", 'FMI Template'!H135<>\"UA\"),IF('FMI Template'!H135=\"CSD\",\"(I)CSD\",IF('FMI Template'!H135=\"CCP_Derivatives\",\"CCP-Derivatives\",IF('FMI Template'!H135=\"CCP_securities\",\"CCP-securities\",IF('FMI Template'!H135=\"PS_Retail\",\"PS\",IF('FMI Template'!H135=\"PS_LV\",\"PS\",'FMI Template'!H135))))),\"\")","v":""},{"$f":"IF(AND('FMI Template'!I135<>\"\", 'FMI Template'!I135<>\"UA\"),'FMI Template'!I135,\"\")","v":""},{"$f":"IF(AND('FMI Template'!J135<>\"\",'FMI Template'!J135<>\"UA\"),IF('FMI Template'!J135=\"CSD_SSS\",\"CSD-SSS\",IF('FMI Template'!J135=\"CCP_Derivatives\",\"CCP-Derivatives\",IF('FMI Template'!J135=\"CCP_securities\",\"CCP-securities\",IF('FMI Template'!J135=\"Trading_venue\",\"Trading-venue\",'FMI Template'!J135)))),\"\")","v":""},{"$f":"IF(AND('FMI Template'!K135<>\"\",'FMI Template'!K135<>\"UA\"),'FMI Template'!K135,\"\")","v":""},{"$f":"IF('FMI Template'!K135=\"direct\",\"NA\",IF(AND('FMI Template'!M135<>\"\",'FMI Template'!M135<>\"UA\"),'FMI Template'!M135,\"\"))","v":""},{"$f":"IF('FMI Template'!K135=\"direct\",\"NA\",IF(AND('FMI Template'!N135<>\"\",'FMI Template'!N135<>\"UA\"),'FMI Template'!N135,\"\"))","v":""},{"$f":"IF(OR('FMI Template'!H135=\"Other\",'FMI Template'!H135=\"NA\"),'FMI Template'!Q135,\"\")","v":""},{"$f":"IF(AND('FMI Template'!O135<>\"\",'FMI Template'!O135<>\"NA\",'FMI Template'!O135<>\"UA\"),'FMI Template'!O135,\"\")","v":""}]
[null,{"$f":"IF(AND('FMI Template'!B136<>\"\",'FMI Template'!B136<>\"NA\",'FMI Template'!B136<>\"UA\"),'FMI Template'!B136,\"\")","v":""},{"$f":"IF(AND('FMI Template'!C136<>\"\",'FMI Template'!C136<>\"NA\",'FMI Template'!C136<>\"UA\"),'FMI Template'!C136,\"\")","v":""},{"$f":"IF(AND('FMI Template'!D136<>\"\",'FMI Template'!D136<>\"NA\",'FMI Template'!D136<>\"UA\"),'FMI Template'!D136,\"\")","v":""},{"$f":"IF(AND('FMI Template'!F136<>\"\",'FMI Template'!F136<>\"NA\",'FMI Template'!F136<>\"UA\"),'FMI Template'!F136,\"\")","v":""},{"$f":"IF(AND('FMI Template'!H136<>\"\", 'FMI Template'!H136<>\"UA\"),IF('FMI Template'!H136=\"CSD\",\"(I)CSD\",IF('FMI Template'!H136=\"CCP_Derivatives\",\"CCP-Derivatives\",IF('FMI Template'!H136=\"CCP_securities\",\"CCP-securities\",IF('FMI Template'!H136=\"PS_Retail\",\"PS\",IF('FMI Template'!H136=\"PS_LV\",\"PS\",'FMI Template'!H136))))),\"\")","v":""},{"$f":"IF(AND('FMI Template'!I136<>\"\", 'FMI Template'!I136<>\"UA\"),'FMI Template'!I136,\"\")","v":""},{"$f":"IF(AND('FMI Template'!J136<>\"\",'FMI Template'!J136<>\"UA\"),IF('FMI Template'!J136=\"CSD_SSS\",\"CSD-SSS\",IF('FMI Template'!J136=\"CCP_Derivatives\",\"CCP-Derivatives\",IF('FMI Template'!J136=\"CCP_securities\",\"CCP-securities\",IF('FMI Template'!J136=\"Trading_venue\",\"Trading-venue\",'FMI Template'!J136)))),\"\")","v":""},{"$f":"IF(AND('FMI Template'!K136<>\"\",'FMI Template'!K136<>\"UA\"),'FMI Template'!K136,\"\")","v":""},{"$f":"IF('FMI Template'!K136=\"direct\",\"NA\",IF(AND('FMI Template'!M136<>\"\",'FMI Template'!M136<>\"UA\"),'FMI Template'!M136,\"\"))","v":""},{"$f":"IF('FMI Template'!K136=\"direct\",\"NA\",IF(AND('FMI Template'!N136<>\"\",'FMI Template'!N136<>\"UA\"),'FMI Template'!N136,\"\"))","v":""},{"$f":"IF(OR('FMI Template'!H136=\"Other\",'FMI Template'!H136=\"NA\"),'FMI Template'!Q136,\"\")","v":""},{"$f":"IF(AND('FMI Template'!O136<>\"\",'FMI Template'!O136<>\"NA\",'FMI Template'!O136<>\"UA\"),'FMI Template'!O136,\"\")","v":""}]
[null,{"$f":"IF(AND('FMI Template'!B137<>\"\",'FMI Template'!B137<>\"NA\",'FMI Template'!B137<>\"UA\"),'FMI Template'!B137,\"\")","v":""},{"$f":"IF(AND('FMI Template'!C137<>\"\",'FMI Template'!C137<>\"NA\",'FMI Template'!C137<>\"UA\"),'FMI Template'!C137,\"\")","v":""},{"$f":"IF(AND('FMI Template'!D137<>\"\",'FMI Template'!D137<>\"NA\",'FMI Template'!D137<>\"UA\"),'FMI Template'!D137,\"\")","v":""},{"$f":"IF(AND('FMI Template'!F137<>\"\",'FMI Template'!F137<>\"NA\",'FMI Template'!F137<>\"UA\"),'FMI Template'!F137,\"\")","v":""},{"$f":"IF(AND('FMI Template'!H137<>\"\", 'FMI Template'!H137<>\"UA\"),IF('FMI Template'!H137=\"CSD\",\"(I)CSD\",IF('FMI Template'!H137=\"CCP_Derivatives\",\"CCP-Derivatives\",IF('FMI Template'!H137=\"CCP_securities\",\"CCP-securities\",IF('FMI Template'!H137=\"PS_Retail\",\"PS\",IF('FMI Template'!H137=\"PS_LV\",\"PS\",'FMI Template'!H137))))),\"\")","v":""},{"$f":"IF(AND('FMI Template'!I137<>\"\", 'FMI Template'!I137<>\"UA\"),'FMI Template'!I137,\"\")","v":""},{"$f":"IF(AND('FMI Template'!J137<>\"\",'FMI Template'!J137<>\"UA\"),IF('FMI Template'!J137=\"CSD_SSS\",\"CSD-SSS\",IF('FMI Template'!J137=\"CCP_Derivatives\",\"CCP-Derivatives\",IF('FMI Template'!J137=\"CCP_securities\",\"CCP-securities\",IF('FMI Template'!J137=\"Trading_venue\",\"Trading-venue\",'FMI Template'!J137)))),\"\")","v":""},{"$f":"IF(AND('FMI Template'!K137<>\"\",'FMI Template'!K137<>\"UA\"),'FMI Template'!K137,\"\")","v":""},{"$f":"IF('FMI Template'!K137=\"direct\",\"NA\",IF(AND('FMI Template'!M137<>\"\",'FMI Template'!M137<>\"UA\"),'FMI Template'!M137,\"\"))","v":""},{"$f":"IF('FMI Template'!K137=\"direct\",\"NA\",IF(AND('FMI Template'!N137<>\"\",'FMI Template'!N137<>\"UA\"),'FMI Template'!N137,\"\"))","v":""},{"$f":"IF(OR('FMI Template'!H137=\"Other\",'FMI Template'!H137=\"NA\"),'FMI Template'!Q137,\"\")","v":""},{"$f":"IF(AND('FMI Template'!O137<>\"\",'FMI Template'!O137<>\"NA\",'FMI Template'!O137<>\"UA\"),'FMI Template'!O137,\"\")","v":""}]
[null,{"$f":"IF(AND('FMI Template'!B138<>\"\",'FMI Template'!B138<>\"NA\",'FMI Template'!B138<>\"UA\"),'FMI Template'!B138,\"\")","v":""},{"$f":"IF(AND('FMI Template'!C138<>\"\",'FMI Template'!C138<>\"NA\",'FMI Template'!C138<>\"UA\"),'FMI Template'!C138,\"\")","v":""},{"$f":"IF(AND('FMI Template'!D138<>\"\",'FMI Template'!D138<>\"NA\",'FMI Template'!D138<>\"UA\"),'FMI Template'!D138,\"\")","v":""},{"$f":"IF(AND('FMI Template'!F138<>\"\",'FMI Template'!F138<>\"NA\",'FMI Template'!F138<>\"UA\"),'FMI Template'!F138,\"\")","v":""},{"$f":"IF(AND('FMI Template'!H138<>\"\", 'FMI Template'!H138<>\"UA\"),IF('FMI Template'!H138=\"CSD\",\"(I)CSD\",IF('FMI Template'!H138=\"CCP_Derivatives\",\"CCP-Derivatives\",IF('FMI Template'!H138=\"CCP_securities\",\"CCP-securities\",IF('FMI Template'!H138=\"PS_Retail\",\"PS\",IF('FMI Template'!H138=\"PS_LV\",\"PS\",'FMI Template'!H138))))),\"\")","v":""},{"$f":"IF(AND('FMI Template'!I138<>\"\", 'FMI Template'!I138<>\"UA\"),'FMI Template'!I138,\"\")","v":""},{"$f":"IF(AND('FMI Template'!J138<>\"\",'FMI Template'!J138<>\"UA\"),IF('FMI Template'!J138=\"CSD_SSS\",\"CSD-SSS\",IF('FMI Template'!J138=\"CCP_Derivatives\",\"CCP-Derivatives\",IF('FMI Template'!J138=\"CCP_securities\",\"CCP-securities\",IF('FMI Template'!J138=\"Trading_venue\",\"Trading-venue\",'FMI Template'!J138)))),\"\")","v":""},{"$f":"IF(AND('FMI Template'!K138<>\"\",'FMI Template'!K138<>\"UA\"),'FMI Template'!K138,\"\")","v":""},{"$f":"IF('FMI Template'!K138=\"direct\",\"NA\",IF(AND('FMI Template'!M138<>\"\",'FMI Template'!M138<>\"UA\"),'FMI Template'!M138,\"\"))","v":""},{"$f":"IF('FMI Template'!K138=\"direct\",\"NA\",IF(AND('FMI Template'!N138<>\"\",'FMI Template'!N138<>\"UA\"),'FMI Template'!N138,\"\"))","v":""},{"$f":"IF(OR('FMI Template'!H138=\"Other\",'FMI Template'!H138=\"NA\"),'FMI Template'!Q138,\"\")","v":""},{"$f":"IF(AND('FMI Template'!O138<>\"\",'FMI Template'!O138<>\"NA\",'FMI Template'!O138<>\"UA\"),'FMI Template'!O138,\"\")","v":""}]
[null,{"$f":"IF(AND('FMI Template'!B139<>\"\",'FMI Template'!B139<>\"NA\",'FMI Template'!B139<>\"UA\"),'FMI Template'!B139,\"\")","v":""},{"$f":"IF(AND('FMI Template'!C139<>\"\",'FMI Template'!C139<>\"NA\",'FMI Template'!C139<>\"UA\"),'FMI Template'!C139,\"\")","v":""},{"$f":"IF(AND('FMI Template'!D139<>\"\",'FMI Template'!D139<>\"NA\",'FMI Template'!D139<>\"UA\"),'FMI Template'!D139,\"\")","v":""},{"$f":"IF(AND('FMI Template'!F139<>\"\",'FMI Template'!F139<>\"NA\",'FMI Template'!F139<>\"UA\"),'FMI Template'!F139,\"\")","v":""},{"$f":"IF(AND('FMI Template'!H139<>\"\", 'FMI Template'!H139<>\"UA\"),IF('FMI Template'!H139=\"CSD\",\"(I)CSD\",IF('FMI Template'!H139=\"CCP_Derivatives\",\"CCP-Derivatives\",IF('FMI Template'!H139=\"CCP_securities\",\"CCP-securities\",IF('FMI Template'!H139=\"PS_Retail\",\"PS\",IF('FMI Template'!H139=\"PS_LV\",\"PS\",'FMI Template'!H139))))),\"\")","v":""},{"$f":"IF(AND('FMI Template'!I139<>\"\", 'FMI Template'!I139<>\"UA\"),'FMI Template'!I139,\"\")","v":""},{"$f":"IF(AND('FMI Template'!J139<>\"\",'FMI Template'!J139<>\"UA\"),IF('FMI Template'!J139=\"CSD_SSS\",\"CSD-SSS\",IF('FMI Template'!J139=\"CCP_Derivatives\",\"CCP-Derivatives\",IF('FMI Template'!J139=\"CCP_securities\",\"CCP-securities\",IF('FMI Template'!J139=\"Trading_venue\",\"Trading-venue\",'FMI Template'!J139)))),\"\")","v":""},{"$f":"IF(AND('FMI Template'!K139<>\"\",'FMI Template'!K139<>\"UA\"),'FMI Template'!K139,\"\")","v":""},{"$f":"IF('FMI Template'!K139=\"direct\",\"NA\",IF(AND('FMI Template'!M139<>\"\",'FMI Template'!M139<>\"UA\"),'FMI Template'!M139,\"\"))","v":""},{"$f":"IF('FMI Template'!K139=\"direct\",\"NA\",IF(AND('FMI Template'!N139<>\"\",'FMI Template'!N139<>\"UA\"),'FMI Template'!N139,\"\"))","v":""},{"$f":"IF(OR('FMI Template'!H139=\"Other\",'FMI Template'!H139=\"NA\"),'FMI Template'!Q139,\"\")","v":""},{"$f":"IF(AND('FMI Template'!O139<>\"\",'FMI Template'!O139<>\"NA\",'FMI Template'!O139<>\"UA\"),'FMI Template'!O139,\"\")","v":""}]
[null,{"$f":"IF(AND('FMI Template'!B140<>\"\",'FMI Template'!B140<>\"NA\",'FMI Template'!B140<>\"UA\"),'FMI Template'!B140,\"\")","v":""},{"$f":"IF(AND('FMI Template'!C140<>\"\",'FMI Template'!C140<>\"NA\",'FMI Template'!C140<>\"UA\"),'FMI Template'!C140,\"\")","v":""},{"$f":"IF(AND('FMI Template'!D140<>\"\",'FMI Template'!D140<>\"NA\",'FMI Template'!D140<>\"UA\"),'FMI Template'!D140,\"\")","v":""},{"$f":"IF(AND('FMI Template'!F140<>\"\",'FMI Template'!F140<>\"NA\",'FMI Template'!F140<>\"UA\"),'FMI Template'!F140,\"\")","v":""},{"$f":"IF(AND('FMI Template'!H140<>\"\", 'FMI Template'!H140<>\"UA\"),IF('FMI Template'!H140=\"CSD\",\"(I)CSD\",IF('FMI Template'!H140=\"CCP_Derivatives\",\"CCP-Derivatives\",IF('FMI Template'!H140=\"CCP_securities\",\"CCP-securities\",IF('FMI Template'!H140=\"PS_Retail\",\"PS\",IF('FMI Template'!H140=\"PS_LV\",\"PS\",'FMI Template'!H140))))),\"\")","v":""},{"$f":"IF(AND('FMI Template'!I140<>\"\", 'FMI Template'!I140<>\"UA\"),'FMI Template'!I140,\"\")","v":""},{"$f":"IF(AND('FMI Template'!J140<>\"\",'FMI Template'!J140<>\"UA\"),IF('FMI Template'!J140=\"CSD_SSS\",\"CSD-SSS\",IF('FMI Template'!J140=\"CCP_Derivatives\",\"CCP-Derivatives\",IF('FMI Template'!J140=\"CCP_securities\",\"CCP-securities\",IF('FMI Template'!J140=\"Trading_venue\",\"Trading-venue\",'FMI Template'!J140)))),\"\")","v":""},{"$f":"IF(AND('FMI Template'!K140<>\"\",'FMI Template'!K140<>\"UA\"),'FMI Template'!K140,\"\")","v":""},{"$f":"IF('FMI Template'!K140=\"direct\",\"NA\",IF(AND('FMI Template'!M140<>\"\",'FMI Template'!M140<>\"UA\"),'FMI Template'!M140,\"\"))","v":""},{"$f":"IF('FMI Template'!K140=\"direct\",\"NA\",IF(AND('FMI Template'!N140<>\"\",'FMI Template'!N140<>\"UA\"),'FMI Template'!N140,\"\"))","v":""},{"$f":"IF(OR('FMI Template'!H140=\"Other\",'FMI Template'!H140=\"NA\"),'FMI Template'!Q140,\"\")","v":""},{"$f":"IF(AND('FMI Template'!O140<>\"\",'FMI Template'!O140<>\"NA\",'FMI Template'!O140<>\"UA\"),'FMI Template'!O140,\"\")","v":""}]
[null,{"$f":"IF(AND('FMI Template'!B141<>\"\",'FMI Template'!B141<>\"NA\",'FMI Template'!B141<>\"UA\"),'FMI Template'!B141,\"\")","v":""},{"$f":"IF(AND('FMI Template'!C141<>\"\",'FMI Template'!C141<>\"NA\",'FMI Template'!C141<>\"UA\"),'FMI Template'!C141,\"\")","v":""},{"$f":"IF(AND('FMI Template'!D141<>\"\",'FMI Template'!D141<>\"NA\",'FMI Template'!D141<>\"UA\"),'FMI Template'!D141,\"\")","v":""},{"$f":"IF(AND('FMI Template'!F141<>\"\",'FMI Template'!F141<>\"NA\",'FMI Template'!F141<>\"UA\"),'FMI Template'!F141,\"\")","v":""},{"$f":"IF(AND('FMI Template'!H141<>\"\", 'FMI Template'!H141<>\"UA\"),IF('FMI Template'!H141=\"CSD\",\"(I)CSD\",IF('FMI Template'!H141=\"CCP_Derivatives\",\"CCP-Derivatives\",IF('FMI Template'!H141=\"CCP_securities\",\"CCP-securities\",IF('FMI Template'!H141=\"PS_Retail\",\"PS\",IF('FMI Template'!H141=\"PS_LV\",\"PS\",'FMI Template'!H141))))),\"\")","v":""},{"$f":"IF(AND('FMI Template'!I141<>\"\", 'FMI Template'!I141<>\"UA\"),'FMI Template'!I141,\"\")","v":""},{"$f":"IF(AND('FMI Template'!J141<>\"\",'FMI Template'!J141<>\"UA\"),IF('FMI Template'!J141=\"CSD_SSS\",\"CSD-SSS\",IF('FMI Template'!J141=\"CCP_Derivatives\",\"CCP-Derivatives\",IF('FMI Template'!J141=\"CCP_securities\",\"CCP-securities\",IF('FMI Template'!J141=\"Trading_venue\",\"Trading-venue\",'FMI Template'!J141)))),\"\")","v":""},{"$f":"IF(AND('FMI Template'!K141<>\"\",'FMI Template'!K141<>\"UA\"),'FMI Template'!K141,\"\")","v":""},{"$f":"IF('FMI Template'!K141=\"direct\",\"NA\",IF(AND('FMI Template'!M141<>\"\",'FMI Template'!M141<>\"UA\"),'FMI Template'!M141,\"\"))","v":""},{"$f":"IF('FMI Template'!K141=\"direct\",\"NA\",IF(AND('FMI Template'!N141<>\"\",'FMI Template'!N141<>\"UA\"),'FMI Template'!N141,\"\"))","v":""},{"$f":"IF(OR('FMI Template'!H141=\"Other\",'FMI Template'!H141=\"NA\"),'FMI Template'!Q141,\"\")","v":""},{"$f":"IF(AND('FMI Template'!O141<>\"\",'FMI Template'!O141<>\"NA\",'FMI Template'!O141<>\"UA\"),'FMI Template'!O141,\"\")","v":""}]
[null,{"$f":"IF(AND('FMI Template'!B142<>\"\",'FMI Template'!B142<>\"NA\",'FMI Template'!B142<>\"UA\"),'FMI Template'!B142,\"\")","v":""},{"$f":"IF(AND('FMI Template'!C142<>\"\",'FMI Template'!C142<>\"NA\",'FMI Template'!C142<>\"UA\"),'FMI Template'!C142,\"\")","v":""},{"$f":"IF(AND('FMI Template'!D142<>\"\",'FMI Template'!D142<>\"NA\",'FMI Template'!D142<>\"UA\"),'FMI Template'!D142,\"\")","v":""},{"$f":"IF(AND('FMI Template'!F142<>\"\",'FMI Template'!F142<>\"NA\",'FMI Template'!F142<>\"UA\"),'FMI Template'!F142,\"\")","v":""},{"$f":"IF(AND('FMI Template'!H142<>\"\", 'FMI Template'!H142<>\"UA\"),IF('FMI Template'!H142=\"CSD\",\"(I)CSD\",IF('FMI Template'!H142=\"CCP_Derivatives\",\"CCP-Derivatives\",IF('FMI Template'!H142=\"CCP_securities\",\"CCP-securities\",IF('FMI Template'!H142=\"PS_Retail\",\"PS\",IF('FMI Template'!H142=\"PS_LV\",\"PS\",'FMI Template'!H142))))),\"\")","v":""},{"$f":"IF(AND('FMI Template'!I142<>\"\", 'FMI Template'!I142<>\"UA\"),'FMI Template'!I142,\"\")","v":""},{"$f":"IF(AND('FMI Template'!J142<>\"\",'FMI Template'!J142<>\"UA\"),IF('FMI Template'!J142=\"CSD_SSS\",\"CSD-SSS\",IF('FMI Template'!J142=\"CCP_Derivatives\",\"CCP-Derivatives\",IF('FMI Template'!J142=\"CCP_securities\",\"CCP-securities\",IF('FMI Template'!J142=\"Trading_venue\",\"Trading-venue\",'FMI Template'!J142)))),\"\")","v":""},{"$f":"IF(AND('FMI Template'!K142<>\"\",'FMI Template'!K142<>\"UA\"),'FMI Template'!K142,\"\")","v":""},{"$f":"IF('FMI Template'!K142=\"direct\",\"NA\",IF(AND('FMI Template'!M142<>\"\",'FMI Template'!M142<>\"UA\"),'FMI Template'!M142,\"\"))","v":""},{"$f":"IF('FMI Template'!K142=\"direct\",\"NA\",IF(AND('FMI Template'!N142<>\"\",'FMI Template'!N142<>\"UA\"),'FMI Template'!N142,\"\"))","v":""},{"$f":"IF(OR('FMI Template'!H142=\"Other\",'FMI Template'!H142=\"NA\"),'FMI Template'!Q142,\"\")","v":""},{"$f":"IF(AND('FMI Template'!O142<>\"\",'FMI Template'!O142<>\"NA\",'FMI Template'!O142<>\"UA\"),'FMI Template'!O142,\"\")","v":""}]
[null,{"$f":"IF(AND('FMI Template'!B143<>\"\",'FMI Template'!B143<>\"NA\",'FMI Template'!B143<>\"UA\"),'FMI Template'!B143,\"\")","v":""},{"$f":"IF(AND('FMI Template'!C143<>\"\",'FMI Template'!C143<>\"NA\",'FMI Template'!C143<>\"UA\"),'FMI Template'!C143,\"\")","v":""},{"$f":"IF(AND('FMI Template'!D143<>\"\",'FMI Template'!D143<>\"NA\",'FMI Template'!D143<>\"UA\"),'FMI Template'!D143,\"\")","v":""},{"$f":"IF(AND('FMI Template'!F143<>\"\",'FMI Template'!F143<>\"NA\",'FMI Template'!F143<>\"UA\"),'FMI Template'!F143,\"\")","v":""},{"$f":"IF(AND('FMI Template'!H143<>\"\", 'FMI Template'!H143<>\"UA\"),IF('FMI Template'!H143=\"CSD\",\"(I)CSD\",IF('FMI Template'!H143=\"CCP_Derivatives\",\"CCP-Derivatives\",IF('FMI Template'!H143=\"CCP_securities\",\"CCP-securities\",IF('FMI Template'!H143=\"PS_Retail\",\"PS\",IF('FMI Template'!H143=\"PS_LV\",\"PS\",'FMI Template'!H143))))),\"\")","v":""},{"$f":"IF(AND('FMI Template'!I143<>\"\", 'FMI Template'!I143<>\"UA\"),'FMI Template'!I143,\"\")","v":""},{"$f":"IF(AND('FMI Template'!J143<>\"\",'FMI Template'!J143<>\"UA\"),IF('FMI Template'!J143=\"CSD_SSS\",\"CSD-SSS\",IF('FMI Template'!J143=\"CCP_Derivatives\",\"CCP-Derivatives\",IF('FMI Template'!J143=\"CCP_securities\",\"CCP-securities\",IF('FMI Template'!J143=\"Trading_venue\",\"Trading-venue\",'FMI Template'!J143)))),\"\")","v":""},{"$f":"IF(AND('FMI Template'!K143<>\"\",'FMI Template'!K143<>\"UA\"),'FMI Template'!K143,\"\")","v":""},{"$f":"IF('FMI Template'!K143=\"direct\",\"NA\",IF(AND('FMI Template'!M143<>\"\",'FMI Template'!M143<>\"UA\"),'FMI Template'!M143,\"\"))","v":""},{"$f":"IF('FMI Template'!K143=\"direct\",\"NA\",IF(AND('FMI Template'!N143<>\"\",'FMI Template'!N143<>\"UA\"),'FMI Template'!N143,\"\"))","v":""},{"$f":"IF(OR('FMI Template'!H143=\"Other\",'FMI Template'!H143=\"NA\"),'FMI Template'!Q143,\"\")","v":""},{"$f":"IF(AND('FMI Template'!O143<>\"\",'FMI Template'!O143<>\"NA\",'FMI Template'!O143<>\"UA\"),'FMI Template'!O143,\"\")","v":""}]
[null,{"$f":"IF(AND('FMI Template'!B144<>\"\",'FMI Template'!B144<>\"NA\",'FMI Template'!B144<>\"UA\"),'FMI Template'!B144,\"\")","v":""},{"$f":"IF(AND('FMI Template'!C144<>\"\",'FMI Template'!C144<>\"NA\",'FMI Template'!C144<>\"UA\"),'FMI Template'!C144,\"\")","v":""},{"$f":"IF(AND('FMI Template'!D144<>\"\",'FMI Template'!D144<>\"NA\",'FMI Template'!D144<>\"UA\"),'FMI Template'!D144,\"\")","v":""},{"$f":"IF(AND('FMI Template'!F144<>\"\",'FMI Template'!F144<>\"NA\",'FMI Template'!F144<>\"UA\"),'FMI Template'!F144,\"\")","v":""},{"$f":"IF(AND('FMI Template'!H144<>\"\", 'FMI Template'!H144<>\"UA\"),IF('FMI Template'!H144=\"CSD\",\"(I)CSD\",IF('FMI Template'!H144=\"CCP_Derivatives\",\"CCP-Derivatives\",IF('FMI Template'!H144=\"CCP_securities\",\"CCP-securities\",IF('FMI Template'!H144=\"PS_Retail\",\"PS\",IF('FMI Template'!H144=\"PS_LV\",\"PS\",'FMI Template'!H144))))),\"\")","v":""},{"$f":"IF(AND('FMI Template'!I144<>\"\", 'FMI Template'!I144<>\"UA\"),'FMI Template'!I144,\"\")","v":""},{"$f":"IF(AND('FMI Template'!J144<>\"\",'FMI Template'!J144<>\"UA\"),IF('FMI Template'!J144=\"CSD_SSS\",\"CSD-SSS\",IF('FMI Template'!J144=\"CCP_Derivatives\",\"CCP-Derivatives\",IF('FMI Template'!J144=\"CCP_securities\",\"CCP-securities\",IF('FMI Template'!J144=\"Trading_venue\",\"Trading-venue\",'FMI Template'!J144)))),\"\")","v":""},{"$f":"IF(AND('FMI Template'!K144<>\"\",'FMI Template'!K144<>\"UA\"),'FMI Template'!K144,\"\")","v":""},{"$f":"IF('FMI Template'!K144=\"direct\",\"NA\",IF(AND('FMI Template'!M144<>\"\",'FMI Template'!M144<>\"UA\"),'FMI Template'!M144,\"\"))","v":""},{"$f":"IF('FMI Template'!K144=\"direct\",\"NA\",IF(AND('FMI Template'!N144<>\"\",'FMI Template'!N144<>\"UA\"),'FMI Template'!N144,\"\"))","v":""},{"$f":"IF(OR('FMI Template'!H144=\"Other\",'FMI Template'!H144=\"NA\"),'FMI Template'!Q144,\"\")","v":""},{"$f":"IF(AND('FMI Template'!O144<>\"\",'FMI Template'!O144<>\"NA\",'FMI Template'!O144<>\"UA\"),'FMI Template'!O144,\"\")","v":""}]
[null,{"$f":"IF(AND('FMI Template'!B145<>\"\",'FMI Template'!B145<>\"NA\",'FMI Template'!B145<>\"UA\"),'FMI Template'!B145,\"\")","v":""},{"$f":"IF(AND('FMI Template'!C145<>\"\",'FMI Template'!C145<>\"NA\",'FMI Template'!C145<>\"UA\"),'FMI Template'!C145,\"\")","v":""},{"$f":"IF(AND('FMI Template'!D145<>\"\",'FMI Template'!D145<>\"NA\",'FMI Template'!D145<>\"UA\"),'FMI Template'!D145,\"\")","v":""},{"$f":"IF(AND('FMI Template'!F145<>\"\",'FMI Template'!F145<>\"NA\",'FMI Template'!F145<>\"UA\"),'FMI Template'!F145,\"\")","v":""},{"$f":"IF(AND('FMI Template'!H145<>\"\", 'FMI Template'!H145<>\"UA\"),IF('FMI Template'!H145=\"CSD\",\"(I)CSD\",IF('FMI Template'!H145=\"CCP_Derivatives\",\"CCP-Derivatives\",IF('FMI Template'!H145=\"CCP_securities\",\"CCP-securities\",IF('FMI Template'!H145=\"PS_Retail\",\"PS\",IF('FMI Template'!H145=\"PS_LV\",\"PS\",'FMI Template'!H145))))),\"\")","v":""},{"$f":"IF(AND('FMI Template'!I145<>\"\", 'FMI Template'!I145<>\"UA\"),'FMI Template'!I145,\"\")","v":""},{"$f":"IF(AND('FMI Template'!J145<>\"\",'FMI Template'!J145<>\"UA\"),IF('FMI Template'!J145=\"CSD_SSS\",\"CSD-SSS\",IF('FMI Template'!J145=\"CCP_Derivatives\",\"CCP-Derivatives\",IF('FMI Template'!J145=\"CCP_securities\",\"CCP-securities\",IF('FMI Template'!J145=\"Trading_venue\",\"Trading-venue\",'FMI Template'!J145)))),\"\")","v":""},{"$f":"IF(AND('FMI Template'!K145<>\"\",'FMI Template'!K145<>\"UA\"),'FMI Template'!K145,\"\")","v":""},{"$f":"IF('FMI Template'!K145=\"direct\",\"NA\",IF(AND('FMI Template'!M145<>\"\",'FMI Template'!M145<>\"UA\"),'FMI Template'!M145,\"\"))","v":""},{"$f":"IF('FMI Template'!K145=\"direct\",\"NA\",IF(AND('FMI Template'!N145<>\"\",'FMI Template'!N145<>\"UA\"),'FMI Template'!N145,\"\"))","v":""},{"$f":"IF(OR('FMI Template'!H145=\"Other\",'FMI Template'!H145=\"NA\"),'FMI Template'!Q145,\"\")","v":""},{"$f":"IF(AND('FMI Template'!O145<>\"\",'FMI Template'!O145<>\"NA\",'FMI Template'!O145<>\"UA\"),'FMI Template'!O145,\"\")","v":""}]
[null,{"$f":"IF(AND('FMI Template'!B146<>\"\",'FMI Template'!B146<>\"NA\",'FMI Template'!B146<>\"UA\"),'FMI Template'!B146,\"\")","v":""},{"$f":"IF(AND('FMI Template'!C146<>\"\",'FMI Template'!C146<>\"NA\",'FMI Template'!C146<>\"UA\"),'FMI Template'!C146,\"\")","v":""},{"$f":"IF(AND('FMI Template'!D146<>\"\",'FMI Template'!D146<>\"NA\",'FMI Template'!D146<>\"UA\"),'FMI Template'!D146,\"\")","v":""},{"$f":"IF(AND('FMI Template'!F146<>\"\",'FMI Template'!F146<>\"NA\",'FMI Template'!F146<>\"UA\"),'FMI Template'!F146,\"\")","v":""},{"$f":"IF(AND('FMI Template'!H146<>\"\", 'FMI Template'!H146<>\"UA\"),IF('FMI Template'!H146=\"CSD\",\"(I)CSD\",IF('FMI Template'!H146=\"CCP_Derivatives\",\"CCP-Derivatives\",IF('FMI Template'!H146=\"CCP_securities\",\"CCP-securities\",IF('FMI Template'!H146=\"PS_Retail\",\"PS\",IF('FMI Template'!H146=\"PS_LV\",\"PS\",'FMI Template'!H146))))),\"\")","v":""},{"$f":"IF(AND('FMI Template'!I146<>\"\", 'FMI Template'!I146<>\"UA\"),'FMI Template'!I146,\"\")","v":""},{"$f":"IF(AND('FMI Template'!J146<>\"\",'FMI Template'!J146<>\"UA\"),IF('FMI Template'!J146=\"CSD_SSS\",\"CSD-SSS\",IF('FMI Template'!J146=\"CCP_Derivatives\",\"CCP-Derivatives\",IF('FMI Template'!J146=\"CCP_securities\",\"CCP-securities\",IF('FMI Template'!J146=\"Trading_venue\",\"Trading-venue\",'FMI Template'!J146)))),\"\")","v":""},{"$f":"IF(AND('FMI Template'!K146<>\"\",'FMI Template'!K146<>\"UA\"),'FMI Template'!K146,\"\")","v":""},{"$f":"IF('FMI Template'!K146=\"direct\",\"NA\",IF(AND('FMI Template'!M146<>\"\",'FMI Template'!M146<>\"UA\"),'FMI Template'!M146,\"\"))","v":""},{"$f":"IF('FMI Template'!K146=\"direct\",\"NA\",IF(AND('FMI Template'!N146<>\"\",'FMI Template'!N146<>\"UA\"),'FMI Template'!N146,\"\"))","v":""},{"$f":"IF(OR('FMI Template'!H146=\"Other\",'FMI Template'!H146=\"NA\"),'FMI Template'!Q146,\"\")","v":""},{"$f":"IF(AND('FMI Template'!O146<>\"\",'FMI Template'!O146<>\"NA\",'FMI Template'!O146<>\"UA\"),'FMI Template'!O146,\"\")","v":""}]
[null,{"$f":"IF(AND('FMI Template'!B147<>\"\",'FMI Template'!B147<>\"NA\",'FMI Template'!B147<>\"UA\"),'FMI Template'!B147,\"\")","v":""},{"$f":"IF(AND('FMI Template'!C147<>\"\",'FMI Template'!C147<>\"NA\",'FMI Template'!C147<>\"UA\"),'FMI Template'!C147,\"\")","v":""},{"$f":"IF(AND('FMI Template'!D147<>\"\",'FMI Template'!D147<>\"NA\",'FMI Template'!D147<>\"UA\"),'FMI Template'!D147,\"\")","v":""},{"$f":"IF(AND('FMI Template'!F147<>\"\",'FMI Template'!F147<>\"NA\",'FMI Template'!F147<>\"UA\"),'FMI Template'!F147,\"\")","v":""},{"$f":"IF(AND('FMI Template'!H147<>\"\", 'FMI Template'!H147<>\"UA\"),IF('FMI Template'!H147=\"CSD\",\"(I)CSD\",IF('FMI Template'!H147=\"CCP_Derivatives\",\"CCP-Derivatives\",IF('FMI Template'!H147=\"CCP_securities\",\"CCP-securities\",IF('FMI Template'!H147=\"PS_Retail\",\"PS\",IF('FMI Template'!H147=\"PS_LV\",\"PS\",'FMI Template'!H147))))),\"\")","v":""},{"$f":"IF(AND('FMI Template'!I147<>\"\", 'FMI Template'!I147<>\"UA\"),'FMI Template'!I147,\"\")","v":""},{"$f":"IF(AND('FMI Template'!J147<>\"\",'FMI Template'!J147<>\"UA\"),IF('FMI Template'!J147=\"CSD_SSS\",\"CSD-SSS\",IF('FMI Template'!J147=\"CCP_Derivatives\",\"CCP-Derivatives\",IF('FMI Template'!J147=\"CCP_securities\",\"CCP-securities\",IF('FMI Template'!J147=\"Trading_venue\",\"Trading-venue\",'FMI Template'!J147)))),\"\")","v":""},{"$f":"IF(AND('FMI Template'!K147<>\"\",'FMI Template'!K147<>\"UA\"),'FMI Template'!K147,\"\")","v":""},{"$f":"IF('FMI Template'!K147=\"direct\",\"NA\",IF(AND('FMI Template'!M147<>\"\",'FMI Template'!M147<>\"UA\"),'FMI Template'!M147,\"\"))","v":""},{"$f":"IF('FMI Template'!K147=\"direct\",\"NA\",IF(AND('FMI Template'!N147<>\"\",'FMI Template'!N147<>\"UA\"),'FMI Template'!N147,\"\"))","v":""},{"$f":"IF(OR('FMI Template'!H147=\"Other\",'FMI Template'!H147=\"NA\"),'FMI Template'!Q147,\"\")","v":""},{"$f":"IF(AND('FMI Template'!O147<>\"\",'FMI Template'!O147<>\"NA\",'FMI Template'!O147<>\"UA\"),'FMI Template'!O147,\"\")","v":""}]
[null,{"$f":"IF(AND('FMI Template'!B148<>\"\",'FMI Template'!B148<>\"NA\",'FMI Template'!B148<>\"UA\"),'FMI Template'!B148,\"\")","v":""},{"$f":"IF(AND('FMI Template'!C148<>\"\",'FMI Template'!C148<>\"NA\",'FMI Template'!C148<>\"UA\"),'FMI Template'!C148,\"\")","v":""},{"$f":"IF(AND('FMI Template'!D148<>\"\",'FMI Template'!D148<>\"NA\",'FMI Template'!D148<>\"UA\"),'FMI Template'!D148,\"\")","v":""},{"$f":"IF(AND('FMI Template'!F148<>\"\",'FMI Template'!F148<>\"NA\",'FMI Template'!F148<>\"UA\"),'FMI Template'!F148,\"\")","v":""},{"$f":"IF(AND('FMI Template'!H148<>\"\", 'FMI Template'!H148<>\"UA\"),IF('FMI Template'!H148=\"CSD\",\"(I)CSD\",IF('FMI Template'!H148=\"CCP_Derivatives\",\"CCP-Derivatives\",IF('FMI Template'!H148=\"CCP_securities\",\"CCP-securities\",IF('FMI Template'!H148=\"PS_Retail\",\"PS\",IF('FMI Template'!H148=\"PS_LV\",\"PS\",'FMI Template'!H148))))),\"\")","v":""},{"$f":"IF(AND('FMI Template'!I148<>\"\", 'FMI Template'!I148<>\"UA\"),'FMI Template'!I148,\"\")","v":""},{"$f":"IF(AND('FMI Template'!J148<>\"\",'FMI Template'!J148<>\"UA\"),IF('FMI Template'!J148=\"CSD_SSS\",\"CSD-SSS\",IF('FMI Template'!J148=\"CCP_Derivatives\",\"CCP-Derivatives\",IF('FMI Template'!J148=\"CCP_securities\",\"CCP-securities\",IF('FMI Template'!J148=\"Trading_venue\",\"Trading-venue\",'FMI Template'!J148)))),\"\")","v":""},{"$f":"IF(AND('FMI Template'!K148<>\"\",'FMI Template'!K148<>\"UA\"),'FMI Template'!K148,\"\")","v":""},{"$f":"IF('FMI Template'!K148=\"direct\",\"NA\",IF(AND('FMI Template'!M148<>\"\",'FMI Template'!M148<>\"UA\"),'FMI Template'!M148,\"\"))","v":""},{"$f":"IF('FMI Template'!K148=\"direct\",\"NA\",IF(AND('FMI Template'!N148<>\"\",'FMI Template'!N148<>\"UA\"),'FMI Template'!N148,\"\"))","v":""},{"$f":"IF(OR('FMI Template'!H148=\"Other\",'FMI Template'!H148=\"NA\"),'FMI Template'!Q148,\"\")","v":""},{"$f":"IF(AND('FMI Template'!O148<>\"\",'FMI Template'!O148<>\"NA\",'FMI Template'!O148<>\"UA\"),'FMI Template'!O148,\"\")","v":""}]
[null,{"$f":"IF(AND('FMI Template'!B149<>\"\",'FMI Template'!B149<>\"NA\",'FMI Template'!B149<>\"UA\"),'FMI Template'!B149,\"\")","v":""},{"$f":"IF(AND('FMI Template'!C149<>\"\",'FMI Template'!C149<>\"NA\",'FMI Template'!C149<>\"UA\"),'FMI Template'!C149,\"\")","v":""},{"$f":"IF(AND('FMI Template'!D149<>\"\",'FMI Template'!D149<>\"NA\",'FMI Template'!D149<>\"UA\"),'FMI Template'!D149,\"\")","v":""},{"$f":"IF(AND('FMI Template'!F149<>\"\",'FMI Template'!F149<>\"NA\",'FMI Template'!F149<>\"UA\"),'FMI Template'!F149,\"\")","v":""},{"$f":"IF(AND('FMI Template'!H149<>\"\", 'FMI Template'!H149<>\"UA\"),IF('FMI Template'!H149=\"CSD\",\"(I)CSD\",IF('FMI Template'!H149=\"CCP_Derivatives\",\"CCP-Derivatives\",IF('FMI Template'!H149=\"CCP_securities\",\"CCP-securities\",IF('FMI Template'!H149=\"PS_Retail\",\"PS\",IF('FMI Template'!H149=\"PS_LV\",\"PS\",'FMI Template'!H149))))),\"\")","v":""},{"$f":"IF(AND('FMI Template'!I149<>\"\", 'FMI Template'!I149<>\"UA\"),'FMI Template'!I149,\"\")","v":""},{"$f":"IF(AND('FMI Template'!J149<>\"\",'FMI Template'!J149<>\"UA\"),IF('FMI Template'!J149=\"CSD_SSS\",\"CSD-SSS\",IF('FMI Template'!J149=\"CCP_Derivatives\",\"CCP-Derivatives\",IF('FMI Template'!J149=\"CCP_securities\",\"CCP-securities\",IF('FMI Template'!J149=\"Trading_venue\",\"Trading-venue\",'FMI Template'!J149)))),\"\")","v":""},{"$f":"IF(AND('FMI Template'!K149<>\"\",'FMI Template'!K149<>\"UA\"),'FMI Template'!K149,\"\")","v":""},{"$f":"IF('FMI Template'!K149=\"direct\",\"NA\",IF(AND('FMI Template'!M149<>\"\",'FMI Template'!M149<>\"UA\"),'FMI Template'!M149,\"\"))","v":""},{"$f":"IF('FMI Template'!K149=\"direct\",\"NA\",IF(AND('FMI Template'!N149<>\"\",'FMI Template'!N149<>\"UA\"),'FMI Template'!N149,\"\"))","v":""},{"$f":"IF(OR('FMI Template'!H149=\"Other\",'FMI Template'!H149=\"NA\"),'FMI Template'!Q149,\"\")","v":""},{"$f":"IF(AND('FMI Template'!O149<>\"\",'FMI Template'!O149<>\"NA\",'FMI Template'!O149<>\"UA\"),'FMI Template'!O149,\"\")","v":""}]
[null,{"$f":"IF(AND('FMI Template'!B150<>\"\",'FMI Template'!B150<>\"NA\",'FMI Template'!B150<>\"UA\"),'FMI Template'!B150,\"\")","v":""},{"$f":"IF(AND('FMI Template'!C150<>\"\",'FMI Template'!C150<>\"NA\",'FMI Template'!C150<>\"UA\"),'FMI Template'!C150,\"\")","v":""},{"$f":"IF(AND('FMI Template'!D150<>\"\",'FMI Template'!D150<>\"NA\",'FMI Template'!D150<>\"UA\"),'FMI Template'!D150,\"\")","v":""},{"$f":"IF(AND('FMI Template'!F150<>\"\",'FMI Template'!F150<>\"NA\",'FMI Template'!F150<>\"UA\"),'FMI Template'!F150,\"\")","v":""},{"$f":"IF(AND('FMI Template'!H150<>\"\", 'FMI Template'!H150<>\"UA\"),IF('FMI Template'!H150=\"CSD\",\"(I)CSD\",IF('FMI Template'!H150=\"CCP_Derivatives\",\"CCP-Derivatives\",IF('FMI Template'!H150=\"CCP_securities\",\"CCP-securities\",IF('FMI Template'!H150=\"PS_Retail\",\"PS\",IF('FMI Template'!H150=\"PS_LV\",\"PS\",'FMI Template'!H150))))),\"\")","v":""},{"$f":"IF(AND('FMI Template'!I150<>\"\", 'FMI Template'!I150<>\"UA\"),'FMI Template'!I150,\"\")","v":""},{"$f":"IF(AND('FMI Template'!J150<>\"\",'FMI Template'!J150<>\"UA\"),IF('FMI Template'!J150=\"CSD_SSS\",\"CSD-SSS\",IF('FMI Template'!J150=\"CCP_Derivatives\",\"CCP-Derivatives\",IF('FMI Template'!J150=\"CCP_securities\",\"CCP-securities\",IF('FMI Template'!J150=\"Trading_venue\",\"Trading-venue\",'FMI Template'!J150)))),\"\")","v":""},{"$f":"IF(AND('FMI Template'!K150<>\"\",'FMI Template'!K150<>\"UA\"),'FMI Template'!K150,\"\")","v":""},{"$f":"IF('FMI Template'!K150=\"direct\",\"NA\",IF(AND('FMI Template'!M150<>\"\",'FMI Template'!M150<>\"UA\"),'FMI Template'!M150,\"\"))","v":""},{"$f":"IF('FMI Template'!K150=\"direct\",\"NA\",IF(AND('FMI Template'!N150<>\"\",'FMI Template'!N150<>\"UA\"),'FMI Template'!N150,\"\"))","v":""},{"$f":"IF(OR('FMI Template'!H150=\"Other\",'FMI Template'!H150=\"NA\"),'FMI Template'!Q150,\"\")","v":""},{"$f":"IF(AND('FMI Template'!O150<>\"\",'FMI Template'!O150<>\"NA\",'FMI Template'!O150<>\"UA\"),'FMI Template'!O150,\"\")","v":""}]
[null,{"$f":"IF(AND('FMI Template'!B151<>\"\",'FMI Template'!B151<>\"NA\",'FMI Template'!B151<>\"UA\"),'FMI Template'!B151,\"\")","v":""},{"$f":"IF(AND('FMI Template'!C151<>\"\",'FMI Template'!C151<>\"NA\",'FMI Template'!C151<>\"UA\"),'FMI Template'!C151,\"\")","v":""},{"$f":"IF(AND('FMI Template'!D151<>\"\",'FMI Template'!D151<>\"NA\",'FMI Template'!D151<>\"UA\"),'FMI Template'!D151,\"\")","v":""},{"$f":"IF(AND('FMI Template'!F151<>\"\",'FMI Template'!F151<>\"NA\",'FMI Template'!F151<>\"UA\"),'FMI Template'!F151,\"\")","v":""},{"$f":"IF(AND('FMI Template'!H151<>\"\", 'FMI Template'!H151<>\"UA\"),IF('FMI Template'!H151=\"CSD\",\"(I)CSD\",IF('FMI Template'!H151=\"CCP_Derivatives\",\"CCP-Derivatives\",IF('FMI Template'!H151=\"CCP_securities\",\"CCP-securities\",IF('FMI Template'!H151=\"PS_Retail\",\"PS\",IF('FMI Template'!H151=\"PS_LV\",\"PS\",'FMI Template'!H151))))),\"\")","v":""},{"$f":"IF(AND('FMI Template'!I151<>\"\", 'FMI Template'!I151<>\"UA\"),'FMI Template'!I151,\"\")","v":""},{"$f":"IF(AND('FMI Template'!J151<>\"\",'FMI Template'!J151<>\"UA\"),IF('FMI Template'!J151=\"CSD_SSS\",\"CSD-SSS\",IF('FMI Template'!J151=\"CCP_Derivatives\",\"CCP-Derivatives\",IF('FMI Template'!J151=\"CCP_securities\",\"CCP-securities\",IF('FMI Template'!J151=\"Trading_venue\",\"Trading-venue\",'FMI Template'!J151)))),\"\")","v":""},{"$f":"IF(AND('FMI Template'!K151<>\"\",'FMI Template'!K151<>\"UA\"),'FMI Template'!K151,\"\")","v":""},{"$f":"IF('FMI Template'!K151=\"direct\",\"NA\",IF(AND('FMI Template'!M151<>\"\",'FMI Template'!M151<>\"UA\"),'FMI Template'!M151,\"\"))","v":""},{"$f":"IF('FMI Template'!K151=\"direct\",\"NA\",IF(AND('FMI Template'!N151<>\"\",'FMI Template'!N151<>\"UA\"),'FMI Template'!N151,\"\"))","v":""},{"$f":"IF(OR('FMI Template'!H151=\"Other\",'FMI Template'!H151=\"NA\"),'FMI Template'!Q151,\"\")","v":""},{"$f":"IF(AND('FMI Template'!O151<>\"\",'FMI Template'!O151<>\"NA\",'FMI Template'!O151<>\"UA\"),'FMI Template'!O151,\"\")","v":""}]
[null,{"$f":"IF(AND('FMI Template'!B152<>\"\",'FMI Template'!B152<>\"NA\",'FMI Template'!B152<>\"UA\"),'FMI Template'!B152,\"\")","v":""},{"$f":"IF(AND('FMI Template'!C152<>\"\",'FMI Template'!C152<>\"NA\",'FMI Template'!C152<>\"UA\"),'FMI Template'!C152,\"\")","v":""},{"$f":"IF(AND('FMI Template'!D152<>\"\",'FMI Template'!D152<>\"NA\",'FMI Template'!D152<>\"UA\"),'FMI Template'!D152,\"\")","v":""},{"$f":"IF(AND('FMI Template'!F152<>\"\",'FMI Template'!F152<>\"NA\",'FMI Template'!F152<>\"UA\"),'FMI Template'!F152,\"\")","v":""},{"$f":"IF(AND('FMI Template'!H152<>\"\", 'FMI Template'!H152<>\"UA\"),IF('FMI Template'!H152=\"CSD\",\"(I)CSD\",IF('FMI Template'!H152=\"CCP_Derivatives\",\"CCP-Derivatives\",IF('FMI Template'!H152=\"CCP_securities\",\"CCP-securities\",IF('FMI Template'!H152=\"PS_Retail\",\"PS\",IF('FMI Template'!H152=\"PS_LV\",\"PS\",'FMI Template'!H152))))),\"\")","v":""},{"$f":"IF(AND('FMI Template'!I152<>\"\", 'FMI Template'!I152<>\"UA\"),'FMI Template'!I152,\"\")","v":""},{"$f":"IF(AND('FMI Template'!J152<>\"\",'FMI Template'!J152<>\"UA\"),IF('FMI Template'!J152=\"CSD_SSS\",\"CSD-SSS\",IF('FMI Template'!J152=\"CCP_Derivatives\",\"CCP-Derivatives\",IF('FMI Template'!J152=\"CCP_securities\",\"CCP-securities\",IF('FMI Template'!J152=\"Trading_venue\",\"Trading-venue\",'FMI Template'!J152)))),\"\")","v":""},{"$f":"IF(AND('FMI Template'!K152<>\"\",'FMI Template'!K152<>\"UA\"),'FMI Template'!K152,\"\")","v":""},{"$f":"IF('FMI Template'!K152=\"direct\",\"NA\",IF(AND('FMI Template'!M152<>\"\",'FMI Template'!M152<>\"UA\"),'FMI Template'!M152,\"\"))","v":""},{"$f":"IF('FMI Template'!K152=\"direct\",\"NA\",IF(AND('FMI Template'!N152<>\"\",'FMI Template'!N152<>\"UA\"),'FMI Template'!N152,\"\"))","v":""},{"$f":"IF(OR('FMI Template'!H152=\"Other\",'FMI Template'!H152=\"NA\"),'FMI Template'!Q152,\"\")","v":""},{"$f":"IF(AND('FMI Template'!O152<>\"\",'FMI Template'!O152<>\"NA\",'FMI Template'!O152<>\"UA\"),'FMI Template'!O152,\"\")","v":""}]
[null,{"$f":"IF(AND('FMI Template'!B153<>\"\",'FMI Template'!B153<>\"NA\",'FMI Template'!B153<>\"UA\"),'FMI Template'!B153,\"\")","v":""},{"$f":"IF(AND('FMI Template'!C153<>\"\",'FMI Template'!C153<>\"NA\",'FMI Template'!C153<>\"UA\"),'FMI Template'!C153,\"\")","v":""},{"$f":"IF(AND('FMI Template'!D153<>\"\",'FMI Template'!D153<>\"NA\",'FMI Template'!D153<>\"UA\"),'FMI Template'!D153,\"\")","v":""},{"$f":"IF(AND('FMI Template'!F153<>\"\",'FMI Template'!F153<>\"NA\",'FMI Template'!F153<>\"UA\"),'FMI Template'!F153,\"\")","v":""},{"$f":"IF(AND('FMI Template'!H153<>\"\", 'FMI Template'!H153<>\"UA\"),IF('FMI Template'!H153=\"CSD\",\"(I)CSD\",IF('FMI Template'!H153=\"CCP_Derivatives\",\"CCP-Derivatives\",IF('FMI Template'!H153=\"CCP_securities\",\"CCP-securities\",IF('FMI Template'!H153=\"PS_Retail\",\"PS\",IF('FMI Template'!H153=\"PS_LV\",\"PS\",'FMI Template'!H153))))),\"\")","v":""},{"$f":"IF(AND('FMI Template'!I153<>\"\", 'FMI Template'!I153<>\"UA\"),'FMI Template'!I153,\"\")","v":""},{"$f":"IF(AND('FMI Template'!J153<>\"\",'FMI Template'!J153<>\"UA\"),IF('FMI Template'!J153=\"CSD_SSS\",\"CSD-SSS\",IF('FMI Template'!J153=\"CCP_Derivatives\",\"CCP-Derivatives\",IF('FMI Template'!J153=\"CCP_securities\",\"CCP-securities\",IF('FMI Template'!J153=\"Trading_venue\",\"Trading-venue\",'FMI Template'!J153)))),\"\")","v":""},{"$f":"IF(AND('FMI Template'!K153<>\"\",'FMI Template'!K153<>\"UA\"),'FMI Template'!K153,\"\")","v":""},{"$f":"IF('FMI Template'!K153=\"direct\",\"NA\",IF(AND('FMI Template'!M153<>\"\",'FMI Template'!M153<>\"UA\"),'FMI Template'!M153,\"\"))","v":""},{"$f":"IF('FMI Template'!K153=\"direct\",\"NA\",IF(AND('FMI Template'!N153<>\"\",'FMI Template'!N153<>\"UA\"),'FMI Template'!N153,\"\"))","v":""},{"$f":"IF(OR('FMI Template'!H153=\"Other\",'FMI Template'!H153=\"NA\"),'FMI Template'!Q153,\"\")","v":""},{"$f":"IF(AND('FMI Template'!O153<>\"\",'FMI Template'!O153<>\"NA\",'FMI Template'!O153<>\"UA\"),'FMI Template'!O153,\"\")","v":""}]
[null,{"$f":"IF(AND('FMI Template'!B154<>\"\",'FMI Template'!B154<>\"NA\",'FMI Template'!B154<>\"UA\"),'FMI Template'!B154,\"\")","v":""},{"$f":"IF(AND('FMI Template'!C154<>\"\",'FMI Template'!C154<>\"NA\",'FMI Template'!C154<>\"UA\"),'FMI Template'!C154,\"\")","v":""},{"$f":"IF(AND('FMI Template'!D154<>\"\",'FMI Template'!D154<>\"NA\",'FMI Template'!D154<>\"UA\"),'FMI Template'!D154,\"\")","v":""},{"$f":"IF(AND('FMI Template'!F154<>\"\",'FMI Template'!F154<>\"NA\",'FMI Template'!F154<>\"UA\"),'FMI Template'!F154,\"\")","v":""},{"$f":"IF(AND('FMI Template'!H154<>\"\", 'FMI Template'!H154<>\"UA\"),IF('FMI Template'!H154=\"CSD\",\"(I)CSD\",IF('FMI Template'!H154=\"CCP_Derivatives\",\"CCP-Derivatives\",IF('FMI Template'!H154=\"CCP_securities\",\"CCP-securities\",IF('FMI Template'!H154=\"PS_Retail\",\"PS\",IF('FMI Template'!H154=\"PS_LV\",\"PS\",'FMI Template'!H154))))),\"\")","v":""},{"$f":"IF(AND('FMI Template'!I154<>\"\", 'FMI Template'!I154<>\"UA\"),'FMI Template'!I154,\"\")","v":""},{"$f":"IF(AND('FMI Template'!J154<>\"\",'FMI Template'!J154<>\"UA\"),IF('FMI Template'!J154=\"CSD_SSS\",\"CSD-SSS\",IF('FMI Template'!J154=\"CCP_Derivatives\",\"CCP-Derivatives\",IF('FMI Template'!J154=\"CCP_securities\",\"CCP-securities\",IF('FMI Template'!J154=\"Trading_venue\",\"Trading-venue\",'FMI Template'!J154)))),\"\")","v":""},{"$f":"IF(AND('FMI Template'!K154<>\"\",'FMI Template'!K154<>\"UA\"),'FMI Template'!K154,\"\")","v":""},{"$f":"IF('FMI Template'!K154=\"direct\",\"NA\",IF(AND('FMI Template'!M154<>\"\",'FMI Template'!M154<>\"UA\"),'FMI Template'!M154,\"\"))","v":""},{"$f":"IF('FMI Template'!K154=\"direct\",\"NA\",IF(AND('FMI Template'!N154<>\"\",'FMI Template'!N154<>\"UA\"),'FMI Template'!N154,\"\"))","v":""},{"$f":"IF(OR('FMI Template'!H154=\"Other\",'FMI Template'!H154=\"NA\"),'FMI Template'!Q154,\"\")","v":""},{"$f":"IF(AND('FMI Template'!O154<>\"\",'FMI Template'!O154<>\"NA\",'FMI Template'!O154<>\"UA\"),'FMI Template'!O154,\"\")","v":""}]
[null,{"$f":"IF(AND('FMI Template'!B155<>\"\",'FMI Template'!B155<>\"NA\",'FMI Template'!B155<>\"UA\"),'FMI Template'!B155,\"\")","v":""},{"$f":"IF(AND('FMI Template'!C155<>\"\",'FMI Template'!C155<>\"NA\",'FMI Template'!C155<>\"UA\"),'FMI Template'!C155,\"\")","v":""},{"$f":"IF(AND('FMI Template'!D155<>\"\",'FMI Template'!D155<>\"NA\",'FMI Template'!D155<>\"UA\"),'FMI Template'!D155,\"\")","v":""},{"$f":"IF(AND('FMI Template'!F155<>\"\",'FMI Template'!F155<>\"NA\",'FMI Template'!F155<>\"UA\"),'FMI Template'!F155,\"\")","v":""},{"$f":"IF(AND('FMI Template'!H155<>\"\", 'FMI Template'!H155<>\"UA\"),IF('FMI Template'!H155=\"CSD\",\"(I)CSD\",IF('FMI Template'!H155=\"CCP_Derivatives\",\"CCP-Derivatives\",IF('FMI Template'!H155=\"CCP_securities\",\"CCP-securities\",IF('FMI Template'!H155=\"PS_Retail\",\"PS\",IF('FMI Template'!H155=\"PS_LV\",\"PS\",'FMI Template'!H155))))),\"\")","v":""},{"$f":"IF(AND('FMI Template'!I155<>\"\", 'FMI Template'!I155<>\"UA\"),'FMI Template'!I155,\"\")","v":""},{"$f":"IF(AND('FMI Template'!J155<>\"\",'FMI Template'!J155<>\"UA\"),IF('FMI Template'!J155=\"CSD_SSS\",\"CSD-SSS\",IF('FMI Template'!J155=\"CCP_Derivatives\",\"CCP-Derivatives\",IF('FMI Template'!J155=\"CCP_securities\",\"CCP-securities\",IF('FMI Template'!J155=\"Trading_venue\",\"Trading-venue\",'FMI Template'!J155)))),\"\")","v":""},{"$f":"IF(AND('FMI Template'!K155<>\"\",'FMI Template'!K155<>\"UA\"),'FMI Template'!K155,\"\")","v":""},{"$f":"IF('FMI Template'!K155=\"direct\",\"NA\",IF(AND('FMI Template'!M155<>\"\",'FMI Template'!M155<>\"UA\"),'FMI Template'!M155,\"\"))","v":""},{"$f":"IF('FMI Template'!K155=\"direct\",\"NA\",IF(AND('FMI Template'!N155<>\"\",'FMI Template'!N155<>\"UA\"),'FMI Template'!N155,\"\"))","v":""},{"$f":"IF(OR('FMI Template'!H155=\"Other\",'FMI Template'!H155=\"NA\"),'FMI Template'!Q155,\"\")","v":""},{"$f":"IF(AND('FMI Template'!O155<>\"\",'FMI Template'!O155<>\"NA\",'FMI Template'!O155<>\"UA\"),'FMI Template'!O155,\"\")","v":""}]
[null,{"$f":"IF(AND('FMI Template'!B156<>\"\",'FMI Template'!B156<>\"NA\",'FMI Template'!B156<>\"UA\"),'FMI Template'!B156,\"\")","v":""},{"$f":"IF(AND('FMI Template'!C156<>\"\",'FMI Template'!C156<>\"NA\",'FMI Template'!C156<>\"UA\"),'FMI Template'!C156,\"\")","v":""},{"$f":"IF(AND('FMI Template'!D156<>\"\",'FMI Template'!D156<>\"NA\",'FMI Template'!D156<>\"UA\"),'FMI Template'!D156,\"\")","v":""},{"$f":"IF(AND('FMI Template'!F156<>\"\",'FMI Template'!F156<>\"NA\",'FMI Template'!F156<>\"UA\"),'FMI Template'!F156,\"\")","v":""},{"$f":"IF(AND('FMI Template'!H156<>\"\", 'FMI Template'!H156<>\"UA\"),IF('FMI Template'!H156=\"CSD\",\"(I)CSD\",IF('FMI Template'!H156=\"CCP_Derivatives\",\"CCP-Derivatives\",IF('FMI Template'!H156=\"CCP_securities\",\"CCP-securities\",IF('FMI Template'!H156=\"PS_Retail\",\"PS\",IF('FMI Template'!H156=\"PS_LV\",\"PS\",'FMI Template'!H156))))),\"\")","v":""},{"$f":"IF(AND('FMI Template'!I156<>\"\", 'FMI Template'!I156<>\"UA\"),'FMI Template'!I156,\"\")","v":""},{"$f":"IF(AND('FMI Template'!J156<>\"\",'FMI Template'!J156<>\"UA\"),IF('FMI Template'!J156=\"CSD_SSS\",\"CSD-SSS\",IF('FMI Template'!J156=\"CCP_Derivatives\",\"CCP-Derivatives\",IF('FMI Template'!J156=\"CCP_securities\",\"CCP-securities\",IF('FMI Template'!J156=\"Trading_venue\",\"Trading-venue\",'FMI Template'!J156)))),\"\")","v":""},{"$f":"IF(AND('FMI Template'!K156<>\"\",'FMI Template'!K156<>\"UA\"),'FMI Template'!K156,\"\")","v":""},{"$f":"IF('FMI Template'!K156=\"direct\",\"NA\",IF(AND('FMI Template'!M156<>\"\",'FMI Template'!M156<>\"UA\"),'FMI Template'!M156,\"\"))","v":""},{"$f":"IF('FMI Template'!K156=\"direct\",\"NA\",IF(AND('FMI Template'!N156<>\"\",'FMI Template'!N156<>\"UA\"),'FMI Template'!N156,\"\"))","v":""},{"$f":"IF(OR('FMI Template'!H156=\"Other\",'FMI Template'!H156=\"NA\"),'FMI Template'!Q156,\"\")","v":""},{"$f":"IF(AND('FMI Template'!O156<>\"\",'FMI Template'!O156<>\"NA\",'FMI Template'!O156<>\"UA\"),'FMI Template'!O156,\"\")","v":""}]
[null,{"$f":"IF(AND('FMI Template'!B157<>\"\",'FMI Template'!B157<>\"NA\",'FMI Template'!B157<>\"UA\"),'FMI Template'!B157,\"\")","v":""},{"$f":"IF(AND('FMI Template'!C157<>\"\",'FMI Template'!C157<>\"NA\",'FMI Template'!C157<>\"UA\"),'FMI Template'!C157,\"\")","v":""},{"$f":"IF(AND('FMI Template'!D157<>\"\",'FMI Template'!D157<>\"NA\",'FMI Template'!D157<>\"UA\"),'FMI Template'!D157,\"\")","v":""},{"$f":"IF(AND('FMI Template'!F157<>\"\",'FMI Template'!F157<>\"NA\",'FMI Template'!F157<>\"UA\"),'FMI Template'!F157,\"\")","v":""},{"$f":"IF(AND('FMI Template'!H157<>\"\", 'FMI Template'!H157<>\"UA\"),IF('FMI Template'!H157=\"CSD\",\"(I)CSD\",IF('FMI Template'!H157=\"CCP_Derivatives\",\"CCP-Derivatives\",IF('FMI Template'!H157=\"CCP_securities\",\"CCP-securities\",IF('FMI Template'!H157=\"PS_Retail\",\"PS\",IF('FMI Template'!H157=\"PS_LV\",\"PS\",'FMI Template'!H157))))),\"\")","v":""},{"$f":"IF(AND('FMI Template'!I157<>\"\", 'FMI Template'!I157<>\"UA\"),'FMI Template'!I157,\"\")","v":""},{"$f":"IF(AND('FMI Template'!J157<>\"\",'FMI Template'!J157<>\"UA\"),IF('FMI Template'!J157=\"CSD_SSS\",\"CSD-SSS\",IF('FMI Template'!J157=\"CCP_Derivatives\",\"CCP-Derivatives\",IF('FMI Template'!J157=\"CCP_securities\",\"CCP-securities\",IF('FMI Template'!J157=\"Trading_venue\",\"Trading-venue\",'FMI Template'!J157)))),\"\")","v":""},{"$f":"IF(AND('FMI Template'!K157<>\"\",'FMI Template'!K157<>\"UA\"),'FMI Template'!K157,\"\")","v":""},{"$f":"IF('FMI Template'!K157=\"direct\",\"NA\",IF(AND('FMI Template'!M157<>\"\",'FMI Template'!M157<>\"UA\"),'FMI Template'!M157,\"\"))","v":""},{"$f":"IF('FMI Template'!K157=\"direct\",\"NA\",IF(AND('FMI Template'!N157<>\"\",'FMI Template'!N157<>\"UA\"),'FMI Template'!N157,\"\"))","v":""},{"$f":"IF(OR('FMI Template'!H157=\"Other\",'FMI Template'!H157=\"NA\"),'FMI Template'!Q157,\"\")","v":""},{"$f":"IF(AND('FMI Template'!O157<>\"\",'FMI Template'!O157<>\"NA\",'FMI Template'!O157<>\"UA\"),'FMI Template'!O157,\"\")","v":""}]
[null,{"$f":"IF(AND('FMI Template'!B158<>\"\",'FMI Template'!B158<>\"NA\",'FMI Template'!B158<>\"UA\"),'FMI Template'!B158,\"\")","v":""},{"$f":"IF(AND('FMI Template'!C158<>\"\",'FMI Template'!C158<>\"NA\",'FMI Template'!C158<>\"UA\"),'FMI Template'!C158,\"\")","v":""},{"$f":"IF(AND('FMI Template'!D158<>\"\",'FMI Template'!D158<>\"NA\",'FMI Template'!D158<>\"UA\"),'FMI Template'!D158,\"\")","v":""},{"$f":"IF(AND('FMI Template'!F158<>\"\",'FMI Template'!F158<>\"NA\",'FMI Template'!F158<>\"UA\"),'FMI Template'!F158,\"\")","v":""},{"$f":"IF(AND('FMI Template'!H158<>\"\", 'FMI Template'!H158<>\"UA\"),IF('FMI Template'!H158=\"CSD\",\"(I)CSD\",IF('FMI Template'!H158=\"CCP_Derivatives\",\"CCP-Derivatives\",IF('FMI Template'!H158=\"CCP_securities\",\"CCP-securities\",IF('FMI Template'!H158=\"PS_Retail\",\"PS\",IF('FMI Template'!H158=\"PS_LV\",\"PS\",'FMI Template'!H158))))),\"\")","v":""},{"$f":"IF(AND('FMI Template'!I158<>\"\", 'FMI Template'!I158<>\"UA\"),'FMI Template'!I158,\"\")","v":""},{"$f":"IF(AND('FMI Template'!J158<>\"\",'FMI Template'!J158<>\"UA\"),IF('FMI Template'!J158=\"CSD_SSS\",\"CSD-SSS\",IF('FMI Template'!J158=\"CCP_Derivatives\",\"CCP-Derivatives\",IF('FMI Template'!J158=\"CCP_securities\",\"CCP-securities\",IF('FMI Template'!J158=\"Trading_venue\",\"Trading-venue\",'FMI Template'!J158)))),\"\")","v":""},{"$f":"IF(AND('FMI Template'!K158<>\"\",'FMI Template'!K158<>\"UA\"),'FMI Template'!K158,\"\")","v":""},{"$f":"IF('FMI Template'!K158=\"direct\",\"NA\",IF(AND('FMI Template'!M158<>\"\",'FMI Template'!M158<>\"UA\"),'FMI Template'!M158,\"\"))","v":""},{"$f":"IF('FMI Template'!K158=\"direct\",\"NA\",IF(AND('FMI Template'!N158<>\"\",'FMI Template'!N158<>\"UA\"),'FMI Template'!N158,\"\"))","v":""},{"$f":"IF(OR('FMI Template'!H158=\"Other\",'FMI Template'!H158=\"NA\"),'FMI Template'!Q158,\"\")","v":""},{"$f":"IF(AND('FMI Template'!O158<>\"\",'FMI Template'!O158<>\"NA\",'FMI Template'!O158<>\"UA\"),'FMI Template'!O158,\"\")","v":""}]
[null,{"$f":"IF(AND('FMI Template'!B159<>\"\",'FMI Template'!B159<>\"NA\",'FMI Template'!B159<>\"UA\"),'FMI Template'!B159,\"\")","v":""},{"$f":"IF(AND('FMI Template'!C159<>\"\",'FMI Template'!C159<>\"NA\",'FMI Template'!C159<>\"UA\"),'FMI Template'!C159,\"\")","v":""},{"$f":"IF(AND('FMI Template'!D159<>\"\",'FMI Template'!D159<>\"NA\",'FMI Template'!D159<>\"UA\"),'FMI Template'!D159,\"\")","v":""},{"$f":"IF(AND('FMI Template'!F159<>\"\",'FMI Template'!F159<>\"NA\",'FMI Template'!F159<>\"UA\"),'FMI Template'!F159,\"\")","v":""},{"$f":"IF(AND('FMI Template'!H159<>\"\", 'FMI Template'!H159<>\"UA\"),IF('FMI Template'!H159=\"CSD\",\"(I)CSD\",IF('FMI Template'!H159=\"CCP_Derivatives\",\"CCP-Derivatives\",IF('FMI Template'!H159=\"CCP_securities\",\"CCP-securities\",IF('FMI Template'!H159=\"PS_Retail\",\"PS\",IF('FMI Template'!H159=\"PS_LV\",\"PS\",'FMI Template'!H159))))),\"\")","v":""},{"$f":"IF(AND('FMI Template'!I159<>\"\", 'FMI Template'!I159<>\"UA\"),'FMI Template'!I159,\"\")","v":""},{"$f":"IF(AND('FMI Template'!J159<>\"\",'FMI Template'!J159<>\"UA\"),IF('FMI Template'!J159=\"CSD_SSS\",\"CSD-SSS\",IF('FMI Template'!J159=\"CCP_Derivatives\",\"CCP-Derivatives\",IF('FMI Template'!J159=\"CCP_securities\",\"CCP-securities\",IF('FMI Template'!J159=\"Trading_venue\",\"Trading-venue\",'FMI Template'!J159)))),\"\")","v":""},{"$f":"IF(AND('FMI Template'!K159<>\"\",'FMI Template'!K159<>\"UA\"),'FMI Template'!K159,\"\")","v":""},{"$f":"IF('FMI Template'!K159=\"direct\",\"NA\",IF(AND('FMI Template'!M159<>\"\",'FMI Template'!M159<>\"UA\"),'FMI Template'!M159,\"\"))","v":""},{"$f":"IF('FMI Template'!K159=\"direct\",\"NA\",IF(AND('FMI Template'!N159<>\"\",'FMI Template'!N159<>\"UA\"),'FMI Template'!N159,\"\"))","v":""},{"$f":"IF(OR('FMI Template'!H159=\"Other\",'FMI Template'!H159=\"NA\"),'FMI Template'!Q159,\"\")","v":""},{"$f":"IF(AND('FMI Template'!O159<>\"\",'FMI Template'!O159<>\"NA\",'FMI Template'!O159<>\"UA\"),'FMI Template'!O159,\"\")","v":""}]
[null,{"$f":"IF(AND('FMI Template'!B160<>\"\",'FMI Template'!B160<>\"NA\",'FMI Template'!B160<>\"UA\"),'FMI Template'!B160,\"\")","v":""},{"$f":"IF(AND('FMI Template'!C160<>\"\",'FMI Template'!C160<>\"NA\",'FMI Template'!C160<>\"UA\"),'FMI Template'!C160,\"\")","v":""},{"$f":"IF(AND('FMI Template'!D160<>\"\",'FMI Template'!D160<>\"NA\",'FMI Template'!D160<>\"UA\"),'FMI Template'!D160,\"\")","v":""},{"$f":"IF(AND('FMI Template'!F160<>\"\",'FMI Template'!F160<>\"NA\",'FMI Template'!F160<>\"UA\"),'FMI Template'!F160,\"\")","v":""},{"$f":"IF(AND('FMI Template'!H160<>\"\", 'FMI Template'!H160<>\"UA\"),IF('FMI Template'!H160=\"CSD\",\"(I)CSD\",IF('FMI Template'!H160=\"CCP_Derivatives\",\"CCP-Derivatives\",IF('FMI Template'!H160=\"CCP_securities\",\"CCP-securities\",IF('FMI Template'!H160=\"PS_Retail\",\"PS\",IF('FMI Template'!H160=\"PS_LV\",\"PS\",'FMI Template'!H160))))),\"\")","v":""},{"$f":"IF(AND('FMI Template'!I160<>\"\", 'FMI Template'!I160<>\"UA\"),'FMI Template'!I160,\"\")","v":""},{"$f":"IF(AND('FMI Template'!J160<>\"\",'FMI Template'!J160<>\"UA\"),IF('FMI Template'!J160=\"CSD_SSS\",\"CSD-SSS\",IF('FMI Template'!J160=\"CCP_Derivatives\",\"CCP-Derivatives\",IF('FMI Template'!J160=\"CCP_securities\",\"CCP-securities\",IF('FMI Template'!J160=\"Trading_venue\",\"Trading-venue\",'FMI Template'!J160)))),\"\")","v":""},{"$f":"IF(AND('FMI Template'!K160<>\"\",'FMI Template'!K160<>\"UA\"),'FMI Template'!K160,\"\")","v":""},{"$f":"IF('FMI Template'!K160=\"direct\",\"NA\",IF(AND('FMI Template'!M160<>\"\",'FMI Template'!M160<>\"UA\"),'FMI Template'!M160,\"\"))","v":""},{"$f":"IF('FMI Template'!K160=\"direct\",\"NA\",IF(AND('FMI Template'!N160<>\"\",'FMI Template'!N160<>\"UA\"),'FMI Template'!N160,\"\"))","v":""},{"$f":"IF(OR('FMI Template'!H160=\"Other\",'FMI Template'!H160=\"NA\"),'FMI Template'!Q160,\"\")","v":""},{"$f":"IF(AND('FMI Template'!O160<>\"\",'FMI Template'!O160<>\"NA\",'FMI Template'!O160<>\"UA\"),'FMI Template'!O160,\"\")","v":""}]
[null,{"$f":"IF(AND('FMI Template'!B161<>\"\",'FMI Template'!B161<>\"NA\",'FMI Template'!B161<>\"UA\"),'FMI Template'!B161,\"\")","v":""},{"$f":"IF(AND('FMI Template'!C161<>\"\",'FMI Template'!C161<>\"NA\",'FMI Template'!C161<>\"UA\"),'FMI Template'!C161,\"\")","v":""},{"$f":"IF(AND('FMI Template'!D161<>\"\",'FMI Template'!D161<>\"NA\",'FMI Template'!D161<>\"UA\"),'FMI Template'!D161,\"\")","v":""},{"$f":"IF(AND('FMI Template'!F161<>\"\",'FMI Template'!F161<>\"NA\",'FMI Template'!F161<>\"UA\"),'FMI Template'!F161,\"\")","v":""},{"$f":"IF(AND('FMI Template'!H161<>\"\", 'FMI Template'!H161<>\"UA\"),IF('FMI Template'!H161=\"CSD\",\"(I)CSD\",IF('FMI Template'!H161=\"CCP_Derivatives\",\"CCP-Derivatives\",IF('FMI Template'!H161=\"CCP_securities\",\"CCP-securities\",IF('FMI Template'!H161=\"PS_Retail\",\"PS\",IF('FMI Template'!H161=\"PS_LV\",\"PS\",'FMI Template'!H161))))),\"\")","v":""},{"$f":"IF(AND('FMI Template'!I161<>\"\", 'FMI Template'!I161<>\"UA\"),'FMI Template'!I161,\"\")","v":""},{"$f":"IF(AND('FMI Template'!J161<>\"\",'FMI Template'!J161<>\"UA\"),IF('FMI Template'!J161=\"CSD_SSS\",\"CSD-SSS\",IF('FMI Template'!J161=\"CCP_Derivatives\",\"CCP-Derivatives\",IF('FMI Template'!J161=\"CCP_securities\",\"CCP-securities\",IF('FMI Template'!J161=\"Trading_venue\",\"Trading-venue\",'FMI Template'!J161)))),\"\")","v":""},{"$f":"IF(AND('FMI Template'!K161<>\"\",'FMI Template'!K161<>\"UA\"),'FMI Template'!K161,\"\")","v":""},{"$f":"IF('FMI Template'!K161=\"direct\",\"NA\",IF(AND('FMI Template'!M161<>\"\",'FMI Template'!M161<>\"UA\"),'FMI Template'!M161,\"\"))","v":""},{"$f":"IF('FMI Template'!K161=\"direct\",\"NA\",IF(AND('FMI Template'!N161<>\"\",'FMI Template'!N161<>\"UA\"),'FMI Template'!N161,\"\"))","v":""},{"$f":"IF(OR('FMI Template'!H161=\"Other\",'FMI Template'!H161=\"NA\"),'FMI Template'!Q161,\"\")","v":""},{"$f":"IF(AND('FMI Template'!O161<>\"\",'FMI Template'!O161<>\"NA\",'FMI Template'!O161<>\"UA\"),'FMI Template'!O161,\"\")","v":""}]
[null,{"$f":"IF(AND('FMI Template'!B162<>\"\",'FMI Template'!B162<>\"NA\",'FMI Template'!B162<>\"UA\"),'FMI Template'!B162,\"\")","v":""},{"$f":"IF(AND('FMI Template'!C162<>\"\",'FMI Template'!C162<>\"NA\",'FMI Template'!C162<>\"UA\"),'FMI Template'!C162,\"\")","v":""},{"$f":"IF(AND('FMI Template'!D162<>\"\",'FMI Template'!D162<>\"NA\",'FMI Template'!D162<>\"UA\"),'FMI Template'!D162,\"\")","v":""},{"$f":"IF(AND('FMI Template'!F162<>\"\",'FMI Template'!F162<>\"NA\",'FMI Template'!F162<>\"UA\"),'FMI Template'!F162,\"\")","v":""},{"$f":"IF(AND('FMI Template'!H162<>\"\", 'FMI Template'!H162<>\"UA\"),IF('FMI Template'!H162=\"CSD\",\"(I)CSD\",IF('FMI Template'!H162=\"CCP_Derivatives\",\"CCP-Derivatives\",IF('FMI Template'!H162=\"CCP_securities\",\"CCP-securities\",IF('FMI Template'!H162=\"PS_Retail\",\"PS\",IF('FMI Template'!H162=\"PS_LV\",\"PS\",'FMI Template'!H162))))),\"\")","v":""},{"$f":"IF(AND('FMI Template'!I162<>\"\", 'FMI Template'!I162<>\"UA\"),'FMI Template'!I162,\"\")","v":""},{"$f":"IF(AND('FMI Template'!J162<>\"\",'FMI Template'!J162<>\"UA\"),IF('FMI Template'!J162=\"CSD_SSS\",\"CSD-SSS\",IF('FMI Template'!J162=\"CCP_Derivatives\",\"CCP-Derivatives\",IF('FMI Template'!J162=\"CCP_securities\",\"CCP-securities\",IF('FMI Template'!J162=\"Trading_venue\",\"Trading-venue\",'FMI Template'!J162)))),\"\")","v":""},{"$f":"IF(AND('FMI Template'!K162<>\"\",'FMI Template'!K162<>\"UA\"),'FMI Template'!K162,\"\")","v":""},{"$f":"IF('FMI Template'!K162=\"direct\",\"NA\",IF(AND('FMI Template'!M162<>\"\",'FMI Template'!M162<>\"UA\"),'FMI Template'!M162,\"\"))","v":""},{"$f":"IF('FMI Template'!K162=\"direct\",\"NA\",IF(AND('FMI Template'!N162<>\"\",'FMI Template'!N162<>\"UA\"),'FMI Template'!N162,\"\"))","v":""},{"$f":"IF(OR('FMI Template'!H162=\"Other\",'FMI Template'!H162=\"NA\"),'FMI Template'!Q162,\"\")","v":""},{"$f":"IF(AND('FMI Template'!O162<>\"\",'FMI Template'!O162<>\"NA\",'FMI Template'!O162<>\"UA\"),'FMI Template'!O162,\"\")","v":""}]
[null,{"$f":"IF(AND('FMI Template'!B163<>\"\",'FMI Template'!B163<>\"NA\",'FMI Template'!B163<>\"UA\"),'FMI Template'!B163,\"\")","v":""},{"$f":"IF(AND('FMI Template'!C163<>\"\",'FMI Template'!C163<>\"NA\",'FMI Template'!C163<>\"UA\"),'FMI Template'!C163,\"\")","v":""},{"$f":"IF(AND('FMI Template'!D163<>\"\",'FMI Template'!D163<>\"NA\",'FMI Template'!D163<>\"UA\"),'FMI Template'!D163,\"\")","v":""},{"$f":"IF(AND('FMI Template'!F163<>\"\",'FMI Template'!F163<>\"NA\",'FMI Template'!F163<>\"UA\"),'FMI Template'!F163,\"\")","v":""},{"$f":"IF(AND('FMI Template'!H163<>\"\", 'FMI Template'!H163<>\"UA\"),IF('FMI Template'!H163=\"CSD\",\"(I)CSD\",IF('FMI Template'!H163=\"CCP_Derivatives\",\"CCP-Derivatives\",IF('FMI Template'!H163=\"CCP_securities\",\"CCP-securities\",IF('FMI Template'!H163=\"PS_Retail\",\"PS\",IF('FMI Template'!H163=\"PS_LV\",\"PS\",'FMI Template'!H163))))),\"\")","v":""},{"$f":"IF(AND('FMI Template'!I163<>\"\", 'FMI Template'!I163<>\"UA\"),'FMI Template'!I163,\"\")","v":""},{"$f":"IF(AND('FMI Template'!J163<>\"\",'FMI Template'!J163<>\"UA\"),IF('FMI Template'!J163=\"CSD_SSS\",\"CSD-SSS\",IF('FMI Template'!J163=\"CCP_Derivatives\",\"CCP-Derivatives\",IF('FMI Template'!J163=\"CCP_securities\",\"CCP-securities\",IF('FMI Template'!J163=\"Trading_venue\",\"Trading-venue\",'FMI Template'!J163)))),\"\")","v":""},{"$f":"IF(AND('FMI Template'!K163<>\"\",'FMI Template'!K163<>\"UA\"),'FMI Template'!K163,\"\")","v":""},{"$f":"IF('FMI Template'!K163=\"direct\",\"NA\",IF(AND('FMI Template'!M163<>\"\",'FMI Template'!M163<>\"UA\"),'FMI Template'!M163,\"\"))","v":""},{"$f":"IF('FMI Template'!K163=\"direct\",\"NA\",IF(AND('FMI Template'!N163<>\"\",'FMI Template'!N163<>\"UA\"),'FMI Template'!N163,\"\"))","v":""},{"$f":"IF(OR('FMI Template'!H163=\"Other\",'FMI Template'!H163=\"NA\"),'FMI Template'!Q163,\"\")","v":""},{"$f":"IF(AND('FMI Template'!O163<>\"\",'FMI Template'!O163<>\"NA\",'FMI Template'!O163<>\"UA\"),'FMI Template'!O163,\"\")","v":""}]
[null,{"$f":"IF(AND('FMI Template'!B164<>\"\",'FMI Template'!B164<>\"NA\",'FMI Template'!B164<>\"UA\"),'FMI Template'!B164,\"\")","v":""},{"$f":"IF(AND('FMI Template'!C164<>\"\",'FMI Template'!C164<>\"NA\",'FMI Template'!C164<>\"UA\"),'FMI Template'!C164,\"\")","v":""},{"$f":"IF(AND('FMI Template'!D164<>\"\",'FMI Template'!D164<>\"NA\",'FMI Template'!D164<>\"UA\"),'FMI Template'!D164,\"\")","v":""},{"$f":"IF(AND('FMI Template'!F164<>\"\",'FMI Template'!F164<>\"NA\",'FMI Template'!F164<>\"UA\"),'FMI Template'!F164,\"\")","v":""},{"$f":"IF(AND('FMI Template'!H164<>\"\", 'FMI Template'!H164<>\"UA\"),IF('FMI Template'!H164=\"CSD\",\"(I)CSD\",IF('FMI Template'!H164=\"CCP_Derivatives\",\"CCP-Derivatives\",IF('FMI Template'!H164=\"CCP_securities\",\"CCP-securities\",IF('FMI Template'!H164=\"PS_Retail\",\"PS\",IF('FMI Template'!H164=\"PS_LV\",\"PS\",'FMI Template'!H164))))),\"\")","v":""},{"$f":"IF(AND('FMI Template'!I164<>\"\", 'FMI Template'!I164<>\"UA\"),'FMI Template'!I164,\"\")","v":""},{"$f":"IF(AND('FMI Template'!J164<>\"\",'FMI Template'!J164<>\"UA\"),IF('FMI Template'!J164=\"CSD_SSS\",\"CSD-SSS\",IF('FMI Template'!J164=\"CCP_Derivatives\",\"CCP-Derivatives\",IF('FMI Template'!J164=\"CCP_securities\",\"CCP-securities\",IF('FMI Template'!J164=\"Trading_venue\",\"Trading-venue\",'FMI Template'!J164)))),\"\")","v":""},{"$f":"IF(AND('FMI Template'!K164<>\"\",'FMI Template'!K164<>\"UA\"),'FMI Template'!K164,\"\")","v":""},{"$f":"IF('FMI Template'!K164=\"direct\",\"NA\",IF(AND('FMI Template'!M164<>\"\",'FMI Template'!M164<>\"UA\"),'FMI Template'!M164,\"\"))","v":""},{"$f":"IF('FMI Template'!K164=\"direct\",\"NA\",IF(AND('FMI Template'!N164<>\"\",'FMI Template'!N164<>\"UA\"),'FMI Template'!N164,\"\"))","v":""},{"$f":"IF(OR('FMI Template'!H164=\"Other\",'FMI Template'!H164=\"NA\"),'FMI Template'!Q164,\"\")","v":""},{"$f":"IF(AND('FMI Template'!O164<>\"\",'FMI Template'!O164<>\"NA\",'FMI Template'!O164<>\"UA\"),'FMI Template'!O164,\"\")","v":""}]
[null,{"$f":"IF(AND('FMI Template'!B165<>\"\",'FMI Template'!B165<>\"NA\",'FMI Template'!B165<>\"UA\"),'FMI Template'!B165,\"\")","v":""},{"$f":"IF(AND('FMI Template'!C165<>\"\",'FMI Template'!C165<>\"NA\",'FMI Template'!C165<>\"UA\"),'FMI Template'!C165,\"\")","v":""},{"$f":"IF(AND('FMI Template'!D165<>\"\",'FMI Template'!D165<>\"NA\",'FMI Template'!D165<>\"UA\"),'FMI Template'!D165,\"\")","v":""},{"$f":"IF(AND('FMI Template'!F165<>\"\",'FMI Template'!F165<>\"NA\",'FMI Template'!F165<>\"UA\"),'FMI Template'!F165,\"\")","v":""},{"$f":"IF(AND('FMI Template'!H165<>\"\", 'FMI Template'!H165<>\"UA\"),IF('FMI Template'!H165=\"CSD\",\"(I)CSD\",IF('FMI Template'!H165=\"CCP_Derivatives\",\"CCP-Derivatives\",IF('FMI Template'!H165=\"CCP_securities\",\"CCP-securities\",IF('FMI Template'!H165=\"PS_Retail\",\"PS\",IF('FMI Template'!H165=\"PS_LV\",\"PS\",'FMI Template'!H165))))),\"\")","v":""},{"$f":"IF(AND('FMI Template'!I165<>\"\", 'FMI Template'!I165<>\"UA\"),'FMI Template'!I165,\"\")","v":""},{"$f":"IF(AND('FMI Template'!J165<>\"\",'FMI Template'!J165<>\"UA\"),IF('FMI Template'!J165=\"CSD_SSS\",\"CSD-SSS\",IF('FMI Template'!J165=\"CCP_Derivatives\",\"CCP-Derivatives\",IF('FMI Template'!J165=\"CCP_securities\",\"CCP-securities\",IF('FMI Template'!J165=\"Trading_venue\",\"Trading-venue\",'FMI Template'!J165)))),\"\")","v":""},{"$f":"IF(AND('FMI Template'!K165<>\"\",'FMI Template'!K165<>\"UA\"),'FMI Template'!K165,\"\")","v":""},{"$f":"IF('FMI Template'!K165=\"direct\",\"NA\",IF(AND('FMI Template'!M165<>\"\",'FMI Template'!M165<>\"UA\"),'FMI Template'!M165,\"\"))","v":""},{"$f":"IF('FMI Template'!K165=\"direct\",\"NA\",IF(AND('FMI Template'!N165<>\"\",'FMI Template'!N165<>\"UA\"),'FMI Template'!N165,\"\"))","v":""},{"$f":"IF(OR('FMI Template'!H165=\"Other\",'FMI Template'!H165=\"NA\"),'FMI Template'!Q165,\"\")","v":""},{"$f":"IF(AND('FMI Template'!O165<>\"\",'FMI Template'!O165<>\"NA\",'FMI Template'!O165<>\"UA\"),'FMI Template'!O165,\"\")","v":""}]
[null,{"$f":"IF(AND('FMI Template'!B166<>\"\",'FMI Template'!B166<>\"NA\",'FMI Template'!B166<>\"UA\"),'FMI Template'!B166,\"\")","v":""},{"$f":"IF(AND('FMI Template'!C166<>\"\",'FMI Template'!C166<>\"NA\",'FMI Template'!C166<>\"UA\"),'FMI Template'!C166,\"\")","v":""},{"$f":"IF(AND('FMI Template'!D166<>\"\",'FMI Template'!D166<>\"NA\",'FMI Template'!D166<>\"UA\"),'FMI Template'!D166,\"\")","v":""},{"$f":"IF(AND('FMI Template'!F166<>\"\",'FMI Template'!F166<>\"NA\",'FMI Template'!F166<>\"UA\"),'FMI Template'!F166,\"\")","v":""},{"$f":"IF(AND('FMI Template'!H166<>\"\", 'FMI Template'!H166<>\"UA\"),IF('FMI Template'!H166=\"CSD\",\"(I)CSD\",IF('FMI Template'!H166=\"CCP_Derivatives\",\"CCP-Derivatives\",IF('FMI Template'!H166=\"CCP_securities\",\"CCP-securities\",IF('FMI Template'!H166=\"PS_Retail\",\"PS\",IF('FMI Template'!H166=\"PS_LV\",\"PS\",'FMI Template'!H166))))),\"\")","v":""},{"$f":"IF(AND('FMI Template'!I166<>\"\", 'FMI Template'!I166<>\"UA\"),'FMI Template'!I166,\"\")","v":""},{"$f":"IF(AND('FMI Template'!J166<>\"\",'FMI Template'!J166<>\"UA\"),IF('FMI Template'!J166=\"CSD_SSS\",\"CSD-SSS\",IF('FMI Template'!J166=\"CCP_Derivatives\",\"CCP-Derivatives\",IF('FMI Template'!J166=\"CCP_securities\",\"CCP-securities\",IF('FMI Template'!J166=\"Trading_venue\",\"Trading-venue\",'FMI Template'!J166)))),\"\")","v":""},{"$f":"IF(AND('FMI Template'!K166<>\"\",'FMI Template'!K166<>\"UA\"),'FMI Template'!K166,\"\")","v":""},{"$f":"IF('FMI Template'!K166=\"direct\",\"NA\",IF(AND('FMI Template'!M166<>\"\",'FMI Template'!M166<>\"UA\"),'FMI Template'!M166,\"\"))","v":""},{"$f":"IF('FMI Template'!K166=\"direct\",\"NA\",IF(AND('FMI Template'!N166<>\"\",'FMI Template'!N166<>\"UA\"),'FMI Template'!N166,\"\"))","v":""},{"$f":"IF(OR('FMI Template'!H166=\"Other\",'FMI Template'!H166=\"NA\"),'FMI Template'!Q166,\"\")","v":""},{"$f":"IF(AND('FMI Template'!O166<>\"\",'FMI Template'!O166<>\"NA\",'FMI Template'!O166<>\"UA\"),'FMI Template'!O166,\"\")","v":""}]
[null,{"$f":"IF(AND('FMI Template'!B167<>\"\",'FMI Template'!B167<>\"NA\",'FMI Template'!B167<>\"UA\"),'FMI Template'!B167,\"\")","v":""},{"$f":"IF(AND('FMI Template'!C167<>\"\",'FMI Template'!C167<>\"NA\",'FMI Template'!C167<>\"UA\"),'FMI Template'!C167,\"\")","v":""},{"$f":"IF(AND('FMI Template'!D167<>\"\",'FMI Template'!D167<>\"NA\",'FMI Template'!D167<>\"UA\"),'FMI Template'!D167,\"\")","v":""},{"$f":"IF(AND('FMI Template'!F167<>\"\",'FMI Template'!F167<>\"NA\",'FMI Template'!F167<>\"UA\"),'FMI Template'!F167,\"\")","v":""},{"$f":"IF(AND('FMI Template'!H167<>\"\", 'FMI Template'!H167<>\"UA\"),IF('FMI Template'!H167=\"CSD\",\"(I)CSD\",IF('FMI Template'!H167=\"CCP_Derivatives\",\"CCP-Derivatives\",IF('FMI Template'!H167=\"CCP_securities\",\"CCP-securities\",IF('FMI Template'!H167=\"PS_Retail\",\"PS\",IF('FMI Template'!H167=\"PS_LV\",\"PS\",'FMI Template'!H167))))),\"\")","v":""},{"$f":"IF(AND('FMI Template'!I167<>\"\", 'FMI Template'!I167<>\"UA\"),'FMI Template'!I167,\"\")","v":""},{"$f":"IF(AND('FMI Template'!J167<>\"\",'FMI Template'!J167<>\"UA\"),IF('FMI Template'!J167=\"CSD_SSS\",\"CSD-SSS\",IF('FMI Template'!J167=\"CCP_Derivatives\",\"CCP-Derivatives\",IF('FMI Template'!J167=\"CCP_securities\",\"CCP-securities\",IF('FMI Template'!J167=\"Trading_venue\",\"Trading-venue\",'FMI Template'!J167)))),\"\")","v":""},{"$f":"IF(AND('FMI Template'!K167<>\"\",'FMI Template'!K167<>\"UA\"),'FMI Template'!K167,\"\")","v":""},{"$f":"IF('FMI Template'!K167=\"direct\",\"NA\",IF(AND('FMI Template'!M167<>\"\",'FMI Template'!M167<>\"UA\"),'FMI Template'!M167,\"\"))","v":""},{"$f":"IF('FMI Template'!K167=\"direct\",\"NA\",IF(AND('FMI Template'!N167<>\"\",'FMI Template'!N167<>\"UA\"),'FMI Template'!N167,\"\"))","v":""},{"$f":"IF(OR('FMI Template'!H167=\"Other\",'FMI Template'!H167=\"NA\"),'FMI Template'!Q167,\"\")","v":""},{"$f":"IF(AND('FMI Template'!O167<>\"\",'FMI Template'!O167<>\"NA\",'FMI Template'!O167<>\"UA\"),'FMI Template'!O167,\"\")","v":""}]
[null,{"$f":"IF(AND('FMI Template'!B168<>\"\",'FMI Template'!B168<>\"NA\",'FMI Template'!B168<>\"UA\"),'FMI Template'!B168,\"\")","v":""},{"$f":"IF(AND('FMI Template'!C168<>\"\",'FMI Template'!C168<>\"NA\",'FMI Template'!C168<>\"UA\"),'FMI Template'!C168,\"\")","v":""},{"$f":"IF(AND('FMI Template'!D168<>\"\",'FMI Template'!D168<>\"NA\",'FMI Template'!D168<>\"UA\"),'FMI Template'!D168,\"\")","v":""},{"$f":"IF(AND('FMI Template'!F168<>\"\",'FMI Template'!F168<>\"NA\",'FMI Template'!F168<>\"UA\"),'FMI Template'!F168,\"\")","v":""},{"$f":"IF(AND('FMI Template'!H168<>\"\", 'FMI Template'!H168<>\"UA\"),IF('FMI Template'!H168=\"CSD\",\"(I)CSD\",IF('FMI Template'!H168=\"CCP_Derivatives\",\"CCP-Derivatives\",IF('FMI Template'!H168=\"CCP_securities\",\"CCP-securities\",IF('FMI Template'!H168=\"PS_Retail\",\"PS\",IF('FMI Template'!H168=\"PS_LV\",\"PS\",'FMI Template'!H168))))),\"\")","v":""},{"$f":"IF(AND('FMI Template'!I168<>\"\", 'FMI Template'!I168<>\"UA\"),'FMI Template'!I168,\"\")","v":""},{"$f":"IF(AND('FMI Template'!J168<>\"\",'FMI Template'!J168<>\"UA\"),IF('FMI Template'!J168=\"CSD_SSS\",\"CSD-SSS\",IF('FMI Template'!J168=\"CCP_Derivatives\",\"CCP-Derivatives\",IF('FMI Template'!J168=\"CCP_securities\",\"CCP-securities\",IF('FMI Template'!J168=\"Trading_venue\",\"Trading-venue\",'FMI Template'!J168)))),\"\")","v":""},{"$f":"IF(AND('FMI Template'!K168<>\"\",'FMI Template'!K168<>\"UA\"),'FMI Template'!K168,\"\")","v":""},{"$f":"IF('FMI Template'!K168=\"direct\",\"NA\",IF(AND('FMI Template'!M168<>\"\",'FMI Template'!M168<>\"UA\"),'FMI Template'!M168,\"\"))","v":""},{"$f":"IF('FMI Template'!K168=\"direct\",\"NA\",IF(AND('FMI Template'!N168<>\"\",'FMI Template'!N168<>\"UA\"),'FMI Template'!N168,\"\"))","v":""},{"$f":"IF(OR('FMI Template'!H168=\"Other\",'FMI Template'!H168=\"NA\"),'FMI Template'!Q168,\"\")","v":""},{"$f":"IF(AND('FMI Template'!O168<>\"\",'FMI Template'!O168<>\"NA\",'FMI Template'!O168<>\"UA\"),'FMI Template'!O168,\"\")","v":""}]
[null,{"$f":"IF(AND('FMI Template'!B169<>\"\",'FMI Template'!B169<>\"NA\",'FMI Template'!B169<>\"UA\"),'FMI Template'!B169,\"\")","v":""},{"$f":"IF(AND('FMI Template'!C169<>\"\",'FMI Template'!C169<>\"NA\",'FMI Template'!C169<>\"UA\"),'FMI Template'!C169,\"\")","v":""},{"$f":"IF(AND('FMI Template'!D169<>\"\",'FMI Template'!D169<>\"NA\",'FMI Template'!D169<>\"UA\"),'FMI Template'!D169,\"\")","v":""},{"$f":"IF(AND('FMI Template'!F169<>\"\",'FMI Template'!F169<>\"NA\",'FMI Template'!F169<>\"UA\"),'FMI Template'!F169,\"\")","v":""},{"$f":"IF(AND('FMI Template'!H169<>\"\", 'FMI Template'!H169<>\"UA\"),IF('FMI Template'!H169=\"CSD\",\"(I)CSD\",IF('FMI Template'!H169=\"CCP_Derivatives\",\"CCP-Derivatives\",IF('FMI Template'!H169=\"CCP_securities\",\"CCP-securities\",IF('FMI Template'!H169=\"PS_Retail\",\"PS\",IF('FMI Template'!H169=\"PS_LV\",\"PS\",'FMI Template'!H169))))),\"\")","v":""},{"$f":"IF(AND('FMI Template'!I169<>\"\", 'FMI Template'!I169<>\"UA\"),'FMI Template'!I169,\"\")","v":""},{"$f":"IF(AND('FMI Template'!J169<>\"\",'FMI Template'!J169<>\"UA\"),IF('FMI Template'!J169=\"CSD_SSS\",\"CSD-SSS\",IF('FMI Template'!J169=\"CCP_Derivatives\",\"CCP-Derivatives\",IF('FMI Template'!J169=\"CCP_securities\",\"CCP-securities\",IF('FMI Template'!J169=\"Trading_venue\",\"Trading-venue\",'FMI Template'!J169)))),\"\")","v":""},{"$f":"IF(AND('FMI Template'!K169<>\"\",'FMI Template'!K169<>\"UA\"),'FMI Template'!K169,\"\")","v":""},{"$f":"IF('FMI Template'!K169=\"direct\",\"NA\",IF(AND('FMI Template'!M169<>\"\",'FMI Template'!M169<>\"UA\"),'FMI Template'!M169,\"\"))","v":""},{"$f":"IF('FMI Template'!K169=\"direct\",\"NA\",IF(AND('FMI Template'!N169<>\"\",'FMI Template'!N169<>\"UA\"),'FMI Template'!N169,\"\"))","v":""},{"$f":"IF(OR('FMI Template'!H169=\"Other\",'FMI Template'!H169=\"NA\"),'FMI Template'!Q169,\"\")","v":""},{"$f":"IF(AND('FMI Template'!O169<>\"\",'FMI Template'!O169<>\"NA\",'FMI Template'!O169<>\"UA\"),'FMI Template'!O169,\"\")","v":""}]
[null,{"$f":"IF(AND('FMI Template'!B170<>\"\",'FMI Template'!B170<>\"NA\",'FMI Template'!B170<>\"UA\"),'FMI Template'!B170,\"\")","v":""},{"$f":"IF(AND('FMI Template'!C170<>\"\",'FMI Template'!C170<>\"NA\",'FMI Template'!C170<>\"UA\"),'FMI Template'!C170,\"\")","v":""},{"$f":"IF(AND('FMI Template'!D170<>\"\",'FMI Template'!D170<>\"NA\",'FMI Template'!D170<>\"UA\"),'FMI Template'!D170,\"\")","v":""},{"$f":"IF(AND('FMI Template'!F170<>\"\",'FMI Template'!F170<>\"NA\",'FMI Template'!F170<>\"UA\"),'FMI Template'!F170,\"\")","v":""},{"$f":"IF(AND('FMI Template'!H170<>\"\", 'FMI Template'!H170<>\"UA\"),IF('FMI Template'!H170=\"CSD\",\"(I)CSD\",IF('FMI Template'!H170=\"CCP_Derivatives\",\"CCP-Derivatives\",IF('FMI Template'!H170=\"CCP_securities\",\"CCP-securities\",IF('FMI Template'!H170=\"PS_Retail\",\"PS\",IF('FMI Template'!H170=\"PS_LV\",\"PS\",'FMI Template'!H170))))),\"\")","v":""},{"$f":"IF(AND('FMI Template'!I170<>\"\", 'FMI Template'!I170<>\"UA\"),'FMI Template'!I170,\"\")","v":""},{"$f":"IF(AND('FMI Template'!J170<>\"\",'FMI Template'!J170<>\"UA\"),IF('FMI Template'!J170=\"CSD_SSS\",\"CSD-SSS\",IF('FMI Template'!J170=\"CCP_Derivatives\",\"CCP-Derivatives\",IF('FMI Template'!J170=\"CCP_securities\",\"CCP-securities\",IF('FMI Template'!J170=\"Trading_venue\",\"Trading-venue\",'FMI Template'!J170)))),\"\")","v":""},{"$f":"IF(AND('FMI Template'!K170<>\"\",'FMI Template'!K170<>\"UA\"),'FMI Template'!K170,\"\")","v":""},{"$f":"IF('FMI Template'!K170=\"direct\",\"NA\",IF(AND('FMI Template'!M170<>\"\",'FMI Template'!M170<>\"UA\"),'FMI Template'!M170,\"\"))","v":""},{"$f":"IF('FMI Template'!K170=\"direct\",\"NA\",IF(AND('FMI Template'!N170<>\"\",'FMI Template'!N170<>\"UA\"),'FMI Template'!N170,\"\"))","v":""},{"$f":"IF(OR('FMI Template'!H170=\"Other\",'FMI Template'!H170=\"NA\"),'FMI Template'!Q170,\"\")","v":""},{"$f":"IF(AND('FMI Template'!O170<>\"\",'FMI Template'!O170<>\"NA\",'FMI Template'!O170<>\"UA\"),'FMI Template'!O170,\"\")","v":""}]
[null,{"$f":"IF(AND('FMI Template'!B171<>\"\",'FMI Template'!B171<>\"NA\",'FMI Template'!B171<>\"UA\"),'FMI Template'!B171,\"\")","v":""},{"$f":"IF(AND('FMI Template'!C171<>\"\",'FMI Template'!C171<>\"NA\",'FMI Template'!C171<>\"UA\"),'FMI Template'!C171,\"\")","v":""},{"$f":"IF(AND('FMI Template'!D171<>\"\",'FMI Template'!D171<>\"NA\",'FMI Template'!D171<>\"UA\"),'FMI Template'!D171,\"\")","v":""},{"$f":"IF(AND('FMI Template'!F171<>\"\",'FMI Template'!F171<>\"NA\",'FMI Template'!F171<>\"UA\"),'FMI Template'!F171,\"\")","v":""},{"$f":"IF(AND('FMI Template'!H171<>\"\", 'FMI Template'!H171<>\"UA\"),IF('FMI Template'!H171=\"CSD\",\"(I)CSD\",IF('FMI Template'!H171=\"CCP_Derivatives\",\"CCP-Derivatives\",IF('FMI Template'!H171=\"CCP_securities\",\"CCP-securities\",IF('FMI Template'!H171=\"PS_Retail\",\"PS\",IF('FMI Template'!H171=\"PS_LV\",\"PS\",'FMI Template'!H171))))),\"\")","v":""},{"$f":"IF(AND('FMI Template'!I171<>\"\", 'FMI Template'!I171<>\"UA\"),'FMI Template'!I171,\"\")","v":""},{"$f":"IF(AND('FMI Template'!J171<>\"\",'FMI Template'!J171<>\"UA\"),IF('FMI Template'!J171=\"CSD_SSS\",\"CSD-SSS\",IF('FMI Template'!J171=\"CCP_Derivatives\",\"CCP-Derivatives\",IF('FMI Template'!J171=\"CCP_securities\",\"CCP-securities\",IF('FMI Template'!J171=\"Trading_venue\",\"Trading-venue\",'FMI Template'!J171)))),\"\")","v":""},{"$f":"IF(AND('FMI Template'!K171<>\"\",'FMI Template'!K171<>\"UA\"),'FMI Template'!K171,\"\")","v":""},{"$f":"IF('FMI Template'!K171=\"direct\",\"NA\",IF(AND('FMI Template'!M171<>\"\",'FMI Template'!M171<>\"UA\"),'FMI Template'!M171,\"\"))","v":""},{"$f":"IF('FMI Template'!K171=\"direct\",\"NA\",IF(AND('FMI Template'!N171<>\"\",'FMI Template'!N171<>\"UA\"),'FMI Template'!N171,\"\"))","v":""},{"$f":"IF(OR('FMI Template'!H171=\"Other\",'FMI Template'!H171=\"NA\"),'FMI Template'!Q171,\"\")","v":""},{"$f":"IF(AND('FMI Template'!O171<>\"\",'FMI Template'!O171<>\"NA\",'FMI Template'!O171<>\"UA\"),'FMI Template'!O171,\"\")","v":""}]
[null,{"$f":"IF(AND('FMI Template'!B172<>\"\",'FMI Template'!B172<>\"NA\",'FMI Template'!B172<>\"UA\"),'FMI Template'!B172,\"\")","v":""},{"$f":"IF(AND('FMI Template'!C172<>\"\",'FMI Template'!C172<>\"NA\",'FMI Template'!C172<>\"UA\"),'FMI Template'!C172,\"\")","v":""},{"$f":"IF(AND('FMI Template'!D172<>\"\",'FMI Template'!D172<>\"NA\",'FMI Template'!D172<>\"UA\"),'FMI Template'!D172,\"\")","v":""},{"$f":"IF(AND('FMI Template'!F172<>\"\",'FMI Template'!F172<>\"NA\",'FMI Template'!F172<>\"UA\"),'FMI Template'!F172,\"\")","v":""},{"$f":"IF(AND('FMI Template'!H172<>\"\", 'FMI Template'!H172<>\"UA\"),IF('FMI Template'!H172=\"CSD\",\"(I)CSD\",IF('FMI Template'!H172=\"CCP_Derivatives\",\"CCP-Derivatives\",IF('FMI Template'!H172=\"CCP_securities\",\"CCP-securities\",IF('FMI Template'!H172=\"PS_Retail\",\"PS\",IF('FMI Template'!H172=\"PS_LV\",\"PS\",'FMI Template'!H172))))),\"\")","v":""},{"$f":"IF(AND('FMI Template'!I172<>\"\", 'FMI Template'!I172<>\"UA\"),'FMI Template'!I172,\"\")","v":""},{"$f":"IF(AND('FMI Template'!J172<>\"\",'FMI Template'!J172<>\"UA\"),IF('FMI Template'!J172=\"CSD_SSS\",\"CSD-SSS\",IF('FMI Template'!J172=\"CCP_Derivatives\",\"CCP-Derivatives\",IF('FMI Template'!J172=\"CCP_securities\",\"CCP-securities\",IF('FMI Template'!J172=\"Trading_venue\",\"Trading-venue\",'FMI Template'!J172)))),\"\")","v":""},{"$f":"IF(AND('FMI Template'!K172<>\"\",'FMI Template'!K172<>\"UA\"),'FMI Template'!K172,\"\")","v":""},{"$f":"IF('FMI Template'!K172=\"direct\",\"NA\",IF(AND('FMI Template'!M172<>\"\",'FMI Template'!M172<>\"UA\"),'FMI Template'!M172,\"\"))","v":""},{"$f":"IF('FMI Template'!K172=\"direct\",\"NA\",IF(AND('FMI Template'!N172<>\"\",'FMI Template'!N172<>\"UA\"),'FMI Template'!N172,\"\"))","v":""},{"$f":"IF(OR('FMI Template'!H172=\"Other\",'FMI Template'!H172=\"NA\"),'FMI Template'!Q172,\"\")","v":""},{"$f":"IF(AND('FMI Template'!O172<>\"\",'FMI Template'!O172<>\"NA\",'FMI Template'!O172<>\"UA\"),'FMI Template'!O172,\"\")","v":""}]
[null,{"$f":"IF(AND('FMI Template'!B173<>\"\",'FMI Template'!B173<>\"NA\",'FMI Template'!B173<>\"UA\"),'FMI Template'!B173,\"\")","v":""},{"$f":"IF(AND('FMI Template'!C173<>\"\",'FMI Template'!C173<>\"NA\",'FMI Template'!C173<>\"UA\"),'FMI Template'!C173,\"\")","v":""},{"$f":"IF(AND('FMI Template'!D173<>\"\",'FMI Template'!D173<>\"NA\",'FMI Template'!D173<>\"UA\"),'FMI Template'!D173,\"\")","v":""},{"$f":"IF(AND('FMI Template'!F173<>\"\",'FMI Template'!F173<>\"NA\",'FMI Template'!F173<>\"UA\"),'FMI Template'!F173,\"\")","v":""},{"$f":"IF(AND('FMI Template'!H173<>\"\", 'FMI Template'!H173<>\"UA\"),IF('FMI Template'!H173=\"CSD\",\"(I)CSD\",IF('FMI Template'!H173=\"CCP_Derivatives\",\"CCP-Derivatives\",IF('FMI Template'!H173=\"CCP_securities\",\"CCP-securities\",IF('FMI Template'!H173=\"PS_Retail\",\"PS\",IF('FMI Template'!H173=\"PS_LV\",\"PS\",'FMI Template'!H173))))),\"\")","v":""},{"$f":"IF(AND('FMI Template'!I173<>\"\", 'FMI Template'!I173<>\"UA\"),'FMI Template'!I173,\"\")","v":""},{"$f":"IF(AND('FMI Template'!J173<>\"\",'FMI Template'!J173<>\"UA\"),IF('FMI Template'!J173=\"CSD_SSS\",\"CSD-SSS\",IF('FMI Template'!J173=\"CCP_Derivatives\",\"CCP-Derivatives\",IF('FMI Template'!J173=\"CCP_securities\",\"CCP-securities\",IF('FMI Template'!J173=\"Trading_venue\",\"Trading-venue\",'FMI Template'!J173)))),\"\")","v":""},{"$f":"IF(AND('FMI Template'!K173<>\"\",'FMI Template'!K173<>\"UA\"),'FMI Template'!K173,\"\")","v":""},{"$f":"IF('FMI Template'!K173=\"direct\",\"NA\",IF(AND('FMI Template'!M173<>\"\",'FMI Template'!M173<>\"UA\"),'FMI Template'!M173,\"\"))","v":""},{"$f":"IF('FMI Template'!K173=\"direct\",\"NA\",IF(AND('FMI Template'!N173<>\"\",'FMI Template'!N173<>\"UA\"),'FMI Template'!N173,\"\"))","v":""},{"$f":"IF(OR('FMI Template'!H173=\"Other\",'FMI Template'!H173=\"NA\"),'FMI Template'!Q173,\"\")","v":""},{"$f":"IF(AND('FMI Template'!O173<>\"\",'FMI Template'!O173<>\"NA\",'FMI Template'!O173<>\"UA\"),'FMI Template'!O173,\"\")","v":""}]
[null,{"$f":"IF(AND('FMI Template'!B174<>\"\",'FMI Template'!B174<>\"NA\",'FMI Template'!B174<>\"UA\"),'FMI Template'!B174,\"\")","v":""},{"$f":"IF(AND('FMI Template'!C174<>\"\",'FMI Template'!C174<>\"NA\",'FMI Template'!C174<>\"UA\"),'FMI Template'!C174,\"\")","v":""},{"$f":"IF(AND('FMI Template'!D174<>\"\",'FMI Template'!D174<>\"NA\",'FMI Template'!D174<>\"UA\"),'FMI Template'!D174,\"\")","v":""},{"$f":"IF(AND('FMI Template'!F174<>\"\",'FMI Template'!F174<>\"NA\",'FMI Template'!F174<>\"UA\"),'FMI Template'!F174,\"\")","v":""},{"$f":"IF(AND('FMI Template'!H174<>\"\", 'FMI Template'!H174<>\"UA\"),IF('FMI Template'!H174=\"CSD\",\"(I)CSD\",IF('FMI Template'!H174=\"CCP_Derivatives\",\"CCP-Derivatives\",IF('FMI Template'!H174=\"CCP_securities\",\"CCP-securities\",IF('FMI Template'!H174=\"PS_Retail\",\"PS\",IF('FMI Template'!H174=\"PS_LV\",\"PS\",'FMI Template'!H174))))),\"\")","v":""},{"$f":"IF(AND('FMI Template'!I174<>\"\", 'FMI Template'!I174<>\"UA\"),'FMI Template'!I174,\"\")","v":""},{"$f":"IF(AND('FMI Template'!J174<>\"\",'FMI Template'!J174<>\"UA\"),IF('FMI Template'!J174=\"CSD_SSS\",\"CSD-SSS\",IF('FMI Template'!J174=\"CCP_Derivatives\",\"CCP-Derivatives\",IF('FMI Template'!J174=\"CCP_securities\",\"CCP-securities\",IF('FMI Template'!J174=\"Trading_venue\",\"Trading-venue\",'FMI Template'!J174)))),\"\")","v":""},{"$f":"IF(AND('FMI Template'!K174<>\"\",'FMI Template'!K174<>\"UA\"),'FMI Template'!K174,\"\")","v":""},{"$f":"IF('FMI Template'!K174=\"direct\",\"NA\",IF(AND('FMI Template'!M174<>\"\",'FMI Template'!M174<>\"UA\"),'FMI Template'!M174,\"\"))","v":""},{"$f":"IF('FMI Template'!K174=\"direct\",\"NA\",IF(AND('FMI Template'!N174<>\"\",'FMI Template'!N174<>\"UA\"),'FMI Template'!N174,\"\"))","v":""},{"$f":"IF(OR('FMI Template'!H174=\"Other\",'FMI Template'!H174=\"NA\"),'FMI Template'!Q174,\"\")","v":""},{"$f":"IF(AND('FMI Template'!O174<>\"\",'FMI Template'!O174<>\"NA\",'FMI Template'!O174<>\"UA\"),'FMI Template'!O174,\"\")","v":""}]
[null,{"$f":"IF(AND('FMI Template'!B175<>\"\",'FMI Template'!B175<>\"NA\",'FMI Template'!B175<>\"UA\"),'FMI Template'!B175,\"\")","v":""},{"$f":"IF(AND('FMI Template'!C175<>\"\",'FMI Template'!C175<>\"NA\",'FMI Template'!C175<>\"UA\"),'FMI Template'!C175,\"\")","v":""},{"$f":"IF(AND('FMI Template'!D175<>\"\",'FMI Template'!D175<>\"NA\",'FMI Template'!D175<>\"UA\"),'FMI Template'!D175,\"\")","v":""},{"$f":"IF(AND('FMI Template'!F175<>\"\",'FMI Template'!F175<>\"NA\",'FMI Template'!F175<>\"UA\"),'FMI Template'!F175,\"\")","v":""},{"$f":"IF(AND('FMI Template'!H175<>\"\", 'FMI Template'!H175<>\"UA\"),IF('FMI Template'!H175=\"CSD\",\"(I)CSD\",IF('FMI Template'!H175=\"CCP_Derivatives\",\"CCP-Derivatives\",IF('FMI Template'!H175=\"CCP_securities\",\"CCP-securities\",IF('FMI Template'!H175=\"PS_Retail\",\"PS\",IF('FMI Template'!H175=\"PS_LV\",\"PS\",'FMI Template'!H175))))),\"\")","v":""},{"$f":"IF(AND('FMI Template'!I175<>\"\", 'FMI Template'!I175<>\"UA\"),'FMI Template'!I175,\"\")","v":""},{"$f":"IF(AND('FMI Template'!J175<>\"\",'FMI Template'!J175<>\"UA\"),IF('FMI Template'!J175=\"CSD_SSS\",\"CSD-SSS\",IF('FMI Template'!J175=\"CCP_Derivatives\",\"CCP-Derivatives\",IF('FMI Template'!J175=\"CCP_securities\",\"CCP-securities\",IF('FMI Template'!J175=\"Trading_venue\",\"Trading-venue\",'FMI Template'!J175)))),\"\")","v":""},{"$f":"IF(AND('FMI Template'!K175<>\"\",'FMI Template'!K175<>\"UA\"),'FMI Template'!K175,\"\")","v":""},{"$f":"IF('FMI Template'!K175=\"direct\",\"NA\",IF(AND('FMI Template'!M175<>\"\",'FMI Template'!M175<>\"UA\"),'FMI Template'!M175,\"\"))","v":""},{"$f":"IF('FMI Template'!K175=\"direct\",\"NA\",IF(AND('FMI Template'!N175<>\"\",'FMI Template'!N175<>\"UA\"),'FMI Template'!N175,\"\"))","v":""},{"$f":"IF(OR('FMI Template'!H175=\"Other\",'FMI Template'!H175=\"NA\"),'FMI Template'!Q175,\"\")","v":""},{"$f":"IF(AND('FMI Template'!O175<>\"\",'FMI Template'!O175<>\"NA\",'FMI Template'!O175<>\"UA\"),'FMI Template'!O175,\"\")","v":""}]
[null,{"$f":"IF(AND('FMI Template'!B176<>\"\",'FMI Template'!B176<>\"NA\",'FMI Template'!B176<>\"UA\"),'FMI Template'!B176,\"\")","v":""},{"$f":"IF(AND('FMI Template'!C176<>\"\",'FMI Template'!C176<>\"NA\",'FMI Template'!C176<>\"UA\"),'FMI Template'!C176,\"\")","v":""},{"$f":"IF(AND('FMI Template'!D176<>\"\",'FMI Template'!D176<>\"NA\",'FMI Template'!D176<>\"UA\"),'FMI Template'!D176,\"\")","v":""},{"$f":"IF(AND('FMI Template'!F176<>\"\",'FMI Template'!F176<>\"NA\",'FMI Template'!F176<>\"UA\"),'FMI Template'!F176,\"\")","v":""},{"$f":"IF(AND('FMI Template'!H176<>\"\", 'FMI Template'!H176<>\"UA\"),IF('FMI Template'!H176=\"CSD\",\"(I)CSD\",IF('FMI Template'!H176=\"CCP_Derivatives\",\"CCP-Derivatives\",IF('FMI Template'!H176=\"CCP_securities\",\"CCP-securities\",IF('FMI Template'!H176=\"PS_Retail\",\"PS\",IF('FMI Template'!H176=\"PS_LV\",\"PS\",'FMI Template'!H176))))),\"\")","v":""},{"$f":"IF(AND('FMI Template'!I176<>\"\", 'FMI Template'!I176<>\"UA\"),'FMI Template'!I176,\"\")","v":""},{"$f":"IF(AND('FMI Template'!J176<>\"\",'FMI Template'!J176<>\"UA\"),IF('FMI Template'!J176=\"CSD_SSS\",\"CSD-SSS\",IF('FMI Template'!J176=\"CCP_Derivatives\",\"CCP-Derivatives\",IF('FMI Template'!J176=\"CCP_securities\",\"CCP-securities\",IF('FMI Template'!J176=\"Trading_venue\",\"Trading-venue\",'FMI Template'!J176)))),\"\")","v":""},{"$f":"IF(AND('FMI Template'!K176<>\"\",'FMI Template'!K176<>\"UA\"),'FMI Template'!K176,\"\")","v":""},{"$f":"IF('FMI Template'!K176=\"direct\",\"NA\",IF(AND('FMI Template'!M176<>\"\",'FMI Template'!M176<>\"UA\"),'FMI Template'!M176,\"\"))","v":""},{"$f":"IF('FMI Template'!K176=\"direct\",\"NA\",IF(AND('FMI Template'!N176<>\"\",'FMI Template'!N176<>\"UA\"),'FMI Template'!N176,\"\"))","v":""},{"$f":"IF(OR('FMI Template'!H176=\"Other\",'FMI Template'!H176=\"NA\"),'FMI Template'!Q176,\"\")","v":""},{"$f":"IF(AND('FMI Template'!O176<>\"\",'FMI Template'!O176<>\"NA\",'FMI Template'!O176<>\"UA\"),'FMI Template'!O176,\"\")","v":""}]
[null,{"$f":"IF(AND('FMI Template'!B177<>\"\",'FMI Template'!B177<>\"NA\",'FMI Template'!B177<>\"UA\"),'FMI Template'!B177,\"\")","v":""},{"$f":"IF(AND('FMI Template'!C177<>\"\",'FMI Template'!C177<>\"NA\",'FMI Template'!C177<>\"UA\"),'FMI Template'!C177,\"\")","v":""},{"$f":"IF(AND('FMI Template'!D177<>\"\",'FMI Template'!D177<>\"NA\",'FMI Template'!D177<>\"UA\"),'FMI Template'!D177,\"\")","v":""},{"$f":"IF(AND('FMI Template'!F177<>\"\",'FMI Template'!F177<>\"NA\",'FMI Template'!F177<>\"UA\"),'FMI Template'!F177,\"\")","v":""},{"$f":"IF(AND('FMI Template'!H177<>\"\", 'FMI Template'!H177<>\"UA\"),IF('FMI Template'!H177=\"CSD\",\"(I)CSD\",IF('FMI Template'!H177=\"CCP_Derivatives\",\"CCP-Derivatives\",IF('FMI Template'!H177=\"CCP_securities\",\"CCP-securities\",IF('FMI Template'!H177=\"PS_Retail\",\"PS\",IF('FMI Template'!H177=\"PS_LV\",\"PS\",'FMI Template'!H177))))),\"\")","v":""},{"$f":"IF(AND('FMI Template'!I177<>\"\", 'FMI Template'!I177<>\"UA\"),'FMI Template'!I177,\"\")","v":""},{"$f":"IF(AND('FMI Template'!J177<>\"\",'FMI Template'!J177<>\"UA\"),IF('FMI Template'!J177=\"CSD_SSS\",\"CSD-SSS\",IF('FMI Template'!J177=\"CCP_Derivatives\",\"CCP-Derivatives\",IF('FMI Template'!J177=\"CCP_securities\",\"CCP-securities\",IF('FMI Template'!J177=\"Trading_venue\",\"Trading-venue\",'FMI Template'!J177)))),\"\")","v":""},{"$f":"IF(AND('FMI Template'!K177<>\"\",'FMI Template'!K177<>\"UA\"),'FMI Template'!K177,\"\")","v":""},{"$f":"IF('FMI Template'!K177=\"direct\",\"NA\",IF(AND('FMI Template'!M177<>\"\",'FMI Template'!M177<>\"UA\"),'FMI Template'!M177,\"\"))","v":""},{"$f":"IF('FMI Template'!K177=\"direct\",\"NA\",IF(AND('FMI Template'!N177<>\"\",'FMI Template'!N177<>\"UA\"),'FMI Template'!N177,\"\"))","v":""},{"$f":"IF(OR('FMI Template'!H177=\"Other\",'FMI Template'!H177=\"NA\"),'FMI Template'!Q177,\"\")","v":""},{"$f":"IF(AND('FMI Template'!O177<>\"\",'FMI Template'!O177<>\"NA\",'FMI Template'!O177<>\"UA\"),'FMI Template'!O177,\"\")","v":""}]
[null,{"$f":"IF(AND('FMI Template'!B178<>\"\",'FMI Template'!B178<>\"NA\",'FMI Template'!B178<>\"UA\"),'FMI Template'!B178,\"\")","v":""},{"$f":"IF(AND('FMI Template'!C178<>\"\",'FMI Template'!C178<>\"NA\",'FMI Template'!C178<>\"UA\"),'FMI Template'!C178,\"\")","v":""},{"$f":"IF(AND('FMI Template'!D178<>\"\",'FMI Template'!D178<>\"NA\",'FMI Template'!D178<>\"UA\"),'FMI Template'!D178,\"\")","v":""},{"$f":"IF(AND('FMI Template'!F178<>\"\",'FMI Template'!F178<>\"NA\",'FMI Template'!F178<>\"UA\"),'FMI Template'!F178,\"\")","v":""},{"$f":"IF(AND('FMI Template'!H178<>\"\", 'FMI Template'!H178<>\"UA\"),IF('FMI Template'!H178=\"CSD\",\"(I)CSD\",IF('FMI Template'!H178=\"CCP_Derivatives\",\"CCP-Derivatives\",IF('FMI Template'!H178=\"CCP_securities\",\"CCP-securities\",IF('FMI Template'!H178=\"PS_Retail\",\"PS\",IF('FMI Template'!H178=\"PS_LV\",\"PS\",'FMI Template'!H178))))),\"\")","v":""},{"$f":"IF(AND('FMI Template'!I178<>\"\", 'FMI Template'!I178<>\"UA\"),'FMI Template'!I178,\"\")","v":""},{"$f":"IF(AND('FMI Template'!J178<>\"\",'FMI Template'!J178<>\"UA\"),IF('FMI Template'!J178=\"CSD_SSS\",\"CSD-SSS\",IF('FMI Template'!J178=\"CCP_Derivatives\",\"CCP-Derivatives\",IF('FMI Template'!J178=\"CCP_securities\",\"CCP-securities\",IF('FMI Template'!J178=\"Trading_venue\",\"Trading-venue\",'FMI Template'!J178)))),\"\")","v":""},{"$f":"IF(AND('FMI Template'!K178<>\"\",'FMI Template'!K178<>\"UA\"),'FMI Template'!K178,\"\")","v":""},{"$f":"IF('FMI Template'!K178=\"direct\",\"NA\",IF(AND('FMI Template'!M178<>\"\",'FMI Template'!M178<>\"UA\"),'FMI Template'!M178,\"\"))","v":""},{"$f":"IF('FMI Template'!K178=\"direct\",\"NA\",IF(AND('FMI Template'!N178<>\"\",'FMI Template'!N178<>\"UA\"),'FMI Template'!N178,\"\"))","v":""},{"$f":"IF(OR('FMI Template'!H178=\"Other\",'FMI Template'!H178=\"NA\"),'FMI Template'!Q178,\"\")","v":""},{"$f":"IF(AND('FMI Template'!O178<>\"\",'FMI Template'!O178<>\"NA\",'FMI Template'!O178<>\"UA\"),'FMI Template'!O178,\"\")","v":""}]
[null,{"$f":"IF(AND('FMI Template'!B179<>\"\",'FMI Template'!B179<>\"NA\",'FMI Template'!B179<>\"UA\"),'FMI Template'!B179,\"\")","v":""},{"$f":"IF(AND('FMI Template'!C179<>\"\",'FMI Template'!C179<>\"NA\",'FMI Template'!C179<>\"UA\"),'FMI Template'!C179,\"\")","v":""},{"$f":"IF(AND('FMI Template'!D179<>\"\",'FMI Template'!D179<>\"NA\",'FMI Template'!D179<>\"UA\"),'FMI Template'!D179,\"\")","v":""},{"$f":"IF(AND('FMI Template'!F179<>\"\",'FMI Template'!F179<>\"NA\",'FMI Template'!F179<>\"UA\"),'FMI Template'!F179,\"\")","v":""},{"$f":"IF(AND('FMI Template'!H179<>\"\", 'FMI Template'!H179<>\"UA\"),IF('FMI Template'!H179=\"CSD\",\"(I)CSD\",IF('FMI Template'!H179=\"CCP_Derivatives\",\"CCP-Derivatives\",IF('FMI Template'!H179=\"CCP_securities\",\"CCP-securities\",IF('FMI Template'!H179=\"PS_Retail\",\"PS\",IF('FMI Template'!H179=\"PS_LV\",\"PS\",'FMI Template'!H179))))),\"\")","v":""},{"$f":"IF(AND('FMI Template'!I179<>\"\", 'FMI Template'!I179<>\"UA\"),'FMI Template'!I179,\"\")","v":""},{"$f":"IF(AND('FMI Template'!J179<>\"\",'FMI Template'!J179<>\"UA\"),IF('FMI Template'!J179=\"CSD_SSS\",\"CSD-SSS\",IF('FMI Template'!J179=\"CCP_Derivatives\",\"CCP-Derivatives\",IF('FMI Template'!J179=\"CCP_securities\",\"CCP-securities\",IF('FMI Template'!J179=\"Trading_venue\",\"Trading-venue\",'FMI Template'!J179)))),\"\")","v":""},{"$f":"IF(AND('FMI Template'!K179<>\"\",'FMI Template'!K179<>\"UA\"),'FMI Template'!K179,\"\")","v":""},{"$f":"IF('FMI Template'!K179=\"direct\",\"NA\",IF(AND('FMI Template'!M179<>\"\",'FMI Template'!M179<>\"UA\"),'FMI Template'!M179,\"\"))","v":""},{"$f":"IF('FMI Template'!K179=\"direct\",\"NA\",IF(AND('FMI Template'!N179<>\"\",'FMI Template'!N179<>\"UA\"),'FMI Template'!N179,\"\"))","v":""},{"$f":"IF(OR('FMI Template'!H179=\"Other\",'FMI Template'!H179=\"NA\"),'FMI Template'!Q179,\"\")","v":""},{"$f":"IF(AND('FMI Template'!O179<>\"\",'FMI Template'!O179<>\"NA\",'FMI Template'!O179<>\"UA\"),'FMI Template'!O179,\"\")","v":""}]
[null,{"$f":"IF(AND('FMI Template'!B180<>\"\",'FMI Template'!B180<>\"NA\",'FMI Template'!B180<>\"UA\"),'FMI Template'!B180,\"\")","v":""},{"$f":"IF(AND('FMI Template'!C180<>\"\",'FMI Template'!C180<>\"NA\",'FMI Template'!C180<>\"UA\"),'FMI Template'!C180,\"\")","v":""},{"$f":"IF(AND('FMI Template'!D180<>\"\",'FMI Template'!D180<>\"NA\",'FMI Template'!D180<>\"UA\"),'FMI Template'!D180,\"\")","v":""},{"$f":"IF(AND('FMI Template'!F180<>\"\",'FMI Template'!F180<>\"NA\",'FMI Template'!F180<>\"UA\"),'FMI Template'!F180,\"\")","v":""},{"$f":"IF(AND('FMI Template'!H180<>\"\", 'FMI Template'!H180<>\"UA\"),IF('FMI Template'!H180=\"CSD\",\"(I)CSD\",IF('FMI Template'!H180=\"CCP_Derivatives\",\"CCP-Derivatives\",IF('FMI Template'!H180=\"CCP_securities\",\"CCP-securities\",IF('FMI Template'!H180=\"PS_Retail\",\"PS\",IF('FMI Template'!H180=\"PS_LV\",\"PS\",'FMI Template'!H180))))),\"\")","v":""},{"$f":"IF(AND('FMI Template'!I180<>\"\", 'FMI Template'!I180<>\"UA\"),'FMI Template'!I180,\"\")","v":""},{"$f":"IF(AND('FMI Template'!J180<>\"\",'FMI Template'!J180<>\"UA\"),IF('FMI Template'!J180=\"CSD_SSS\",\"CSD-SSS\",IF('FMI Template'!J180=\"CCP_Derivatives\",\"CCP-Derivatives\",IF('FMI Template'!J180=\"CCP_securities\",\"CCP-securities\",IF('FMI Template'!J180=\"Trading_venue\",\"Trading-venue\",'FMI Template'!J180)))),\"\")","v":""},{"$f":"IF(AND('FMI Template'!K180<>\"\",'FMI Template'!K180<>\"UA\"),'FMI Template'!K180,\"\")","v":""},{"$f":"IF('FMI Template'!K180=\"direct\",\"NA\",IF(AND('FMI Template'!M180<>\"\",'FMI Template'!M180<>\"UA\"),'FMI Template'!M180,\"\"))","v":""},{"$f":"IF('FMI Template'!K180=\"direct\",\"NA\",IF(AND('FMI Template'!N180<>\"\",'FMI Template'!N180<>\"UA\"),'FMI Template'!N180,\"\"))","v":""},{"$f":"IF(OR('FMI Template'!H180=\"Other\",'FMI Template'!H180=\"NA\"),'FMI Template'!Q180,\"\")","v":""},{"$f":"IF(AND('FMI Template'!O180<>\"\",'FMI Template'!O180<>\"NA\",'FMI Template'!O180<>\"UA\"),'FMI Template'!O180,\"\")","v":""}]
[null,{"$f":"IF(AND('FMI Template'!B181<>\"\",'FMI Template'!B181<>\"NA\",'FMI Template'!B181<>\"UA\"),'FMI Template'!B181,\"\")","v":""},{"$f":"IF(AND('FMI Template'!C181<>\"\",'FMI Template'!C181<>\"NA\",'FMI Template'!C181<>\"UA\"),'FMI Template'!C181,\"\")","v":""},{"$f":"IF(AND('FMI Template'!D181<>\"\",'FMI Template'!D181<>\"NA\",'FMI Template'!D181<>\"UA\"),'FMI Template'!D181,\"\")","v":""},{"$f":"IF(AND('FMI Template'!F181<>\"\",'FMI Template'!F181<>\"NA\",'FMI Template'!F181<>\"UA\"),'FMI Template'!F181,\"\")","v":""},{"$f":"IF(AND('FMI Template'!H181<>\"\", 'FMI Template'!H181<>\"UA\"),IF('FMI Template'!H181=\"CSD\",\"(I)CSD\",IF('FMI Template'!H181=\"CCP_Derivatives\",\"CCP-Derivatives\",IF('FMI Template'!H181=\"CCP_securities\",\"CCP-securities\",IF('FMI Template'!H181=\"PS_Retail\",\"PS\",IF('FMI Template'!H181=\"PS_LV\",\"PS\",'FMI Template'!H181))))),\"\")","v":""},{"$f":"IF(AND('FMI Template'!I181<>\"\", 'FMI Template'!I181<>\"UA\"),'FMI Template'!I181,\"\")","v":""},{"$f":"IF(AND('FMI Template'!J181<>\"\",'FMI Template'!J181<>\"UA\"),IF('FMI Template'!J181=\"CSD_SSS\",\"CSD-SSS\",IF('FMI Template'!J181=\"CCP_Derivatives\",\"CCP-Derivatives\",IF('FMI Template'!J181=\"CCP_securities\",\"CCP-securities\",IF('FMI Template'!J181=\"Trading_venue\",\"Trading-venue\",'FMI Template'!J181)))),\"\")","v":""},{"$f":"IF(AND('FMI Template'!K181<>\"\",'FMI Template'!K181<>\"UA\"),'FMI Template'!K181,\"\")","v":""},{"$f":"IF('FMI Template'!K181=\"direct\",\"NA\",IF(AND('FMI Template'!M181<>\"\",'FMI Template'!M181<>\"UA\"),'FMI Template'!M181,\"\"))","v":""},{"$f":"IF('FMI Template'!K181=\"direct\",\"NA\",IF(AND('FMI Template'!N181<>\"\",'FMI Template'!N181<>\"UA\"),'FMI Template'!N181,\"\"))","v":""},{"$f":"IF(OR('FMI Template'!H181=\"Other\",'FMI Template'!H181=\"NA\"),'FMI Template'!Q181,\"\")","v":""},{"$f":"IF(AND('FMI Template'!O181<>\"\",'FMI Template'!O181<>\"NA\",'FMI Template'!O181<>\"UA\"),'FMI Template'!O181,\"\")","v":""}]
[null,{"$f":"IF(AND('FMI Template'!B182<>\"\",'FMI Template'!B182<>\"NA\",'FMI Template'!B182<>\"UA\"),'FMI Template'!B182,\"\")","v":""},{"$f":"IF(AND('FMI Template'!C182<>\"\",'FMI Template'!C182<>\"NA\",'FMI Template'!C182<>\"UA\"),'FMI Template'!C182,\"\")","v":""},{"$f":"IF(AND('FMI Template'!D182<>\"\",'FMI Template'!D182<>\"NA\",'FMI Template'!D182<>\"UA\"),'FMI Template'!D182,\"\")","v":""},{"$f":"IF(AND('FMI Template'!F182<>\"\",'FMI Template'!F182<>\"NA\",'FMI Template'!F182<>\"UA\"),'FMI Template'!F182,\"\")","v":""},{"$f":"IF(AND('FMI Template'!H182<>\"\", 'FMI Template'!H182<>\"UA\"),IF('FMI Template'!H182=\"CSD\",\"(I)CSD\",IF('FMI Template'!H182=\"CCP_Derivatives\",\"CCP-Derivatives\",IF('FMI Template'!H182=\"CCP_securities\",\"CCP-securities\",IF('FMI Template'!H182=\"PS_Retail\",\"PS\",IF('FMI Template'!H182=\"PS_LV\",\"PS\",'FMI Template'!H182))))),\"\")","v":""},{"$f":"IF(AND('FMI Template'!I182<>\"\", 'FMI Template'!I182<>\"UA\"),'FMI Template'!I182,\"\")","v":""},{"$f":"IF(AND('FMI Template'!J182<>\"\",'FMI Template'!J182<>\"UA\"),IF('FMI Template'!J182=\"CSD_SSS\",\"CSD-SSS\",IF('FMI Template'!J182=\"CCP_Derivatives\",\"CCP-Derivatives\",IF('FMI Template'!J182=\"CCP_securities\",\"CCP-securities\",IF('FMI Template'!J182=\"Trading_venue\",\"Trading-venue\",'FMI Template'!J182)))),\"\")","v":""},{"$f":"IF(AND('FMI Template'!K182<>\"\",'FMI Template'!K182<>\"UA\"),'FMI Template'!K182,\"\")","v":""},{"$f":"IF('FMI Template'!K182=\"direct\",\"NA\",IF(AND('FMI Template'!M182<>\"\",'FMI Template'!M182<>\"UA\"),'FMI Template'!M182,\"\"))","v":""},{"$f":"IF('FMI Template'!K182=\"direct\",\"NA\",IF(AND('FMI Template'!N182<>\"\",'FMI Template'!N182<>\"UA\"),'FMI Template'!N182,\"\"))","v":""},{"$f":"IF(OR('FMI Template'!H182=\"Other\",'FMI Template'!H182=\"NA\"),'FMI Template'!Q182,\"\")","v":""},{"$f":"IF(AND('FMI Template'!O182<>\"\",'FMI Template'!O182<>\"NA\",'FMI Template'!O182<>\"UA\"),'FMI Template'!O182,\"\")","v":""}]
[null,{"$f":"IF(AND('FMI Template'!B183<>\"\",'FMI Template'!B183<>\"NA\",'FMI Template'!B183<>\"UA\"),'FMI Template'!B183,\"\")","v":""},{"$f":"IF(AND('FMI Template'!C183<>\"\",'FMI Template'!C183<>\"NA\",'FMI Template'!C183<>\"UA\"),'FMI Template'!C183,\"\")","v":""},{"$f":"IF(AND('FMI Template'!D183<>\"\",'FMI Template'!D183<>\"NA\",'FMI Template'!D183<>\"UA\"),'FMI Template'!D183,\"\")","v":""},{"$f":"IF(AND('FMI Template'!F183<>\"\",'FMI Template'!F183<>\"NA\",'FMI Template'!F183<>\"UA\"),'FMI Template'!F183,\"\")","v":""},{"$f":"IF(AND('FMI Template'!H183<>\"\", 'FMI Template'!H183<>\"UA\"),IF('FMI Template'!H183=\"CSD\",\"(I)CSD\",IF('FMI Template'!H183=\"CCP_Derivatives\",\"CCP-Derivatives\",IF('FMI Template'!H183=\"CCP_securities\",\"CCP-securities\",IF('FMI Template'!H183=\"PS_Retail\",\"PS\",IF('FMI Template'!H183=\"PS_LV\",\"PS\",'FMI Template'!H183))))),\"\")","v":""},{"$f":"IF(AND('FMI Template'!I183<>\"\", 'FMI Template'!I183<>\"UA\"),'FMI Template'!I183,\"\")","v":""},{"$f":"IF(AND('FMI Template'!J183<>\"\",'FMI Template'!J183<>\"UA\"),IF('FMI Template'!J183=\"CSD_SSS\",\"CSD-SSS\",IF('FMI Template'!J183=\"CCP_Derivatives\",\"CCP-Derivatives\",IF('FMI Template'!J183=\"CCP_securities\",\"CCP-securities\",IF('FMI Template'!J183=\"Trading_venue\",\"Trading-venue\",'FMI Template'!J183)))),\"\")","v":""},{"$f":"IF(AND('FMI Template'!K183<>\"\",'FMI Template'!K183<>\"UA\"),'FMI Template'!K183,\"\")","v":""},{"$f":"IF('FMI Template'!K183=\"direct\",\"NA\",IF(AND('FMI Template'!M183<>\"\",'FMI Template'!M183<>\"UA\"),'FMI Template'!M183,\"\"))","v":""},{"$f":"IF('FMI Template'!K183=\"direct\",\"NA\",IF(AND('FMI Template'!N183<>\"\",'FMI Template'!N183<>\"UA\"),'FMI Template'!N183,\"\"))","v":""},{"$f":"IF(OR('FMI Template'!H183=\"Other\",'FMI Template'!H183=\"NA\"),'FMI Template'!Q183,\"\")","v":""},{"$f":"IF(AND('FMI Template'!O183<>\"\",'FMI Template'!O183<>\"NA\",'FMI Template'!O183<>\"UA\"),'FMI Template'!O183,\"\")","v":""}]
[null,{"$f":"IF(AND('FMI Template'!B184<>\"\",'FMI Template'!B184<>\"NA\",'FMI Template'!B184<>\"UA\"),'FMI Template'!B184,\"\")","v":""},{"$f":"IF(AND('FMI Template'!C184<>\"\",'FMI Template'!C184<>\"NA\",'FMI Template'!C184<>\"UA\"),'FMI Template'!C184,\"\")","v":""},{"$f":"IF(AND('FMI Template'!D184<>\"\",'FMI Template'!D184<>\"NA\",'FMI Template'!D184<>\"UA\"),'FMI Template'!D184,\"\")","v":""},{"$f":"IF(AND('FMI Template'!F184<>\"\",'FMI Template'!F184<>\"NA\",'FMI Template'!F184<>\"UA\"),'FMI Template'!F184,\"\")","v":""},{"$f":"IF(AND('FMI Template'!H184<>\"\", 'FMI Template'!H184<>\"UA\"),IF('FMI Template'!H184=\"CSD\",\"(I)CSD\",IF('FMI Template'!H184=\"CCP_Derivatives\",\"CCP-Derivatives\",IF('FMI Template'!H184=\"CCP_securities\",\"CCP-securities\",IF('FMI Template'!H184=\"PS_Retail\",\"PS\",IF('FMI Template'!H184=\"PS_LV\",\"PS\",'FMI Template'!H184))))),\"\")","v":""},{"$f":"IF(AND('FMI Template'!I184<>\"\", 'FMI Template'!I184<>\"UA\"),'FMI Template'!I184,\"\")","v":""},{"$f":"IF(AND('FMI Template'!J184<>\"\",'FMI Template'!J184<>\"UA\"),IF('FMI Template'!J184=\"CSD_SSS\",\"CSD-SSS\",IF('FMI Template'!J184=\"CCP_Derivatives\",\"CCP-Derivatives\",IF('FMI Template'!J184=\"CCP_securities\",\"CCP-securities\",IF('FMI Template'!J184=\"Trading_venue\",\"Trading-venue\",'FMI Template'!J184)))),\"\")","v":""},{"$f":"IF(AND('FMI Template'!K184<>\"\",'FMI Template'!K184<>\"UA\"),'FMI Template'!K184,\"\")","v":""},{"$f":"IF('FMI Template'!K184=\"direct\",\"NA\",IF(AND('FMI Template'!M184<>\"\",'FMI Template'!M184<>\"UA\"),'FMI Template'!M184,\"\"))","v":""},{"$f":"IF('FMI Template'!K184=\"direct\",\"NA\",IF(AND('FMI Template'!N184<>\"\",'FMI Template'!N184<>\"UA\"),'FMI Template'!N184,\"\"))","v":""},{"$f":"IF(OR('FMI Template'!H184=\"Other\",'FMI Template'!H184=\"NA\"),'FMI Template'!Q184,\"\")","v":""},{"$f":"IF(AND('FMI Template'!O184<>\"\",'FMI Template'!O184<>\"NA\",'FMI Template'!O184<>\"UA\"),'FMI Template'!O184,\"\")","v":""}]
[null,{"$f":"IF(AND('FMI Template'!B185<>\"\",'FMI Template'!B185<>\"NA\",'FMI Template'!B185<>\"UA\"),'FMI Template'!B185,\"\")","v":""},{"$f":"IF(AND('FMI Template'!C185<>\"\",'FMI Template'!C185<>\"NA\",'FMI Template'!C185<>\"UA\"),'FMI Template'!C185,\"\")","v":""},{"$f":"IF(AND('FMI Template'!D185<>\"\",'FMI Template'!D185<>\"NA\",'FMI Template'!D185<>\"UA\"),'FMI Template'!D185,\"\")","v":""},{"$f":"IF(AND('FMI Template'!F185<>\"\",'FMI Template'!F185<>\"NA\",'FMI Template'!F185<>\"UA\"),'FMI Template'!F185,\"\")","v":""},{"$f":"IF(AND('FMI Template'!H185<>\"\", 'FMI Template'!H185<>\"UA\"),IF('FMI Template'!H185=\"CSD\",\"(I)CSD\",IF('FMI Template'!H185=\"CCP_Derivatives\",\"CCP-Derivatives\",IF('FMI Template'!H185=\"CCP_securities\",\"CCP-securities\",IF('FMI Template'!H185=\"PS_Retail\",\"PS\",IF('FMI Template'!H185=\"PS_LV\",\"PS\",'FMI Template'!H185))))),\"\")","v":""},{"$f":"IF(AND('FMI Template'!I185<>\"\", 'FMI Template'!I185<>\"UA\"),'FMI Template'!I185,\"\")","v":""},{"$f":"IF(AND('FMI Template'!J185<>\"\",'FMI Template'!J185<>\"UA\"),IF('FMI Template'!J185=\"CSD_SSS\",\"CSD-SSS\",IF('FMI Template'!J185=\"CCP_Derivatives\",\"CCP-Derivatives\",IF('FMI Template'!J185=\"CCP_securities\",\"CCP-securities\",IF('FMI Template'!J185=\"Trading_venue\",\"Trading-venue\",'FMI Template'!J185)))),\"\")","v":""},{"$f":"IF(AND('FMI Template'!K185<>\"\",'FMI Template'!K185<>\"UA\"),'FMI Template'!K185,\"\")","v":""},{"$f":"IF('FMI Template'!K185=\"direct\",\"NA\",IF(AND('FMI Template'!M185<>\"\",'FMI Template'!M185<>\"UA\"),'FMI Template'!M185,\"\"))","v":""},{"$f":"IF('FMI Template'!K185=\"direct\",\"NA\",IF(AND('FMI Template'!N185<>\"\",'FMI Template'!N185<>\"UA\"),'FMI Template'!N185,\"\"))","v":""},{"$f":"IF(OR('FMI Template'!H185=\"Other\",'FMI Template'!H185=\"NA\"),'FMI Template'!Q185,\"\")","v":""},{"$f":"IF(AND('FMI Template'!O185<>\"\",'FMI Template'!O185<>\"NA\",'FMI Template'!O185<>\"UA\"),'FMI Template'!O185,\"\")","v":""}]
[null,{"$f":"IF(AND('FMI Template'!B186<>\"\",'FMI Template'!B186<>\"NA\",'FMI Template'!B186<>\"UA\"),'FMI Template'!B186,\"\")","v":""},{"$f":"IF(AND('FMI Template'!C186<>\"\",'FMI Template'!C186<>\"NA\",'FMI Template'!C186<>\"UA\"),'FMI Template'!C186,\"\")","v":""},{"$f":"IF(AND('FMI Template'!D186<>\"\",'FMI Template'!D186<>\"NA\",'FMI Template'!D186<>\"UA\"),'FMI Template'!D186,\"\")","v":""},{"$f":"IF(AND('FMI Template'!F186<>\"\",'FMI Template'!F186<>\"NA\",'FMI Template'!F186<>\"UA\"),'FMI Template'!F186,\"\")","v":""},{"$f":"IF(AND('FMI Template'!H186<>\"\", 'FMI Template'!H186<>\"UA\"),IF('FMI Template'!H186=\"CSD\",\"(I)CSD\",IF('FMI Template'!H186=\"CCP_Derivatives\",\"CCP-Derivatives\",IF('FMI Template'!H186=\"CCP_securities\",\"CCP-securities\",IF('FMI Template'!H186=\"PS_Retail\",\"PS\",IF('FMI Template'!H186=\"PS_LV\",\"PS\",'FMI Template'!H186))))),\"\")","v":""},{"$f":"IF(AND('FMI Template'!I186<>\"\", 'FMI Template'!I186<>\"UA\"),'FMI Template'!I186,\"\")","v":""},{"$f":"IF(AND('FMI Template'!J186<>\"\",'FMI Template'!J186<>\"UA\"),IF('FMI Template'!J186=\"CSD_SSS\",\"CSD-SSS\",IF('FMI Template'!J186=\"CCP_Derivatives\",\"CCP-Derivatives\",IF('FMI Template'!J186=\"CCP_securities\",\"CCP-securities\",IF('FMI Template'!J186=\"Trading_venue\",\"Trading-venue\",'FMI Template'!J186)))),\"\")","v":""},{"$f":"IF(AND('FMI Template'!K186<>\"\",'FMI Template'!K186<>\"UA\"),'FMI Template'!K186,\"\")","v":""},{"$f":"IF('FMI Template'!K186=\"direct\",\"NA\",IF(AND('FMI Template'!M186<>\"\",'FMI Template'!M186<>\"UA\"),'FMI Template'!M186,\"\"))","v":""},{"$f":"IF('FMI Template'!K186=\"direct\",\"NA\",IF(AND('FMI Template'!N186<>\"\",'FMI Template'!N186<>\"UA\"),'FMI Template'!N186,\"\"))","v":""},{"$f":"IF(OR('FMI Template'!H186=\"Other\",'FMI Template'!H186=\"NA\"),'FMI Template'!Q186,\"\")","v":""},{"$f":"IF(AND('FMI Template'!O186<>\"\",'FMI Template'!O186<>\"NA\",'FMI Template'!O186<>\"UA\"),'FMI Template'!O186,\"\")","v":""}]
[null,{"$f":"IF(AND('FMI Template'!B187<>\"\",'FMI Template'!B187<>\"NA\",'FMI Template'!B187<>\"UA\"),'FMI Template'!B187,\"\")","v":""},{"$f":"IF(AND('FMI Template'!C187<>\"\",'FMI Template'!C187<>\"NA\",'FMI Template'!C187<>\"UA\"),'FMI Template'!C187,\"\")","v":""},{"$f":"IF(AND('FMI Template'!D187<>\"\",'FMI Template'!D187<>\"NA\",'FMI Template'!D187<>\"UA\"),'FMI Template'!D187,\"\")","v":""},{"$f":"IF(AND('FMI Template'!F187<>\"\",'FMI Template'!F187<>\"NA\",'FMI Template'!F187<>\"UA\"),'FMI Template'!F187,\"\")","v":""},{"$f":"IF(AND('FMI Template'!H187<>\"\", 'FMI Template'!H187<>\"UA\"),IF('FMI Template'!H187=\"CSD\",\"(I)CSD\",IF('FMI Template'!H187=\"CCP_Derivatives\",\"CCP-Derivatives\",IF('FMI Template'!H187=\"CCP_securities\",\"CCP-securities\",IF('FMI Template'!H187=\"PS_Retail\",\"PS\",IF('FMI Template'!H187=\"PS_LV\",\"PS\",'FMI Template'!H187))))),\"\")","v":""},{"$f":"IF(AND('FMI Template'!I187<>\"\", 'FMI Template'!I187<>\"UA\"),'FMI Template'!I187,\"\")","v":""},{"$f":"IF(AND('FMI Template'!J187<>\"\",'FMI Template'!J187<>\"UA\"),IF('FMI Template'!J187=\"CSD_SSS\",\"CSD-SSS\",IF('FMI Template'!J187=\"CCP_Derivatives\",\"CCP-Derivatives\",IF('FMI Template'!J187=\"CCP_securities\",\"CCP-securities\",IF('FMI Template'!J187=\"Trading_venue\",\"Trading-venue\",'FMI Template'!J187)))),\"\")","v":""},{"$f":"IF(AND('FMI Template'!K187<>\"\",'FMI Template'!K187<>\"UA\"),'FMI Template'!K187,\"\")","v":""},{"$f":"IF('FMI Template'!K187=\"direct\",\"NA\",IF(AND('FMI Template'!M187<>\"\",'FMI Template'!M187<>\"UA\"),'FMI Template'!M187,\"\"))","v":""},{"$f":"IF('FMI Template'!K187=\"direct\",\"NA\",IF(AND('FMI Template'!N187<>\"\",'FMI Template'!N187<>\"UA\"),'FMI Template'!N187,\"\"))","v":""},{"$f":"IF(OR('FMI Template'!H187=\"Other\",'FMI Template'!H187=\"NA\"),'FMI Template'!Q187,\"\")","v":""},{"$f":"IF(AND('FMI Template'!O187<>\"\",'FMI Template'!O187<>\"NA\",'FMI Template'!O187<>\"UA\"),'FMI Template'!O187,\"\")","v":""}]
[null,{"$f":"IF(AND('FMI Template'!B188<>\"\",'FMI Template'!B188<>\"NA\",'FMI Template'!B188<>\"UA\"),'FMI Template'!B188,\"\")","v":""},{"$f":"IF(AND('FMI Template'!C188<>\"\",'FMI Template'!C188<>\"NA\",'FMI Template'!C188<>\"UA\"),'FMI Template'!C188,\"\")","v":""},{"$f":"IF(AND('FMI Template'!D188<>\"\",'FMI Template'!D188<>\"NA\",'FMI Template'!D188<>\"UA\"),'FMI Template'!D188,\"\")","v":""},{"$f":"IF(AND('FMI Template'!F188<>\"\",'FMI Template'!F188<>\"NA\",'FMI Template'!F188<>\"UA\"),'FMI Template'!F188,\"\")","v":""},{"$f":"IF(AND('FMI Template'!H188<>\"\", 'FMI Template'!H188<>\"UA\"),IF('FMI Template'!H188=\"CSD\",\"(I)CSD\",IF('FMI Template'!H188=\"CCP_Derivatives\",\"CCP-Derivatives\",IF('FMI Template'!H188=\"CCP_securities\",\"CCP-securities\",IF('FMI Template'!H188=\"PS_Retail\",\"PS\",IF('FMI Template'!H188=\"PS_LV\",\"PS\",'FMI Template'!H188))))),\"\")","v":""},{"$f":"IF(AND('FMI Template'!I188<>\"\", 'FMI Template'!I188<>\"UA\"),'FMI Template'!I188,\"\")","v":""},{"$f":"IF(AND('FMI Template'!J188<>\"\",'FMI Template'!J188<>\"UA\"),IF('FMI Template'!J188=\"CSD_SSS\",\"CSD-SSS\",IF('FMI Template'!J188=\"CCP_Derivatives\",\"CCP-Derivatives\",IF('FMI Template'!J188=\"CCP_securities\",\"CCP-securities\",IF('FMI Template'!J188=\"Trading_venue\",\"Trading-venue\",'FMI Template'!J188)))),\"\")","v":""},{"$f":"IF(AND('FMI Template'!K188<>\"\",'FMI Template'!K188<>\"UA\"),'FMI Template'!K188,\"\")","v":""},{"$f":"IF('FMI Template'!K188=\"direct\",\"NA\",IF(AND('FMI Template'!M188<>\"\",'FMI Template'!M188<>\"UA\"),'FMI Template'!M188,\"\"))","v":""},{"$f":"IF('FMI Template'!K188=\"direct\",\"NA\",IF(AND('FMI Template'!N188<>\"\",'FMI Template'!N188<>\"UA\"),'FMI Template'!N188,\"\"))","v":""},{"$f":"IF(OR('FMI Template'!H188=\"Other\",'FMI Template'!H188=\"NA\"),'FMI Template'!Q188,\"\")","v":""},{"$f":"IF(AND('FMI Template'!O188<>\"\",'FMI Template'!O188<>\"NA\",'FMI Template'!O188<>\"UA\"),'FMI Template'!O188,\"\")","v":""}]
[null,{"$f":"IF(AND('FMI Template'!B189<>\"\",'FMI Template'!B189<>\"NA\",'FMI Template'!B189<>\"UA\"),'FMI Template'!B189,\"\")","v":""},{"$f":"IF(AND('FMI Template'!C189<>\"\",'FMI Template'!C189<>\"NA\",'FMI Template'!C189<>\"UA\"),'FMI Template'!C189,\"\")","v":""},{"$f":"IF(AND('FMI Template'!D189<>\"\",'FMI Template'!D189<>\"NA\",'FMI Template'!D189<>\"UA\"),'FMI Template'!D189,\"\")","v":""},{"$f":"IF(AND('FMI Template'!F189<>\"\",'FMI Template'!F189<>\"NA\",'FMI Template'!F189<>\"UA\"),'FMI Template'!F189,\"\")","v":""},{"$f":"IF(AND('FMI Template'!H189<>\"\", 'FMI Template'!H189<>\"UA\"),IF('FMI Template'!H189=\"CSD\",\"(I)CSD\",IF('FMI Template'!H189=\"CCP_Derivatives\",\"CCP-Derivatives\",IF('FMI Template'!H189=\"CCP_securities\",\"CCP-securities\",IF('FMI Template'!H189=\"PS_Retail\",\"PS\",IF('FMI Template'!H189=\"PS_LV\",\"PS\",'FMI Template'!H189))))),\"\")","v":""},{"$f":"IF(AND('FMI Template'!I189<>\"\", 'FMI Template'!I189<>\"UA\"),'FMI Template'!I189,\"\")","v":""},{"$f":"IF(AND('FMI Template'!J189<>\"\",'FMI Template'!J189<>\"UA\"),IF('FMI Template'!J189=\"CSD_SSS\",\"CSD-SSS\",IF('FMI Template'!J189=\"CCP_Derivatives\",\"CCP-Derivatives\",IF('FMI Template'!J189=\"CCP_securities\",\"CCP-securities\",IF('FMI Template'!J189=\"Trading_venue\",\"Trading-venue\",'FMI Template'!J189)))),\"\")","v":""},{"$f":"IF(AND('FMI Template'!K189<>\"\",'FMI Template'!K189<>\"UA\"),'FMI Template'!K189,\"\")","v":""},{"$f":"IF('FMI Template'!K189=\"direct\",\"NA\",IF(AND('FMI Template'!M189<>\"\",'FMI Template'!M189<>\"UA\"),'FMI Template'!M189,\"\"))","v":""},{"$f":"IF('FMI Template'!K189=\"direct\",\"NA\",IF(AND('FMI Template'!N189<>\"\",'FMI Template'!N189<>\"UA\"),'FMI Template'!N189,\"\"))","v":""},{"$f":"IF(OR('FMI Template'!H189=\"Other\",'FMI Template'!H189=\"NA\"),'FMI Template'!Q189,\"\")","v":""},{"$f":"IF(AND('FMI Template'!O189<>\"\",'FMI Template'!O189<>\"NA\",'FMI Template'!O189<>\"UA\"),'FMI Template'!O189,\"\")","v":""}]
[null,{"$f":"IF(AND('FMI Template'!B190<>\"\",'FMI Template'!B190<>\"NA\",'FMI Template'!B190<>\"UA\"),'FMI Template'!B190,\"\")","v":""},{"$f":"IF(AND('FMI Template'!C190<>\"\",'FMI Template'!C190<>\"NA\",'FMI Template'!C190<>\"UA\"),'FMI Template'!C190,\"\")","v":""},{"$f":"IF(AND('FMI Template'!D190<>\"\",'FMI Template'!D190<>\"NA\",'FMI Template'!D190<>\"UA\"),'FMI Template'!D190,\"\")","v":""},{"$f":"IF(AND('FMI Template'!F190<>\"\",'FMI Template'!F190<>\"NA\",'FMI Template'!F190<>\"UA\"),'FMI Template'!F190,\"\")","v":""},{"$f":"IF(AND('FMI Template'!H190<>\"\", 'FMI Template'!H190<>\"UA\"),IF('FMI Template'!H190=\"CSD\",\"(I)CSD\",IF('FMI Template'!H190=\"CCP_Derivatives\",\"CCP-Derivatives\",IF('FMI Template'!H190=\"CCP_securities\",\"CCP-securities\",IF('FMI Template'!H190=\"PS_Retail\",\"PS\",IF('FMI Template'!H190=\"PS_LV\",\"PS\",'FMI Template'!H190))))),\"\")","v":""},{"$f":"IF(AND('FMI Template'!I190<>\"\", 'FMI Template'!I190<>\"UA\"),'FMI Template'!I190,\"\")","v":""},{"$f":"IF(AND('FMI Template'!J190<>\"\",'FMI Template'!J190<>\"UA\"),IF('FMI Template'!J190=\"CSD_SSS\",\"CSD-SSS\",IF('FMI Template'!J190=\"CCP_Derivatives\",\"CCP-Derivatives\",IF('FMI Template'!J190=\"CCP_securities\",\"CCP-securities\",IF('FMI Template'!J190=\"Trading_venue\",\"Trading-venue\",'FMI Template'!J190)))),\"\")","v":""},{"$f":"IF(AND('FMI Template'!K190<>\"\",'FMI Template'!K190<>\"UA\"),'FMI Template'!K190,\"\")","v":""},{"$f":"IF('FMI Template'!K190=\"direct\",\"NA\",IF(AND('FMI Template'!M190<>\"\",'FMI Template'!M190<>\"UA\"),'FMI Template'!M190,\"\"))","v":""},{"$f":"IF('FMI Template'!K190=\"direct\",\"NA\",IF(AND('FMI Template'!N190<>\"\",'FMI Template'!N190<>\"UA\"),'FMI Template'!N190,\"\"))","v":""},{"$f":"IF(OR('FMI Template'!H190=\"Other\",'FMI Template'!H190=\"NA\"),'FMI Template'!Q190,\"\")","v":""},{"$f":"IF(AND('FMI Template'!O190<>\"\",'FMI Template'!O190<>\"NA\",'FMI Template'!O190<>\"UA\"),'FMI Template'!O190,\"\")","v":""}]
[null,{"$f":"IF(AND('FMI Template'!B191<>\"\",'FMI Template'!B191<>\"NA\",'FMI Template'!B191<>\"UA\"),'FMI Template'!B191,\"\")","v":""},{"$f":"IF(AND('FMI Template'!C191<>\"\",'FMI Template'!C191<>\"NA\",'FMI Template'!C191<>\"UA\"),'FMI Template'!C191,\"\")","v":""},{"$f":"IF(AND('FMI Template'!D191<>\"\",'FMI Template'!D191<>\"NA\",'FMI Template'!D191<>\"UA\"),'FMI Template'!D191,\"\")","v":""},{"$f":"IF(AND('FMI Template'!F191<>\"\",'FMI Template'!F191<>\"NA\",'FMI Template'!F191<>\"UA\"),'FMI Template'!F191,\"\")","v":""},{"$f":"IF(AND('FMI Template'!H191<>\"\", 'FMI Template'!H191<>\"UA\"),IF('FMI Template'!H191=\"CSD\",\"(I)CSD\",IF('FMI Template'!H191=\"CCP_Derivatives\",\"CCP-Derivatives\",IF('FMI Template'!H191=\"CCP_securities\",\"CCP-securities\",IF('FMI Template'!H191=\"PS_Retail\",\"PS\",IF('FMI Template'!H191=\"PS_LV\",\"PS\",'FMI Template'!H191))))),\"\")","v":""},{"$f":"IF(AND('FMI Template'!I191<>\"\", 'FMI Template'!I191<>\"UA\"),'FMI Template'!I191,\"\")","v":""},{"$f":"IF(AND('FMI Template'!J191<>\"\",'FMI Template'!J191<>\"UA\"),IF('FMI Template'!J191=\"CSD_SSS\",\"CSD-SSS\",IF('FMI Template'!J191=\"CCP_Derivatives\",\"CCP-Derivatives\",IF('FMI Template'!J191=\"CCP_securities\",\"CCP-securities\",IF('FMI Template'!J191=\"Trading_venue\",\"Trading-venue\",'FMI Template'!J191)))),\"\")","v":""},{"$f":"IF(AND('FMI Template'!K191<>\"\",'FMI Template'!K191<>\"UA\"),'FMI Template'!K191,\"\")","v":""},{"$f":"IF('FMI Template'!K191=\"direct\",\"NA\",IF(AND('FMI Template'!M191<>\"\",'FMI Template'!M191<>\"UA\"),'FMI Template'!M191,\"\"))","v":""},{"$f":"IF('FMI Template'!K191=\"direct\",\"NA\",IF(AND('FMI Template'!N191<>\"\",'FMI Template'!N191<>\"UA\"),'FMI Template'!N191,\"\"))","v":""},{"$f":"IF(OR('FMI Template'!H191=\"Other\",'FMI Template'!H191=\"NA\"),'FMI Template'!Q191,\"\")","v":""},{"$f":"IF(AND('FMI Template'!O191<>\"\",'FMI Template'!O191<>\"NA\",'FMI Template'!O191<>\"UA\"),'FMI Template'!O191,\"\")","v":""}]
[null,{"$f":"IF(AND('FMI Template'!B192<>\"\",'FMI Template'!B192<>\"NA\",'FMI Template'!B192<>\"UA\"),'FMI Template'!B192,\"\")","v":""},{"$f":"IF(AND('FMI Template'!C192<>\"\",'FMI Template'!C192<>\"NA\",'FMI Template'!C192<>\"UA\"),'FMI Template'!C192,\"\")","v":""},{"$f":"IF(AND('FMI Template'!D192<>\"\",'FMI Template'!D192<>\"NA\",'FMI Template'!D192<>\"UA\"),'FMI Template'!D192,\"\")","v":""},{"$f":"IF(AND('FMI Template'!F192<>\"\",'FMI Template'!F192<>\"NA\",'FMI Template'!F192<>\"UA\"),'FMI Template'!F192,\"\")","v":""},{"$f":"IF(AND('FMI Template'!H192<>\"\", 'FMI Template'!H192<>\"UA\"),IF('FMI Template'!H192=\"CSD\",\"(I)CSD\",IF('FMI Template'!H192=\"CCP_Derivatives\",\"CCP-Derivatives\",IF('FMI Template'!H192=\"CCP_securities\",\"CCP-securities\",IF('FMI Template'!H192=\"PS_Retail\",\"PS\",IF('FMI Template'!H192=\"PS_LV\",\"PS\",'FMI Template'!H192))))),\"\")","v":""},{"$f":"IF(AND('FMI Template'!I192<>\"\", 'FMI Template'!I192<>\"UA\"),'FMI Template'!I192,\"\")","v":""},{"$f":"IF(AND('FMI Template'!J192<>\"\",'FMI Template'!J192<>\"UA\"),IF('FMI Template'!J192=\"CSD_SSS\",\"CSD-SSS\",IF('FMI Template'!J192=\"CCP_Derivatives\",\"CCP-Derivatives\",IF('FMI Template'!J192=\"CCP_securities\",\"CCP-securities\",IF('FMI Template'!J192=\"Trading_venue\",\"Trading-venue\",'FMI Template'!J192)))),\"\")","v":""},{"$f":"IF(AND('FMI Template'!K192<>\"\",'FMI Template'!K192<>\"UA\"),'FMI Template'!K192,\"\")","v":""},{"$f":"IF('FMI Template'!K192=\"direct\",\"NA\",IF(AND('FMI Template'!M192<>\"\",'FMI Template'!M192<>\"UA\"),'FMI Template'!M192,\"\"))","v":""},{"$f":"IF('FMI Template'!K192=\"direct\",\"NA\",IF(AND('FMI Template'!N192<>\"\",'FMI Template'!N192<>\"UA\"),'FMI Template'!N192,\"\"))","v":""},{"$f":"IF(OR('FMI Template'!H192=\"Other\",'FMI Template'!H192=\"NA\"),'FMI Template'!Q192,\"\")","v":""},{"$f":"IF(AND('FMI Template'!O192<>\"\",'FMI Template'!O192<>\"NA\",'FMI Template'!O192<>\"UA\"),'FMI Template'!O192,\"\")","v":""}]
[null,{"$f":"IF(AND('FMI Template'!B193<>\"\",'FMI Template'!B193<>\"NA\",'FMI Template'!B193<>\"UA\"),'FMI Template'!B193,\"\")","v":""},{"$f":"IF(AND('FMI Template'!C193<>\"\",'FMI Template'!C193<>\"NA\",'FMI Template'!C193<>\"UA\"),'FMI Template'!C193,\"\")","v":""},{"$f":"IF(AND('FMI Template'!D193<>\"\",'FMI Template'!D193<>\"NA\",'FMI Template'!D193<>\"UA\"),'FMI Template'!D193,\"\")","v":""},{"$f":"IF(AND('FMI Template'!F193<>\"\",'FMI Template'!F193<>\"NA\",'FMI Template'!F193<>\"UA\"),'FMI Template'!F193,\"\")","v":""},{"$f":"IF(AND('FMI Template'!H193<>\"\", 'FMI Template'!H193<>\"UA\"),IF('FMI Template'!H193=\"CSD\",\"(I)CSD\",IF('FMI Template'!H193=\"CCP_Derivatives\",\"CCP-Derivatives\",IF('FMI Template'!H193=\"CCP_securities\",\"CCP-securities\",IF('FMI Template'!H193=\"PS_Retail\",\"PS\",IF('FMI Template'!H193=\"PS_LV\",\"PS\",'FMI Template'!H193))))),\"\")","v":""},{"$f":"IF(AND('FMI Template'!I193<>\"\", 'FMI Template'!I193<>\"UA\"),'FMI Template'!I193,\"\")","v":""},{"$f":"IF(AND('FMI Template'!J193<>\"\",'FMI Template'!J193<>\"UA\"),IF('FMI Template'!J193=\"CSD_SSS\",\"CSD-SSS\",IF('FMI Template'!J193=\"CCP_Derivatives\",\"CCP-Derivatives\",IF('FMI Template'!J193=\"CCP_securities\",\"CCP-securities\",IF('FMI Template'!J193=\"Trading_venue\",\"Trading-venue\",'FMI Template'!J193)))),\"\")","v":""},{"$f":"IF(AND('FMI Template'!K193<>\"\",'FMI Template'!K193<>\"UA\"),'FMI Template'!K193,\"\")","v":""},{"$f":"IF('FMI Template'!K193=\"direct\",\"NA\",IF(AND('FMI Template'!M193<>\"\",'FMI Template'!M193<>\"UA\"),'FMI Template'!M193,\"\"))","v":""},{"$f":"IF('FMI Template'!K193=\"direct\",\"NA\",IF(AND('FMI Template'!N193<>\"\",'FMI Template'!N193<>\"UA\"),'FMI Template'!N193,\"\"))","v":""},{"$f":"IF(OR('FMI Template'!H193=\"Other\",'FMI Template'!H193=\"NA\"),'FMI Template'!Q193,\"\")","v":""},{"$f":"IF(AND('FMI Template'!O193<>\"\",'FMI Template'!O193<>\"NA\",'FMI Template'!O193<>\"UA\"),'FMI Template'!O193,\"\")","v":""}]
[null,{"$f":"IF(AND('FMI Template'!B194<>\"\",'FMI Template'!B194<>\"NA\",'FMI Template'!B194<>\"UA\"),'FMI Template'!B194,\"\")","v":""},{"$f":"IF(AND('FMI Template'!C194<>\"\",'FMI Template'!C194<>\"NA\",'FMI Template'!C194<>\"UA\"),'FMI Template'!C194,\"\")","v":""},{"$f":"IF(AND('FMI Template'!D194<>\"\",'FMI Template'!D194<>\"NA\",'FMI Template'!D194<>\"UA\"),'FMI Template'!D194,\"\")","v":""},{"$f":"IF(AND('FMI Template'!F194<>\"\",'FMI Template'!F194<>\"NA\",'FMI Template'!F194<>\"UA\"),'FMI Template'!F194,\"\")","v":""},{"$f":"IF(AND('FMI Template'!H194<>\"\", 'FMI Template'!H194<>\"UA\"),IF('FMI Template'!H194=\"CSD\",\"(I)CSD\",IF('FMI Template'!H194=\"CCP_Derivatives\",\"CCP-Derivatives\",IF('FMI Template'!H194=\"CCP_securities\",\"CCP-securities\",IF('FMI Template'!H194=\"PS_Retail\",\"PS\",IF('FMI Template'!H194=\"PS_LV\",\"PS\",'FMI Template'!H194))))),\"\")","v":""},{"$f":"IF(AND('FMI Template'!I194<>\"\", 'FMI Template'!I194<>\"UA\"),'FMI Template'!I194,\"\")","v":""},{"$f":"IF(AND('FMI Template'!J194<>\"\",'FMI Template'!J194<>\"UA\"),IF('FMI Template'!J194=\"CSD_SSS\",\"CSD-SSS\",IF('FMI Template'!J194=\"CCP_Derivatives\",\"CCP-Derivatives\",IF('FMI Template'!J194=\"CCP_securities\",\"CCP-securities\",IF('FMI Template'!J194=\"Trading_venue\",\"Trading-venue\",'FMI Template'!J194)))),\"\")","v":""},{"$f":"IF(AND('FMI Template'!K194<>\"\",'FMI Template'!K194<>\"UA\"),'FMI Template'!K194,\"\")","v":""},{"$f":"IF('FMI Template'!K194=\"direct\",\"NA\",IF(AND('FMI Template'!M194<>\"\",'FMI Template'!M194<>\"UA\"),'FMI Template'!M194,\"\"))","v":""},{"$f":"IF('FMI Template'!K194=\"direct\",\"NA\",IF(AND('FMI Template'!N194<>\"\",'FMI Template'!N194<>\"UA\"),'FMI Template'!N194,\"\"))","v":""},{"$f":"IF(OR('FMI Template'!H194=\"Other\",'FMI Template'!H194=\"NA\"),'FMI Template'!Q194,\"\")","v":""},{"$f":"IF(AND('FMI Template'!O194<>\"\",'FMI Template'!O194<>\"NA\",'FMI Template'!O194<>\"UA\"),'FMI Template'!O194,\"\")","v":""}]
[null,{"$f":"IF(AND('FMI Template'!B195<>\"\",'FMI Template'!B195<>\"NA\",'FMI Template'!B195<>\"UA\"),'FMI Template'!B195,\"\")","v":""},{"$f":"IF(AND('FMI Template'!C195<>\"\",'FMI Template'!C195<>\"NA\",'FMI Template'!C195<>\"UA\"),'FMI Template'!C195,\"\")","v":""},{"$f":"IF(AND('FMI Template'!D195<>\"\",'FMI Template'!D195<>\"NA\",'FMI Template'!D195<>\"UA\"),'FMI Template'!D195,\"\")","v":""},{"$f":"IF(AND('FMI Template'!F195<>\"\",'FMI Template'!F195<>\"NA\",'FMI Template'!F195<>\"UA\"),'FMI Template'!F195,\"\")","v":""},{"$f":"IF(AND('FMI Template'!H195<>\"\", 'FMI Template'!H195<>\"UA\"),IF('FMI Template'!H195=\"CSD\",\"(I)CSD\",IF('FMI Template'!H195=\"CCP_Derivatives\",\"CCP-Derivatives\",IF('FMI Template'!H195=\"CCP_securities\",\"CCP-securities\",IF('FMI Template'!H195=\"PS_Retail\",\"PS\",IF('FMI Template'!H195=\"PS_LV\",\"PS\",'FMI Template'!H195))))),\"\")","v":""},{"$f":"IF(AND('FMI Template'!I195<>\"\", 'FMI Template'!I195<>\"UA\"),'FMI Template'!I195,\"\")","v":""},{"$f":"IF(AND('FMI Template'!J195<>\"\",'FMI Template'!J195<>\"UA\"),IF('FMI Template'!J195=\"CSD_SSS\",\"CSD-SSS\",IF('FMI Template'!J195=\"CCP_Derivatives\",\"CCP-Derivatives\",IF('FMI Template'!J195=\"CCP_securities\",\"CCP-securities\",IF('FMI Template'!J195=\"Trading_venue\",\"Trading-venue\",'FMI Template'!J195)))),\"\")","v":""},{"$f":"IF(AND('FMI Template'!K195<>\"\",'FMI Template'!K195<>\"UA\"),'FMI Template'!K195,\"\")","v":""},{"$f":"IF('FMI Template'!K195=\"direct\",\"NA\",IF(AND('FMI Template'!M195<>\"\",'FMI Template'!M195<>\"UA\"),'FMI Template'!M195,\"\"))","v":""},{"$f":"IF('FMI Template'!K195=\"direct\",\"NA\",IF(AND('FMI Template'!N195<>\"\",'FMI Template'!N195<>\"UA\"),'FMI Template'!N195,\"\"))","v":""},{"$f":"IF(OR('FMI Template'!H195=\"Other\",'FMI Template'!H195=\"NA\"),'FMI Template'!Q195,\"\")","v":""},{"$f":"IF(AND('FMI Template'!O195<>\"\",'FMI Template'!O195<>\"NA\",'FMI Template'!O195<>\"UA\"),'FMI Template'!O195,\"\")","v":""}]
[null,{"$f":"IF(AND('FMI Template'!B196<>\"\",'FMI Template'!B196<>\"NA\",'FMI Template'!B196<>\"UA\"),'FMI Template'!B196,\"\")","v":""},{"$f":"IF(AND('FMI Template'!C196<>\"\",'FMI Template'!C196<>\"NA\",'FMI Template'!C196<>\"UA\"),'FMI Template'!C196,\"\")","v":""},{"$f":"IF(AND('FMI Template'!D196<>\"\",'FMI Template'!D196<>\"NA\",'FMI Template'!D196<>\"UA\"),'FMI Template'!D196,\"\")","v":""},{"$f":"IF(AND('FMI Template'!F196<>\"\",'FMI Template'!F196<>\"NA\",'FMI Template'!F196<>\"UA\"),'FMI Template'!F196,\"\")","v":""},{"$f":"IF(AND('FMI Template'!H196<>\"\", 'FMI Template'!H196<>\"UA\"),IF('FMI Template'!H196=\"CSD\",\"(I)CSD\",IF('FMI Template'!H196=\"CCP_Derivatives\",\"CCP-Derivatives\",IF('FMI Template'!H196=\"CCP_securities\",\"CCP-securities\",IF('FMI Template'!H196=\"PS_Retail\",\"PS\",IF('FMI Template'!H196=\"PS_LV\",\"PS\",'FMI Template'!H196))))),\"\")","v":""},{"$f":"IF(AND('FMI Template'!I196<>\"\", 'FMI Template'!I196<>\"UA\"),'FMI Template'!I196,\"\")","v":""},{"$f":"IF(AND('FMI Template'!J196<>\"\",'FMI Template'!J196<>\"UA\"),IF('FMI Template'!J196=\"CSD_SSS\",\"CSD-SSS\",IF('FMI Template'!J196=\"CCP_Derivatives\",\"CCP-Derivatives\",IF('FMI Template'!J196=\"CCP_securities\",\"CCP-securities\",IF('FMI Template'!J196=\"Trading_venue\",\"Trading-venue\",'FMI Template'!J196)))),\"\")","v":""},{"$f":"IF(AND('FMI Template'!K196<>\"\",'FMI Template'!K196<>\"UA\"),'FMI Template'!K196,\"\")","v":""},{"$f":"IF('FMI Template'!K196=\"direct\",\"NA\",IF(AND('FMI Template'!M196<>\"\",'FMI Template'!M196<>\"UA\"),'FMI Template'!M196,\"\"))","v":""},{"$f":"IF('FMI Template'!K196=\"direct\",\"NA\",IF(AND('FMI Template'!N196<>\"\",'FMI Template'!N196<>\"UA\"),'FMI Template'!N196,\"\"))","v":""},{"$f":"IF(OR('FMI Template'!H196=\"Other\",'FMI Template'!H196=\"NA\"),'FMI Template'!Q196,\"\")","v":""},{"$f":"IF(AND('FMI Template'!O196<>\"\",'FMI Template'!O196<>\"NA\",'FMI Template'!O196<>\"UA\"),'FMI Template'!O196,\"\")","v":""}]
[null,{"$f":"IF(AND('FMI Template'!B197<>\"\",'FMI Template'!B197<>\"NA\",'FMI Template'!B197<>\"UA\"),'FMI Template'!B197,\"\")","v":""},{"$f":"IF(AND('FMI Template'!C197<>\"\",'FMI Template'!C197<>\"NA\",'FMI Template'!C197<>\"UA\"),'FMI Template'!C197,\"\")","v":""},{"$f":"IF(AND('FMI Template'!D197<>\"\",'FMI Template'!D197<>\"NA\",'FMI Template'!D197<>\"UA\"),'FMI Template'!D197,\"\")","v":""},{"$f":"IF(AND('FMI Template'!F197<>\"\",'FMI Template'!F197<>\"NA\",'FMI Template'!F197<>\"UA\"),'FMI Template'!F197,\"\")","v":""},{"$f":"IF(AND('FMI Template'!H197<>\"\", 'FMI Template'!H197<>\"UA\"),IF('FMI Template'!H197=\"CSD\",\"(I)CSD\",IF('FMI Template'!H197=\"CCP_Derivatives\",\"CCP-Derivatives\",IF('FMI Template'!H197=\"CCP_securities\",\"CCP-securities\",IF('FMI Template'!H197=\"PS_Retail\",\"PS\",IF('FMI Template'!H197=\"PS_LV\",\"PS\",'FMI Template'!H197))))),\"\")","v":""},{"$f":"IF(AND('FMI Template'!I197<>\"\", 'FMI Template'!I197<>\"UA\"),'FMI Template'!I197,\"\")","v":""},{"$f":"IF(AND('FMI Template'!J197<>\"\",'FMI Template'!J197<>\"UA\"),IF('FMI Template'!J197=\"CSD_SSS\",\"CSD-SSS\",IF('FMI Template'!J197=\"CCP_Derivatives\",\"CCP-Derivatives\",IF('FMI Template'!J197=\"CCP_securities\",\"CCP-securities\",IF('FMI Template'!J197=\"Trading_venue\",\"Trading-venue\",'FMI Template'!J197)))),\"\")","v":""},{"$f":"IF(AND('FMI Template'!K197<>\"\",'FMI Template'!K197<>\"UA\"),'FMI Template'!K197,\"\")","v":""},{"$f":"IF('FMI Template'!K197=\"direct\",\"NA\",IF(AND('FMI Template'!M197<>\"\",'FMI Template'!M197<>\"UA\"),'FMI Template'!M197,\"\"))","v":""},{"$f":"IF('FMI Template'!K197=\"direct\",\"NA\",IF(AND('FMI Template'!N197<>\"\",'FMI Template'!N197<>\"UA\"),'FMI Template'!N197,\"\"))","v":""},{"$f":"IF(OR('FMI Template'!H197=\"Other\",'FMI Template'!H197=\"NA\"),'FMI Template'!Q197,\"\")","v":""},{"$f":"IF(AND('FMI Template'!O197<>\"\",'FMI Template'!O197<>\"NA\",'FMI Template'!O197<>\"UA\"),'FMI Template'!O197,\"\")","v":""}]
[null,{"$f":"IF(AND('FMI Template'!B198<>\"\",'FMI Template'!B198<>\"NA\",'FMI Template'!B198<>\"UA\"),'FMI Template'!B198,\"\")","v":""},{"$f":"IF(AND('FMI Template'!C198<>\"\",'FMI Template'!C198<>\"NA\",'FMI Template'!C198<>\"UA\"),'FMI Template'!C198,\"\")","v":""},{"$f":"IF(AND('FMI Template'!D198<>\"\",'FMI Template'!D198<>\"NA\",'FMI Template'!D198<>\"UA\"),'FMI Template'!D198,\"\")","v":""},{"$f":"IF(AND('FMI Template'!F198<>\"\",'FMI Template'!F198<>\"NA\",'FMI Template'!F198<>\"UA\"),'FMI Template'!F198,\"\")","v":""},{"$f":"IF(AND('FMI Template'!H198<>\"\", 'FMI Template'!H198<>\"UA\"),IF('FMI Template'!H198=\"CSD\",\"(I)CSD\",IF('FMI Template'!H198=\"CCP_Derivatives\",\"CCP-Derivatives\",IF('FMI Template'!H198=\"CCP_securities\",\"CCP-securities\",IF('FMI Template'!H198=\"PS_Retail\",\"PS\",IF('FMI Template'!H198=\"PS_LV\",\"PS\",'FMI Template'!H198))))),\"\")","v":""},{"$f":"IF(AND('FMI Template'!I198<>\"\", 'FMI Template'!I198<>\"UA\"),'FMI Template'!I198,\"\")","v":""},{"$f":"IF(AND('FMI Template'!J198<>\"\",'FMI Template'!J198<>\"UA\"),IF('FMI Template'!J198=\"CSD_SSS\",\"CSD-SSS\",IF('FMI Template'!J198=\"CCP_Derivatives\",\"CCP-Derivatives\",IF('FMI Template'!J198=\"CCP_securities\",\"CCP-securities\",IF('FMI Template'!J198=\"Trading_venue\",\"Trading-venue\",'FMI Template'!J198)))),\"\")","v":""},{"$f":"IF(AND('FMI Template'!K198<>\"\",'FMI Template'!K198<>\"UA\"),'FMI Template'!K198,\"\")","v":""},{"$f":"IF('FMI Template'!K198=\"direct\",\"NA\",IF(AND('FMI Template'!M198<>\"\",'FMI Template'!M198<>\"UA\"),'FMI Template'!M198,\"\"))","v":""},{"$f":"IF('FMI Template'!K198=\"direct\",\"NA\",IF(AND('FMI Template'!N198<>\"\",'FMI Template'!N198<>\"UA\"),'FMI Template'!N198,\"\"))","v":""},{"$f":"IF(OR('FMI Template'!H198=\"Other\",'FMI Template'!H198=\"NA\"),'FMI Template'!Q198,\"\")","v":""},{"$f":"IF(AND('FMI Template'!O198<>\"\",'FMI Template'!O198<>\"NA\",'FMI Template'!O198<>\"UA\"),'FMI Template'!O198,\"\")","v":""}]
[null,{"$f":"IF(AND('FMI Template'!B199<>\"\",'FMI Template'!B199<>\"NA\",'FMI Template'!B199<>\"UA\"),'FMI Template'!B199,\"\")","v":""},{"$f":"IF(AND('FMI Template'!C199<>\"\",'FMI Template'!C199<>\"NA\",'FMI Template'!C199<>\"UA\"),'FMI Template'!C199,\"\")","v":""},{"$f":"IF(AND('FMI Template'!D199<>\"\",'FMI Template'!D199<>\"NA\",'FMI Template'!D199<>\"UA\"),'FMI Template'!D199,\"\")","v":""},{"$f":"IF(AND('FMI Template'!F199<>\"\",'FMI Template'!F199<>\"NA\",'FMI Template'!F199<>\"UA\"),'FMI Template'!F199,\"\")","v":""},{"$f":"IF(AND('FMI Template'!H199<>\"\", 'FMI Template'!H199<>\"UA\"),IF('FMI Template'!H199=\"CSD\",\"(I)CSD\",IF('FMI Template'!H199=\"CCP_Derivatives\",\"CCP-Derivatives\",IF('FMI Template'!H199=\"CCP_securities\",\"CCP-securities\",IF('FMI Template'!H199=\"PS_Retail\",\"PS\",IF('FMI Template'!H199=\"PS_LV\",\"PS\",'FMI Template'!H199))))),\"\")","v":""},{"$f":"IF(AND('FMI Template'!I199<>\"\", 'FMI Template'!I199<>\"UA\"),'FMI Template'!I199,\"\")","v":""},{"$f":"IF(AND('FMI Template'!J199<>\"\",'FMI Template'!J199<>\"UA\"),IF('FMI Template'!J199=\"CSD_SSS\",\"CSD-SSS\",IF('FMI Template'!J199=\"CCP_Derivatives\",\"CCP-Derivatives\",IF('FMI Template'!J199=\"CCP_securities\",\"CCP-securities\",IF('FMI Template'!J199=\"Trading_venue\",\"Trading-venue\",'FMI Template'!J199)))),\"\")","v":""},{"$f":"IF(AND('FMI Template'!K199<>\"\",'FMI Template'!K199<>\"UA\"),'FMI Template'!K199,\"\")","v":""},{"$f":"IF('FMI Template'!K199=\"direct\",\"NA\",IF(AND('FMI Template'!M199<>\"\",'FMI Template'!M199<>\"UA\"),'FMI Template'!M199,\"\"))","v":""},{"$f":"IF('FMI Template'!K199=\"direct\",\"NA\",IF(AND('FMI Template'!N199<>\"\",'FMI Template'!N199<>\"UA\"),'FMI Template'!N199,\"\"))","v":""},{"$f":"IF(OR('FMI Template'!H199=\"Other\",'FMI Template'!H199=\"NA\"),'FMI Template'!Q199,\"\")","v":""},{"$f":"IF(AND('FMI Template'!O199<>\"\",'FMI Template'!O199<>\"NA\",'FMI Template'!O199<>\"UA\"),'FMI Template'!O199,\"\")","v":""}]
[null,{"$f":"IF(AND('FMI Template'!B200<>\"\",'FMI Template'!B200<>\"NA\",'FMI Template'!B200<>\"UA\"),'FMI Template'!B200,\"\")","v":""},{"$f":"IF(AND('FMI Template'!C200<>\"\",'FMI Template'!C200<>\"NA\",'FMI Template'!C200<>\"UA\"),'FMI Template'!C200,\"\")","v":""},{"$f":"IF(AND('FMI Template'!D200<>\"\",'FMI Template'!D200<>\"NA\",'FMI Template'!D200<>\"UA\"),'FMI Template'!D200,\"\")","v":""},{"$f":"IF(AND('FMI Template'!F200<>\"\",'FMI Template'!F200<>\"NA\",'FMI Template'!F200<>\"UA\"),'FMI Template'!F200,\"\")","v":""},{"$f":"IF(AND('FMI Template'!H200<>\"\", 'FMI Template'!H200<>\"UA\"),IF('FMI Template'!H200=\"CSD\",\"(I)CSD\",IF('FMI Template'!H200=\"CCP_Derivatives\",\"CCP-Derivatives\",IF('FMI Template'!H200=\"CCP_securities\",\"CCP-securities\",IF('FMI Template'!H200=\"PS_Retail\",\"PS\",IF('FMI Template'!H200=\"PS_LV\",\"PS\",'FMI Template'!H200))))),\"\")","v":""},{"$f":"IF(AND('FMI Template'!I200<>\"\", 'FMI Template'!I200<>\"UA\"),'FMI Template'!I200,\"\")","v":""},{"$f":"IF(AND('FMI Template'!J200<>\"\",'FMI Template'!J200<>\"UA\"),IF('FMI Template'!J200=\"CSD_SSS\",\"CSD-SSS\",IF('FMI Template'!J200=\"CCP_Derivatives\",\"CCP-Derivatives\",IF('FMI Template'!J200=\"CCP_securities\",\"CCP-securities\",IF('FMI Template'!J200=\"Trading_venue\",\"Trading-venue\",'FMI Template'!J200)))),\"\")","v":""},{"$f":"IF(AND('FMI Template'!K200<>\"\",'FMI Template'!K200<>\"UA\"),'FMI Template'!K200,\"\")","v":""},{"$f":"IF('FMI Template'!K200=\"direct\",\"NA\",IF(AND('FMI Template'!M200<>\"\",'FMI Template'!M200<>\"UA\"),'FMI Template'!M200,\"\"))","v":""},{"$f":"IF('FMI Template'!K200=\"direct\",\"NA\",IF(AND('FMI Template'!N200<>\"\",'FMI Template'!N200<>\"UA\"),'FMI Template'!N200,\"\"))","v":""},{"$f":"IF(OR('FMI Template'!H200=\"Other\",'FMI Template'!H200=\"NA\"),'FMI Template'!Q200,\"\")","v":""},{"$f":"IF(AND('FMI Template'!O200<>\"\",'FMI Template'!O200<>\"NA\",'FMI Template'!O200<>\"UA\"),'FMI Template'!O200,\"\")","v":""}]
[null,{"$f":"IF(AND('FMI Template'!B201<>\"\",'FMI Template'!B201<>\"NA\",'FMI Template'!B201<>\"UA\"),'FMI Template'!B201,\"\")","v":""},{"$f":"IF(AND('FMI Template'!C201<>\"\",'FMI Template'!C201<>\"NA\",'FMI Template'!C201<>\"UA\"),'FMI Template'!C201,\"\")","v":""},{"$f":"IF(AND('FMI Template'!D201<>\"\",'FMI Template'!D201<>\"NA\",'FMI Template'!D201<>\"UA\"),'FMI Template'!D201,\"\")","v":""},{"$f":"IF(AND('FMI Template'!F201<>\"\",'FMI Template'!F201<>\"NA\",'FMI Template'!F201<>\"UA\"),'FMI Template'!F201,\"\")","v":""},{"$f":"IF(AND('FMI Template'!H201<>\"\", 'FMI Template'!H201<>\"UA\"),IF('FMI Template'!H201=\"CSD\",\"(I)CSD\",IF('FMI Template'!H201=\"CCP_Derivatives\",\"CCP-Derivatives\",IF('FMI Template'!H201=\"CCP_securities\",\"CCP-securities\",IF('FMI Template'!H201=\"PS_Retail\",\"PS\",IF('FMI Template'!H201=\"PS_LV\",\"PS\",'FMI Template'!H201))))),\"\")","v":""},{"$f":"IF(AND('FMI Template'!I201<>\"\", 'FMI Template'!I201<>\"UA\"),'FMI Template'!I201,\"\")","v":""},{"$f":"IF(AND('FMI Template'!J201<>\"\",'FMI Template'!J201<>\"UA\"),IF('FMI Template'!J201=\"CSD_SSS\",\"CSD-SSS\",IF('FMI Template'!J201=\"CCP_Derivatives\",\"CCP-Derivatives\",IF('FMI Template'!J201=\"CCP_securities\",\"CCP-securities\",IF('FMI Template'!J201=\"Trading_venue\",\"Trading-venue\",'FMI Template'!J201)))),\"\")","v":""},{"$f":"IF(AND('FMI Template'!K201<>\"\",'FMI Template'!K201<>\"UA\"),'FMI Template'!K201,\"\")","v":""},{"$f":"IF('FMI Template'!K201=\"direct\",\"NA\",IF(AND('FMI Template'!M201<>\"\",'FMI Template'!M201<>\"UA\"),'FMI Template'!M201,\"\"))","v":""},{"$f":"IF('FMI Template'!K201=\"direct\",\"NA\",IF(AND('FMI Template'!N201<>\"\",'FMI Template'!N201<>\"UA\"),'FMI Template'!N201,\"\"))","v":""},{"$f":"IF(OR('FMI Template'!H201=\"Other\",'FMI Template'!H201=\"NA\"),'FMI Template'!Q201,\"\")","v":""},{"$f":"IF(AND('FMI Template'!O201<>\"\",'FMI Template'!O201<>\"NA\",'FMI Template'!O201<>\"UA\"),'FMI Template'!O201,\"\")","v":""}]
[null,{"$f":"IF(AND('FMI Template'!B202<>\"\",'FMI Template'!B202<>\"NA\",'FMI Template'!B202<>\"UA\"),'FMI Template'!B202,\"\")","v":""},{"$f":"IF(AND('FMI Template'!C202<>\"\",'FMI Template'!C202<>\"NA\",'FMI Template'!C202<>\"UA\"),'FMI Template'!C202,\"\")","v":""},{"$f":"IF(AND('FMI Template'!D202<>\"\",'FMI Template'!D202<>\"NA\",'FMI Template'!D202<>\"UA\"),'FMI Template'!D202,\"\")","v":""},{"$f":"IF(AND('FMI Template'!F202<>\"\",'FMI Template'!F202<>\"NA\",'FMI Template'!F202<>\"UA\"),'FMI Template'!F202,\"\")","v":""},{"$f":"IF(AND('FMI Template'!H202<>\"\", 'FMI Template'!H202<>\"UA\"),IF('FMI Template'!H202=\"CSD\",\"(I)CSD\",IF('FMI Template'!H202=\"CCP_Derivatives\",\"CCP-Derivatives\",IF('FMI Template'!H202=\"CCP_securities\",\"CCP-securities\",IF('FMI Template'!H202=\"PS_Retail\",\"PS\",IF('FMI Template'!H202=\"PS_LV\",\"PS\",'FMI Template'!H202))))),\"\")","v":""},{"$f":"IF(AND('FMI Template'!I202<>\"\", 'FMI Template'!I202<>\"UA\"),'FMI Template'!I202,\"\")","v":""},{"$f":"IF(AND('FMI Template'!J202<>\"\",'FMI Template'!J202<>\"UA\"),IF('FMI Template'!J202=\"CSD_SSS\",\"CSD-SSS\",IF('FMI Template'!J202=\"CCP_Derivatives\",\"CCP-Derivatives\",IF('FMI Template'!J202=\"CCP_securities\",\"CCP-securities\",IF('FMI Template'!J202=\"Trading_venue\",\"Trading-venue\",'FMI Template'!J202)))),\"\")","v":""},{"$f":"IF(AND('FMI Template'!K202<>\"\",'FMI Template'!K202<>\"UA\"),'FMI Template'!K202,\"\")","v":""},{"$f":"IF('FMI Template'!K202=\"direct\",\"NA\",IF(AND('FMI Template'!M202<>\"\",'FMI Template'!M202<>\"UA\"),'FMI Template'!M202,\"\"))","v":""},{"$f":"IF('FMI Template'!K202=\"direct\",\"NA\",IF(AND('FMI Template'!N202<>\"\",'FMI Template'!N202<>\"UA\"),'FMI Template'!N202,\"\"))","v":""},{"$f":"IF(OR('FMI Template'!H202=\"Other\",'FMI Template'!H202=\"NA\"),'FMI Template'!Q202,\"\")","v":""},{"$f":"IF(AND('FMI Template'!O202<>\"\",'FMI Template'!O202<>\"NA\",'FMI Template'!O202<>\"UA\"),'FMI Template'!O202,\"\")","v":""}]
[null,{"$f":"IF(AND('FMI Template'!B203<>\"\",'FMI Template'!B203<>\"NA\",'FMI Template'!B203<>\"UA\"),'FMI Template'!B203,\"\")","v":""},{"$f":"IF(AND('FMI Template'!C203<>\"\",'FMI Template'!C203<>\"NA\",'FMI Template'!C203<>\"UA\"),'FMI Template'!C203,\"\")","v":""},{"$f":"IF(AND('FMI Template'!D203<>\"\",'FMI Template'!D203<>\"NA\",'FMI Template'!D203<>\"UA\"),'FMI Template'!D203,\"\")","v":""},{"$f":"IF(AND('FMI Template'!F203<>\"\",'FMI Template'!F203<>\"NA\",'FMI Template'!F203<>\"UA\"),'FMI Template'!F203,\"\")","v":""},{"$f":"IF(AND('FMI Template'!H203<>\"\", 'FMI Template'!H203<>\"UA\"),IF('FMI Template'!H203=\"CSD\",\"(I)CSD\",IF('FMI Template'!H203=\"CCP_Derivatives\",\"CCP-Derivatives\",IF('FMI Template'!H203=\"CCP_securities\",\"CCP-securities\",IF('FMI Template'!H203=\"PS_Retail\",\"PS\",IF('FMI Template'!H203=\"PS_LV\",\"PS\",'FMI Template'!H203))))),\"\")","v":""},{"$f":"IF(AND('FMI Template'!I203<>\"\", 'FMI Template'!I203<>\"UA\"),'FMI Template'!I203,\"\")","v":""},{"$f":"IF(AND('FMI Template'!J203<>\"\",'FMI Template'!J203<>\"UA\"),IF('FMI Template'!J203=\"CSD_SSS\",\"CSD-SSS\",IF('FMI Template'!J203=\"CCP_Derivatives\",\"CCP-Derivatives\",IF('FMI Template'!J203=\"CCP_securities\",\"CCP-securities\",IF('FMI Template'!J203=\"Trading_venue\",\"Trading-venue\",'FMI Template'!J203)))),\"\")","v":""},{"$f":"IF(AND('FMI Template'!K203<>\"\",'FMI Template'!K203<>\"UA\"),'FMI Template'!K203,\"\")","v":""},{"$f":"IF('FMI Template'!K203=\"direct\",\"NA\",IF(AND('FMI Template'!M203<>\"\",'FMI Template'!M203<>\"UA\"),'FMI Template'!M203,\"\"))","v":""},{"$f":"IF('FMI Template'!K203=\"direct\",\"NA\",IF(AND('FMI Template'!N203<>\"\",'FMI Template'!N203<>\"UA\"),'FMI Template'!N203,\"\"))","v":""},{"$f":"IF(OR('FMI Template'!H203=\"Other\",'FMI Template'!H203=\"NA\"),'FMI Template'!Q203,\"\")","v":""},{"$f":"IF(AND('FMI Template'!O203<>\"\",'FMI Template'!O203<>\"NA\",'FMI Template'!O203<>\"UA\"),'FMI Template'!O203,\"\")","v":""}]
[null,{"$f":"IF(AND('FMI Template'!B204<>\"\",'FMI Template'!B204<>\"NA\",'FMI Template'!B204<>\"UA\"),'FMI Template'!B204,\"\")","v":""},{"$f":"IF(AND('FMI Template'!C204<>\"\",'FMI Template'!C204<>\"NA\",'FMI Template'!C204<>\"UA\"),'FMI Template'!C204,\"\")","v":""},{"$f":"IF(AND('FMI Template'!D204<>\"\",'FMI Template'!D204<>\"NA\",'FMI Template'!D204<>\"UA\"),'FMI Template'!D204,\"\")","v":""},{"$f":"IF(AND('FMI Template'!F204<>\"\",'FMI Template'!F204<>\"NA\",'FMI Template'!F204<>\"UA\"),'FMI Template'!F204,\"\")","v":""},{"$f":"IF(AND('FMI Template'!H204<>\"\", 'FMI Template'!H204<>\"UA\"),IF('FMI Template'!H204=\"CSD\",\"(I)CSD\",IF('FMI Template'!H204=\"CCP_Derivatives\",\"CCP-Derivatives\",IF('FMI Template'!H204=\"CCP_securities\",\"CCP-securities\",IF('FMI Template'!H204=\"PS_Retail\",\"PS\",IF('FMI Template'!H204=\"PS_LV\",\"PS\",'FMI Template'!H204))))),\"\")","v":""},{"$f":"IF(AND('FMI Template'!I204<>\"\", 'FMI Template'!I204<>\"UA\"),'FMI Template'!I204,\"\")","v":""},{"$f":"IF(AND('FMI Template'!J204<>\"\",'FMI Template'!J204<>\"UA\"),IF('FMI Template'!J204=\"CSD_SSS\",\"CSD-SSS\",IF('FMI Template'!J204=\"CCP_Derivatives\",\"CCP-Derivatives\",IF('FMI Template'!J204=\"CCP_securities\",\"CCP-securities\",IF('FMI Template'!J204=\"Trading_venue\",\"Trading-venue\",'FMI Template'!J204)))),\"\")","v":""},{"$f":"IF(AND('FMI Template'!K204<>\"\",'FMI Template'!K204<>\"UA\"),'FMI Template'!K204,\"\")","v":""},{"$f":"IF('FMI Template'!K204=\"direct\",\"NA\",IF(AND('FMI Template'!M204<>\"\",'FMI Template'!M204<>\"UA\"),'FMI Template'!M204,\"\"))","v":""},{"$f":"IF('FMI Template'!K204=\"direct\",\"NA\",IF(AND('FMI Template'!N204<>\"\",'FMI Template'!N204<>\"UA\"),'FMI Template'!N204,\"\"))","v":""},{"$f":"IF(OR('FMI Template'!H204=\"Other\",'FMI Template'!H204=\"NA\"),'FMI Template'!Q204,\"\")","v":""},{"$f":"IF(AND('FMI Template'!O204<>\"\",'FMI Template'!O204<>\"NA\",'FMI Template'!O204<>\"UA\"),'FMI Template'!O204,\"\")","v":""}]
[null,{"$f":"IF(AND('FMI Template'!B205<>\"\",'FMI Template'!B205<>\"NA\",'FMI Template'!B205<>\"UA\"),'FMI Template'!B205,\"\")","v":""},{"$f":"IF(AND('FMI Template'!C205<>\"\",'FMI Template'!C205<>\"NA\",'FMI Template'!C205<>\"UA\"),'FMI Template'!C205,\"\")","v":""},{"$f":"IF(AND('FMI Template'!D205<>\"\",'FMI Template'!D205<>\"NA\",'FMI Template'!D205<>\"UA\"),'FMI Template'!D205,\"\")","v":""},{"$f":"IF(AND('FMI Template'!F205<>\"\",'FMI Template'!F205<>\"NA\",'FMI Template'!F205<>\"UA\"),'FMI Template'!F205,\"\")","v":""},{"$f":"IF(AND('FMI Template'!H205<>\"\", 'FMI Template'!H205<>\"UA\"),IF('FMI Template'!H205=\"CSD\",\"(I)CSD\",IF('FMI Template'!H205=\"CCP_Derivatives\",\"CCP-Derivatives\",IF('FMI Template'!H205=\"CCP_securities\",\"CCP-securities\",IF('FMI Template'!H205=\"PS_Retail\",\"PS\",IF('FMI Template'!H205=\"PS_LV\",\"PS\",'FMI Template'!H205))))),\"\")","v":""},{"$f":"IF(AND('FMI Template'!I205<>\"\", 'FMI Template'!I205<>\"UA\"),'FMI Template'!I205,\"\")","v":""},{"$f":"IF(AND('FMI Template'!J205<>\"\",'FMI Template'!J205<>\"UA\"),IF('FMI Template'!J205=\"CSD_SSS\",\"CSD-SSS\",IF('FMI Template'!J205=\"CCP_Derivatives\",\"CCP-Derivatives\",IF('FMI Template'!J205=\"CCP_securities\",\"CCP-securities\",IF('FMI Template'!J205=\"Trading_venue\",\"Trading-venue\",'FMI Template'!J205)))),\"\")","v":""},{"$f":"IF(AND('FMI Template'!K205<>\"\",'FMI Template'!K205<>\"UA\"),'FMI Template'!K205,\"\")","v":""},{"$f":"IF('FMI Template'!K205=\"direct\",\"NA\",IF(AND('FMI Template'!M205<>\"\",'FMI Template'!M205<>\"UA\"),'FMI Template'!M205,\"\"))","v":""},{"$f":"IF('FMI Template'!K205=\"direct\",\"NA\",IF(AND('FMI Template'!N205<>\"\",'FMI Template'!N205<>\"UA\"),'FMI Template'!N205,\"\"))","v":""},{"$f":"IF(OR('FMI Template'!H205=\"Other\",'FMI Template'!H205=\"NA\"),'FMI Template'!Q205,\"\")","v":""},{"$f":"IF(AND('FMI Template'!O205<>\"\",'FMI Template'!O205<>\"NA\",'FMI Template'!O205<>\"UA\"),'FMI Template'!O205,\"\")","v":""}]
[null,{"$f":"IF(AND('FMI Template'!B206<>\"\",'FMI Template'!B206<>\"NA\",'FMI Template'!B206<>\"UA\"),'FMI Template'!B206,\"\")","v":""},{"$f":"IF(AND('FMI Template'!C206<>\"\",'FMI Template'!C206<>\"NA\",'FMI Template'!C206<>\"UA\"),'FMI Template'!C206,\"\")","v":""},{"$f":"IF(AND('FMI Template'!D206<>\"\",'FMI Template'!D206<>\"NA\",'FMI Template'!D206<>\"UA\"),'FMI Template'!D206,\"\")","v":""},{"$f":"IF(AND('FMI Template'!F206<>\"\",'FMI Template'!F206<>\"NA\",'FMI Template'!F206<>\"UA\"),'FMI Template'!F206,\"\")","v":""},{"$f":"IF(AND('FMI Template'!H206<>\"\", 'FMI Template'!H206<>\"UA\"),IF('FMI Template'!H206=\"CSD\",\"(I)CSD\",IF('FMI Template'!H206=\"CCP_Derivatives\",\"CCP-Derivatives\",IF('FMI Template'!H206=\"CCP_securities\",\"CCP-securities\",IF('FMI Template'!H206=\"PS_Retail\",\"PS\",IF('FMI Template'!H206=\"PS_LV\",\"PS\",'FMI Template'!H206))))),\"\")","v":""},{"$f":"IF(AND('FMI Template'!I206<>\"\", 'FMI Template'!I206<>\"UA\"),'FMI Template'!I206,\"\")","v":""},{"$f":"IF(AND('FMI Template'!J206<>\"\",'FMI Template'!J206<>\"UA\"),IF('FMI Template'!J206=\"CSD_SSS\",\"CSD-SSS\",IF('FMI Template'!J206=\"CCP_Derivatives\",\"CCP-Derivatives\",IF('FMI Template'!J206=\"CCP_securities\",\"CCP-securities\",IF('FMI Template'!J206=\"Trading_venue\",\"Trading-venue\",'FMI Template'!J206)))),\"\")","v":""},{"$f":"IF(AND('FMI Template'!K206<>\"\",'FMI Template'!K206<>\"UA\"),'FMI Template'!K206,\"\")","v":""},{"$f":"IF('FMI Template'!K206=\"direct\",\"NA\",IF(AND('FMI Template'!M206<>\"\",'FMI Template'!M206<>\"UA\"),'FMI Template'!M206,\"\"))","v":""},{"$f":"IF('FMI Template'!K206=\"direct\",\"NA\",IF(AND('FMI Template'!N206<>\"\",'FMI Template'!N206<>\"UA\"),'FMI Template'!N206,\"\"))","v":""},{"$f":"IF(OR('FMI Template'!H206=\"Other\",'FMI Template'!H206=\"NA\"),'FMI Template'!Q206,\"\")","v":""},{"$f":"IF(AND('FMI Template'!O206<>\"\",'FMI Template'!O206<>\"NA\",'FMI Template'!O206<>\"UA\"),'FMI Template'!O206,\"\")","v":""}]
[null,{"$f":"IF(AND('FMI Template'!B207<>\"\",'FMI Template'!B207<>\"NA\",'FMI Template'!B207<>\"UA\"),'FMI Template'!B207,\"\")","v":""},{"$f":"IF(AND('FMI Template'!C207<>\"\",'FMI Template'!C207<>\"NA\",'FMI Template'!C207<>\"UA\"),'FMI Template'!C207,\"\")","v":""},{"$f":"IF(AND('FMI Template'!D207<>\"\",'FMI Template'!D207<>\"NA\",'FMI Template'!D207<>\"UA\"),'FMI Template'!D207,\"\")","v":""},{"$f":"IF(AND('FMI Template'!F207<>\"\",'FMI Template'!F207<>\"NA\",'FMI Template'!F207<>\"UA\"),'FMI Template'!F207,\"\")","v":""},{"$f":"IF(AND('FMI Template'!H207<>\"\", 'FMI Template'!H207<>\"UA\"),IF('FMI Template'!H207=\"CSD\",\"(I)CSD\",IF('FMI Template'!H207=\"CCP_Derivatives\",\"CCP-Derivatives\",IF('FMI Template'!H207=\"CCP_securities\",\"CCP-securities\",IF('FMI Template'!H207=\"PS_Retail\",\"PS\",IF('FMI Template'!H207=\"PS_LV\",\"PS\",'FMI Template'!H207))))),\"\")","v":""},{"$f":"IF(AND('FMI Template'!I207<>\"\", 'FMI Template'!I207<>\"UA\"),'FMI Template'!I207,\"\")","v":""},{"$f":"IF(AND('FMI Template'!J207<>\"\",'FMI Template'!J207<>\"UA\"),IF('FMI Template'!J207=\"CSD_SSS\",\"CSD-SSS\",IF('FMI Template'!J207=\"CCP_Derivatives\",\"CCP-Derivatives\",IF('FMI Template'!J207=\"CCP_securities\",\"CCP-securities\",IF('FMI Template'!J207=\"Trading_venue\",\"Trading-venue\",'FMI Template'!J207)))),\"\")","v":""},{"$f":"IF(AND('FMI Template'!K207<>\"\",'FMI Template'!K207<>\"UA\"),'FMI Template'!K207,\"\")","v":""},{"$f":"IF('FMI Template'!K207=\"direct\",\"NA\",IF(AND('FMI Template'!M207<>\"\",'FMI Template'!M207<>\"UA\"),'FMI Template'!M207,\"\"))","v":""},{"$f":"IF('FMI Template'!K207=\"direct\",\"NA\",IF(AND('FMI Template'!N207<>\"\",'FMI Template'!N207<>\"UA\"),'FMI Template'!N207,\"\"))","v":""},{"$f":"IF(OR('FMI Template'!H207=\"Other\",'FMI Template'!H207=\"NA\"),'FMI Template'!Q207,\"\")","v":""},{"$f":"IF(AND('FMI Template'!O207<>\"\",'FMI Template'!O207<>\"NA\",'FMI Template'!O207<>\"UA\"),'FMI Template'!O207,\"\")","v":""}]
[null,{"$f":"IF(AND('FMI Template'!B208<>\"\",'FMI Template'!B208<>\"NA\",'FMI Template'!B208<>\"UA\"),'FMI Template'!B208,\"\")","v":""},{"$f":"IF(AND('FMI Template'!C208<>\"\",'FMI Template'!C208<>\"NA\",'FMI Template'!C208<>\"UA\"),'FMI Template'!C208,\"\")","v":""},{"$f":"IF(AND('FMI Template'!D208<>\"\",'FMI Template'!D208<>\"NA\",'FMI Template'!D208<>\"UA\"),'FMI Template'!D208,\"\")","v":""},{"$f":"IF(AND('FMI Template'!F208<>\"\",'FMI Template'!F208<>\"NA\",'FMI Template'!F208<>\"UA\"),'FMI Template'!F208,\"\")","v":""},{"$f":"IF(AND('FMI Template'!H208<>\"\", 'FMI Template'!H208<>\"UA\"),IF('FMI Template'!H208=\"CSD\",\"(I)CSD\",IF('FMI Template'!H208=\"CCP_Derivatives\",\"CCP-Derivatives\",IF('FMI Template'!H208=\"CCP_securities\",\"CCP-securities\",IF('FMI Template'!H208=\"PS_Retail\",\"PS\",IF('FMI Template'!H208=\"PS_LV\",\"PS\",'FMI Template'!H208))))),\"\")","v":""},{"$f":"IF(AND('FMI Template'!I208<>\"\", 'FMI Template'!I208<>\"UA\"),'FMI Template'!I208,\"\")","v":""},{"$f":"IF(AND('FMI Template'!J208<>\"\",'FMI Template'!J208<>\"UA\"),IF('FMI Template'!J208=\"CSD_SSS\",\"CSD-SSS\",IF('FMI Template'!J208=\"CCP_Derivatives\",\"CCP-Derivatives\",IF('FMI Template'!J208=\"CCP_securities\",\"CCP-securities\",IF('FMI Template'!J208=\"Trading_venue\",\"Trading-venue\",'FMI Template'!J208)))),\"\")","v":""},{"$f":"IF(AND('FMI Template'!K208<>\"\",'FMI Template'!K208<>\"UA\"),'FMI Template'!K208,\"\")","v":""},{"$f":"IF('FMI Template'!K208=\"direct\",\"NA\",IF(AND('FMI Template'!M208<>\"\",'FMI Template'!M208<>\"UA\"),'FMI Template'!M208,\"\"))","v":""},{"$f":"IF('FMI Template'!K208=\"direct\",\"NA\",IF(AND('FMI Template'!N208<>\"\",'FMI Template'!N208<>\"UA\"),'FMI Template'!N208,\"\"))","v":""},{"$f":"IF(OR('FMI Template'!H208=\"Other\",'FMI Template'!H208=\"NA\"),'FMI Template'!Q208,\"\")","v":""},{"$f":"IF(AND('FMI Template'!O208<>\"\",'FMI Template'!O208<>\"NA\",'FMI Template'!O208<>\"UA\"),'FMI Template'!O208,\"\")","v":""}]
[null,{"$f":"IF(AND('FMI Template'!B209<>\"\",'FMI Template'!B209<>\"NA\",'FMI Template'!B209<>\"UA\"),'FMI Template'!B209,\"\")","v":""},{"$f":"IF(AND('FMI Template'!C209<>\"\",'FMI Template'!C209<>\"NA\",'FMI Template'!C209<>\"UA\"),'FMI Template'!C209,\"\")","v":""},{"$f":"IF(AND('FMI Template'!D209<>\"\",'FMI Template'!D209<>\"NA\",'FMI Template'!D209<>\"UA\"),'FMI Template'!D209,\"\")","v":""},{"$f":"IF(AND('FMI Template'!F209<>\"\",'FMI Template'!F209<>\"NA\",'FMI Template'!F209<>\"UA\"),'FMI Template'!F209,\"\")","v":""},{"$f":"IF(AND('FMI Template'!H209<>\"\", 'FMI Template'!H209<>\"UA\"),IF('FMI Template'!H209=\"CSD\",\"(I)CSD\",IF('FMI Template'!H209=\"CCP_Derivatives\",\"CCP-Derivatives\",IF('FMI Template'!H209=\"CCP_securities\",\"CCP-securities\",IF('FMI Template'!H209=\"PS_Retail\",\"PS\",IF('FMI Template'!H209=\"PS_LV\",\"PS\",'FMI Template'!H209))))),\"\")","v":""},{"$f":"IF(AND('FMI Template'!I209<>\"\", 'FMI Template'!I209<>\"UA\"),'FMI Template'!I209,\"\")","v":""},{"$f":"IF(AND('FMI Template'!J209<>\"\",'FMI Template'!J209<>\"UA\"),IF('FMI Template'!J209=\"CSD_SSS\",\"CSD-SSS\",IF('FMI Template'!J209=\"CCP_Derivatives\",\"CCP-Derivatives\",IF('FMI Template'!J209=\"CCP_securities\",\"CCP-securities\",IF('FMI Template'!J209=\"Trading_venue\",\"Trading-venue\",'FMI Template'!J209)))),\"\")","v":""},{"$f":"IF(AND('FMI Template'!K209<>\"\",'FMI Template'!K209<>\"UA\"),'FMI Template'!K209,\"\")","v":""},{"$f":"IF('FMI Template'!K209=\"direct\",\"NA\",IF(AND('FMI Template'!M209<>\"\",'FMI Template'!M209<>\"UA\"),'FMI Template'!M209,\"\"))","v":""},{"$f":"IF('FMI Template'!K209=\"direct\",\"NA\",IF(AND('FMI Template'!N209<>\"\",'FMI Template'!N209<>\"UA\"),'FMI Template'!N209,\"\"))","v":""},{"$f":"IF(OR('FMI Template'!H209=\"Other\",'FMI Template'!H209=\"NA\"),'FMI Template'!Q209,\"\")","v":""},{"$f":"IF(AND('FMI Template'!O209<>\"\",'FMI Template'!O209<>\"NA\",'FMI Template'!O209<>\"UA\"),'FMI Template'!O209,\"\")","v":""}]
[null,{"$f":"IF(AND('FMI Template'!B210<>\"\",'FMI Template'!B210<>\"NA\",'FMI Template'!B210<>\"UA\"),'FMI Template'!B210,\"\")","v":""},{"$f":"IF(AND('FMI Template'!C210<>\"\",'FMI Template'!C210<>\"NA\",'FMI Template'!C210<>\"UA\"),'FMI Template'!C210,\"\")","v":""},{"$f":"IF(AND('FMI Template'!D210<>\"\",'FMI Template'!D210<>\"NA\",'FMI Template'!D210<>\"UA\"),'FMI Template'!D210,\"\")","v":""},{"$f":"IF(AND('FMI Template'!F210<>\"\",'FMI Template'!F210<>\"NA\",'FMI Template'!F210<>\"UA\"),'FMI Template'!F210,\"\")","v":""},{"$f":"IF(AND('FMI Template'!H210<>\"\", 'FMI Template'!H210<>\"UA\"),IF('FMI Template'!H210=\"CSD\",\"(I)CSD\",IF('FMI Template'!H210=\"CCP_Derivatives\",\"CCP-Derivatives\",IF('FMI Template'!H210=\"CCP_securities\",\"CCP-securities\",IF('FMI Template'!H210=\"PS_Retail\",\"PS\",IF('FMI Template'!H210=\"PS_LV\",\"PS\",'FMI Template'!H210))))),\"\")","v":""},{"$f":"IF(AND('FMI Template'!I210<>\"\", 'FMI Template'!I210<>\"UA\"),'FMI Template'!I210,\"\")","v":""},{"$f":"IF(AND('FMI Template'!J210<>\"\",'FMI Template'!J210<>\"UA\"),IF('FMI Template'!J210=\"CSD_SSS\",\"CSD-SSS\",IF('FMI Template'!J210=\"CCP_Derivatives\",\"CCP-Derivatives\",IF('FMI Template'!J210=\"CCP_securities\",\"CCP-securities\",IF('FMI Template'!J210=\"Trading_venue\",\"Trading-venue\",'FMI Template'!J210)))),\"\")","v":""},{"$f":"IF(AND('FMI Template'!K210<>\"\",'FMI Template'!K210<>\"UA\"),'FMI Template'!K210,\"\")","v":""},{"$f":"IF('FMI Template'!K210=\"direct\",\"NA\",IF(AND('FMI Template'!M210<>\"\",'FMI Template'!M210<>\"UA\"),'FMI Template'!M210,\"\"))","v":""},{"$f":"IF('FMI Template'!K210=\"direct\",\"NA\",IF(AND('FMI Template'!N210<>\"\",'FMI Template'!N210<>\"UA\"),'FMI Template'!N210,\"\"))","v":""},{"$f":"IF(OR('FMI Template'!H210=\"Other\",'FMI Template'!H210=\"NA\"),'FMI Template'!Q210,\"\")","v":""},{"$f":"IF(AND('FMI Template'!O210<>\"\",'FMI Template'!O210<>\"NA\",'FMI Template'!O210<>\"UA\"),'FMI Template'!O210,\"\")","v":""}]
[null,{"$f":"IF(AND('FMI Template'!B211<>\"\",'FMI Template'!B211<>\"NA\",'FMI Template'!B211<>\"UA\"),'FMI Template'!B211,\"\")","v":""},{"$f":"IF(AND('FMI Template'!C211<>\"\",'FMI Template'!C211<>\"NA\",'FMI Template'!C211<>\"UA\"),'FMI Template'!C211,\"\")","v":""},{"$f":"IF(AND('FMI Template'!D211<>\"\",'FMI Template'!D211<>\"NA\",'FMI Template'!D211<>\"UA\"),'FMI Template'!D211,\"\")","v":""},{"$f":"IF(AND('FMI Template'!F211<>\"\",'FMI Template'!F211<>\"NA\",'FMI Template'!F211<>\"UA\"),'FMI Template'!F211,\"\")","v":""},{"$f":"IF(AND('FMI Template'!H211<>\"\", 'FMI Template'!H211<>\"UA\"),IF('FMI Template'!H211=\"CSD\",\"(I)CSD\",IF('FMI Template'!H211=\"CCP_Derivatives\",\"CCP-Derivatives\",IF('FMI Template'!H211=\"CCP_securities\",\"CCP-securities\",IF('FMI Template'!H211=\"PS_Retail\",\"PS\",IF('FMI Template'!H211=\"PS_LV\",\"PS\",'FMI Template'!H211))))),\"\")","v":""},{"$f":"IF(AND('FMI Template'!I211<>\"\", 'FMI Template'!I211<>\"UA\"),'FMI Template'!I211,\"\")","v":""},{"$f":"IF(AND('FMI Template'!J211<>\"\",'FMI Template'!J211<>\"UA\"),IF('FMI Template'!J211=\"CSD_SSS\",\"CSD-SSS\",IF('FMI Template'!J211=\"CCP_Derivatives\",\"CCP-Derivatives\",IF('FMI Template'!J211=\"CCP_securities\",\"CCP-securities\",IF('FMI Template'!J211=\"Trading_venue\",\"Trading-venue\",'FMI Template'!J211)))),\"\")","v":""},{"$f":"IF(AND('FMI Template'!K211<>\"\",'FMI Template'!K211<>\"UA\"),'FMI Template'!K211,\"\")","v":""},{"$f":"IF('FMI Template'!K211=\"direct\",\"NA\",IF(AND('FMI Template'!M211<>\"\",'FMI Template'!M211<>\"UA\"),'FMI Template'!M211,\"\"))","v":""},{"$f":"IF('FMI Template'!K211=\"direct\",\"NA\",IF(AND('FMI Template'!N211<>\"\",'FMI Template'!N211<>\"UA\"),'FMI Template'!N211,\"\"))","v":""},{"$f":"IF(OR('FMI Template'!H211=\"Other\",'FMI Template'!H211=\"NA\"),'FMI Template'!Q211,\"\")","v":""},{"$f":"IF(AND('FMI Template'!O211<>\"\",'FMI Template'!O211<>\"NA\",'FMI Template'!O211<>\"UA\"),'FMI Template'!O211,\"\")","v":""}]
[null,{"$f":"IF(AND('FMI Template'!B212<>\"\",'FMI Template'!B212<>\"NA\",'FMI Template'!B212<>\"UA\"),'FMI Template'!B212,\"\")","v":""},{"$f":"IF(AND('FMI Template'!C212<>\"\",'FMI Template'!C212<>\"NA\",'FMI Template'!C212<>\"UA\"),'FMI Template'!C212,\"\")","v":""},{"$f":"IF(AND('FMI Template'!D212<>\"\",'FMI Template'!D212<>\"NA\",'FMI Template'!D212<>\"UA\"),'FMI Template'!D212,\"\")","v":""},{"$f":"IF(AND('FMI Template'!F212<>\"\",'FMI Template'!F212<>\"NA\",'FMI Template'!F212<>\"UA\"),'FMI Template'!F212,\"\")","v":""},{"$f":"IF(AND('FMI Template'!H212<>\"\", 'FMI Template'!H212<>\"UA\"),IF('FMI Template'!H212=\"CSD\",\"(I)CSD\",IF('FMI Template'!H212=\"CCP_Derivatives\",\"CCP-Derivatives\",IF('FMI Template'!H212=\"CCP_securities\",\"CCP-securities\",IF('FMI Template'!H212=\"PS_Retail\",\"PS\",IF('FMI Template'!H212=\"PS_LV\",\"PS\",'FMI Template'!H212))))),\"\")","v":""},{"$f":"IF(AND('FMI Template'!I212<>\"\", 'FMI Template'!I212<>\"UA\"),'FMI Template'!I212,\"\")","v":""},{"$f":"IF(AND('FMI Template'!J212<>\"\",'FMI Template'!J212<>\"UA\"),IF('FMI Template'!J212=\"CSD_SSS\",\"CSD-SSS\",IF('FMI Template'!J212=\"CCP_Derivatives\",\"CCP-Derivatives\",IF('FMI Template'!J212=\"CCP_securities\",\"CCP-securities\",IF('FMI Template'!J212=\"Trading_venue\",\"Trading-venue\",'FMI Template'!J212)))),\"\")","v":""},{"$f":"IF(AND('FMI Template'!K212<>\"\",'FMI Template'!K212<>\"UA\"),'FMI Template'!K212,\"\")","v":""},{"$f":"IF('FMI Template'!K212=\"direct\",\"NA\",IF(AND('FMI Template'!M212<>\"\",'FMI Template'!M212<>\"UA\"),'FMI Template'!M212,\"\"))","v":""},{"$f":"IF('FMI Template'!K212=\"direct\",\"NA\",IF(AND('FMI Template'!N212<>\"\",'FMI Template'!N212<>\"UA\"),'FMI Template'!N212,\"\"))","v":""},{"$f":"IF(OR('FMI Template'!H212=\"Other\",'FMI Template'!H212=\"NA\"),'FMI Template'!Q212,\"\")","v":""},{"$f":"IF(AND('FMI Template'!O212<>\"\",'FMI Template'!O212<>\"NA\",'FMI Template'!O212<>\"UA\"),'FMI Template'!O212,\"\")","v":""}]
[null,{"$f":"IF(AND('FMI Template'!B213<>\"\",'FMI Template'!B213<>\"NA\",'FMI Template'!B213<>\"UA\"),'FMI Template'!B213,\"\")","v":""},{"$f":"IF(AND('FMI Template'!C213<>\"\",'FMI Template'!C213<>\"NA\",'FMI Template'!C213<>\"UA\"),'FMI Template'!C213,\"\")","v":""},{"$f":"IF(AND('FMI Template'!D213<>\"\",'FMI Template'!D213<>\"NA\",'FMI Template'!D213<>\"UA\"),'FMI Template'!D213,\"\")","v":""},{"$f":"IF(AND('FMI Template'!F213<>\"\",'FMI Template'!F213<>\"NA\",'FMI Template'!F213<>\"UA\"),'FMI Template'!F213,\"\")","v":""},{"$f":"IF(AND('FMI Template'!H213<>\"\", 'FMI Template'!H213<>\"UA\"),IF('FMI Template'!H213=\"CSD\",\"(I)CSD\",IF('FMI Template'!H213=\"CCP_Derivatives\",\"CCP-Derivatives\",IF('FMI Template'!H213=\"CCP_securities\",\"CCP-securities\",IF('FMI Template'!H213=\"PS_Retail\",\"PS\",IF('FMI Template'!H213=\"PS_LV\",\"PS\",'FMI Template'!H213))))),\"\")","v":""},{"$f":"IF(AND('FMI Template'!I213<>\"\", 'FMI Template'!I213<>\"UA\"),'FMI Template'!I213,\"\")","v":""},{"$f":"IF(AND('FMI Template'!J213<>\"\",'FMI Template'!J213<>\"UA\"),IF('FMI Template'!J213=\"CSD_SSS\",\"CSD-SSS\",IF('FMI Template'!J213=\"CCP_Derivatives\",\"CCP-Derivatives\",IF('FMI Template'!J213=\"CCP_securities\",\"CCP-securities\",IF('FMI Template'!J213=\"Trading_venue\",\"Trading-venue\",'FMI Template'!J213)))),\"\")","v":""},{"$f":"IF(AND('FMI Template'!K213<>\"\",'FMI Template'!K213<>\"UA\"),'FMI Template'!K213,\"\")","v":""},{"$f":"IF('FMI Template'!K213=\"direct\",\"NA\",IF(AND('FMI Template'!M213<>\"\",'FMI Template'!M213<>\"UA\"),'FMI Template'!M213,\"\"))","v":""},{"$f":"IF('FMI Template'!K213=\"direct\",\"NA\",IF(AND('FMI Template'!N213<>\"\",'FMI Template'!N213<>\"UA\"),'FMI Template'!N213,\"\"))","v":""},{"$f":"IF(OR('FMI Template'!H213=\"Other\",'FMI Template'!H213=\"NA\"),'FMI Template'!Q213,\"\")","v":""},{"$f":"IF(AND('FMI Template'!O213<>\"\",'FMI Template'!O213<>\"NA\",'FMI Template'!O213<>\"UA\"),'FMI Template'!O213,\"\")","v":""}]
[null,{"$f":"IF(AND('FMI Template'!B214<>\"\",'FMI Template'!B214<>\"NA\",'FMI Template'!B214<>\"UA\"),'FMI Template'!B214,\"\")","v":""},{"$f":"IF(AND('FMI Template'!C214<>\"\",'FMI Template'!C214<>\"NA\",'FMI Template'!C214<>\"UA\"),'FMI Template'!C214,\"\")","v":""},{"$f":"IF(AND('FMI Template'!D214<>\"\",'FMI Template'!D214<>\"NA\",'FMI Template'!D214<>\"UA\"),'FMI Template'!D214,\"\")","v":""},{"$f":"IF(AND('FMI Template'!F214<>\"\",'FMI Template'!F214<>\"NA\",'FMI Template'!F214<>\"UA\"),'FMI Template'!F214,\"\")","v":""},{"$f":"IF(AND('FMI Template'!H214<>\"\", 'FMI Template'!H214<>\"UA\"),IF('FMI Template'!H214=\"CSD\",\"(I)CSD\",IF('FMI Template'!H214=\"CCP_Derivatives\",\"CCP-Derivatives\",IF('FMI Template'!H214=\"CCP_securities\",\"CCP-securities\",IF('FMI Template'!H214=\"PS_Retail\",\"PS\",IF('FMI Template'!H214=\"PS_LV\",\"PS\",'FMI Template'!H214))))),\"\")","v":""},{"$f":"IF(AND('FMI Template'!I214<>\"\", 'FMI Template'!I214<>\"UA\"),'FMI Template'!I214,\"\")","v":""},{"$f":"IF(AND('FMI Template'!J214<>\"\",'FMI Template'!J214<>\"UA\"),IF('FMI Template'!J214=\"CSD_SSS\",\"CSD-SSS\",IF('FMI Template'!J214=\"CCP_Derivatives\",\"CCP-Derivatives\",IF('FMI Template'!J214=\"CCP_securities\",\"CCP-securities\",IF('FMI Template'!J214=\"Trading_venue\",\"Trading-venue\",'FMI Template'!J214)))),\"\")","v":""},{"$f":"IF(AND('FMI Template'!K214<>\"\",'FMI Template'!K214<>\"UA\"),'FMI Template'!K214,\"\")","v":""},{"$f":"IF('FMI Template'!K214=\"direct\",\"NA\",IF(AND('FMI Template'!M214<>\"\",'FMI Template'!M214<>\"UA\"),'FMI Template'!M214,\"\"))","v":""},{"$f":"IF('FMI Template'!K214=\"direct\",\"NA\",IF(AND('FMI Template'!N214<>\"\",'FMI Template'!N214<>\"UA\"),'FMI Template'!N214,\"\"))","v":""},{"$f":"IF(OR('FMI Template'!H214=\"Other\",'FMI Template'!H214=\"NA\"),'FMI Template'!Q214,\"\")","v":""},{"$f":"IF(AND('FMI Template'!O214<>\"\",'FMI Template'!O214<>\"NA\",'FMI Template'!O214<>\"UA\"),'FMI Template'!O214,\"\")","v":""}]
[null,{"$f":"IF(AND('FMI Template'!B215<>\"\",'FMI Template'!B215<>\"NA\",'FMI Template'!B215<>\"UA\"),'FMI Template'!B215,\"\")","v":""},{"$f":"IF(AND('FMI Template'!C215<>\"\",'FMI Template'!C215<>\"NA\",'FMI Template'!C215<>\"UA\"),'FMI Template'!C215,\"\")","v":""},{"$f":"IF(AND('FMI Template'!D215<>\"\",'FMI Template'!D215<>\"NA\",'FMI Template'!D215<>\"UA\"),'FMI Template'!D215,\"\")","v":""},{"$f":"IF(AND('FMI Template'!F215<>\"\",'FMI Template'!F215<>\"NA\",'FMI Template'!F215<>\"UA\"),'FMI Template'!F215,\"\")","v":""},{"$f":"IF(AND('FMI Template'!H215<>\"\", 'FMI Template'!H215<>\"UA\"),IF('FMI Template'!H215=\"CSD\",\"(I)CSD\",IF('FMI Template'!H215=\"CCP_Derivatives\",\"CCP-Derivatives\",IF('FMI Template'!H215=\"CCP_securities\",\"CCP-securities\",IF('FMI Template'!H215=\"PS_Retail\",\"PS\",IF('FMI Template'!H215=\"PS_LV\",\"PS\",'FMI Template'!H215))))),\"\")","v":""},{"$f":"IF(AND('FMI Template'!I215<>\"\", 'FMI Template'!I215<>\"UA\"),'FMI Template'!I215,\"\")","v":""},{"$f":"IF(AND('FMI Template'!J215<>\"\",'FMI Template'!J215<>\"UA\"),IF('FMI Template'!J215=\"CSD_SSS\",\"CSD-SSS\",IF('FMI Template'!J215=\"CCP_Derivatives\",\"CCP-Derivatives\",IF('FMI Template'!J215=\"CCP_securities\",\"CCP-securities\",IF('FMI Template'!J215=\"Trading_venue\",\"Trading-venue\",'FMI Template'!J215)))),\"\")","v":""},{"$f":"IF(AND('FMI Template'!K215<>\"\",'FMI Template'!K215<>\"UA\"),'FMI Template'!K215,\"\")","v":""},{"$f":"IF('FMI Template'!K215=\"direct\",\"NA\",IF(AND('FMI Template'!M215<>\"\",'FMI Template'!M215<>\"UA\"),'FMI Template'!M215,\"\"))","v":""},{"$f":"IF('FMI Template'!K215=\"direct\",\"NA\",IF(AND('FMI Template'!N215<>\"\",'FMI Template'!N215<>\"UA\"),'FMI Template'!N215,\"\"))","v":""},{"$f":"IF(OR('FMI Template'!H215=\"Other\",'FMI Template'!H215=\"NA\"),'FMI Template'!Q215,\"\")","v":""},{"$f":"IF(AND('FMI Template'!O215<>\"\",'FMI Template'!O215<>\"NA\",'FMI Template'!O215<>\"UA\"),'FMI Template'!O215,\"\")","v":""}]
[null,{"$f":"IF(AND('FMI Template'!B216<>\"\",'FMI Template'!B216<>\"NA\",'FMI Template'!B216<>\"UA\"),'FMI Template'!B216,\"\")","v":""},{"$f":"IF(AND('FMI Template'!C216<>\"\",'FMI Template'!C216<>\"NA\",'FMI Template'!C216<>\"UA\"),'FMI Template'!C216,\"\")","v":""},{"$f":"IF(AND('FMI Template'!D216<>\"\",'FMI Template'!D216<>\"NA\",'FMI Template'!D216<>\"UA\"),'FMI Template'!D216,\"\")","v":""},{"$f":"IF(AND('FMI Template'!F216<>\"\",'FMI Template'!F216<>\"NA\",'FMI Template'!F216<>\"UA\"),'FMI Template'!F216,\"\")","v":""},{"$f":"IF(AND('FMI Template'!H216<>\"\", 'FMI Template'!H216<>\"UA\"),IF('FMI Template'!H216=\"CSD\",\"(I)CSD\",IF('FMI Template'!H216=\"CCP_Derivatives\",\"CCP-Derivatives\",IF('FMI Template'!H216=\"CCP_securities\",\"CCP-securities\",IF('FMI Template'!H216=\"PS_Retail\",\"PS\",IF('FMI Template'!H216=\"PS_LV\",\"PS\",'FMI Template'!H216))))),\"\")","v":""},{"$f":"IF(AND('FMI Template'!I216<>\"\", 'FMI Template'!I216<>\"UA\"),'FMI Template'!I216,\"\")","v":""},{"$f":"IF(AND('FMI Template'!J216<>\"\",'FMI Template'!J216<>\"UA\"),IF('FMI Template'!J216=\"CSD_SSS\",\"CSD-SSS\",IF('FMI Template'!J216=\"CCP_Derivatives\",\"CCP-Derivatives\",IF('FMI Template'!J216=\"CCP_securities\",\"CCP-securities\",IF('FMI Template'!J216=\"Trading_venue\",\"Trading-venue\",'FMI Template'!J216)))),\"\")","v":""},{"$f":"IF(AND('FMI Template'!K216<>\"\",'FMI Template'!K216<>\"UA\"),'FMI Template'!K216,\"\")","v":""},{"$f":"IF('FMI Template'!K216=\"direct\",\"NA\",IF(AND('FMI Template'!M216<>\"\",'FMI Template'!M216<>\"UA\"),'FMI Template'!M216,\"\"))","v":""},{"$f":"IF('FMI Template'!K216=\"direct\",\"NA\",IF(AND('FMI Template'!N216<>\"\",'FMI Template'!N216<>\"UA\"),'FMI Template'!N216,\"\"))","v":""},{"$f":"IF(OR('FMI Template'!H216=\"Other\",'FMI Template'!H216=\"NA\"),'FMI Template'!Q216,\"\")","v":""},{"$f":"IF(AND('FMI Template'!O216<>\"\",'FMI Template'!O216<>\"NA\",'FMI Template'!O216<>\"UA\"),'FMI Template'!O216,\"\")","v":""}]
[null,{"$f":"IF(AND('FMI Template'!B217<>\"\",'FMI Template'!B217<>\"NA\",'FMI Template'!B217<>\"UA\"),'FMI Template'!B217,\"\")","v":""},{"$f":"IF(AND('FMI Template'!C217<>\"\",'FMI Template'!C217<>\"NA\",'FMI Template'!C217<>\"UA\"),'FMI Template'!C217,\"\")","v":""},{"$f":"IF(AND('FMI Template'!D217<>\"\",'FMI Template'!D217<>\"NA\",'FMI Template'!D217<>\"UA\"),'FMI Template'!D217,\"\")","v":""},{"$f":"IF(AND('FMI Template'!F217<>\"\",'FMI Template'!F217<>\"NA\",'FMI Template'!F217<>\"UA\"),'FMI Template'!F217,\"\")","v":""},{"$f":"IF(AND('FMI Template'!H217<>\"\", 'FMI Template'!H217<>\"UA\"),IF('FMI Template'!H217=\"CSD\",\"(I)CSD\",IF('FMI Template'!H217=\"CCP_Derivatives\",\"CCP-Derivatives\",IF('FMI Template'!H217=\"CCP_securities\",\"CCP-securities\",IF('FMI Template'!H217=\"PS_Retail\",\"PS\",IF('FMI Template'!H217=\"PS_LV\",\"PS\",'FMI Template'!H217))))),\"\")","v":""},{"$f":"IF(AND('FMI Template'!I217<>\"\", 'FMI Template'!I217<>\"UA\"),'FMI Template'!I217,\"\")","v":""},{"$f":"IF(AND('FMI Template'!J217<>\"\",'FMI Template'!J217<>\"UA\"),IF('FMI Template'!J217=\"CSD_SSS\",\"CSD-SSS\",IF('FMI Template'!J217=\"CCP_Derivatives\",\"CCP-Derivatives\",IF('FMI Template'!J217=\"CCP_securities\",\"CCP-securities\",IF('FMI Template'!J217=\"Trading_venue\",\"Trading-venue\",'FMI Template'!J217)))),\"\")","v":""},{"$f":"IF(AND('FMI Template'!K217<>\"\",'FMI Template'!K217<>\"UA\"),'FMI Template'!K217,\"\")","v":""},{"$f":"IF('FMI Template'!K217=\"direct\",\"NA\",IF(AND('FMI Template'!M217<>\"\",'FMI Template'!M217<>\"UA\"),'FMI Template'!M217,\"\"))","v":""},{"$f":"IF('FMI Template'!K217=\"direct\",\"NA\",IF(AND('FMI Template'!N217<>\"\",'FMI Template'!N217<>\"UA\"),'FMI Template'!N217,\"\"))","v":""},{"$f":"IF(OR('FMI Template'!H217=\"Other\",'FMI Template'!H217=\"NA\"),'FMI Template'!Q217,\"\")","v":""},{"$f":"IF(AND('FMI Template'!O217<>\"\",'FMI Template'!O217<>\"NA\",'FMI Template'!O217<>\"UA\"),'FMI Template'!O217,\"\")","v":""}]
[null,{"$f":"IF(AND('FMI Template'!B218<>\"\",'FMI Template'!B218<>\"NA\",'FMI Template'!B218<>\"UA\"),'FMI Template'!B218,\"\")","v":""},{"$f":"IF(AND('FMI Template'!C218<>\"\",'FMI Template'!C218<>\"NA\",'FMI Template'!C218<>\"UA\"),'FMI Template'!C218,\"\")","v":""},{"$f":"IF(AND('FMI Template'!D218<>\"\",'FMI Template'!D218<>\"NA\",'FMI Template'!D218<>\"UA\"),'FMI Template'!D218,\"\")","v":""},{"$f":"IF(AND('FMI Template'!F218<>\"\",'FMI Template'!F218<>\"NA\",'FMI Template'!F218<>\"UA\"),'FMI Template'!F218,\"\")","v":""},{"$f":"IF(AND('FMI Template'!H218<>\"\", 'FMI Template'!H218<>\"UA\"),IF('FMI Template'!H218=\"CSD\",\"(I)CSD\",IF('FMI Template'!H218=\"CCP_Derivatives\",\"CCP-Derivatives\",IF('FMI Template'!H218=\"CCP_securities\",\"CCP-securities\",IF('FMI Template'!H218=\"PS_Retail\",\"PS\",IF('FMI Template'!H218=\"PS_LV\",\"PS\",'FMI Template'!H218))))),\"\")","v":""},{"$f":"IF(AND('FMI Template'!I218<>\"\", 'FMI Template'!I218<>\"UA\"),'FMI Template'!I218,\"\")","v":""},{"$f":"IF(AND('FMI Template'!J218<>\"\",'FMI Template'!J218<>\"UA\"),IF('FMI Template'!J218=\"CSD_SSS\",\"CSD-SSS\",IF('FMI Template'!J218=\"CCP_Derivatives\",\"CCP-Derivatives\",IF('FMI Template'!J218=\"CCP_securities\",\"CCP-securities\",IF('FMI Template'!J218=\"Trading_venue\",\"Trading-venue\",'FMI Template'!J218)))),\"\")","v":""},{"$f":"IF(AND('FMI Template'!K218<>\"\",'FMI Template'!K218<>\"UA\"),'FMI Template'!K218,\"\")","v":""},{"$f":"IF('FMI Template'!K218=\"direct\",\"NA\",IF(AND('FMI Template'!M218<>\"\",'FMI Template'!M218<>\"UA\"),'FMI Template'!M218,\"\"))","v":""},{"$f":"IF('FMI Template'!K218=\"direct\",\"NA\",IF(AND('FMI Template'!N218<>\"\",'FMI Template'!N218<>\"UA\"),'FMI Template'!N218,\"\"))","v":""},{"$f":"IF(OR('FMI Template'!H218=\"Other\",'FMI Template'!H218=\"NA\"),'FMI Template'!Q218,\"\")","v":""},{"$f":"IF(AND('FMI Template'!O218<>\"\",'FMI Template'!O218<>\"NA\",'FMI Template'!O218<>\"UA\"),'FMI Template'!O218,\"\")","v":""}]
[null,{"$f":"IF(AND('FMI Template'!B219<>\"\",'FMI Template'!B219<>\"NA\",'FMI Template'!B219<>\"UA\"),'FMI Template'!B219,\"\")","v":""},{"$f":"IF(AND('FMI Template'!C219<>\"\",'FMI Template'!C219<>\"NA\",'FMI Template'!C219<>\"UA\"),'FMI Template'!C219,\"\")","v":""},{"$f":"IF(AND('FMI Template'!D219<>\"\",'FMI Template'!D219<>\"NA\",'FMI Template'!D219<>\"UA\"),'FMI Template'!D219,\"\")","v":""},{"$f":"IF(AND('FMI Template'!F219<>\"\",'FMI Template'!F219<>\"NA\",'FMI Template'!F219<>\"UA\"),'FMI Template'!F219,\"\")","v":""},{"$f":"IF(AND('FMI Template'!H219<>\"\", 'FMI Template'!H219<>\"UA\"),IF('FMI Template'!H219=\"CSD\",\"(I)CSD\",IF('FMI Template'!H219=\"CCP_Derivatives\",\"CCP-Derivatives\",IF('FMI Template'!H219=\"CCP_securities\",\"CCP-securities\",IF('FMI Template'!H219=\"PS_Retail\",\"PS\",IF('FMI Template'!H219=\"PS_LV\",\"PS\",'FMI Template'!H219))))),\"\")","v":""},{"$f":"IF(AND('FMI Template'!I219<>\"\", 'FMI Template'!I219<>\"UA\"),'FMI Template'!I219,\"\")","v":""},{"$f":"IF(AND('FMI Template'!J219<>\"\",'FMI Template'!J219<>\"UA\"),IF('FMI Template'!J219=\"CSD_SSS\",\"CSD-SSS\",IF('FMI Template'!J219=\"CCP_Derivatives\",\"CCP-Derivatives\",IF('FMI Template'!J219=\"CCP_securities\",\"CCP-securities\",IF('FMI Template'!J219=\"Trading_venue\",\"Trading-venue\",'FMI Template'!J219)))),\"\")","v":""},{"$f":"IF(AND('FMI Template'!K219<>\"\",'FMI Template'!K219<>\"UA\"),'FMI Template'!K219,\"\")","v":""},{"$f":"IF('FMI Template'!K219=\"direct\",\"NA\",IF(AND('FMI Template'!M219<>\"\",'FMI Template'!M219<>\"UA\"),'FMI Template'!M219,\"\"))","v":""},{"$f":"IF('FMI Template'!K219=\"direct\",\"NA\",IF(AND('FMI Template'!N219<>\"\",'FMI Template'!N219<>\"UA\"),'FMI Template'!N219,\"\"))","v":""},{"$f":"IF(OR('FMI Template'!H219=\"Other\",'FMI Template'!H219=\"NA\"),'FMI Template'!Q219,\"\")","v":""},{"$f":"IF(AND('FMI Template'!O219<>\"\",'FMI Template'!O219<>\"NA\",'FMI Template'!O219<>\"UA\"),'FMI Template'!O219,\"\")","v":""}]
[null,{"$f":"IF(AND('FMI Template'!B220<>\"\",'FMI Template'!B220<>\"NA\",'FMI Template'!B220<>\"UA\"),'FMI Template'!B220,\"\")","v":""},{"$f":"IF(AND('FMI Template'!C220<>\"\",'FMI Template'!C220<>\"NA\",'FMI Template'!C220<>\"UA\"),'FMI Template'!C220,\"\")","v":""},{"$f":"IF(AND('FMI Template'!D220<>\"\",'FMI Template'!D220<>\"NA\",'FMI Template'!D220<>\"UA\"),'FMI Template'!D220,\"\")","v":""},{"$f":"IF(AND('FMI Template'!F220<>\"\",'FMI Template'!F220<>\"NA\",'FMI Template'!F220<>\"UA\"),'FMI Template'!F220,\"\")","v":""},{"$f":"IF(AND('FMI Template'!H220<>\"\", 'FMI Template'!H220<>\"UA\"),IF('FMI Template'!H220=\"CSD\",\"(I)CSD\",IF('FMI Template'!H220=\"CCP_Derivatives\",\"CCP-Derivatives\",IF('FMI Template'!H220=\"CCP_securities\",\"CCP-securities\",IF('FMI Template'!H220=\"PS_Retail\",\"PS\",IF('FMI Template'!H220=\"PS_LV\",\"PS\",'FMI Template'!H220))))),\"\")","v":""},{"$f":"IF(AND('FMI Template'!I220<>\"\", 'FMI Template'!I220<>\"UA\"),'FMI Template'!I220,\"\")","v":""},{"$f":"IF(AND('FMI Template'!J220<>\"\",'FMI Template'!J220<>\"UA\"),IF('FMI Template'!J220=\"CSD_SSS\",\"CSD-SSS\",IF('FMI Template'!J220=\"CCP_Derivatives\",\"CCP-Derivatives\",IF('FMI Template'!J220=\"CCP_securities\",\"CCP-securities\",IF('FMI Template'!J220=\"Trading_venue\",\"Trading-venue\",'FMI Template'!J220)))),\"\")","v":""},{"$f":"IF(AND('FMI Template'!K220<>\"\",'FMI Template'!K220<>\"UA\"),'FMI Template'!K220,\"\")","v":""},{"$f":"IF('FMI Template'!K220=\"direct\",\"NA\",IF(AND('FMI Template'!M220<>\"\",'FMI Template'!M220<>\"UA\"),'FMI Template'!M220,\"\"))","v":""},{"$f":"IF('FMI Template'!K220=\"direct\",\"NA\",IF(AND('FMI Template'!N220<>\"\",'FMI Template'!N220<>\"UA\"),'FMI Template'!N220,\"\"))","v":""},{"$f":"IF(OR('FMI Template'!H220=\"Other\",'FMI Template'!H220=\"NA\"),'FMI Template'!Q220,\"\")","v":""},{"$f":"IF(AND('FMI Template'!O220<>\"\",'FMI Template'!O220<>\"NA\",'FMI Template'!O220<>\"UA\"),'FMI Template'!O220,\"\")","v":""}]
[null,{"$f":"IF(AND('FMI Template'!B221<>\"\",'FMI Template'!B221<>\"NA\",'FMI Template'!B221<>\"UA\"),'FMI Template'!B221,\"\")","v":""},{"$f":"IF(AND('FMI Template'!C221<>\"\",'FMI Template'!C221<>\"NA\",'FMI Template'!C221<>\"UA\"),'FMI Template'!C221,\"\")","v":""},{"$f":"IF(AND('FMI Template'!D221<>\"\",'FMI Template'!D221<>\"NA\",'FMI Template'!D221<>\"UA\"),'FMI Template'!D221,\"\")","v":""},{"$f":"IF(AND('FMI Template'!F221<>\"\",'FMI Template'!F221<>\"NA\",'FMI Template'!F221<>\"UA\"),'FMI Template'!F221,\"\")","v":""},{"$f":"IF(AND('FMI Template'!H221<>\"\", 'FMI Template'!H221<>\"UA\"),IF('FMI Template'!H221=\"CSD\",\"(I)CSD\",IF('FMI Template'!H221=\"CCP_Derivatives\",\"CCP-Derivatives\",IF('FMI Template'!H221=\"CCP_securities\",\"CCP-securities\",IF('FMI Template'!H221=\"PS_Retail\",\"PS\",IF('FMI Template'!H221=\"PS_LV\",\"PS\",'FMI Template'!H221))))),\"\")","v":""},{"$f":"IF(AND('FMI Template'!I221<>\"\", 'FMI Template'!I221<>\"UA\"),'FMI Template'!I221,\"\")","v":""},{"$f":"IF(AND('FMI Template'!J221<>\"\",'FMI Template'!J221<>\"UA\"),IF('FMI Template'!J221=\"CSD_SSS\",\"CSD-SSS\",IF('FMI Template'!J221=\"CCP_Derivatives\",\"CCP-Derivatives\",IF('FMI Template'!J221=\"CCP_securities\",\"CCP-securities\",IF('FMI Template'!J221=\"Trading_venue\",\"Trading-venue\",'FMI Template'!J221)))),\"\")","v":""},{"$f":"IF(AND('FMI Template'!K221<>\"\",'FMI Template'!K221<>\"UA\"),'FMI Template'!K221,\"\")","v":""},{"$f":"IF('FMI Template'!K221=\"direct\",\"NA\",IF(AND('FMI Template'!M221<>\"\",'FMI Template'!M221<>\"UA\"),'FMI Template'!M221,\"\"))","v":""},{"$f":"IF('FMI Template'!K221=\"direct\",\"NA\",IF(AND('FMI Template'!N221<>\"\",'FMI Template'!N221<>\"UA\"),'FMI Template'!N221,\"\"))","v":""},{"$f":"IF(OR('FMI Template'!H221=\"Other\",'FMI Template'!H221=\"NA\"),'FMI Template'!Q221,\"\")","v":""},{"$f":"IF(AND('FMI Template'!O221<>\"\",'FMI Template'!O221<>\"NA\",'FMI Template'!O221<>\"UA\"),'FMI Template'!O221,\"\")","v":""}]
[null,{"$f":"IF(AND('FMI Template'!B222<>\"\",'FMI Template'!B222<>\"NA\",'FMI Template'!B222<>\"UA\"),'FMI Template'!B222,\"\")","v":""},{"$f":"IF(AND('FMI Template'!C222<>\"\",'FMI Template'!C222<>\"NA\",'FMI Template'!C222<>\"UA\"),'FMI Template'!C222,\"\")","v":""},{"$f":"IF(AND('FMI Template'!D222<>\"\",'FMI Template'!D222<>\"NA\",'FMI Template'!D222<>\"UA\"),'FMI Template'!D222,\"\")","v":""},{"$f":"IF(AND('FMI Template'!F222<>\"\",'FMI Template'!F222<>\"NA\",'FMI Template'!F222<>\"UA\"),'FMI Template'!F222,\"\")","v":""},{"$f":"IF(AND('FMI Template'!H222<>\"\", 'FMI Template'!H222<>\"UA\"),IF('FMI Template'!H222=\"CSD\",\"(I)CSD\",IF('FMI Template'!H222=\"CCP_Derivatives\",\"CCP-Derivatives\",IF('FMI Template'!H222=\"CCP_securities\",\"CCP-securities\",IF('FMI Template'!H222=\"PS_Retail\",\"PS\",IF('FMI Template'!H222=\"PS_LV\",\"PS\",'FMI Template'!H222))))),\"\")","v":""},{"$f":"IF(AND('FMI Template'!I222<>\"\", 'FMI Template'!I222<>\"UA\"),'FMI Template'!I222,\"\")","v":""},{"$f":"IF(AND('FMI Template'!J222<>\"\",'FMI Template'!J222<>\"UA\"),IF('FMI Template'!J222=\"CSD_SSS\",\"CSD-SSS\",IF('FMI Template'!J222=\"CCP_Derivatives\",\"CCP-Derivatives\",IF('FMI Template'!J222=\"CCP_securities\",\"CCP-securities\",IF('FMI Template'!J222=\"Trading_venue\",\"Trading-venue\",'FMI Template'!J222)))),\"\")","v":""},{"$f":"IF(AND('FMI Template'!K222<>\"\",'FMI Template'!K222<>\"UA\"),'FMI Template'!K222,\"\")","v":""},{"$f":"IF('FMI Template'!K222=\"direct\",\"NA\",IF(AND('FMI Template'!M222<>\"\",'FMI Template'!M222<>\"UA\"),'FMI Template'!M222,\"\"))","v":""},{"$f":"IF('FMI Template'!K222=\"direct\",\"NA\",IF(AND('FMI Template'!N222<>\"\",'FMI Template'!N222<>\"UA\"),'FMI Template'!N222,\"\"))","v":""},{"$f":"IF(OR('FMI Template'!H222=\"Other\",'FMI Template'!H222=\"NA\"),'FMI Template'!Q222,\"\")","v":""},{"$f":"IF(AND('FMI Template'!O222<>\"\",'FMI Template'!O222<>\"NA\",'FMI Template'!O222<>\"UA\"),'FMI Template'!O222,\"\")","v":""}]
[null,{"$f":"IF(AND('FMI Template'!B223<>\"\",'FMI Template'!B223<>\"NA\",'FMI Template'!B223<>\"UA\"),'FMI Template'!B223,\"\")","v":""},{"$f":"IF(AND('FMI Template'!C223<>\"\",'FMI Template'!C223<>\"NA\",'FMI Template'!C223<>\"UA\"),'FMI Template'!C223,\"\")","v":""},{"$f":"IF(AND('FMI Template'!D223<>\"\",'FMI Template'!D223<>\"NA\",'FMI Template'!D223<>\"UA\"),'FMI Template'!D223,\"\")","v":""},{"$f":"IF(AND('FMI Template'!F223<>\"\",'FMI Template'!F223<>\"NA\",'FMI Template'!F223<>\"UA\"),'FMI Template'!F223,\"\")","v":""},{"$f":"IF(AND('FMI Template'!H223<>\"\", 'FMI Template'!H223<>\"UA\"),IF('FMI Template'!H223=\"CSD\",\"(I)CSD\",IF('FMI Template'!H223=\"CCP_Derivatives\",\"CCP-Derivatives\",IF('FMI Template'!H223=\"CCP_securities\",\"CCP-securities\",IF('FMI Template'!H223=\"PS_Retail\",\"PS\",IF('FMI Template'!H223=\"PS_LV\",\"PS\",'FMI Template'!H223))))),\"\")","v":""},{"$f":"IF(AND('FMI Template'!I223<>\"\", 'FMI Template'!I223<>\"UA\"),'FMI Template'!I223,\"\")","v":""},{"$f":"IF(AND('FMI Template'!J223<>\"\",'FMI Template'!J223<>\"UA\"),IF('FMI Template'!J223=\"CSD_SSS\",\"CSD-SSS\",IF('FMI Template'!J223=\"CCP_Derivatives\",\"CCP-Derivatives\",IF('FMI Template'!J223=\"CCP_securities\",\"CCP-securities\",IF('FMI Template'!J223=\"Trading_venue\",\"Trading-venue\",'FMI Template'!J223)))),\"\")","v":""},{"$f":"IF(AND('FMI Template'!K223<>\"\",'FMI Template'!K223<>\"UA\"),'FMI Template'!K223,\"\")","v":""},{"$f":"IF('FMI Template'!K223=\"direct\",\"NA\",IF(AND('FMI Template'!M223<>\"\",'FMI Template'!M223<>\"UA\"),'FMI Template'!M223,\"\"))","v":""},{"$f":"IF('FMI Template'!K223=\"direct\",\"NA\",IF(AND('FMI Template'!N223<>\"\",'FMI Template'!N223<>\"UA\"),'FMI Template'!N223,\"\"))","v":""},{"$f":"IF(OR('FMI Template'!H223=\"Other\",'FMI Template'!H223=\"NA\"),'FMI Template'!Q223,\"\")","v":""},{"$f":"IF(AND('FMI Template'!O223<>\"\",'FMI Template'!O223<>\"NA\",'FMI Template'!O223<>\"UA\"),'FMI Template'!O223,\"\")","v":""}]
[null,{"$f":"IF(AND('FMI Template'!B224<>\"\",'FMI Template'!B224<>\"NA\",'FMI Template'!B224<>\"UA\"),'FMI Template'!B224,\"\")","v":""},{"$f":"IF(AND('FMI Template'!C224<>\"\",'FMI Template'!C224<>\"NA\",'FMI Template'!C224<>\"UA\"),'FMI Template'!C224,\"\")","v":""},{"$f":"IF(AND('FMI Template'!D224<>\"\",'FMI Template'!D224<>\"NA\",'FMI Template'!D224<>\"UA\"),'FMI Template'!D224,\"\")","v":""},{"$f":"IF(AND('FMI Template'!F224<>\"\",'FMI Template'!F224<>\"NA\",'FMI Template'!F224<>\"UA\"),'FMI Template'!F224,\"\")","v":""},{"$f":"IF(AND('FMI Template'!H224<>\"\", 'FMI Template'!H224<>\"UA\"),IF('FMI Template'!H224=\"CSD\",\"(I)CSD\",IF('FMI Template'!H224=\"CCP_Derivatives\",\"CCP-Derivatives\",IF('FMI Template'!H224=\"CCP_securities\",\"CCP-securities\",IF('FMI Template'!H224=\"PS_Retail\",\"PS\",IF('FMI Template'!H224=\"PS_LV\",\"PS\",'FMI Template'!H224))))),\"\")","v":""},{"$f":"IF(AND('FMI Template'!I224<>\"\", 'FMI Template'!I224<>\"UA\"),'FMI Template'!I224,\"\")","v":""},{"$f":"IF(AND('FMI Template'!J224<>\"\",'FMI Template'!J224<>\"UA\"),IF('FMI Template'!J224=\"CSD_SSS\",\"CSD-SSS\",IF('FMI Template'!J224=\"CCP_Derivatives\",\"CCP-Derivatives\",IF('FMI Template'!J224=\"CCP_securities\",\"CCP-securities\",IF('FMI Template'!J224=\"Trading_venue\",\"Trading-venue\",'FMI Template'!J224)))),\"\")","v":""},{"$f":"IF(AND('FMI Template'!K224<>\"\",'FMI Template'!K224<>\"UA\"),'FMI Template'!K224,\"\")","v":""},{"$f":"IF('FMI Template'!K224=\"direct\",\"NA\",IF(AND('FMI Template'!M224<>\"\",'FMI Template'!M224<>\"UA\"),'FMI Template'!M224,\"\"))","v":""},{"$f":"IF('FMI Template'!K224=\"direct\",\"NA\",IF(AND('FMI Template'!N224<>\"\",'FMI Template'!N224<>\"UA\"),'FMI Template'!N224,\"\"))","v":""},{"$f":"IF(OR('FMI Template'!H224=\"Other\",'FMI Template'!H224=\"NA\"),'FMI Template'!Q224,\"\")","v":""},{"$f":"IF(AND('FMI Template'!O224<>\"\",'FMI Template'!O224<>\"NA\",'FMI Template'!O224<>\"UA\"),'FMI Template'!O224,\"\")","v":""}]
[null,{"$f":"IF(AND('FMI Template'!B225<>\"\",'FMI Template'!B225<>\"NA\",'FMI Template'!B225<>\"UA\"),'FMI Template'!B225,\"\")","v":""},{"$f":"IF(AND('FMI Template'!C225<>\"\",'FMI Template'!C225<>\"NA\",'FMI Template'!C225<>\"UA\"),'FMI Template'!C225,\"\")","v":""},{"$f":"IF(AND('FMI Template'!D225<>\"\",'FMI Template'!D225<>\"NA\",'FMI Template'!D225<>\"UA\"),'FMI Template'!D225,\"\")","v":""},{"$f":"IF(AND('FMI Template'!F225<>\"\",'FMI Template'!F225<>\"NA\",'FMI Template'!F225<>\"UA\"),'FMI Template'!F225,\"\")","v":""},{"$f":"IF(AND('FMI Template'!H225<>\"\", 'FMI Template'!H225<>\"UA\"),IF('FMI Template'!H225=\"CSD\",\"(I)CSD\",IF('FMI Template'!H225=\"CCP_Derivatives\",\"CCP-Derivatives\",IF('FMI Template'!H225=\"CCP_securities\",\"CCP-securities\",IF('FMI Template'!H225=\"PS_Retail\",\"PS\",IF('FMI Template'!H225=\"PS_LV\",\"PS\",'FMI Template'!H225))))),\"\")","v":""},{"$f":"IF(AND('FMI Template'!I225<>\"\", 'FMI Template'!I225<>\"UA\"),'FMI Template'!I225,\"\")","v":""},{"$f":"IF(AND('FMI Template'!J225<>\"\",'FMI Template'!J225<>\"UA\"),IF('FMI Template'!J225=\"CSD_SSS\",\"CSD-SSS\",IF('FMI Template'!J225=\"CCP_Derivatives\",\"CCP-Derivatives\",IF('FMI Template'!J225=\"CCP_securities\",\"CCP-securities\",IF('FMI Template'!J225=\"Trading_venue\",\"Trading-venue\",'FMI Template'!J225)))),\"\")","v":""},{"$f":"IF(AND('FMI Template'!K225<>\"\",'FMI Template'!K225<>\"UA\"),'FMI Template'!K225,\"\")","v":""},{"$f":"IF('FMI Template'!K225=\"direct\",\"NA\",IF(AND('FMI Template'!M225<>\"\",'FMI Template'!M225<>\"UA\"),'FMI Template'!M225,\"\"))","v":""},{"$f":"IF('FMI Template'!K225=\"direct\",\"NA\",IF(AND('FMI Template'!N225<>\"\",'FMI Template'!N225<>\"UA\"),'FMI Template'!N225,\"\"))","v":""},{"$f":"IF(OR('FMI Template'!H225=\"Other\",'FMI Template'!H225=\"NA\"),'FMI Template'!Q225,\"\")","v":""},{"$f":"IF(AND('FMI Template'!O225<>\"\",'FMI Template'!O225<>\"NA\",'FMI Template'!O225<>\"UA\"),'FMI Template'!O225,\"\")","v":""}]
[null,{"$f":"IF(AND('FMI Template'!B226<>\"\",'FMI Template'!B226<>\"NA\",'FMI Template'!B226<>\"UA\"),'FMI Template'!B226,\"\")","v":""},{"$f":"IF(AND('FMI Template'!C226<>\"\",'FMI Template'!C226<>\"NA\",'FMI Template'!C226<>\"UA\"),'FMI Template'!C226,\"\")","v":""},{"$f":"IF(AND('FMI Template'!D226<>\"\",'FMI Template'!D226<>\"NA\",'FMI Template'!D226<>\"UA\"),'FMI Template'!D226,\"\")","v":""},{"$f":"IF(AND('FMI Template'!F226<>\"\",'FMI Template'!F226<>\"NA\",'FMI Template'!F226<>\"UA\"),'FMI Template'!F226,\"\")","v":""},{"$f":"IF(AND('FMI Template'!H226<>\"\", 'FMI Template'!H226<>\"UA\"),IF('FMI Template'!H226=\"CSD\",\"(I)CSD\",IF('FMI Template'!H226=\"CCP_Derivatives\",\"CCP-Derivatives\",IF('FMI Template'!H226=\"CCP_securities\",\"CCP-securities\",IF('FMI Template'!H226=\"PS_Retail\",\"PS\",IF('FMI Template'!H226=\"PS_LV\",\"PS\",'FMI Template'!H226))))),\"\")","v":""},{"$f":"IF(AND('FMI Template'!I226<>\"\", 'FMI Template'!I226<>\"UA\"),'FMI Template'!I226,\"\")","v":""},{"$f":"IF(AND('FMI Template'!J226<>\"\",'FMI Template'!J226<>\"UA\"),IF('FMI Template'!J226=\"CSD_SSS\",\"CSD-SSS\",IF('FMI Template'!J226=\"CCP_Derivatives\",\"CCP-Derivatives\",IF('FMI Template'!J226=\"CCP_securities\",\"CCP-securities\",IF('FMI Template'!J226=\"Trading_venue\",\"Trading-venue\",'FMI Template'!J226)))),\"\")","v":""},{"$f":"IF(AND('FMI Template'!K226<>\"\",'FMI Template'!K226<>\"UA\"),'FMI Template'!K226,\"\")","v":""},{"$f":"IF('FMI Template'!K226=\"direct\",\"NA\",IF(AND('FMI Template'!M226<>\"\",'FMI Template'!M226<>\"UA\"),'FMI Template'!M226,\"\"))","v":""},{"$f":"IF('FMI Template'!K226=\"direct\",\"NA\",IF(AND('FMI Template'!N226<>\"\",'FMI Template'!N226<>\"UA\"),'FMI Template'!N226,\"\"))","v":""},{"$f":"IF(OR('FMI Template'!H226=\"Other\",'FMI Template'!H226=\"NA\"),'FMI Template'!Q226,\"\")","v":""},{"$f":"IF(AND('FMI Template'!O226<>\"\",'FMI Template'!O226<>\"NA\",'FMI Template'!O226<>\"UA\"),'FMI Template'!O226,\"\")","v":""}]
[null,{"$f":"IF(AND('FMI Template'!B227<>\"\",'FMI Template'!B227<>\"NA\",'FMI Template'!B227<>\"UA\"),'FMI Template'!B227,\"\")","v":""},{"$f":"IF(AND('FMI Template'!C227<>\"\",'FMI Template'!C227<>\"NA\",'FMI Template'!C227<>\"UA\"),'FMI Template'!C227,\"\")","v":""},{"$f":"IF(AND('FMI Template'!D227<>\"\",'FMI Template'!D227<>\"NA\",'FMI Template'!D227<>\"UA\"),'FMI Template'!D227,\"\")","v":""},{"$f":"IF(AND('FMI Template'!F227<>\"\",'FMI Template'!F227<>\"NA\",'FMI Template'!F227<>\"UA\"),'FMI Template'!F227,\"\")","v":""},{"$f":"IF(AND('FMI Template'!H227<>\"\", 'FMI Template'!H227<>\"UA\"),IF('FMI Template'!H227=\"CSD\",\"(I)CSD\",IF('FMI Template'!H227=\"CCP_Derivatives\",\"CCP-Derivatives\",IF('FMI Template'!H227=\"CCP_securities\",\"CCP-securities\",IF('FMI Template'!H227=\"PS_Retail\",\"PS\",IF('FMI Template'!H227=\"PS_LV\",\"PS\",'FMI Template'!H227))))),\"\")","v":""},{"$f":"IF(AND('FMI Template'!I227<>\"\", 'FMI Template'!I227<>\"UA\"),'FMI Template'!I227,\"\")","v":""},{"$f":"IF(AND('FMI Template'!J227<>\"\",'FMI Template'!J227<>\"UA\"),IF('FMI Template'!J227=\"CSD_SSS\",\"CSD-SSS\",IF('FMI Template'!J227=\"CCP_Derivatives\",\"CCP-Derivatives\",IF('FMI Template'!J227=\"CCP_securities\",\"CCP-securities\",IF('FMI Template'!J227=\"Trading_venue\",\"Trading-venue\",'FMI Template'!J227)))),\"\")","v":""},{"$f":"IF(AND('FMI Template'!K227<>\"\",'FMI Template'!K227<>\"UA\"),'FMI Template'!K227,\"\")","v":""},{"$f":"IF('FMI Template'!K227=\"direct\",\"NA\",IF(AND('FMI Template'!M227<>\"\",'FMI Template'!M227<>\"UA\"),'FMI Template'!M227,\"\"))","v":""},{"$f":"IF('FMI Template'!K227=\"direct\",\"NA\",IF(AND('FMI Template'!N227<>\"\",'FMI Template'!N227<>\"UA\"),'FMI Template'!N227,\"\"))","v":""},{"$f":"IF(OR('FMI Template'!H227=\"Other\",'FMI Template'!H227=\"NA\"),'FMI Template'!Q227,\"\")","v":""},{"$f":"IF(AND('FMI Template'!O227<>\"\",'FMI Template'!O227<>\"NA\",'FMI Template'!O227<>\"UA\"),'FMI Template'!O227,\"\")","v":""}]
[null,{"$f":"IF(AND('FMI Template'!B228<>\"\",'FMI Template'!B228<>\"NA\",'FMI Template'!B228<>\"UA\"),'FMI Template'!B228,\"\")","v":""},{"$f":"IF(AND('FMI Template'!C228<>\"\",'FMI Template'!C228<>\"NA\",'FMI Template'!C228<>\"UA\"),'FMI Template'!C228,\"\")","v":""},{"$f":"IF(AND('FMI Template'!D228<>\"\",'FMI Template'!D228<>\"NA\",'FMI Template'!D228<>\"UA\"),'FMI Template'!D228,\"\")","v":""},{"$f":"IF(AND('FMI Template'!F228<>\"\",'FMI Template'!F228<>\"NA\",'FMI Template'!F228<>\"UA\"),'FMI Template'!F228,\"\")","v":""},{"$f":"IF(AND('FMI Template'!H228<>\"\", 'FMI Template'!H228<>\"UA\"),IF('FMI Template'!H228=\"CSD\",\"(I)CSD\",IF('FMI Template'!H228=\"CCP_Derivatives\",\"CCP-Derivatives\",IF('FMI Template'!H228=\"CCP_securities\",\"CCP-securities\",IF('FMI Template'!H228=\"PS_Retail\",\"PS\",IF('FMI Template'!H228=\"PS_LV\",\"PS\",'FMI Template'!H228))))),\"\")","v":""},{"$f":"IF(AND('FMI Template'!I228<>\"\", 'FMI Template'!I228<>\"UA\"),'FMI Template'!I228,\"\")","v":""},{"$f":"IF(AND('FMI Template'!J228<>\"\",'FMI Template'!J228<>\"UA\"),IF('FMI Template'!J228=\"CSD_SSS\",\"CSD-SSS\",IF('FMI Template'!J228=\"CCP_Derivatives\",\"CCP-Derivatives\",IF('FMI Template'!J228=\"CCP_securities\",\"CCP-securities\",IF('FMI Template'!J228=\"Trading_venue\",\"Trading-venue\",'FMI Template'!J228)))),\"\")","v":""},{"$f":"IF(AND('FMI Template'!K228<>\"\",'FMI Template'!K228<>\"UA\"),'FMI Template'!K228,\"\")","v":""},{"$f":"IF('FMI Template'!K228=\"direct\",\"NA\",IF(AND('FMI Template'!M228<>\"\",'FMI Template'!M228<>\"UA\"),'FMI Template'!M228,\"\"))","v":""},{"$f":"IF('FMI Template'!K228=\"direct\",\"NA\",IF(AND('FMI Template'!N228<>\"\",'FMI Template'!N228<>\"UA\"),'FMI Template'!N228,\"\"))","v":""},{"$f":"IF(OR('FMI Template'!H228=\"Other\",'FMI Template'!H228=\"NA\"),'FMI Template'!Q228,\"\")","v":""},{"$f":"IF(AND('FMI Template'!O228<>\"\",'FMI Template'!O228<>\"NA\",'FMI Template'!O228<>\"UA\"),'FMI Template'!O228,\"\")","v":""}]
[null,{"$f":"IF(AND('FMI Template'!B229<>\"\",'FMI Template'!B229<>\"NA\",'FMI Template'!B229<>\"UA\"),'FMI Template'!B229,\"\")","v":""},{"$f":"IF(AND('FMI Template'!C229<>\"\",'FMI Template'!C229<>\"NA\",'FMI Template'!C229<>\"UA\"),'FMI Template'!C229,\"\")","v":""},{"$f":"IF(AND('FMI Template'!D229<>\"\",'FMI Template'!D229<>\"NA\",'FMI Template'!D229<>\"UA\"),'FMI Template'!D229,\"\")","v":""},{"$f":"IF(AND('FMI Template'!F229<>\"\",'FMI Template'!F229<>\"NA\",'FMI Template'!F229<>\"UA\"),'FMI Template'!F229,\"\")","v":""},{"$f":"IF(AND('FMI Template'!H229<>\"\", 'FMI Template'!H229<>\"UA\"),IF('FMI Template'!H229=\"CSD\",\"(I)CSD\",IF('FMI Template'!H229=\"CCP_Derivatives\",\"CCP-Derivatives\",IF('FMI Template'!H229=\"CCP_securities\",\"CCP-securities\",IF('FMI Template'!H229=\"PS_Retail\",\"PS\",IF('FMI Template'!H229=\"PS_LV\",\"PS\",'FMI Template'!H229))))),\"\")","v":""},{"$f":"IF(AND('FMI Template'!I229<>\"\", 'FMI Template'!I229<>\"UA\"),'FMI Template'!I229,\"\")","v":""},{"$f":"IF(AND('FMI Template'!J229<>\"\",'FMI Template'!J229<>\"UA\"),IF('FMI Template'!J229=\"CSD_SSS\",\"CSD-SSS\",IF('FMI Template'!J229=\"CCP_Derivatives\",\"CCP-Derivatives\",IF('FMI Template'!J229=\"CCP_securities\",\"CCP-securities\",IF('FMI Template'!J229=\"Trading_venue\",\"Trading-venue\",'FMI Template'!J229)))),\"\")","v":""},{"$f":"IF(AND('FMI Template'!K229<>\"\",'FMI Template'!K229<>\"UA\"),'FMI Template'!K229,\"\")","v":""},{"$f":"IF('FMI Template'!K229=\"direct\",\"NA\",IF(AND('FMI Template'!M229<>\"\",'FMI Template'!M229<>\"UA\"),'FMI Template'!M229,\"\"))","v":""},{"$f":"IF('FMI Template'!K229=\"direct\",\"NA\",IF(AND('FMI Template'!N229<>\"\",'FMI Template'!N229<>\"UA\"),'FMI Template'!N229,\"\"))","v":""},{"$f":"IF(OR('FMI Template'!H229=\"Other\",'FMI Template'!H229=\"NA\"),'FMI Template'!Q229,\"\")","v":""},{"$f":"IF(AND('FMI Template'!O229<>\"\",'FMI Template'!O229<>\"NA\",'FMI Template'!O229<>\"UA\"),'FMI Template'!O229,\"\")","v":""}]
[null,{"$f":"IF(AND('FMI Template'!B230<>\"\",'FMI Template'!B230<>\"NA\",'FMI Template'!B230<>\"UA\"),'FMI Template'!B230,\"\")","v":""},{"$f":"IF(AND('FMI Template'!C230<>\"\",'FMI Template'!C230<>\"NA\",'FMI Template'!C230<>\"UA\"),'FMI Template'!C230,\"\")","v":""},{"$f":"IF(AND('FMI Template'!D230<>\"\",'FMI Template'!D230<>\"NA\",'FMI Template'!D230<>\"UA\"),'FMI Template'!D230,\"\")","v":""},{"$f":"IF(AND('FMI Template'!F230<>\"\",'FMI Template'!F230<>\"NA\",'FMI Template'!F230<>\"UA\"),'FMI Template'!F230,\"\")","v":""},{"$f":"IF(AND('FMI Template'!H230<>\"\", 'FMI Template'!H230<>\"UA\"),IF('FMI Template'!H230=\"CSD\",\"(I)CSD\",IF('FMI Template'!H230=\"CCP_Derivatives\",\"CCP-Derivatives\",IF('FMI Template'!H230=\"CCP_securities\",\"CCP-securities\",IF('FMI Template'!H230=\"PS_Retail\",\"PS\",IF('FMI Template'!H230=\"PS_LV\",\"PS\",'FMI Template'!H230))))),\"\")","v":""},{"$f":"IF(AND('FMI Template'!I230<>\"\", 'FMI Template'!I230<>\"UA\"),'FMI Template'!I230,\"\")","v":""},{"$f":"IF(AND('FMI Template'!J230<>\"\",'FMI Template'!J230<>\"UA\"),IF('FMI Template'!J230=\"CSD_SSS\",\"CSD-SSS\",IF('FMI Template'!J230=\"CCP_Derivatives\",\"CCP-Derivatives\",IF('FMI Template'!J230=\"CCP_securities\",\"CCP-securities\",IF('FMI Template'!J230=\"Trading_venue\",\"Trading-venue\",'FMI Template'!J230)))),\"\")","v":""},{"$f":"IF(AND('FMI Template'!K230<>\"\",'FMI Template'!K230<>\"UA\"),'FMI Template'!K230,\"\")","v":""},{"$f":"IF('FMI Template'!K230=\"direct\",\"NA\",IF(AND('FMI Template'!M230<>\"\",'FMI Template'!M230<>\"UA\"),'FMI Template'!M230,\"\"))","v":""},{"$f":"IF('FMI Template'!K230=\"direct\",\"NA\",IF(AND('FMI Template'!N230<>\"\",'FMI Template'!N230<>\"UA\"),'FMI Template'!N230,\"\"))","v":""},{"$f":"IF(OR('FMI Template'!H230=\"Other\",'FMI Template'!H230=\"NA\"),'FMI Template'!Q230,\"\")","v":""},{"$f":"IF(AND('FMI Template'!O230<>\"\",'FMI Template'!O230<>\"NA\",'FMI Template'!O230<>\"UA\"),'FMI Template'!O230,\"\")","v":""}]
[null,{"$f":"IF(AND('FMI Template'!B231<>\"\",'FMI Template'!B231<>\"NA\",'FMI Template'!B231<>\"UA\"),'FMI Template'!B231,\"\")","v":""},{"$f":"IF(AND('FMI Template'!C231<>\"\",'FMI Template'!C231<>\"NA\",'FMI Template'!C231<>\"UA\"),'FMI Template'!C231,\"\")","v":""},{"$f":"IF(AND('FMI Template'!D231<>\"\",'FMI Template'!D231<>\"NA\",'FMI Template'!D231<>\"UA\"),'FMI Template'!D231,\"\")","v":""},{"$f":"IF(AND('FMI Template'!F231<>\"\",'FMI Template'!F231<>\"NA\",'FMI Template'!F231<>\"UA\"),'FMI Template'!F231,\"\")","v":""},{"$f":"IF(AND('FMI Template'!H231<>\"\", 'FMI Template'!H231<>\"UA\"),IF('FMI Template'!H231=\"CSD\",\"(I)CSD\",IF('FMI Template'!H231=\"CCP_Derivatives\",\"CCP-Derivatives\",IF('FMI Template'!H231=\"CCP_securities\",\"CCP-securities\",IF('FMI Template'!H231=\"PS_Retail\",\"PS\",IF('FMI Template'!H231=\"PS_LV\",\"PS\",'FMI Template'!H231))))),\"\")","v":""},{"$f":"IF(AND('FMI Template'!I231<>\"\", 'FMI Template'!I231<>\"UA\"),'FMI Template'!I231,\"\")","v":""},{"$f":"IF(AND('FMI Template'!J231<>\"\",'FMI Template'!J231<>\"UA\"),IF('FMI Template'!J231=\"CSD_SSS\",\"CSD-SSS\",IF('FMI Template'!J231=\"CCP_Derivatives\",\"CCP-Derivatives\",IF('FMI Template'!J231=\"CCP_securities\",\"CCP-securities\",IF('FMI Template'!J231=\"Trading_venue\",\"Trading-venue\",'FMI Template'!J231)))),\"\")","v":""},{"$f":"IF(AND('FMI Template'!K231<>\"\",'FMI Template'!K231<>\"UA\"),'FMI Template'!K231,\"\")","v":""},{"$f":"IF('FMI Template'!K231=\"direct\",\"NA\",IF(AND('FMI Template'!M231<>\"\",'FMI Template'!M231<>\"UA\"),'FMI Template'!M231,\"\"))","v":""},{"$f":"IF('FMI Template'!K231=\"direct\",\"NA\",IF(AND('FMI Template'!N231<>\"\",'FMI Template'!N231<>\"UA\"),'FMI Template'!N231,\"\"))","v":""},{"$f":"IF(OR('FMI Template'!H231=\"Other\",'FMI Template'!H231=\"NA\"),'FMI Template'!Q231,\"\")","v":""},{"$f":"IF(AND('FMI Template'!O231<>\"\",'FMI Template'!O231<>\"NA\",'FMI Template'!O231<>\"UA\"),'FMI Template'!O231,\"\")","v":""}]
[null,{"$f":"IF(AND('FMI Template'!B232<>\"\",'FMI Template'!B232<>\"NA\",'FMI Template'!B232<>\"UA\"),'FMI Template'!B232,\"\")","v":""},{"$f":"IF(AND('FMI Template'!C232<>\"\",'FMI Template'!C232<>\"NA\",'FMI Template'!C232<>\"UA\"),'FMI Template'!C232,\"\")","v":""},{"$f":"IF(AND('FMI Template'!D232<>\"\",'FMI Template'!D232<>\"NA\",'FMI Template'!D232<>\"UA\"),'FMI Template'!D232,\"\")","v":""},{"$f":"IF(AND('FMI Template'!F232<>\"\",'FMI Template'!F232<>\"NA\",'FMI Template'!F232<>\"UA\"),'FMI Template'!F232,\"\")","v":""},{"$f":"IF(AND('FMI Template'!H232<>\"\", 'FMI Template'!H232<>\"UA\"),IF('FMI Template'!H232=\"CSD\",\"(I)CSD\",IF('FMI Template'!H232=\"CCP_Derivatives\",\"CCP-Derivatives\",IF('FMI Template'!H232=\"CCP_securities\",\"CCP-securities\",IF('FMI Template'!H232=\"PS_Retail\",\"PS\",IF('FMI Template'!H232=\"PS_LV\",\"PS\",'FMI Template'!H232))))),\"\")","v":""},{"$f":"IF(AND('FMI Template'!I232<>\"\", 'FMI Template'!I232<>\"UA\"),'FMI Template'!I232,\"\")","v":""},{"$f":"IF(AND('FMI Template'!J232<>\"\",'FMI Template'!J232<>\"UA\"),IF('FMI Template'!J232=\"CSD_SSS\",\"CSD-SSS\",IF('FMI Template'!J232=\"CCP_Derivatives\",\"CCP-Derivatives\",IF('FMI Template'!J232=\"CCP_securities\",\"CCP-securities\",IF('FMI Template'!J232=\"Trading_venue\",\"Trading-venue\",'FMI Template'!J232)))),\"\")","v":""},{"$f":"IF(AND('FMI Template'!K232<>\"\",'FMI Template'!K232<>\"UA\"),'FMI Template'!K232,\"\")","v":""},{"$f":"IF('FMI Template'!K232=\"direct\",\"NA\",IF(AND('FMI Template'!M232<>\"\",'FMI Template'!M232<>\"UA\"),'FMI Template'!M232,\"\"))","v":""},{"$f":"IF('FMI Template'!K232=\"direct\",\"NA\",IF(AND('FMI Template'!N232<>\"\",'FMI Template'!N232<>\"UA\"),'FMI Template'!N232,\"\"))","v":""},{"$f":"IF(OR('FMI Template'!H232=\"Other\",'FMI Template'!H232=\"NA\"),'FMI Template'!Q232,\"\")","v":""},{"$f":"IF(AND('FMI Template'!O232<>\"\",'FMI Template'!O232<>\"NA\",'FMI Template'!O232<>\"UA\"),'FMI Template'!O232,\"\")","v":""}]
[null,{"$f":"IF(AND('FMI Template'!B233<>\"\",'FMI Template'!B233<>\"NA\",'FMI Template'!B233<>\"UA\"),'FMI Template'!B233,\"\")","v":""},{"$f":"IF(AND('FMI Template'!C233<>\"\",'FMI Template'!C233<>\"NA\",'FMI Template'!C233<>\"UA\"),'FMI Template'!C233,\"\")","v":""},{"$f":"IF(AND('FMI Template'!D233<>\"\",'FMI Template'!D233<>\"NA\",'FMI Template'!D233<>\"UA\"),'FMI Template'!D233,\"\")","v":""},{"$f":"IF(AND('FMI Template'!F233<>\"\",'FMI Template'!F233<>\"NA\",'FMI Template'!F233<>\"UA\"),'FMI Template'!F233,\"\")","v":""},{"$f":"IF(AND('FMI Template'!H233<>\"\", 'FMI Template'!H233<>\"UA\"),IF('FMI Template'!H233=\"CSD\",\"(I)CSD\",IF('FMI Template'!H233=\"CCP_Derivatives\",\"CCP-Derivatives\",IF('FMI Template'!H233=\"CCP_securities\",\"CCP-securities\",IF('FMI Template'!H233=\"PS_Retail\",\"PS\",IF('FMI Template'!H233=\"PS_LV\",\"PS\",'FMI Template'!H233))))),\"\")","v":""},{"$f":"IF(AND('FMI Template'!I233<>\"\", 'FMI Template'!I233<>\"UA\"),'FMI Template'!I233,\"\")","v":""},{"$f":"IF(AND('FMI Template'!J233<>\"\",'FMI Template'!J233<>\"UA\"),IF('FMI Template'!J233=\"CSD_SSS\",\"CSD-SSS\",IF('FMI Template'!J233=\"CCP_Derivatives\",\"CCP-Derivatives\",IF('FMI Template'!J233=\"CCP_securities\",\"CCP-securities\",IF('FMI Template'!J233=\"Trading_venue\",\"Trading-venue\",'FMI Template'!J233)))),\"\")","v":""},{"$f":"IF(AND('FMI Template'!K233<>\"\",'FMI Template'!K233<>\"UA\"),'FMI Template'!K233,\"\")","v":""},{"$f":"IF('FMI Template'!K233=\"direct\",\"NA\",IF(AND('FMI Template'!M233<>\"\",'FMI Template'!M233<>\"UA\"),'FMI Template'!M233,\"\"))","v":""},{"$f":"IF('FMI Template'!K233=\"direct\",\"NA\",IF(AND('FMI Template'!N233<>\"\",'FMI Template'!N233<>\"UA\"),'FMI Template'!N233,\"\"))","v":""},{"$f":"IF(OR('FMI Template'!H233=\"Other\",'FMI Template'!H233=\"NA\"),'FMI Template'!Q233,\"\")","v":""},{"$f":"IF(AND('FMI Template'!O233<>\"\",'FMI Template'!O233<>\"NA\",'FMI Template'!O233<>\"UA\"),'FMI Template'!O233,\"\")","v":""}]
[null,{"$f":"IF(AND('FMI Template'!B234<>\"\",'FMI Template'!B234<>\"NA\",'FMI Template'!B234<>\"UA\"),'FMI Template'!B234,\"\")","v":""},{"$f":"IF(AND('FMI Template'!C234<>\"\",'FMI Template'!C234<>\"NA\",'FMI Template'!C234<>\"UA\"),'FMI Template'!C234,\"\")","v":""},{"$f":"IF(AND('FMI Template'!D234<>\"\",'FMI Template'!D234<>\"NA\",'FMI Template'!D234<>\"UA\"),'FMI Template'!D234,\"\")","v":""},{"$f":"IF(AND('FMI Template'!F234<>\"\",'FMI Template'!F234<>\"NA\",'FMI Template'!F234<>\"UA\"),'FMI Template'!F234,\"\")","v":""},{"$f":"IF(AND('FMI Template'!H234<>\"\", 'FMI Template'!H234<>\"UA\"),IF('FMI Template'!H234=\"CSD\",\"(I)CSD\",IF('FMI Template'!H234=\"CCP_Derivatives\",\"CCP-Derivatives\",IF('FMI Template'!H234=\"CCP_securities\",\"CCP-securities\",IF('FMI Template'!H234=\"PS_Retail\",\"PS\",IF('FMI Template'!H234=\"PS_LV\",\"PS\",'FMI Template'!H234))))),\"\")","v":""},{"$f":"IF(AND('FMI Template'!I234<>\"\", 'FMI Template'!I234<>\"UA\"),'FMI Template'!I234,\"\")","v":""},{"$f":"IF(AND('FMI Template'!J234<>\"\",'FMI Template'!J234<>\"UA\"),IF('FMI Template'!J234=\"CSD_SSS\",\"CSD-SSS\",IF('FMI Template'!J234=\"CCP_Derivatives\",\"CCP-Derivatives\",IF('FMI Template'!J234=\"CCP_securities\",\"CCP-securities\",IF('FMI Template'!J234=\"Trading_venue\",\"Trading-venue\",'FMI Template'!J234)))),\"\")","v":""},{"$f":"IF(AND('FMI Template'!K234<>\"\",'FMI Template'!K234<>\"UA\"),'FMI Template'!K234,\"\")","v":""},{"$f":"IF('FMI Template'!K234=\"direct\",\"NA\",IF(AND('FMI Template'!M234<>\"\",'FMI Template'!M234<>\"UA\"),'FMI Template'!M234,\"\"))","v":""},{"$f":"IF('FMI Template'!K234=\"direct\",\"NA\",IF(AND('FMI Template'!N234<>\"\",'FMI Template'!N234<>\"UA\"),'FMI Template'!N234,\"\"))","v":""},{"$f":"IF(OR('FMI Template'!H234=\"Other\",'FMI Template'!H234=\"NA\"),'FMI Template'!Q234,\"\")","v":""},{"$f":"IF(AND('FMI Template'!O234<>\"\",'FMI Template'!O234<>\"NA\",'FMI Template'!O234<>\"UA\"),'FMI Template'!O234,\"\")","v":""}]
[null,{"$f":"IF(AND('FMI Template'!B235<>\"\",'FMI Template'!B235<>\"NA\",'FMI Template'!B235<>\"UA\"),'FMI Template'!B235,\"\")","v":""},{"$f":"IF(AND('FMI Template'!C235<>\"\",'FMI Template'!C235<>\"NA\",'FMI Template'!C235<>\"UA\"),'FMI Template'!C235,\"\")","v":""},{"$f":"IF(AND('FMI Template'!D235<>\"\",'FMI Template'!D235<>\"NA\",'FMI Template'!D235<>\"UA\"),'FMI Template'!D235,\"\")","v":""},{"$f":"IF(AND('FMI Template'!F235<>\"\",'FMI Template'!F235<>\"NA\",'FMI Template'!F235<>\"UA\"),'FMI Template'!F235,\"\")","v":""},{"$f":"IF(AND('FMI Template'!H235<>\"\", 'FMI Template'!H235<>\"UA\"),IF('FMI Template'!H235=\"CSD\",\"(I)CSD\",IF('FMI Template'!H235=\"CCP_Derivatives\",\"CCP-Derivatives\",IF('FMI Template'!H235=\"CCP_securities\",\"CCP-securities\",IF('FMI Template'!H235=\"PS_Retail\",\"PS\",IF('FMI Template'!H235=\"PS_LV\",\"PS\",'FMI Template'!H235))))),\"\")","v":""},{"$f":"IF(AND('FMI Template'!I235<>\"\", 'FMI Template'!I235<>\"UA\"),'FMI Template'!I235,\"\")","v":""},{"$f":"IF(AND('FMI Template'!J235<>\"\",'FMI Template'!J235<>\"UA\"),IF('FMI Template'!J235=\"CSD_SSS\",\"CSD-SSS\",IF('FMI Template'!J235=\"CCP_Derivatives\",\"CCP-Derivatives\",IF('FMI Template'!J235=\"CCP_securities\",\"CCP-securities\",IF('FMI Template'!J235=\"Trading_venue\",\"Trading-venue\",'FMI Template'!J235)))),\"\")","v":""},{"$f":"IF(AND('FMI Template'!K235<>\"\",'FMI Template'!K235<>\"UA\"),'FMI Template'!K235,\"\")","v":""},{"$f":"IF('FMI Template'!K235=\"direct\",\"NA\",IF(AND('FMI Template'!M235<>\"\",'FMI Template'!M235<>\"UA\"),'FMI Template'!M235,\"\"))","v":""},{"$f":"IF('FMI Template'!K235=\"direct\",\"NA\",IF(AND('FMI Template'!N235<>\"\",'FMI Template'!N235<>\"UA\"),'FMI Template'!N235,\"\"))","v":""},{"$f":"IF(OR('FMI Template'!H235=\"Other\",'FMI Template'!H235=\"NA\"),'FMI Template'!Q235,\"\")","v":""},{"$f":"IF(AND('FMI Template'!O235<>\"\",'FMI Template'!O235<>\"NA\",'FMI Template'!O235<>\"UA\"),'FMI Template'!O235,\"\")","v":""}]
[null,{"$f":"IF(AND('FMI Template'!B236<>\"\",'FMI Template'!B236<>\"NA\",'FMI Template'!B236<>\"UA\"),'FMI Template'!B236,\"\")","v":""},{"$f":"IF(AND('FMI Template'!C236<>\"\",'FMI Template'!C236<>\"NA\",'FMI Template'!C236<>\"UA\"),'FMI Template'!C236,\"\")","v":""},{"$f":"IF(AND('FMI Template'!D236<>\"\",'FMI Template'!D236<>\"NA\",'FMI Template'!D236<>\"UA\"),'FMI Template'!D236,\"\")","v":""},{"$f":"IF(AND('FMI Template'!F236<>\"\",'FMI Template'!F236<>\"NA\",'FMI Template'!F236<>\"UA\"),'FMI Template'!F236,\"\")","v":""},{"$f":"IF(AND('FMI Template'!H236<>\"\", 'FMI Template'!H236<>\"UA\"),IF('FMI Template'!H236=\"CSD\",\"(I)CSD\",IF('FMI Template'!H236=\"CCP_Derivatives\",\"CCP-Derivatives\",IF('FMI Template'!H236=\"CCP_securities\",\"CCP-securities\",IF('FMI Template'!H236=\"PS_Retail\",\"PS\",IF('FMI Template'!H236=\"PS_LV\",\"PS\",'FMI Template'!H236))))),\"\")","v":""},{"$f":"IF(AND('FMI Template'!I236<>\"\", 'FMI Template'!I236<>\"UA\"),'FMI Template'!I236,\"\")","v":""},{"$f":"IF(AND('FMI Template'!J236<>\"\",'FMI Template'!J236<>\"UA\"),IF('FMI Template'!J236=\"CSD_SSS\",\"CSD-SSS\",IF('FMI Template'!J236=\"CCP_Derivatives\",\"CCP-Derivatives\",IF('FMI Template'!J236=\"CCP_securities\",\"CCP-securities\",IF('FMI Template'!J236=\"Trading_venue\",\"Trading-venue\",'FMI Template'!J236)))),\"\")","v":""},{"$f":"IF(AND('FMI Template'!K236<>\"\",'FMI Template'!K236<>\"UA\"),'FMI Template'!K236,\"\")","v":""},{"$f":"IF('FMI Template'!K236=\"direct\",\"NA\",IF(AND('FMI Template'!M236<>\"\",'FMI Template'!M236<>\"UA\"),'FMI Template'!M236,\"\"))","v":""},{"$f":"IF('FMI Template'!K236=\"direct\",\"NA\",IF(AND('FMI Template'!N236<>\"\",'FMI Template'!N236<>\"UA\"),'FMI Template'!N236,\"\"))","v":""},{"$f":"IF(OR('FMI Template'!H236=\"Other\",'FMI Template'!H236=\"NA\"),'FMI Template'!Q236,\"\")","v":""},{"$f":"IF(AND('FMI Template'!O236<>\"\",'FMI Template'!O236<>\"NA\",'FMI Template'!O236<>\"UA\"),'FMI Template'!O236,\"\")","v":""}]
[null,{"$f":"IF(AND('FMI Template'!B237<>\"\",'FMI Template'!B237<>\"NA\",'FMI Template'!B237<>\"UA\"),'FMI Template'!B237,\"\")","v":""},{"$f":"IF(AND('FMI Template'!C237<>\"\",'FMI Template'!C237<>\"NA\",'FMI Template'!C237<>\"UA\"),'FMI Template'!C237,\"\")","v":""},{"$f":"IF(AND('FMI Template'!D237<>\"\",'FMI Template'!D237<>\"NA\",'FMI Template'!D237<>\"UA\"),'FMI Template'!D237,\"\")","v":""},{"$f":"IF(AND('FMI Template'!F237<>\"\",'FMI Template'!F237<>\"NA\",'FMI Template'!F237<>\"UA\"),'FMI Template'!F237,\"\")","v":""},{"$f":"IF(AND('FMI Template'!H237<>\"\", 'FMI Template'!H237<>\"UA\"),IF('FMI Template'!H237=\"CSD\",\"(I)CSD\",IF('FMI Template'!H237=\"CCP_Derivatives\",\"CCP-Derivatives\",IF('FMI Template'!H237=\"CCP_securities\",\"CCP-securities\",IF('FMI Template'!H237=\"PS_Retail\",\"PS\",IF('FMI Template'!H237=\"PS_LV\",\"PS\",'FMI Template'!H237))))),\"\")","v":""},{"$f":"IF(AND('FMI Template'!I237<>\"\", 'FMI Template'!I237<>\"UA\"),'FMI Template'!I237,\"\")","v":""},{"$f":"IF(AND('FMI Template'!J237<>\"\",'FMI Template'!J237<>\"UA\"),IF('FMI Template'!J237=\"CSD_SSS\",\"CSD-SSS\",IF('FMI Template'!J237=\"CCP_Derivatives\",\"CCP-Derivatives\",IF('FMI Template'!J237=\"CCP_securities\",\"CCP-securities\",IF('FMI Template'!J237=\"Trading_venue\",\"Trading-venue\",'FMI Template'!J237)))),\"\")","v":""},{"$f":"IF(AND('FMI Template'!K237<>\"\",'FMI Template'!K237<>\"UA\"),'FMI Template'!K237,\"\")","v":""},{"$f":"IF('FMI Template'!K237=\"direct\",\"NA\",IF(AND('FMI Template'!M237<>\"\",'FMI Template'!M237<>\"UA\"),'FMI Template'!M237,\"\"))","v":""},{"$f":"IF('FMI Template'!K237=\"direct\",\"NA\",IF(AND('FMI Template'!N237<>\"\",'FMI Template'!N237<>\"UA\"),'FMI Template'!N237,\"\"))","v":""},{"$f":"IF(OR('FMI Template'!H237=\"Other\",'FMI Template'!H237=\"NA\"),'FMI Template'!Q237,\"\")","v":""},{"$f":"IF(AND('FMI Template'!O237<>\"\",'FMI Template'!O237<>\"NA\",'FMI Template'!O237<>\"UA\"),'FMI Template'!O237,\"\")","v":""}]
[null,{"$f":"IF(AND('FMI Template'!B238<>\"\",'FMI Template'!B238<>\"NA\",'FMI Template'!B238<>\"UA\"),'FMI Template'!B238,\"\")","v":""},{"$f":"IF(AND('FMI Template'!C238<>\"\",'FMI Template'!C238<>\"NA\",'FMI Template'!C238<>\"UA\"),'FMI Template'!C238,\"\")","v":""},{"$f":"IF(AND('FMI Template'!D238<>\"\",'FMI Template'!D238<>\"NA\",'FMI Template'!D238<>\"UA\"),'FMI Template'!D238,\"\")","v":""},{"$f":"IF(AND('FMI Template'!F238<>\"\",'FMI Template'!F238<>\"NA\",'FMI Template'!F238<>\"UA\"),'FMI Template'!F238,\"\")","v":""},{"$f":"IF(AND('FMI Template'!H238<>\"\", 'FMI Template'!H238<>\"UA\"),IF('FMI Template'!H238=\"CSD\",\"(I)CSD\",IF('FMI Template'!H238=\"CCP_Derivatives\",\"CCP-Derivatives\",IF('FMI Template'!H238=\"CCP_securities\",\"CCP-securities\",IF('FMI Template'!H238=\"PS_Retail\",\"PS\",IF('FMI Template'!H238=\"PS_LV\",\"PS\",'FMI Template'!H238))))),\"\")","v":""},{"$f":"IF(AND('FMI Template'!I238<>\"\", 'FMI Template'!I238<>\"UA\"),'FMI Template'!I238,\"\")","v":""},{"$f":"IF(AND('FMI Template'!J238<>\"\",'FMI Template'!J238<>\"UA\"),IF('FMI Template'!J238=\"CSD_SSS\",\"CSD-SSS\",IF('FMI Template'!J238=\"CCP_Derivatives\",\"CCP-Derivatives\",IF('FMI Template'!J238=\"CCP_securities\",\"CCP-securities\",IF('FMI Template'!J238=\"Trading_venue\",\"Trading-venue\",'FMI Template'!J238)))),\"\")","v":""},{"$f":"IF(AND('FMI Template'!K238<>\"\",'FMI Template'!K238<>\"UA\"),'FMI Template'!K238,\"\")","v":""},{"$f":"IF('FMI Template'!K238=\"direct\",\"NA\",IF(AND('FMI Template'!M238<>\"\",'FMI Template'!M238<>\"UA\"),'FMI Template'!M238,\"\"))","v":""},{"$f":"IF('FMI Template'!K238=\"direct\",\"NA\",IF(AND('FMI Template'!N238<>\"\",'FMI Template'!N238<>\"UA\"),'FMI Template'!N238,\"\"))","v":""},{"$f":"IF(OR('FMI Template'!H238=\"Other\",'FMI Template'!H238=\"NA\"),'FMI Template'!Q238,\"\")","v":""},{"$f":"IF(AND('FMI Template'!O238<>\"\",'FMI Template'!O238<>\"NA\",'FMI Template'!O238<>\"UA\"),'FMI Template'!O238,\"\")","v":""}]
[null,{"$f":"IF(AND('FMI Template'!B239<>\"\",'FMI Template'!B239<>\"NA\",'FMI Template'!B239<>\"UA\"),'FMI Template'!B239,\"\")","v":""},{"$f":"IF(AND('FMI Template'!C239<>\"\",'FMI Template'!C239<>\"NA\",'FMI Template'!C239<>\"UA\"),'FMI Template'!C239,\"\")","v":""},{"$f":"IF(AND('FMI Template'!D239<>\"\",'FMI Template'!D239<>\"NA\",'FMI Template'!D239<>\"UA\"),'FMI Template'!D239,\"\")","v":""},{"$f":"IF(AND('FMI Template'!F239<>\"\",'FMI Template'!F239<>\"NA\",'FMI Template'!F239<>\"UA\"),'FMI Template'!F239,\"\")","v":""},{"$f":"IF(AND('FMI Template'!H239<>\"\", 'FMI Template'!H239<>\"UA\"),IF('FMI Template'!H239=\"CSD\",\"(I)CSD\",IF('FMI Template'!H239=\"CCP_Derivatives\",\"CCP-Derivatives\",IF('FMI Template'!H239=\"CCP_securities\",\"CCP-securities\",IF('FMI Template'!H239=\"PS_Retail\",\"PS\",IF('FMI Template'!H239=\"PS_LV\",\"PS\",'FMI Template'!H239))))),\"\")","v":""},{"$f":"IF(AND('FMI Template'!I239<>\"\", 'FMI Template'!I239<>\"UA\"),'FMI Template'!I239,\"\")","v":""},{"$f":"IF(AND('FMI Template'!J239<>\"\",'FMI Template'!J239<>\"UA\"),IF('FMI Template'!J239=\"CSD_SSS\",\"CSD-SSS\",IF('FMI Template'!J239=\"CCP_Derivatives\",\"CCP-Derivatives\",IF('FMI Template'!J239=\"CCP_securities\",\"CCP-securities\",IF('FMI Template'!J239=\"Trading_venue\",\"Trading-venue\",'FMI Template'!J239)))),\"\")","v":""},{"$f":"IF(AND('FMI Template'!K239<>\"\",'FMI Template'!K239<>\"UA\"),'FMI Template'!K239,\"\")","v":""},{"$f":"IF('FMI Template'!K239=\"direct\",\"NA\",IF(AND('FMI Template'!M239<>\"\",'FMI Template'!M239<>\"UA\"),'FMI Template'!M239,\"\"))","v":""},{"$f":"IF('FMI Template'!K239=\"direct\",\"NA\",IF(AND('FMI Template'!N239<>\"\",'FMI Template'!N239<>\"UA\"),'FMI Template'!N239,\"\"))","v":""},{"$f":"IF(OR('FMI Template'!H239=\"Other\",'FMI Template'!H239=\"NA\"),'FMI Template'!Q239,\"\")","v":""},{"$f":"IF(AND('FMI Template'!O239<>\"\",'FMI Template'!O239<>\"NA\",'FMI Template'!O239<>\"UA\"),'FMI Template'!O239,\"\")","v":""}]
[null,{"$f":"IF(AND('FMI Template'!B240<>\"\",'FMI Template'!B240<>\"NA\",'FMI Template'!B240<>\"UA\"),'FMI Template'!B240,\"\")","v":""},{"$f":"IF(AND('FMI Template'!C240<>\"\",'FMI Template'!C240<>\"NA\",'FMI Template'!C240<>\"UA\"),'FMI Template'!C240,\"\")","v":""},{"$f":"IF(AND('FMI Template'!D240<>\"\",'FMI Template'!D240<>\"NA\",'FMI Template'!D240<>\"UA\"),'FMI Template'!D240,\"\")","v":""},{"$f":"IF(AND('FMI Template'!F240<>\"\",'FMI Template'!F240<>\"NA\",'FMI Template'!F240<>\"UA\"),'FMI Template'!F240,\"\")","v":""},{"$f":"IF(AND('FMI Template'!H240<>\"\", 'FMI Template'!H240<>\"UA\"),IF('FMI Template'!H240=\"CSD\",\"(I)CSD\",IF('FMI Template'!H240=\"CCP_Derivatives\",\"CCP-Derivatives\",IF('FMI Template'!H240=\"CCP_securities\",\"CCP-securities\",IF('FMI Template'!H240=\"PS_Retail\",\"PS\",IF('FMI Template'!H240=\"PS_LV\",\"PS\",'FMI Template'!H240))))),\"\")","v":""},{"$f":"IF(AND('FMI Template'!I240<>\"\", 'FMI Template'!I240<>\"UA\"),'FMI Template'!I240,\"\")","v":""},{"$f":"IF(AND('FMI Template'!J240<>\"\",'FMI Template'!J240<>\"UA\"),IF('FMI Template'!J240=\"CSD_SSS\",\"CSD-SSS\",IF('FMI Template'!J240=\"CCP_Derivatives\",\"CCP-Derivatives\",IF('FMI Template'!J240=\"CCP_securities\",\"CCP-securities\",IF('FMI Template'!J240=\"Trading_venue\",\"Trading-venue\",'FMI Template'!J240)))),\"\")","v":""},{"$f":"IF(AND('FMI Template'!K240<>\"\",'FMI Template'!K240<>\"UA\"),'FMI Template'!K240,\"\")","v":""},{"$f":"IF('FMI Template'!K240=\"direct\",\"NA\",IF(AND('FMI Template'!M240<>\"\",'FMI Template'!M240<>\"UA\"),'FMI Template'!M240,\"\"))","v":""},{"$f":"IF('FMI Template'!K240=\"direct\",\"NA\",IF(AND('FMI Template'!N240<>\"\",'FMI Template'!N240<>\"UA\"),'FMI Template'!N240,\"\"))","v":""},{"$f":"IF(OR('FMI Template'!H240=\"Other\",'FMI Template'!H240=\"NA\"),'FMI Template'!Q240,\"\")","v":""},{"$f":"IF(AND('FMI Template'!O240<>\"\",'FMI Template'!O240<>\"NA\",'FMI Template'!O240<>\"UA\"),'FMI Template'!O240,\"\")","v":""}]
[null,{"$f":"IF(AND('FMI Template'!B241<>\"\",'FMI Template'!B241<>\"NA\",'FMI Template'!B241<>\"UA\"),'FMI Template'!B241,\"\")","v":""},{"$f":"IF(AND('FMI Template'!C241<>\"\",'FMI Template'!C241<>\"NA\",'FMI Template'!C241<>\"UA\"),'FMI Template'!C241,\"\")","v":""},{"$f":"IF(AND('FMI Template'!D241<>\"\",'FMI Template'!D241<>\"NA\",'FMI Template'!D241<>\"UA\"),'FMI Template'!D241,\"\")","v":""},{"$f":"IF(AND('FMI Template'!F241<>\"\",'FMI Template'!F241<>\"NA\",'FMI Template'!F241<>\"UA\"),'FMI Template'!F241,\"\")","v":""},{"$f":"IF(AND('FMI Template'!H241<>\"\", 'FMI Template'!H241<>\"UA\"),IF('FMI Template'!H241=\"CSD\",\"(I)CSD\",IF('FMI Template'!H241=\"CCP_Derivatives\",\"CCP-Derivatives\",IF('FMI Template'!H241=\"CCP_securities\",\"CCP-securities\",IF('FMI Template'!H241=\"PS_Retail\",\"PS\",IF('FMI Template'!H241=\"PS_LV\",\"PS\",'FMI Template'!H241))))),\"\")","v":""},{"$f":"IF(AND('FMI Template'!I241<>\"\", 'FMI Template'!I241<>\"UA\"),'FMI Template'!I241,\"\")","v":""},{"$f":"IF(AND('FMI Template'!J241<>\"\",'FMI Template'!J241<>\"UA\"),IF('FMI Template'!J241=\"CSD_SSS\",\"CSD-SSS\",IF('FMI Template'!J241=\"CCP_Derivatives\",\"CCP-Derivatives\",IF('FMI Template'!J241=\"CCP_securities\",\"CCP-securities\",IF('FMI Template'!J241=\"Trading_venue\",\"Trading-venue\",'FMI Template'!J241)))),\"\")","v":""},{"$f":"IF(AND('FMI Template'!K241<>\"\",'FMI Template'!K241<>\"UA\"),'FMI Template'!K241,\"\")","v":""},{"$f":"IF('FMI Template'!K241=\"direct\",\"NA\",IF(AND('FMI Template'!M241<>\"\",'FMI Template'!M241<>\"UA\"),'FMI Template'!M241,\"\"))","v":""},{"$f":"IF('FMI Template'!K241=\"direct\",\"NA\",IF(AND('FMI Template'!N241<>\"\",'FMI Template'!N241<>\"UA\"),'FMI Template'!N241,\"\"))","v":""},{"$f":"IF(OR('FMI Template'!H241=\"Other\",'FMI Template'!H241=\"NA\"),'FMI Template'!Q241,\"\")","v":""},{"$f":"IF(AND('FMI Template'!O241<>\"\",'FMI Template'!O241<>\"NA\",'FMI Template'!O241<>\"UA\"),'FMI Template'!O241,\"\")","v":""}]
[null,{"$f":"IF(AND('FMI Template'!B242<>\"\",'FMI Template'!B242<>\"NA\",'FMI Template'!B242<>\"UA\"),'FMI Template'!B242,\"\")","v":""},{"$f":"IF(AND('FMI Template'!C242<>\"\",'FMI Template'!C242<>\"NA\",'FMI Template'!C242<>\"UA\"),'FMI Template'!C242,\"\")","v":""},{"$f":"IF(AND('FMI Template'!D242<>\"\",'FMI Template'!D242<>\"NA\",'FMI Template'!D242<>\"UA\"),'FMI Template'!D242,\"\")","v":""},{"$f":"IF(AND('FMI Template'!F242<>\"\",'FMI Template'!F242<>\"NA\",'FMI Template'!F242<>\"UA\"),'FMI Template'!F242,\"\")","v":""},{"$f":"IF(AND('FMI Template'!H242<>\"\", 'FMI Template'!H242<>\"UA\"),IF('FMI Template'!H242=\"CSD\",\"(I)CSD\",IF('FMI Template'!H242=\"CCP_Derivatives\",\"CCP-Derivatives\",IF('FMI Template'!H242=\"CCP_securities\",\"CCP-securities\",IF('FMI Template'!H242=\"PS_Retail\",\"PS\",IF('FMI Template'!H242=\"PS_LV\",\"PS\",'FMI Template'!H242))))),\"\")","v":""},{"$f":"IF(AND('FMI Template'!I242<>\"\", 'FMI Template'!I242<>\"UA\"),'FMI Template'!I242,\"\")","v":""},{"$f":"IF(AND('FMI Template'!J242<>\"\",'FMI Template'!J242<>\"UA\"),IF('FMI Template'!J242=\"CSD_SSS\",\"CSD-SSS\",IF('FMI Template'!J242=\"CCP_Derivatives\",\"CCP-Derivatives\",IF('FMI Template'!J242=\"CCP_securities\",\"CCP-securities\",IF('FMI Template'!J242=\"Trading_venue\",\"Trading-venue\",'FMI Template'!J242)))),\"\")","v":""},{"$f":"IF(AND('FMI Template'!K242<>\"\",'FMI Template'!K242<>\"UA\"),'FMI Template'!K242,\"\")","v":""},{"$f":"IF('FMI Template'!K242=\"direct\",\"NA\",IF(AND('FMI Template'!M242<>\"\",'FMI Template'!M242<>\"UA\"),'FMI Template'!M242,\"\"))","v":""},{"$f":"IF('FMI Template'!K242=\"direct\",\"NA\",IF(AND('FMI Template'!N242<>\"\",'FMI Template'!N242<>\"UA\"),'FMI Template'!N242,\"\"))","v":""},{"$f":"IF(OR('FMI Template'!H242=\"Other\",'FMI Template'!H242=\"NA\"),'FMI Template'!Q242,\"\")","v":""},{"$f":"IF(AND('FMI Template'!O242<>\"\",'FMI Template'!O242<>\"NA\",'FMI Template'!O242<>\"UA\"),'FMI Template'!O242,\"\")","v":""}]
[null,{"$f":"IF(AND('FMI Template'!B243<>\"\",'FMI Template'!B243<>\"NA\",'FMI Template'!B243<>\"UA\"),'FMI Template'!B243,\"\")","v":""},{"$f":"IF(AND('FMI Template'!C243<>\"\",'FMI Template'!C243<>\"NA\",'FMI Template'!C243<>\"UA\"),'FMI Template'!C243,\"\")","v":""},{"$f":"IF(AND('FMI Template'!D243<>\"\",'FMI Template'!D243<>\"NA\",'FMI Template'!D243<>\"UA\"),'FMI Template'!D243,\"\")","v":""},{"$f":"IF(AND('FMI Template'!F243<>\"\",'FMI Template'!F243<>\"NA\",'FMI Template'!F243<>\"UA\"),'FMI Template'!F243,\"\")","v":""},{"$f":"IF(AND('FMI Template'!H243<>\"\", 'FMI Template'!H243<>\"UA\"),IF('FMI Template'!H243=\"CSD\",\"(I)CSD\",IF('FMI Template'!H243=\"CCP_Derivatives\",\"CCP-Derivatives\",IF('FMI Template'!H243=\"CCP_securities\",\"CCP-securities\",IF('FMI Template'!H243=\"PS_Retail\",\"PS\",IF('FMI Template'!H243=\"PS_LV\",\"PS\",'FMI Template'!H243))))),\"\")","v":""},{"$f":"IF(AND('FMI Template'!I243<>\"\", 'FMI Template'!I243<>\"UA\"),'FMI Template'!I243,\"\")","v":""},{"$f":"IF(AND('FMI Template'!J243<>\"\",'FMI Template'!J243<>\"UA\"),IF('FMI Template'!J243=\"CSD_SSS\",\"CSD-SSS\",IF('FMI Template'!J243=\"CCP_Derivatives\",\"CCP-Derivatives\",IF('FMI Template'!J243=\"CCP_securities\",\"CCP-securities\",IF('FMI Template'!J243=\"Trading_venue\",\"Trading-venue\",'FMI Template'!J243)))),\"\")","v":""},{"$f":"IF(AND('FMI Template'!K243<>\"\",'FMI Template'!K243<>\"UA\"),'FMI Template'!K243,\"\")","v":""},{"$f":"IF('FMI Template'!K243=\"direct\",\"NA\",IF(AND('FMI Template'!M243<>\"\",'FMI Template'!M243<>\"UA\"),'FMI Template'!M243,\"\"))","v":""},{"$f":"IF('FMI Template'!K243=\"direct\",\"NA\",IF(AND('FMI Template'!N243<>\"\",'FMI Template'!N243<>\"UA\"),'FMI Template'!N243,\"\"))","v":""},{"$f":"IF(OR('FMI Template'!H243=\"Other\",'FMI Template'!H243=\"NA\"),'FMI Template'!Q243,\"\")","v":""},{"$f":"IF(AND('FMI Template'!O243<>\"\",'FMI Template'!O243<>\"NA\",'FMI Template'!O243<>\"UA\"),'FMI Template'!O243,\"\")","v":""}]
[null,{"$f":"IF(AND('FMI Template'!B244<>\"\",'FMI Template'!B244<>\"NA\",'FMI Template'!B244<>\"UA\"),'FMI Template'!B244,\"\")","v":""},{"$f":"IF(AND('FMI Template'!C244<>\"\",'FMI Template'!C244<>\"NA\",'FMI Template'!C244<>\"UA\"),'FMI Template'!C244,\"\")","v":""},{"$f":"IF(AND('FMI Template'!D244<>\"\",'FMI Template'!D244<>\"NA\",'FMI Template'!D244<>\"UA\"),'FMI Template'!D244,\"\")","v":""},{"$f":"IF(AND('FMI Template'!F244<>\"\",'FMI Template'!F244<>\"NA\",'FMI Template'!F244<>\"UA\"),'FMI Template'!F244,\"\")","v":""},{"$f":"IF(AND('FMI Template'!H244<>\"\", 'FMI Template'!H244<>\"UA\"),IF('FMI Template'!H244=\"CSD\",\"(I)CSD\",IF('FMI Template'!H244=\"CCP_Derivatives\",\"CCP-Derivatives\",IF('FMI Template'!H244=\"CCP_securities\",\"CCP-securities\",IF('FMI Template'!H244=\"PS_Retail\",\"PS\",IF('FMI Template'!H244=\"PS_LV\",\"PS\",'FMI Template'!H244))))),\"\")","v":""},{"$f":"IF(AND('FMI Template'!I244<>\"\", 'FMI Template'!I244<>\"UA\"),'FMI Template'!I244,\"\")","v":""},{"$f":"IF(AND('FMI Template'!J244<>\"\",'FMI Template'!J244<>\"UA\"),IF('FMI Template'!J244=\"CSD_SSS\",\"CSD-SSS\",IF('FMI Template'!J244=\"CCP_Derivatives\",\"CCP-Derivatives\",IF('FMI Template'!J244=\"CCP_securities\",\"CCP-securities\",IF('FMI Template'!J244=\"Trading_venue\",\"Trading-venue\",'FMI Template'!J244)))),\"\")","v":""},{"$f":"IF(AND('FMI Template'!K244<>\"\",'FMI Template'!K244<>\"UA\"),'FMI Template'!K244,\"\")","v":""},{"$f":"IF('FMI Template'!K244=\"direct\",\"NA\",IF(AND('FMI Template'!M244<>\"\",'FMI Template'!M244<>\"UA\"),'FMI Template'!M244,\"\"))","v":""},{"$f":"IF('FMI Template'!K244=\"direct\",\"NA\",IF(AND('FMI Template'!N244<>\"\",'FMI Template'!N244<>\"UA\"),'FMI Template'!N244,\"\"))","v":""},{"$f":"IF(OR('FMI Template'!H244=\"Other\",'FMI Template'!H244=\"NA\"),'FMI Template'!Q244,\"\")","v":""},{"$f":"IF(AND('FMI Template'!O244<>\"\",'FMI Template'!O244<>\"NA\",'FMI Template'!O244<>\"UA\"),'FMI Template'!O244,\"\")","v":""}]
[null,{"$f":"IF(AND('FMI Template'!B245<>\"\",'FMI Template'!B245<>\"NA\",'FMI Template'!B245<>\"UA\"),'FMI Template'!B245,\"\")","v":""},{"$f":"IF(AND('FMI Template'!C245<>\"\",'FMI Template'!C245<>\"NA\",'FMI Template'!C245<>\"UA\"),'FMI Template'!C245,\"\")","v":""},{"$f":"IF(AND('FMI Template'!D245<>\"\",'FMI Template'!D245<>\"NA\",'FMI Template'!D245<>\"UA\"),'FMI Template'!D245,\"\")","v":""},{"$f":"IF(AND('FMI Template'!F245<>\"\",'FMI Template'!F245<>\"NA\",'FMI Template'!F245<>\"UA\"),'FMI Template'!F245,\"\")","v":""},{"$f":"IF(AND('FMI Template'!H245<>\"\", 'FMI Template'!H245<>\"UA\"),IF('FMI Template'!H245=\"CSD\",\"(I)CSD\",IF('FMI Template'!H245=\"CCP_Derivatives\",\"CCP-Derivatives\",IF('FMI Template'!H245=\"CCP_securities\",\"CCP-securities\",IF('FMI Template'!H245=\"PS_Retail\",\"PS\",IF('FMI Template'!H245=\"PS_LV\",\"PS\",'FMI Template'!H245))))),\"\")","v":""},{"$f":"IF(AND('FMI Template'!I245<>\"\", 'FMI Template'!I245<>\"UA\"),'FMI Template'!I245,\"\")","v":""},{"$f":"IF(AND('FMI Template'!J245<>\"\",'FMI Template'!J245<>\"UA\"),IF('FMI Template'!J245=\"CSD_SSS\",\"CSD-SSS\",IF('FMI Template'!J245=\"CCP_Derivatives\",\"CCP-Derivatives\",IF('FMI Template'!J245=\"CCP_securities\",\"CCP-securities\",IF('FMI Template'!J245=\"Trading_venue\",\"Trading-venue\",'FMI Template'!J245)))),\"\")","v":""},{"$f":"IF(AND('FMI Template'!K245<>\"\",'FMI Template'!K245<>\"UA\"),'FMI Template'!K245,\"\")","v":""},{"$f":"IF('FMI Template'!K245=\"direct\",\"NA\",IF(AND('FMI Template'!M245<>\"\",'FMI Template'!M245<>\"UA\"),'FMI Template'!M245,\"\"))","v":""},{"$f":"IF('FMI Template'!K245=\"direct\",\"NA\",IF(AND('FMI Template'!N245<>\"\",'FMI Template'!N245<>\"UA\"),'FMI Template'!N245,\"\"))","v":""},{"$f":"IF(OR('FMI Template'!H245=\"Other\",'FMI Template'!H245=\"NA\"),'FMI Template'!Q245,\"\")","v":""},{"$f":"IF(AND('FMI Template'!O245<>\"\",'FMI Template'!O245<>\"NA\",'FMI Template'!O245<>\"UA\"),'FMI Template'!O245,\"\")","v":""}]
[null,{"$f":"IF(AND('FMI Template'!B246<>\"\",'FMI Template'!B246<>\"NA\",'FMI Template'!B246<>\"UA\"),'FMI Template'!B246,\"\")","v":""},{"$f":"IF(AND('FMI Template'!C246<>\"\",'FMI Template'!C246<>\"NA\",'FMI Template'!C246<>\"UA\"),'FMI Template'!C246,\"\")","v":""},{"$f":"IF(AND('FMI Template'!D246<>\"\",'FMI Template'!D246<>\"NA\",'FMI Template'!D246<>\"UA\"),'FMI Template'!D246,\"\")","v":""},{"$f":"IF(AND('FMI Template'!F246<>\"\",'FMI Template'!F246<>\"NA\",'FMI Template'!F246<>\"UA\"),'FMI Template'!F246,\"\")","v":""},{"$f":"IF(AND('FMI Template'!H246<>\"\", 'FMI Template'!H246<>\"UA\"),IF('FMI Template'!H246=\"CSD\",\"(I)CSD\",IF('FMI Template'!H246=\"CCP_Derivatives\",\"CCP-Derivatives\",IF('FMI Template'!H246=\"CCP_securities\",\"CCP-securities\",IF('FMI Template'!H246=\"PS_Retail\",\"PS\",IF('FMI Template'!H246=\"PS_LV\",\"PS\",'FMI Template'!H246))))),\"\")","v":""},{"$f":"IF(AND('FMI Template'!I246<>\"\", 'FMI Template'!I246<>\"UA\"),'FMI Template'!I246,\"\")","v":""},{"$f":"IF(AND('FMI Template'!J246<>\"\",'FMI Template'!J246<>\"UA\"),IF('FMI Template'!J246=\"CSD_SSS\",\"CSD-SSS\",IF('FMI Template'!J246=\"CCP_Derivatives\",\"CCP-Derivatives\",IF('FMI Template'!J246=\"CCP_securities\",\"CCP-securities\",IF('FMI Template'!J246=\"Trading_venue\",\"Trading-venue\",'FMI Template'!J246)))),\"\")","v":""},{"$f":"IF(AND('FMI Template'!K246<>\"\",'FMI Template'!K246<>\"UA\"),'FMI Template'!K246,\"\")","v":""},{"$f":"IF('FMI Template'!K246=\"direct\",\"NA\",IF(AND('FMI Template'!M246<>\"\",'FMI Template'!M246<>\"UA\"),'FMI Template'!M246,\"\"))","v":""},{"$f":"IF('FMI Template'!K246=\"direct\",\"NA\",IF(AND('FMI Template'!N246<>\"\",'FMI Template'!N246<>\"UA\"),'FMI Template'!N246,\"\"))","v":""},{"$f":"IF(OR('FMI Template'!H246=\"Other\",'FMI Template'!H246=\"NA\"),'FMI Template'!Q246,\"\")","v":""},{"$f":"IF(AND('FMI Template'!O246<>\"\",'FMI Template'!O246<>\"NA\",'FMI Template'!O246<>\"UA\"),'FMI Template'!O246,\"\")","v":""}]
[null,{"$f":"IF(AND('FMI Template'!B247<>\"\",'FMI Template'!B247<>\"NA\",'FMI Template'!B247<>\"UA\"),'FMI Template'!B247,\"\")","v":""},{"$f":"IF(AND('FMI Template'!C247<>\"\",'FMI Template'!C247<>\"NA\",'FMI Template'!C247<>\"UA\"),'FMI Template'!C247,\"\")","v":""},{"$f":"IF(AND('FMI Template'!D247<>\"\",'FMI Template'!D247<>\"NA\",'FMI Template'!D247<>\"UA\"),'FMI Template'!D247,\"\")","v":""},{"$f":"IF(AND('FMI Template'!F247<>\"\",'FMI Template'!F247<>\"NA\",'FMI Template'!F247<>\"UA\"),'FMI Template'!F247,\"\")","v":""},{"$f":"IF(AND('FMI Template'!H247<>\"\", 'FMI Template'!H247<>\"UA\"),IF('FMI Template'!H247=\"CSD\",\"(I)CSD\",IF('FMI Template'!H247=\"CCP_Derivatives\",\"CCP-Derivatives\",IF('FMI Template'!H247=\"CCP_securities\",\"CCP-securities\",IF('FMI Template'!H247=\"PS_Retail\",\"PS\",IF('FMI Template'!H247=\"PS_LV\",\"PS\",'FMI Template'!H247))))),\"\")","v":""},{"$f":"IF(AND('FMI Template'!I247<>\"\", 'FMI Template'!I247<>\"UA\"),'FMI Template'!I247,\"\")","v":""},{"$f":"IF(AND('FMI Template'!J247<>\"\",'FMI Template'!J247<>\"UA\"),IF('FMI Template'!J247=\"CSD_SSS\",\"CSD-SSS\",IF('FMI Template'!J247=\"CCP_Derivatives\",\"CCP-Derivatives\",IF('FMI Template'!J247=\"CCP_securities\",\"CCP-securities\",IF('FMI Template'!J247=\"Trading_venue\",\"Trading-venue\",'FMI Template'!J247)))),\"\")","v":""},{"$f":"IF(AND('FMI Template'!K247<>\"\",'FMI Template'!K247<>\"UA\"),'FMI Template'!K247,\"\")","v":""},{"$f":"IF('FMI Template'!K247=\"direct\",\"NA\",IF(AND('FMI Template'!M247<>\"\",'FMI Template'!M247<>\"UA\"),'FMI Template'!M247,\"\"))","v":""},{"$f":"IF('FMI Template'!K247=\"direct\",\"NA\",IF(AND('FMI Template'!N247<>\"\",'FMI Template'!N247<>\"UA\"),'FMI Template'!N247,\"\"))","v":""},{"$f":"IF(OR('FMI Template'!H247=\"Other\",'FMI Template'!H247=\"NA\"),'FMI Template'!Q247,\"\")","v":""},{"$f":"IF(AND('FMI Template'!O247<>\"\",'FMI Template'!O247<>\"NA\",'FMI Template'!O247<>\"UA\"),'FMI Template'!O247,\"\")","v":""}]
[null,{"$f":"IF(AND('FMI Template'!B248<>\"\",'FMI Template'!B248<>\"NA\",'FMI Template'!B248<>\"UA\"),'FMI Template'!B248,\"\")","v":""},{"$f":"IF(AND('FMI Template'!C248<>\"\",'FMI Template'!C248<>\"NA\",'FMI Template'!C248<>\"UA\"),'FMI Template'!C248,\"\")","v":""},{"$f":"IF(AND('FMI Template'!D248<>\"\",'FMI Template'!D248<>\"NA\",'FMI Template'!D248<>\"UA\"),'FMI Template'!D248,\"\")","v":""},{"$f":"IF(AND('FMI Template'!F248<>\"\",'FMI Template'!F248<>\"NA\",'FMI Template'!F248<>\"UA\"),'FMI Template'!F248,\"\")","v":""},{"$f":"IF(AND('FMI Template'!H248<>\"\", 'FMI Template'!H248<>\"UA\"),IF('FMI Template'!H248=\"CSD\",\"(I)CSD\",IF('FMI Template'!H248=\"CCP_Derivatives\",\"CCP-Derivatives\",IF('FMI Template'!H248=\"CCP_securities\",\"CCP-securities\",IF('FMI Template'!H248=\"PS_Retail\",\"PS\",IF('FMI Template'!H248=\"PS_LV\",\"PS\",'FMI Template'!H248))))),\"\")","v":""},{"$f":"IF(AND('FMI Template'!I248<>\"\", 'FMI Template'!I248<>\"UA\"),'FMI Template'!I248,\"\")","v":""},{"$f":"IF(AND('FMI Template'!J248<>\"\",'FMI Template'!J248<>\"UA\"),IF('FMI Template'!J248=\"CSD_SSS\",\"CSD-SSS\",IF('FMI Template'!J248=\"CCP_Derivatives\",\"CCP-Derivatives\",IF('FMI Template'!J248=\"CCP_securities\",\"CCP-securities\",IF('FMI Template'!J248=\"Trading_venue\",\"Trading-venue\",'FMI Template'!J248)))),\"\")","v":""},{"$f":"IF(AND('FMI Template'!K248<>\"\",'FMI Template'!K248<>\"UA\"),'FMI Template'!K248,\"\")","v":""},{"$f":"IF('FMI Template'!K248=\"direct\",\"NA\",IF(AND('FMI Template'!M248<>\"\",'FMI Template'!M248<>\"UA\"),'FMI Template'!M248,\"\"))","v":""},{"$f":"IF('FMI Template'!K248=\"direct\",\"NA\",IF(AND('FMI Template'!N248<>\"\",'FMI Template'!N248<>\"UA\"),'FMI Template'!N248,\"\"))","v":""},{"$f":"IF(OR('FMI Template'!H248=\"Other\",'FMI Template'!H248=\"NA\"),'FMI Template'!Q248,\"\")","v":""},{"$f":"IF(AND('FMI Template'!O248<>\"\",'FMI Template'!O248<>\"NA\",'FMI Template'!O248<>\"UA\"),'FMI Template'!O248,\"\")","v":""}]
[null,{"$f":"IF(AND('FMI Template'!B249<>\"\",'FMI Template'!B249<>\"NA\",'FMI Template'!B249<>\"UA\"),'FMI Template'!B249,\"\")","v":""},{"$f":"IF(AND('FMI Template'!C249<>\"\",'FMI Template'!C249<>\"NA\",'FMI Template'!C249<>\"UA\"),'FMI Template'!C249,\"\")","v":""},{"$f":"IF(AND('FMI Template'!D249<>\"\",'FMI Template'!D249<>\"NA\",'FMI Template'!D249<>\"UA\"),'FMI Template'!D249,\"\")","v":""},{"$f":"IF(AND('FMI Template'!F249<>\"\",'FMI Template'!F249<>\"NA\",'FMI Template'!F249<>\"UA\"),'FMI Template'!F249,\"\")","v":""},{"$f":"IF(AND('FMI Template'!H249<>\"\", 'FMI Template'!H249<>\"UA\"),IF('FMI Template'!H249=\"CSD\",\"(I)CSD\",IF('FMI Template'!H249=\"CCP_Derivatives\",\"CCP-Derivatives\",IF('FMI Template'!H249=\"CCP_securities\",\"CCP-securities\",IF('FMI Template'!H249=\"PS_Retail\",\"PS\",IF('FMI Template'!H249=\"PS_LV\",\"PS\",'FMI Template'!H249))))),\"\")","v":""},{"$f":"IF(AND('FMI Template'!I249<>\"\", 'FMI Template'!I249<>\"UA\"),'FMI Template'!I249,\"\")","v":""},{"$f":"IF(AND('FMI Template'!J249<>\"\",'FMI Template'!J249<>\"UA\"),IF('FMI Template'!J249=\"CSD_SSS\",\"CSD-SSS\",IF('FMI Template'!J249=\"CCP_Derivatives\",\"CCP-Derivatives\",IF('FMI Template'!J249=\"CCP_securities\",\"CCP-securities\",IF('FMI Template'!J249=\"Trading_venue\",\"Trading-venue\",'FMI Template'!J249)))),\"\")","v":""},{"$f":"IF(AND('FMI Template'!K249<>\"\",'FMI Template'!K249<>\"UA\"),'FMI Template'!K249,\"\")","v":""},{"$f":"IF('FMI Template'!K249=\"direct\",\"NA\",IF(AND('FMI Template'!M249<>\"\",'FMI Template'!M249<>\"UA\"),'FMI Template'!M249,\"\"))","v":""},{"$f":"IF('FMI Template'!K249=\"direct\",\"NA\",IF(AND('FMI Template'!N249<>\"\",'FMI Template'!N249<>\"UA\"),'FMI Template'!N249,\"\"))","v":""},{"$f":"IF(OR('FMI Template'!H249=\"Other\",'FMI Template'!H249=\"NA\"),'FMI Template'!Q249,\"\")","v":""},{"$f":"IF(AND('FMI Template'!O249<>\"\",'FMI Template'!O249<>\"NA\",'FMI Template'!O249<>\"UA\"),'FMI Template'!O249,\"\")","v":""}]
[null,{"$f":"IF(AND('FMI Template'!B250<>\"\",'FMI Template'!B250<>\"NA\",'FMI Template'!B250<>\"UA\"),'FMI Template'!B250,\"\")","v":""},{"$f":"IF(AND('FMI Template'!C250<>\"\",'FMI Template'!C250<>\"NA\",'FMI Template'!C250<>\"UA\"),'FMI Template'!C250,\"\")","v":""},{"$f":"IF(AND('FMI Template'!D250<>\"\",'FMI Template'!D250<>\"NA\",'FMI Template'!D250<>\"UA\"),'FMI Template'!D250,\"\")","v":""},{"$f":"IF(AND('FMI Template'!F250<>\"\",'FMI Template'!F250<>\"NA\",'FMI Template'!F250<>\"UA\"),'FMI Template'!F250,\"\")","v":""},{"$f":"IF(AND('FMI Template'!H250<>\"\", 'FMI Template'!H250<>\"UA\"),IF('FMI Template'!H250=\"CSD\",\"(I)CSD\",IF('FMI Template'!H250=\"CCP_Derivatives\",\"CCP-Derivatives\",IF('FMI Template'!H250=\"CCP_securities\",\"CCP-securities\",IF('FMI Template'!H250=\"PS_Retail\",\"PS\",IF('FMI Template'!H250=\"PS_LV\",\"PS\",'FMI Template'!H250))))),\"\")","v":""},{"$f":"IF(AND('FMI Template'!I250<>\"\", 'FMI Template'!I250<>\"UA\"),'FMI Template'!I250,\"\")","v":""},{"$f":"IF(AND('FMI Template'!J250<>\"\",'FMI Template'!J250<>\"UA\"),IF('FMI Template'!J250=\"CSD_SSS\",\"CSD-SSS\",IF('FMI Template'!J250=\"CCP_Derivatives\",\"CCP-Derivatives\",IF('FMI Template'!J250=\"CCP_securities\",\"CCP-securities\",IF('FMI Template'!J250=\"Trading_venue\",\"Trading-venue\",'FMI Template'!J250)))),\"\")","v":""},{"$f":"IF(AND('FMI Template'!K250<>\"\",'FMI Template'!K250<>\"UA\"),'FMI Template'!K250,\"\")","v":""},{"$f":"IF('FMI Template'!K250=\"direct\",\"NA\",IF(AND('FMI Template'!M250<>\"\",'FMI Template'!M250<>\"UA\"),'FMI Template'!M250,\"\"))","v":""},{"$f":"IF('FMI Template'!K250=\"direct\",\"NA\",IF(AND('FMI Template'!N250<>\"\",'FMI Template'!N250<>\"UA\"),'FMI Template'!N250,\"\"))","v":""},{"$f":"IF(OR('FMI Template'!H250=\"Other\",'FMI Template'!H250=\"NA\"),'FMI Template'!Q250,\"\")","v":""},{"$f":"IF(AND('FMI Template'!O250<>\"\",'FMI Template'!O250<>\"NA\",'FMI Template'!O250<>\"UA\"),'FMI Template'!O250,\"\")","v":""}]
[null,{"$f":"IF(AND('FMI Template'!B251<>\"\",'FMI Template'!B251<>\"NA\",'FMI Template'!B251<>\"UA\"),'FMI Template'!B251,\"\")","v":""},{"$f":"IF(AND('FMI Template'!C251<>\"\",'FMI Template'!C251<>\"NA\",'FMI Template'!C251<>\"UA\"),'FMI Template'!C251,\"\")","v":""},{"$f":"IF(AND('FMI Template'!D251<>\"\",'FMI Template'!D251<>\"NA\",'FMI Template'!D251<>\"UA\"),'FMI Template'!D251,\"\")","v":""},{"$f":"IF(AND('FMI Template'!F251<>\"\",'FMI Template'!F251<>\"NA\",'FMI Template'!F251<>\"UA\"),'FMI Template'!F251,\"\")","v":""},{"$f":"IF(AND('FMI Template'!H251<>\"\", 'FMI Template'!H251<>\"UA\"),IF('FMI Template'!H251=\"CSD\",\"(I)CSD\",IF('FMI Template'!H251=\"CCP_Derivatives\",\"CCP-Derivatives\",IF('FMI Template'!H251=\"CCP_securities\",\"CCP-securities\",IF('FMI Template'!H251=\"PS_Retail\",\"PS\",IF('FMI Template'!H251=\"PS_LV\",\"PS\",'FMI Template'!H251))))),\"\")","v":""},{"$f":"IF(AND('FMI Template'!I251<>\"\", 'FMI Template'!I251<>\"UA\"),'FMI Template'!I251,\"\")","v":""},{"$f":"IF(AND('FMI Template'!J251<>\"\",'FMI Template'!J251<>\"UA\"),IF('FMI Template'!J251=\"CSD_SSS\",\"CSD-SSS\",IF('FMI Template'!J251=\"CCP_Derivatives\",\"CCP-Derivatives\",IF('FMI Template'!J251=\"CCP_securities\",\"CCP-securities\",IF('FMI Template'!J251=\"Trading_venue\",\"Trading-venue\",'FMI Template'!J251)))),\"\")","v":""},{"$f":"IF(AND('FMI Template'!K251<>\"\",'FMI Template'!K251<>\"UA\"),'FMI Template'!K251,\"\")","v":""},{"$f":"IF('FMI Template'!K251=\"direct\",\"NA\",IF(AND('FMI Template'!M251<>\"\",'FMI Template'!M251<>\"UA\"),'FMI Template'!M251,\"\"))","v":""},{"$f":"IF('FMI Template'!K251=\"direct\",\"NA\",IF(AND('FMI Template'!N251<>\"\",'FMI Template'!N251<>\"UA\"),'FMI Template'!N251,\"\"))","v":""},{"$f":"IF(OR('FMI Template'!H251=\"Other\",'FMI Template'!H251=\"NA\"),'FMI Template'!Q251,\"\")","v":""},{"$f":"IF(AND('FMI Template'!O251<>\"\",'FMI Template'!O251<>\"NA\",'FMI Template'!O251<>\"UA\"),'FMI Template'!O251,\"\")","v":""}]
[null,{"$f":"IF(AND('FMI Template'!B252<>\"\",'FMI Template'!B252<>\"NA\",'FMI Template'!B252<>\"UA\"),'FMI Template'!B252,\"\")","v":""},{"$f":"IF(AND('FMI Template'!C252<>\"\",'FMI Template'!C252<>\"NA\",'FMI Template'!C252<>\"UA\"),'FMI Template'!C252,\"\")","v":""},{"$f":"IF(AND('FMI Template'!D252<>\"\",'FMI Template'!D252<>\"NA\",'FMI Template'!D252<>\"UA\"),'FMI Template'!D252,\"\")","v":""},{"$f":"IF(AND('FMI Template'!F252<>\"\",'FMI Template'!F252<>\"NA\",'FMI Template'!F252<>\"UA\"),'FMI Template'!F252,\"\")","v":""},{"$f":"IF(AND('FMI Template'!H252<>\"\", 'FMI Template'!H252<>\"UA\"),IF('FMI Template'!H252=\"CSD\",\"(I)CSD\",IF('FMI Template'!H252=\"CCP_Derivatives\",\"CCP-Derivatives\",IF('FMI Template'!H252=\"CCP_securities\",\"CCP-securities\",IF('FMI Template'!H252=\"PS_Retail\",\"PS\",IF('FMI Template'!H252=\"PS_LV\",\"PS\",'FMI Template'!H252))))),\"\")","v":""},{"$f":"IF(AND('FMI Template'!I252<>\"\", 'FMI Template'!I252<>\"UA\"),'FMI Template'!I252,\"\")","v":""},{"$f":"IF(AND('FMI Template'!J252<>\"\",'FMI Template'!J252<>\"UA\"),IF('FMI Template'!J252=\"CSD_SSS\",\"CSD-SSS\",IF('FMI Template'!J252=\"CCP_Derivatives\",\"CCP-Derivatives\",IF('FMI Template'!J252=\"CCP_securities\",\"CCP-securities\",IF('FMI Template'!J252=\"Trading_venue\",\"Trading-venue\",'FMI Template'!J252)))),\"\")","v":""},{"$f":"IF(AND('FMI Template'!K252<>\"\",'FMI Template'!K252<>\"UA\"),'FMI Template'!K252,\"\")","v":""},{"$f":"IF('FMI Template'!K252=\"direct\",\"NA\",IF(AND('FMI Template'!M252<>\"\",'FMI Template'!M252<>\"UA\"),'FMI Template'!M252,\"\"))","v":""},{"$f":"IF('FMI Template'!K252=\"direct\",\"NA\",IF(AND('FMI Template'!N252<>\"\",'FMI Template'!N252<>\"UA\"),'FMI Template'!N252,\"\"))","v":""},{"$f":"IF(OR('FMI Template'!H252=\"Other\",'FMI Template'!H252=\"NA\"),'FMI Template'!Q252,\"\")","v":""},{"$f":"IF(AND('FMI Template'!O252<>\"\",'FMI Template'!O252<>\"NA\",'FMI Template'!O252<>\"UA\"),'FMI Template'!O252,\"\")","v":""}]
[null,{"$f":"IF(AND('FMI Template'!B253<>\"\",'FMI Template'!B253<>\"NA\",'FMI Template'!B253<>\"UA\"),'FMI Template'!B253,\"\")","v":""},{"$f":"IF(AND('FMI Template'!C253<>\"\",'FMI Template'!C253<>\"NA\",'FMI Template'!C253<>\"UA\"),'FMI Template'!C253,\"\")","v":""},{"$f":"IF(AND('FMI Template'!D253<>\"\",'FMI Template'!D253<>\"NA\",'FMI Template'!D253<>\"UA\"),'FMI Template'!D253,\"\")","v":""},{"$f":"IF(AND('FMI Template'!F253<>\"\",'FMI Template'!F253<>\"NA\",'FMI Template'!F253<>\"UA\"),'FMI Template'!F253,\"\")","v":""},{"$f":"IF(AND('FMI Template'!H253<>\"\", 'FMI Template'!H253<>\"UA\"),IF('FMI Template'!H253=\"CSD\",\"(I)CSD\",IF('FMI Template'!H253=\"CCP_Derivatives\",\"CCP-Derivatives\",IF('FMI Template'!H253=\"CCP_securities\",\"CCP-securities\",IF('FMI Template'!H253=\"PS_Retail\",\"PS\",IF('FMI Template'!H253=\"PS_LV\",\"PS\",'FMI Template'!H253))))),\"\")","v":""},{"$f":"IF(AND('FMI Template'!I253<>\"\", 'FMI Template'!I253<>\"UA\"),'FMI Template'!I253,\"\")","v":""},{"$f":"IF(AND('FMI Template'!J253<>\"\",'FMI Template'!J253<>\"UA\"),IF('FMI Template'!J253=\"CSD_SSS\",\"CSD-SSS\",IF('FMI Template'!J253=\"CCP_Derivatives\",\"CCP-Derivatives\",IF('FMI Template'!J253=\"CCP_securities\",\"CCP-securities\",IF('FMI Template'!J253=\"Trading_venue\",\"Trading-venue\",'FMI Template'!J253)))),\"\")","v":""},{"$f":"IF(AND('FMI Template'!K253<>\"\",'FMI Template'!K253<>\"UA\"),'FMI Template'!K253,\"\")","v":""},{"$f":"IF('FMI Template'!K253=\"direct\",\"NA\",IF(AND('FMI Template'!M253<>\"\",'FMI Template'!M253<>\"UA\"),'FMI Template'!M253,\"\"))","v":""},{"$f":"IF('FMI Template'!K253=\"direct\",\"NA\",IF(AND('FMI Template'!N253<>\"\",'FMI Template'!N253<>\"UA\"),'FMI Template'!N253,\"\"))","v":""},{"$f":"IF(OR('FMI Template'!H253=\"Other\",'FMI Template'!H253=\"NA\"),'FMI Template'!Q253,\"\")","v":""},{"$f":"IF(AND('FMI Template'!O253<>\"\",'FMI Template'!O253<>\"NA\",'FMI Template'!O253<>\"UA\"),'FMI Template'!O253,\"\")","v":""}]
[null,{"$f":"IF(AND('FMI Template'!B254<>\"\",'FMI Template'!B254<>\"NA\",'FMI Template'!B254<>\"UA\"),'FMI Template'!B254,\"\")","v":""},{"$f":"IF(AND('FMI Template'!C254<>\"\",'FMI Template'!C254<>\"NA\",'FMI Template'!C254<>\"UA\"),'FMI Template'!C254,\"\")","v":""},{"$f":"IF(AND('FMI Template'!D254<>\"\",'FMI Template'!D254<>\"NA\",'FMI Template'!D254<>\"UA\"),'FMI Template'!D254,\"\")","v":""},{"$f":"IF(AND('FMI Template'!F254<>\"\",'FMI Template'!F254<>\"NA\",'FMI Template'!F254<>\"UA\"),'FMI Template'!F254,\"\")","v":""},{"$f":"IF(AND('FMI Template'!H254<>\"\", 'FMI Template'!H254<>\"UA\"),IF('FMI Template'!H254=\"CSD\",\"(I)CSD\",IF('FMI Template'!H254=\"CCP_Derivatives\",\"CCP-Derivatives\",IF('FMI Template'!H254=\"CCP_securities\",\"CCP-securities\",IF('FMI Template'!H254=\"PS_Retail\",\"PS\",IF('FMI Template'!H254=\"PS_LV\",\"PS\",'FMI Template'!H254))))),\"\")","v":""},{"$f":"IF(AND('FMI Template'!I254<>\"\", 'FMI Template'!I254<>\"UA\"),'FMI Template'!I254,\"\")","v":""},{"$f":"IF(AND('FMI Template'!J254<>\"\",'FMI Template'!J254<>\"UA\"),IF('FMI Template'!J254=\"CSD_SSS\",\"CSD-SSS\",IF('FMI Template'!J254=\"CCP_Derivatives\",\"CCP-Derivatives\",IF('FMI Template'!J254=\"CCP_securities\",\"CCP-securities\",IF('FMI Template'!J254=\"Trading_venue\",\"Trading-venue\",'FMI Template'!J254)))),\"\")","v":""},{"$f":"IF(AND('FMI Template'!K254<>\"\",'FMI Template'!K254<>\"UA\"),'FMI Template'!K254,\"\")","v":""},{"$f":"IF('FMI Template'!K254=\"direct\",\"NA\",IF(AND('FMI Template'!M254<>\"\",'FMI Template'!M254<>\"UA\"),'FMI Template'!M254,\"\"))","v":""},{"$f":"IF('FMI Template'!K254=\"direct\",\"NA\",IF(AND('FMI Template'!N254<>\"\",'FMI Template'!N254<>\"UA\"),'FMI Template'!N254,\"\"))","v":""},{"$f":"IF(OR('FMI Template'!H254=\"Other\",'FMI Template'!H254=\"NA\"),'FMI Template'!Q254,\"\")","v":""},{"$f":"IF(AND('FMI Template'!O254<>\"\",'FMI Template'!O254<>\"NA\",'FMI Template'!O254<>\"UA\"),'FMI Template'!O254,\"\")","v":""}]
[null,{"$f":"IF(AND('FMI Template'!B255<>\"\",'FMI Template'!B255<>\"NA\",'FMI Template'!B255<>\"UA\"),'FMI Template'!B255,\"\")","v":""},{"$f":"IF(AND('FMI Template'!C255<>\"\",'FMI Template'!C255<>\"NA\",'FMI Template'!C255<>\"UA\"),'FMI Template'!C255,\"\")","v":""},{"$f":"IF(AND('FMI Template'!D255<>\"\",'FMI Template'!D255<>\"NA\",'FMI Template'!D255<>\"UA\"),'FMI Template'!D255,\"\")","v":""},{"$f":"IF(AND('FMI Template'!F255<>\"\",'FMI Template'!F255<>\"NA\",'FMI Template'!F255<>\"UA\"),'FMI Template'!F255,\"\")","v":""},{"$f":"IF(AND('FMI Template'!H255<>\"\", 'FMI Template'!H255<>\"UA\"),IF('FMI Template'!H255=\"CSD\",\"(I)CSD\",IF('FMI Template'!H255=\"CCP_Derivatives\",\"CCP-Derivatives\",IF('FMI Template'!H255=\"CCP_securities\",\"CCP-securities\",IF('FMI Template'!H255=\"PS_Retail\",\"PS\",IF('FMI Template'!H255=\"PS_LV\",\"PS\",'FMI Template'!H255))))),\"\")","v":""},{"$f":"IF(AND('FMI Template'!I255<>\"\", 'FMI Template'!I255<>\"UA\"),'FMI Template'!I255,\"\")","v":""},{"$f":"IF(AND('FMI Template'!J255<>\"\",'FMI Template'!J255<>\"UA\"),IF('FMI Template'!J255=\"CSD_SSS\",\"CSD-SSS\",IF('FMI Template'!J255=\"CCP_Derivatives\",\"CCP-Derivatives\",IF('FMI Template'!J255=\"CCP_securities\",\"CCP-securities\",IF('FMI Template'!J255=\"Trading_venue\",\"Trading-venue\",'FMI Template'!J255)))),\"\")","v":""},{"$f":"IF(AND('FMI Template'!K255<>\"\",'FMI Template'!K255<>\"UA\"),'FMI Template'!K255,\"\")","v":""},{"$f":"IF('FMI Template'!K255=\"direct\",\"NA\",IF(AND('FMI Template'!M255<>\"\",'FMI Template'!M255<>\"UA\"),'FMI Template'!M255,\"\"))","v":""},{"$f":"IF('FMI Template'!K255=\"direct\",\"NA\",IF(AND('FMI Template'!N255<>\"\",'FMI Template'!N255<>\"UA\"),'FMI Template'!N255,\"\"))","v":""},{"$f":"IF(OR('FMI Template'!H255=\"Other\",'FMI Template'!H255=\"NA\"),'FMI Template'!Q255,\"\")","v":""},{"$f":"IF(AND('FMI Template'!O255<>\"\",'FMI Template'!O255<>\"NA\",'FMI Template'!O255<>\"UA\"),'FMI Template'!O255,\"\")","v":""}]
[null,{"$f":"IF(AND('FMI Template'!B256<>\"\",'FMI Template'!B256<>\"NA\",'FMI Template'!B256<>\"UA\"),'FMI Template'!B256,\"\")","v":""},{"$f":"IF(AND('FMI Template'!C256<>\"\",'FMI Template'!C256<>\"NA\",'FMI Template'!C256<>\"UA\"),'FMI Template'!C256,\"\")","v":""},{"$f":"IF(AND('FMI Template'!D256<>\"\",'FMI Template'!D256<>\"NA\",'FMI Template'!D256<>\"UA\"),'FMI Template'!D256,\"\")","v":""},{"$f":"IF(AND('FMI Template'!F256<>\"\",'FMI Template'!F256<>\"NA\",'FMI Template'!F256<>\"UA\"),'FMI Template'!F256,\"\")","v":""},{"$f":"IF(AND('FMI Template'!H256<>\"\", 'FMI Template'!H256<>\"UA\"),IF('FMI Template'!H256=\"CSD\",\"(I)CSD\",IF('FMI Template'!H256=\"CCP_Derivatives\",\"CCP-Derivatives\",IF('FMI Template'!H256=\"CCP_securities\",\"CCP-securities\",IF('FMI Template'!H256=\"PS_Retail\",\"PS\",IF('FMI Template'!H256=\"PS_LV\",\"PS\",'FMI Template'!H256))))),\"\")","v":""},{"$f":"IF(AND('FMI Template'!I256<>\"\", 'FMI Template'!I256<>\"UA\"),'FMI Template'!I256,\"\")","v":""},{"$f":"IF(AND('FMI Template'!J256<>\"\",'FMI Template'!J256<>\"UA\"),IF('FMI Template'!J256=\"CSD_SSS\",\"CSD-SSS\",IF('FMI Template'!J256=\"CCP_Derivatives\",\"CCP-Derivatives\",IF('FMI Template'!J256=\"CCP_securities\",\"CCP-securities\",IF('FMI Template'!J256=\"Trading_venue\",\"Trading-venue\",'FMI Template'!J256)))),\"\")","v":""},{"$f":"IF(AND('FMI Template'!K256<>\"\",'FMI Template'!K256<>\"UA\"),'FMI Template'!K256,\"\")","v":""},{"$f":"IF('FMI Template'!K256=\"direct\",\"NA\",IF(AND('FMI Template'!M256<>\"\",'FMI Template'!M256<>\"UA\"),'FMI Template'!M256,\"\"))","v":""},{"$f":"IF('FMI Template'!K256=\"direct\",\"NA\",IF(AND('FMI Template'!N256<>\"\",'FMI Template'!N256<>\"UA\"),'FMI Template'!N256,\"\"))","v":""},{"$f":"IF(OR('FMI Template'!H256=\"Other\",'FMI Template'!H256=\"NA\"),'FMI Template'!Q256,\"\")","v":""},{"$f":"IF(AND('FMI Template'!O256<>\"\",'FMI Template'!O256<>\"NA\",'FMI Template'!O256<>\"UA\"),'FMI Template'!O256,\"\")","v":""}]
[null,{"$f":"IF(AND('FMI Template'!B257<>\"\",'FMI Template'!B257<>\"NA\",'FMI Template'!B257<>\"UA\"),'FMI Template'!B257,\"\")","v":""},{"$f":"IF(AND('FMI Template'!C257<>\"\",'FMI Template'!C257<>\"NA\",'FMI Template'!C257<>\"UA\"),'FMI Template'!C257,\"\")","v":""},{"$f":"IF(AND('FMI Template'!D257<>\"\",'FMI Template'!D257<>\"NA\",'FMI Template'!D257<>\"UA\"),'FMI Template'!D257,\"\")","v":""},{"$f":"IF(AND('FMI Template'!F257<>\"\",'FMI Template'!F257<>\"NA\",'FMI Template'!F257<>\"UA\"),'FMI Template'!F257,\"\")","v":""},{"$f":"IF(AND('FMI Template'!H257<>\"\", 'FMI Template'!H257<>\"UA\"),IF('FMI Template'!H257=\"CSD\",\"(I)CSD\",IF('FMI Template'!H257=\"CCP_Derivatives\",\"CCP-Derivatives\",IF('FMI Template'!H257=\"CCP_securities\",\"CCP-securities\",IF('FMI Template'!H257=\"PS_Retail\",\"PS\",IF('FMI Template'!H257=\"PS_LV\",\"PS\",'FMI Template'!H257))))),\"\")","v":""},{"$f":"IF(AND('FMI Template'!I257<>\"\", 'FMI Template'!I257<>\"UA\"),'FMI Template'!I257,\"\")","v":""},{"$f":"IF(AND('FMI Template'!J257<>\"\",'FMI Template'!J257<>\"UA\"),IF('FMI Template'!J257=\"CSD_SSS\",\"CSD-SSS\",IF('FMI Template'!J257=\"CCP_Derivatives\",\"CCP-Derivatives\",IF('FMI Template'!J257=\"CCP_securities\",\"CCP-securities\",IF('FMI Template'!J257=\"Trading_venue\",\"Trading-venue\",'FMI Template'!J257)))),\"\")","v":""},{"$f":"IF(AND('FMI Template'!K257<>\"\",'FMI Template'!K257<>\"UA\"),'FMI Template'!K257,\"\")","v":""},{"$f":"IF('FMI Template'!K257=\"direct\",\"NA\",IF(AND('FMI Template'!M257<>\"\",'FMI Template'!M257<>\"UA\"),'FMI Template'!M257,\"\"))","v":""},{"$f":"IF('FMI Template'!K257=\"direct\",\"NA\",IF(AND('FMI Template'!N257<>\"\",'FMI Template'!N257<>\"UA\"),'FMI Template'!N257,\"\"))","v":""},{"$f":"IF(OR('FMI Template'!H257=\"Other\",'FMI Template'!H257=\"NA\"),'FMI Template'!Q257,\"\")","v":""},{"$f":"IF(AND('FMI Template'!O257<>\"\",'FMI Template'!O257<>\"NA\",'FMI Template'!O257<>\"UA\"),'FMI Template'!O257,\"\")","v":""}]
[null,{"$f":"IF(AND('FMI Template'!B258<>\"\",'FMI Template'!B258<>\"NA\",'FMI Template'!B258<>\"UA\"),'FMI Template'!B258,\"\")","v":""},{"$f":"IF(AND('FMI Template'!C258<>\"\",'FMI Template'!C258<>\"NA\",'FMI Template'!C258<>\"UA\"),'FMI Template'!C258,\"\")","v":""},{"$f":"IF(AND('FMI Template'!D258<>\"\",'FMI Template'!D258<>\"NA\",'FMI Template'!D258<>\"UA\"),'FMI Template'!D258,\"\")","v":""},{"$f":"IF(AND('FMI Template'!F258<>\"\",'FMI Template'!F258<>\"NA\",'FMI Template'!F258<>\"UA\"),'FMI Template'!F258,\"\")","v":""},{"$f":"IF(AND('FMI Template'!H258<>\"\", 'FMI Template'!H258<>\"UA\"),IF('FMI Template'!H258=\"CSD\",\"(I)CSD\",IF('FMI Template'!H258=\"CCP_Derivatives\",\"CCP-Derivatives\",IF('FMI Template'!H258=\"CCP_securities\",\"CCP-securities\",IF('FMI Template'!H258=\"PS_Retail\",\"PS\",IF('FMI Template'!H258=\"PS_LV\",\"PS\",'FMI Template'!H258))))),\"\")","v":""},{"$f":"IF(AND('FMI Template'!I258<>\"\", 'FMI Template'!I258<>\"UA\"),'FMI Template'!I258,\"\")","v":""},{"$f":"IF(AND('FMI Template'!J258<>\"\",'FMI Template'!J258<>\"UA\"),IF('FMI Template'!J258=\"CSD_SSS\",\"CSD-SSS\",IF('FMI Template'!J258=\"CCP_Derivatives\",\"CCP-Derivatives\",IF('FMI Template'!J258=\"CCP_securities\",\"CCP-securities\",IF('FMI Template'!J258=\"Trading_venue\",\"Trading-venue\",'FMI Template'!J258)))),\"\")","v":""},{"$f":"IF(AND('FMI Template'!K258<>\"\",'FMI Template'!K258<>\"UA\"),'FMI Template'!K258,\"\")","v":""},{"$f":"IF('FMI Template'!K258=\"direct\",\"NA\",IF(AND('FMI Template'!M258<>\"\",'FMI Template'!M258<>\"UA\"),'FMI Template'!M258,\"\"))","v":""},{"$f":"IF('FMI Template'!K258=\"direct\",\"NA\",IF(AND('FMI Template'!N258<>\"\",'FMI Template'!N258<>\"UA\"),'FMI Template'!N258,\"\"))","v":""},{"$f":"IF(OR('FMI Template'!H258=\"Other\",'FMI Template'!H258=\"NA\"),'FMI Template'!Q258,\"\")","v":""},{"$f":"IF(AND('FMI Template'!O258<>\"\",'FMI Template'!O258<>\"NA\",'FMI Template'!O258<>\"UA\"),'FMI Template'!O258,\"\")","v":""}]
[null,{"$f":"IF(AND('FMI Template'!B259<>\"\",'FMI Template'!B259<>\"NA\",'FMI Template'!B259<>\"UA\"),'FMI Template'!B259,\"\")","v":""},{"$f":"IF(AND('FMI Template'!C259<>\"\",'FMI Template'!C259<>\"NA\",'FMI Template'!C259<>\"UA\"),'FMI Template'!C259,\"\")","v":""},{"$f":"IF(AND('FMI Template'!D259<>\"\",'FMI Template'!D259<>\"NA\",'FMI Template'!D259<>\"UA\"),'FMI Template'!D259,\"\")","v":""},{"$f":"IF(AND('FMI Template'!F259<>\"\",'FMI Template'!F259<>\"NA\",'FMI Template'!F259<>\"UA\"),'FMI Template'!F259,\"\")","v":""},{"$f":"IF(AND('FMI Template'!H259<>\"\", 'FMI Template'!H259<>\"UA\"),IF('FMI Template'!H259=\"CSD\",\"(I)CSD\",IF('FMI Template'!H259=\"CCP_Derivatives\",\"CCP-Derivatives\",IF('FMI Template'!H259=\"CCP_securities\",\"CCP-securities\",IF('FMI Template'!H259=\"PS_Retail\",\"PS\",IF('FMI Template'!H259=\"PS_LV\",\"PS\",'FMI Template'!H259))))),\"\")","v":""},{"$f":"IF(AND('FMI Template'!I259<>\"\", 'FMI Template'!I259<>\"UA\"),'FMI Template'!I259,\"\")","v":""},{"$f":"IF(AND('FMI Template'!J259<>\"\",'FMI Template'!J259<>\"UA\"),IF('FMI Template'!J259=\"CSD_SSS\",\"CSD-SSS\",IF('FMI Template'!J259=\"CCP_Derivatives\",\"CCP-Derivatives\",IF('FMI Template'!J259=\"CCP_securities\",\"CCP-securities\",IF('FMI Template'!J259=\"Trading_venue\",\"Trading-venue\",'FMI Template'!J259)))),\"\")","v":""},{"$f":"IF(AND('FMI Template'!K259<>\"\",'FMI Template'!K259<>\"UA\"),'FMI Template'!K259,\"\")","v":""},{"$f":"IF('FMI Template'!K259=\"direct\",\"NA\",IF(AND('FMI Template'!M259<>\"\",'FMI Template'!M259<>\"UA\"),'FMI Template'!M259,\"\"))","v":""},{"$f":"IF('FMI Template'!K259=\"direct\",\"NA\",IF(AND('FMI Template'!N259<>\"\",'FMI Template'!N259<>\"UA\"),'FMI Template'!N259,\"\"))","v":""},{"$f":"IF(OR('FMI Template'!H259=\"Other\",'FMI Template'!H259=\"NA\"),'FMI Template'!Q259,\"\")","v":""},{"$f":"IF(AND('FMI Template'!O259<>\"\",'FMI Template'!O259<>\"NA\",'FMI Template'!O259<>\"UA\"),'FMI Template'!O259,\"\")","v":""}]
[null,{"$f":"IF(AND('FMI Template'!B260<>\"\",'FMI Template'!B260<>\"NA\",'FMI Template'!B260<>\"UA\"),'FMI Template'!B260,\"\")","v":""},{"$f":"IF(AND('FMI Template'!C260<>\"\",'FMI Template'!C260<>\"NA\",'FMI Template'!C260<>\"UA\"),'FMI Template'!C260,\"\")","v":""},{"$f":"IF(AND('FMI Template'!D260<>\"\",'FMI Template'!D260<>\"NA\",'FMI Template'!D260<>\"UA\"),'FMI Template'!D260,\"\")","v":""},{"$f":"IF(AND('FMI Template'!F260<>\"\",'FMI Template'!F260<>\"NA\",'FMI Template'!F260<>\"UA\"),'FMI Template'!F260,\"\")","v":""},{"$f":"IF(AND('FMI Template'!H260<>\"\", 'FMI Template'!H260<>\"UA\"),IF('FMI Template'!H260=\"CSD\",\"(I)CSD\",IF('FMI Template'!H260=\"CCP_Derivatives\",\"CCP-Derivatives\",IF('FMI Template'!H260=\"CCP_securities\",\"CCP-securities\",IF('FMI Template'!H260=\"PS_Retail\",\"PS\",IF('FMI Template'!H260=\"PS_LV\",\"PS\",'FMI Template'!H260))))),\"\")","v":""},{"$f":"IF(AND('FMI Template'!I260<>\"\", 'FMI Template'!I260<>\"UA\"),'FMI Template'!I260,\"\")","v":""},{"$f":"IF(AND('FMI Template'!J260<>\"\",'FMI Template'!J260<>\"UA\"),IF('FMI Template'!J260=\"CSD_SSS\",\"CSD-SSS\",IF('FMI Template'!J260=\"CCP_Derivatives\",\"CCP-Derivatives\",IF('FMI Template'!J260=\"CCP_securities\",\"CCP-securities\",IF('FMI Template'!J260=\"Trading_venue\",\"Trading-venue\",'FMI Template'!J260)))),\"\")","v":""},{"$f":"IF(AND('FMI Template'!K260<>\"\",'FMI Template'!K260<>\"UA\"),'FMI Template'!K260,\"\")","v":""},{"$f":"IF('FMI Template'!K260=\"direct\",\"NA\",IF(AND('FMI Template'!M260<>\"\",'FMI Template'!M260<>\"UA\"),'FMI Template'!M260,\"\"))","v":""},{"$f":"IF('FMI Template'!K260=\"direct\",\"NA\",IF(AND('FMI Template'!N260<>\"\",'FMI Template'!N260<>\"UA\"),'FMI Template'!N260,\"\"))","v":""},{"$f":"IF(OR('FMI Template'!H260=\"Other\",'FMI Template'!H260=\"NA\"),'FMI Template'!Q260,\"\")","v":""},{"$f":"IF(AND('FMI Template'!O260<>\"\",'FMI Template'!O260<>\"NA\",'FMI Template'!O260<>\"UA\"),'FMI Template'!O260,\"\")","v":""}]
[null,{"$f":"IF(AND('FMI Template'!B261<>\"\",'FMI Template'!B261<>\"NA\",'FMI Template'!B261<>\"UA\"),'FMI Template'!B261,\"\")","v":""},{"$f":"IF(AND('FMI Template'!C261<>\"\",'FMI Template'!C261<>\"NA\",'FMI Template'!C261<>\"UA\"),'FMI Template'!C261,\"\")","v":""},{"$f":"IF(AND('FMI Template'!D261<>\"\",'FMI Template'!D261<>\"NA\",'FMI Template'!D261<>\"UA\"),'FMI Template'!D261,\"\")","v":""},{"$f":"IF(AND('FMI Template'!F261<>\"\",'FMI Template'!F261<>\"NA\",'FMI Template'!F261<>\"UA\"),'FMI Template'!F261,\"\")","v":""},{"$f":"IF(AND('FMI Template'!H261<>\"\", 'FMI Template'!H261<>\"UA\"),IF('FMI Template'!H261=\"CSD\",\"(I)CSD\",IF('FMI Template'!H261=\"CCP_Derivatives\",\"CCP-Derivatives\",IF('FMI Template'!H261=\"CCP_securities\",\"CCP-securities\",IF('FMI Template'!H261=\"PS_Retail\",\"PS\",IF('FMI Template'!H261=\"PS_LV\",\"PS\",'FMI Template'!H261))))),\"\")","v":""},{"$f":"IF(AND('FMI Template'!I261<>\"\", 'FMI Template'!I261<>\"UA\"),'FMI Template'!I261,\"\")","v":""},{"$f":"IF(AND('FMI Template'!J261<>\"\",'FMI Template'!J261<>\"UA\"),IF('FMI Template'!J261=\"CSD_SSS\",\"CSD-SSS\",IF('FMI Template'!J261=\"CCP_Derivatives\",\"CCP-Derivatives\",IF('FMI Template'!J261=\"CCP_securities\",\"CCP-securities\",IF('FMI Template'!J261=\"Trading_venue\",\"Trading-venue\",'FMI Template'!J261)))),\"\")","v":""},{"$f":"IF(AND('FMI Template'!K261<>\"\",'FMI Template'!K261<>\"UA\"),'FMI Template'!K261,\"\")","v":""},{"$f":"IF('FMI Template'!K261=\"direct\",\"NA\",IF(AND('FMI Template'!M261<>\"\",'FMI Template'!M261<>\"UA\"),'FMI Template'!M261,\"\"))","v":""},{"$f":"IF('FMI Template'!K261=\"direct\",\"NA\",IF(AND('FMI Template'!N261<>\"\",'FMI Template'!N261<>\"UA\"),'FMI Template'!N261,\"\"))","v":""},{"$f":"IF(OR('FMI Template'!H261=\"Other\",'FMI Template'!H261=\"NA\"),'FMI Template'!Q261,\"\")","v":""},{"$f":"IF(AND('FMI Template'!O261<>\"\",'FMI Template'!O261<>\"NA\",'FMI Template'!O261<>\"UA\"),'FMI Template'!O261,\"\")","v":""}]
[null,{"$f":"IF(AND('FMI Template'!B262<>\"\",'FMI Template'!B262<>\"NA\",'FMI Template'!B262<>\"UA\"),'FMI Template'!B262,\"\")","v":""},{"$f":"IF(AND('FMI Template'!C262<>\"\",'FMI Template'!C262<>\"NA\",'FMI Template'!C262<>\"UA\"),'FMI Template'!C262,\"\")","v":""},{"$f":"IF(AND('FMI Template'!D262<>\"\",'FMI Template'!D262<>\"NA\",'FMI Template'!D262<>\"UA\"),'FMI Template'!D262,\"\")","v":""},{"$f":"IF(AND('FMI Template'!F262<>\"\",'FMI Template'!F262<>\"NA\",'FMI Template'!F262<>\"UA\"),'FMI Template'!F262,\"\")","v":""},{"$f":"IF(AND('FMI Template'!H262<>\"\", 'FMI Template'!H262<>\"UA\"),IF('FMI Template'!H262=\"CSD\",\"(I)CSD\",IF('FMI Template'!H262=\"CCP_Derivatives\",\"CCP-Derivatives\",IF('FMI Template'!H262=\"CCP_securities\",\"CCP-securities\",IF('FMI Template'!H262=\"PS_Retail\",\"PS\",IF('FMI Template'!H262=\"PS_LV\",\"PS\",'FMI Template'!H262))))),\"\")","v":""},{"$f":"IF(AND('FMI Template'!I262<>\"\", 'FMI Template'!I262<>\"UA\"),'FMI Template'!I262,\"\")","v":""},{"$f":"IF(AND('FMI Template'!J262<>\"\",'FMI Template'!J262<>\"UA\"),IF('FMI Template'!J262=\"CSD_SSS\",\"CSD-SSS\",IF('FMI Template'!J262=\"CCP_Derivatives\",\"CCP-Derivatives\",IF('FMI Template'!J262=\"CCP_securities\",\"CCP-securities\",IF('FMI Template'!J262=\"Trading_venue\",\"Trading-venue\",'FMI Template'!J262)))),\"\")","v":""},{"$f":"IF(AND('FMI Template'!K262<>\"\",'FMI Template'!K262<>\"UA\"),'FMI Template'!K262,\"\")","v":""},{"$f":"IF('FMI Template'!K262=\"direct\",\"NA\",IF(AND('FMI Template'!M262<>\"\",'FMI Template'!M262<>\"UA\"),'FMI Template'!M262,\"\"))","v":""},{"$f":"IF('FMI Template'!K262=\"direct\",\"NA\",IF(AND('FMI Template'!N262<>\"\",'FMI Template'!N262<>\"UA\"),'FMI Template'!N262,\"\"))","v":""},{"$f":"IF(OR('FMI Template'!H262=\"Other\",'FMI Template'!H262=\"NA\"),'FMI Template'!Q262,\"\")","v":""},{"$f":"IF(AND('FMI Template'!O262<>\"\",'FMI Template'!O262<>\"NA\",'FMI Template'!O262<>\"UA\"),'FMI Template'!O262,\"\")","v":""}]
[null,{"$f":"IF(AND('FMI Template'!B263<>\"\",'FMI Template'!B263<>\"NA\",'FMI Template'!B263<>\"UA\"),'FMI Template'!B263,\"\")","v":""},{"$f":"IF(AND('FMI Template'!C263<>\"\",'FMI Template'!C263<>\"NA\",'FMI Template'!C263<>\"UA\"),'FMI Template'!C263,\"\")","v":""},{"$f":"IF(AND('FMI Template'!D263<>\"\",'FMI Template'!D263<>\"NA\",'FMI Template'!D263<>\"UA\"),'FMI Template'!D263,\"\")","v":""},{"$f":"IF(AND('FMI Template'!F263<>\"\",'FMI Template'!F263<>\"NA\",'FMI Template'!F263<>\"UA\"),'FMI Template'!F263,\"\")","v":""},{"$f":"IF(AND('FMI Template'!H263<>\"\", 'FMI Template'!H263<>\"UA\"),IF('FMI Template'!H263=\"CSD\",\"(I)CSD\",IF('FMI Template'!H263=\"CCP_Derivatives\",\"CCP-Derivatives\",IF('FMI Template'!H263=\"CCP_securities\",\"CCP-securities\",IF('FMI Template'!H263=\"PS_Retail\",\"PS\",IF('FMI Template'!H263=\"PS_LV\",\"PS\",'FMI Template'!H263))))),\"\")","v":""},{"$f":"IF(AND('FMI Template'!I263<>\"\", 'FMI Template'!I263<>\"UA\"),'FMI Template'!I263,\"\")","v":""},{"$f":"IF(AND('FMI Template'!J263<>\"\",'FMI Template'!J263<>\"UA\"),IF('FMI Template'!J263=\"CSD_SSS\",\"CSD-SSS\",IF('FMI Template'!J263=\"CCP_Derivatives\",\"CCP-Derivatives\",IF('FMI Template'!J263=\"CCP_securities\",\"CCP-securities\",IF('FMI Template'!J263=\"Trading_venue\",\"Trading-venue\",'FMI Template'!J263)))),\"\")","v":""},{"$f":"IF(AND('FMI Template'!K263<>\"\",'FMI Template'!K263<>\"UA\"),'FMI Template'!K263,\"\")","v":""},{"$f":"IF('FMI Template'!K263=\"direct\",\"NA\",IF(AND('FMI Template'!M263<>\"\",'FMI Template'!M263<>\"UA\"),'FMI Template'!M263,\"\"))","v":""},{"$f":"IF('FMI Template'!K263=\"direct\",\"NA\",IF(AND('FMI Template'!N263<>\"\",'FMI Template'!N263<>\"UA\"),'FMI Template'!N263,\"\"))","v":""},{"$f":"IF(OR('FMI Template'!H263=\"Other\",'FMI Template'!H263=\"NA\"),'FMI Template'!Q263,\"\")","v":""},{"$f":"IF(AND('FMI Template'!O263<>\"\",'FMI Template'!O263<>\"NA\",'FMI Template'!O263<>\"UA\"),'FMI Template'!O263,\"\")","v":""}]
[null,{"$f":"IF(AND('FMI Template'!B264<>\"\",'FMI Template'!B264<>\"NA\",'FMI Template'!B264<>\"UA\"),'FMI Template'!B264,\"\")","v":""},{"$f":"IF(AND('FMI Template'!C264<>\"\",'FMI Template'!C264<>\"NA\",'FMI Template'!C264<>\"UA\"),'FMI Template'!C264,\"\")","v":""},{"$f":"IF(AND('FMI Template'!D264<>\"\",'FMI Template'!D264<>\"NA\",'FMI Template'!D264<>\"UA\"),'FMI Template'!D264,\"\")","v":""},{"$f":"IF(AND('FMI Template'!F264<>\"\",'FMI Template'!F264<>\"NA\",'FMI Template'!F264<>\"UA\"),'FMI Template'!F264,\"\")","v":""},{"$f":"IF(AND('FMI Template'!H264<>\"\", 'FMI Template'!H264<>\"UA\"),IF('FMI Template'!H264=\"CSD\",\"(I)CSD\",IF('FMI Template'!H264=\"CCP_Derivatives\",\"CCP-Derivatives\",IF('FMI Template'!H264=\"CCP_securities\",\"CCP-securities\",IF('FMI Template'!H264=\"PS_Retail\",\"PS\",IF('FMI Template'!H264=\"PS_LV\",\"PS\",'FMI Template'!H264))))),\"\")","v":""},{"$f":"IF(AND('FMI Template'!I264<>\"\", 'FMI Template'!I264<>\"UA\"),'FMI Template'!I264,\"\")","v":""},{"$f":"IF(AND('FMI Template'!J264<>\"\",'FMI Template'!J264<>\"UA\"),IF('FMI Template'!J264=\"CSD_SSS\",\"CSD-SSS\",IF('FMI Template'!J264=\"CCP_Derivatives\",\"CCP-Derivatives\",IF('FMI Template'!J264=\"CCP_securities\",\"CCP-securities\",IF('FMI Template'!J264=\"Trading_venue\",\"Trading-venue\",'FMI Template'!J264)))),\"\")","v":""},{"$f":"IF(AND('FMI Template'!K264<>\"\",'FMI Template'!K264<>\"UA\"),'FMI Template'!K264,\"\")","v":""},{"$f":"IF('FMI Template'!K264=\"direct\",\"NA\",IF(AND('FMI Template'!M264<>\"\",'FMI Template'!M264<>\"UA\"),'FMI Template'!M264,\"\"))","v":""},{"$f":"IF('FMI Template'!K264=\"direct\",\"NA\",IF(AND('FMI Template'!N264<>\"\",'FMI Template'!N264<>\"UA\"),'FMI Template'!N264,\"\"))","v":""},{"$f":"IF(OR('FMI Template'!H264=\"Other\",'FMI Template'!H264=\"NA\"),'FMI Template'!Q264,\"\")","v":""},{"$f":"IF(AND('FMI Template'!O264<>\"\",'FMI Template'!O264<>\"NA\",'FMI Template'!O264<>\"UA\"),'FMI Template'!O264,\"\")","v":""}]
[null,{"$f":"IF(AND('FMI Template'!B265<>\"\",'FMI Template'!B265<>\"NA\",'FMI Template'!B265<>\"UA\"),'FMI Template'!B265,\"\")","v":""},{"$f":"IF(AND('FMI Template'!C265<>\"\",'FMI Template'!C265<>\"NA\",'FMI Template'!C265<>\"UA\"),'FMI Template'!C265,\"\")","v":""},{"$f":"IF(AND('FMI Template'!D265<>\"\",'FMI Template'!D265<>\"NA\",'FMI Template'!D265<>\"UA\"),'FMI Template'!D265,\"\")","v":""},{"$f":"IF(AND('FMI Template'!F265<>\"\",'FMI Template'!F265<>\"NA\",'FMI Template'!F265<>\"UA\"),'FMI Template'!F265,\"\")","v":""},{"$f":"IF(AND('FMI Template'!H265<>\"\", 'FMI Template'!H265<>\"UA\"),IF('FMI Template'!H265=\"CSD\",\"(I)CSD\",IF('FMI Template'!H265=\"CCP_Derivatives\",\"CCP-Derivatives\",IF('FMI Template'!H265=\"CCP_securities\",\"CCP-securities\",IF('FMI Template'!H265=\"PS_Retail\",\"PS\",IF('FMI Template'!H265=\"PS_LV\",\"PS\",'FMI Template'!H265))))),\"\")","v":""},{"$f":"IF(AND('FMI Template'!I265<>\"\", 'FMI Template'!I265<>\"UA\"),'FMI Template'!I265,\"\")","v":""},{"$f":"IF(AND('FMI Template'!J265<>\"\",'FMI Template'!J265<>\"UA\"),IF('FMI Template'!J265=\"CSD_SSS\",\"CSD-SSS\",IF('FMI Template'!J265=\"CCP_Derivatives\",\"CCP-Derivatives\",IF('FMI Template'!J265=\"CCP_securities\",\"CCP-securities\",IF('FMI Template'!J265=\"Trading_venue\",\"Trading-venue\",'FMI Template'!J265)))),\"\")","v":""},{"$f":"IF(AND('FMI Template'!K265<>\"\",'FMI Template'!K265<>\"UA\"),'FMI Template'!K265,\"\")","v":""},{"$f":"IF('FMI Template'!K265=\"direct\",\"NA\",IF(AND('FMI Template'!M265<>\"\",'FMI Template'!M265<>\"UA\"),'FMI Template'!M265,\"\"))","v":""},{"$f":"IF('FMI Template'!K265=\"direct\",\"NA\",IF(AND('FMI Template'!N265<>\"\",'FMI Template'!N265<>\"UA\"),'FMI Template'!N265,\"\"))","v":""},{"$f":"IF(OR('FMI Template'!H265=\"Other\",'FMI Template'!H265=\"NA\"),'FMI Template'!Q265,\"\")","v":""},{"$f":"IF(AND('FMI Template'!O265<>\"\",'FMI Template'!O265<>\"NA\",'FMI Template'!O265<>\"UA\"),'FMI Template'!O265,\"\")","v":""}]
[null,{"$f":"IF(AND('FMI Template'!B266<>\"\",'FMI Template'!B266<>\"NA\",'FMI Template'!B266<>\"UA\"),'FMI Template'!B266,\"\")","v":""},{"$f":"IF(AND('FMI Template'!C266<>\"\",'FMI Template'!C266<>\"NA\",'FMI Template'!C266<>\"UA\"),'FMI Template'!C266,\"\")","v":""},{"$f":"IF(AND('FMI Template'!D266<>\"\",'FMI Template'!D266<>\"NA\",'FMI Template'!D266<>\"UA\"),'FMI Template'!D266,\"\")","v":""},{"$f":"IF(AND('FMI Template'!F266<>\"\",'FMI Template'!F266<>\"NA\",'FMI Template'!F266<>\"UA\"),'FMI Template'!F266,\"\")","v":""},{"$f":"IF(AND('FMI Template'!H266<>\"\", 'FMI Template'!H266<>\"UA\"),IF('FMI Template'!H266=\"CSD\",\"(I)CSD\",IF('FMI Template'!H266=\"CCP_Derivatives\",\"CCP-Derivatives\",IF('FMI Template'!H266=\"CCP_securities\",\"CCP-securities\",IF('FMI Template'!H266=\"PS_Retail\",\"PS\",IF('FMI Template'!H266=\"PS_LV\",\"PS\",'FMI Template'!H266))))),\"\")","v":""},{"$f":"IF(AND('FMI Template'!I266<>\"\", 'FMI Template'!I266<>\"UA\"),'FMI Template'!I266,\"\")","v":""},{"$f":"IF(AND('FMI Template'!J266<>\"\",'FMI Template'!J266<>\"UA\"),IF('FMI Template'!J266=\"CSD_SSS\",\"CSD-SSS\",IF('FMI Template'!J266=\"CCP_Derivatives\",\"CCP-Derivatives\",IF('FMI Template'!J266=\"CCP_securities\",\"CCP-securities\",IF('FMI Template'!J266=\"Trading_venue\",\"Trading-venue\",'FMI Template'!J266)))),\"\")","v":""},{"$f":"IF(AND('FMI Template'!K266<>\"\",'FMI Template'!K266<>\"UA\"),'FMI Template'!K266,\"\")","v":""},{"$f":"IF('FMI Template'!K266=\"direct\",\"NA\",IF(AND('FMI Template'!M266<>\"\",'FMI Template'!M266<>\"UA\"),'FMI Template'!M266,\"\"))","v":""},{"$f":"IF('FMI Template'!K266=\"direct\",\"NA\",IF(AND('FMI Template'!N266<>\"\",'FMI Template'!N266<>\"UA\"),'FMI Template'!N266,\"\"))","v":""},{"$f":"IF(OR('FMI Template'!H266=\"Other\",'FMI Template'!H266=\"NA\"),'FMI Template'!Q266,\"\")","v":""},{"$f":"IF(AND('FMI Template'!O266<>\"\",'FMI Template'!O266<>\"NA\",'FMI Template'!O266<>\"UA\"),'FMI Template'!O266,\"\")","v":""}]
[null,{"$f":"IF(AND('FMI Template'!B267<>\"\",'FMI Template'!B267<>\"NA\",'FMI Template'!B267<>\"UA\"),'FMI Template'!B267,\"\")","v":""},{"$f":"IF(AND('FMI Template'!C267<>\"\",'FMI Template'!C267<>\"NA\",'FMI Template'!C267<>\"UA\"),'FMI Template'!C267,\"\")","v":""},{"$f":"IF(AND('FMI Template'!D267<>\"\",'FMI Template'!D267<>\"NA\",'FMI Template'!D267<>\"UA\"),'FMI Template'!D267,\"\")","v":""},{"$f":"IF(AND('FMI Template'!F267<>\"\",'FMI Template'!F267<>\"NA\",'FMI Template'!F267<>\"UA\"),'FMI Template'!F267,\"\")","v":""},{"$f":"IF(AND('FMI Template'!H267<>\"\", 'FMI Template'!H267<>\"UA\"),IF('FMI Template'!H267=\"CSD\",\"(I)CSD\",IF('FMI Template'!H267=\"CCP_Derivatives\",\"CCP-Derivatives\",IF('FMI Template'!H267=\"CCP_securities\",\"CCP-securities\",IF('FMI Template'!H267=\"PS_Retail\",\"PS\",IF('FMI Template'!H267=\"PS_LV\",\"PS\",'FMI Template'!H267))))),\"\")","v":""},{"$f":"IF(AND('FMI Template'!I267<>\"\", 'FMI Template'!I267<>\"UA\"),'FMI Template'!I267,\"\")","v":""},{"$f":"IF(AND('FMI Template'!J267<>\"\",'FMI Template'!J267<>\"UA\"),IF('FMI Template'!J267=\"CSD_SSS\",\"CSD-SSS\",IF('FMI Template'!J267=\"CCP_Derivatives\",\"CCP-Derivatives\",IF('FMI Template'!J267=\"CCP_securities\",\"CCP-securities\",IF('FMI Template'!J267=\"Trading_venue\",\"Trading-venue\",'FMI Template'!J267)))),\"\")","v":""},{"$f":"IF(AND('FMI Template'!K267<>\"\",'FMI Template'!K267<>\"UA\"),'FMI Template'!K267,\"\")","v":""},{"$f":"IF('FMI Template'!K267=\"direct\",\"NA\",IF(AND('FMI Template'!M267<>\"\",'FMI Template'!M267<>\"UA\"),'FMI Template'!M267,\"\"))","v":""},{"$f":"IF('FMI Template'!K267=\"direct\",\"NA\",IF(AND('FMI Template'!N267<>\"\",'FMI Template'!N267<>\"UA\"),'FMI Template'!N267,\"\"))","v":""},{"$f":"IF(OR('FMI Template'!H267=\"Other\",'FMI Template'!H267=\"NA\"),'FMI Template'!Q267,\"\")","v":""},{"$f":"IF(AND('FMI Template'!O267<>\"\",'FMI Template'!O267<>\"NA\",'FMI Template'!O267<>\"UA\"),'FMI Template'!O267,\"\")","v":""}]
[null,{"$f":"IF(AND('FMI Template'!B268<>\"\",'FMI Template'!B268<>\"NA\",'FMI Template'!B268<>\"UA\"),'FMI Template'!B268,\"\")","v":""},{"$f":"IF(AND('FMI Template'!C268<>\"\",'FMI Template'!C268<>\"NA\",'FMI Template'!C268<>\"UA\"),'FMI Template'!C268,\"\")","v":""},{"$f":"IF(AND('FMI Template'!D268<>\"\",'FMI Template'!D268<>\"NA\",'FMI Template'!D268<>\"UA\"),'FMI Template'!D268,\"\")","v":""},{"$f":"IF(AND('FMI Template'!F268<>\"\",'FMI Template'!F268<>\"NA\",'FMI Template'!F268<>\"UA\"),'FMI Template'!F268,\"\")","v":""},{"$f":"IF(AND('FMI Template'!H268<>\"\", 'FMI Template'!H268<>\"UA\"),IF('FMI Template'!H268=\"CSD\",\"(I)CSD\",IF('FMI Template'!H268=\"CCP_Derivatives\",\"CCP-Derivatives\",IF('FMI Template'!H268=\"CCP_securities\",\"CCP-securities\",IF('FMI Template'!H268=\"PS_Retail\",\"PS\",IF('FMI Template'!H268=\"PS_LV\",\"PS\",'FMI Template'!H268))))),\"\")","v":""},{"$f":"IF(AND('FMI Template'!I268<>\"\", 'FMI Template'!I268<>\"UA\"),'FMI Template'!I268,\"\")","v":""},{"$f":"IF(AND('FMI Template'!J268<>\"\",'FMI Template'!J268<>\"UA\"),IF('FMI Template'!J268=\"CSD_SSS\",\"CSD-SSS\",IF('FMI Template'!J268=\"CCP_Derivatives\",\"CCP-Derivatives\",IF('FMI Template'!J268=\"CCP_securities\",\"CCP-securities\",IF('FMI Template'!J268=\"Trading_venue\",\"Trading-venue\",'FMI Template'!J268)))),\"\")","v":""},{"$f":"IF(AND('FMI Template'!K268<>\"\",'FMI Template'!K268<>\"UA\"),'FMI Template'!K268,\"\")","v":""},{"$f":"IF('FMI Template'!K268=\"direct\",\"NA\",IF(AND('FMI Template'!M268<>\"\",'FMI Template'!M268<>\"UA\"),'FMI Template'!M268,\"\"))","v":""},{"$f":"IF('FMI Template'!K268=\"direct\",\"NA\",IF(AND('FMI Template'!N268<>\"\",'FMI Template'!N268<>\"UA\"),'FMI Template'!N268,\"\"))","v":""},{"$f":"IF(OR('FMI Template'!H268=\"Other\",'FMI Template'!H268=\"NA\"),'FMI Template'!Q268,\"\")","v":""},{"$f":"IF(AND('FMI Template'!O268<>\"\",'FMI Template'!O268<>\"NA\",'FMI Template'!O268<>\"UA\"),'FMI Template'!O268,\"\")","v":""}]
[null,{"$f":"IF(AND('FMI Template'!B269<>\"\",'FMI Template'!B269<>\"NA\",'FMI Template'!B269<>\"UA\"),'FMI Template'!B269,\"\")","v":""},{"$f":"IF(AND('FMI Template'!C269<>\"\",'FMI Template'!C269<>\"NA\",'FMI Template'!C269<>\"UA\"),'FMI Template'!C269,\"\")","v":""},{"$f":"IF(AND('FMI Template'!D269<>\"\",'FMI Template'!D269<>\"NA\",'FMI Template'!D269<>\"UA\"),'FMI Template'!D269,\"\")","v":""},{"$f":"IF(AND('FMI Template'!F269<>\"\",'FMI Template'!F269<>\"NA\",'FMI Template'!F269<>\"UA\"),'FMI Template'!F269,\"\")","v":""},{"$f":"IF(AND('FMI Template'!H269<>\"\", 'FMI Template'!H269<>\"UA\"),IF('FMI Template'!H269=\"CSD\",\"(I)CSD\",IF('FMI Template'!H269=\"CCP_Derivatives\",\"CCP-Derivatives\",IF('FMI Template'!H269=\"CCP_securities\",\"CCP-securities\",IF('FMI Template'!H269=\"PS_Retail\",\"PS\",IF('FMI Template'!H269=\"PS_LV\",\"PS\",'FMI Template'!H269))))),\"\")","v":""},{"$f":"IF(AND('FMI Template'!I269<>\"\", 'FMI Template'!I269<>\"UA\"),'FMI Template'!I269,\"\")","v":""},{"$f":"IF(AND('FMI Template'!J269<>\"\",'FMI Template'!J269<>\"UA\"),IF('FMI Template'!J269=\"CSD_SSS\",\"CSD-SSS\",IF('FMI Template'!J269=\"CCP_Derivatives\",\"CCP-Derivatives\",IF('FMI Template'!J269=\"CCP_securities\",\"CCP-securities\",IF('FMI Template'!J269=\"Trading_venue\",\"Trading-venue\",'FMI Template'!J269)))),\"\")","v":""},{"$f":"IF(AND('FMI Template'!K269<>\"\",'FMI Template'!K269<>\"UA\"),'FMI Template'!K269,\"\")","v":""},{"$f":"IF('FMI Template'!K269=\"direct\",\"NA\",IF(AND('FMI Template'!M269<>\"\",'FMI Template'!M269<>\"UA\"),'FMI Template'!M269,\"\"))","v":""},{"$f":"IF('FMI Template'!K269=\"direct\",\"NA\",IF(AND('FMI Template'!N269<>\"\",'FMI Template'!N269<>\"UA\"),'FMI Template'!N269,\"\"))","v":""},{"$f":"IF(OR('FMI Template'!H269=\"Other\",'FMI Template'!H269=\"NA\"),'FMI Template'!Q269,\"\")","v":""},{"$f":"IF(AND('FMI Template'!O269<>\"\",'FMI Template'!O269<>\"NA\",'FMI Template'!O269<>\"UA\"),'FMI Template'!O269,\"\")","v":""}]
[null,{"$f":"IF(AND('FMI Template'!B270<>\"\",'FMI Template'!B270<>\"NA\",'FMI Template'!B270<>\"UA\"),'FMI Template'!B270,\"\")","v":""},{"$f":"IF(AND('FMI Template'!C270<>\"\",'FMI Template'!C270<>\"NA\",'FMI Template'!C270<>\"UA\"),'FMI Template'!C270,\"\")","v":""},{"$f":"IF(AND('FMI Template'!D270<>\"\",'FMI Template'!D270<>\"NA\",'FMI Template'!D270<>\"UA\"),'FMI Template'!D270,\"\")","v":""},{"$f":"IF(AND('FMI Template'!F270<>\"\",'FMI Template'!F270<>\"NA\",'FMI Template'!F270<>\"UA\"),'FMI Template'!F270,\"\")","v":""},{"$f":"IF(AND('FMI Template'!H270<>\"\", 'FMI Template'!H270<>\"UA\"),IF('FMI Template'!H270=\"CSD\",\"(I)CSD\",IF('FMI Template'!H270=\"CCP_Derivatives\",\"CCP-Derivatives\",IF('FMI Template'!H270=\"CCP_securities\",\"CCP-securities\",IF('FMI Template'!H270=\"PS_Retail\",\"PS\",IF('FMI Template'!H270=\"PS_LV\",\"PS\",'FMI Template'!H270))))),\"\")","v":""},{"$f":"IF(AND('FMI Template'!I270<>\"\", 'FMI Template'!I270<>\"UA\"),'FMI Template'!I270,\"\")","v":""},{"$f":"IF(AND('FMI Template'!J270<>\"\",'FMI Template'!J270<>\"UA\"),IF('FMI Template'!J270=\"CSD_SSS\",\"CSD-SSS\",IF('FMI Template'!J270=\"CCP_Derivatives\",\"CCP-Derivatives\",IF('FMI Template'!J270=\"CCP_securities\",\"CCP-securities\",IF('FMI Template'!J270=\"Trading_venue\",\"Trading-venue\",'FMI Template'!J270)))),\"\")","v":""},{"$f":"IF(AND('FMI Template'!K270<>\"\",'FMI Template'!K270<>\"UA\"),'FMI Template'!K270,\"\")","v":""},{"$f":"IF('FMI Template'!K270=\"direct\",\"NA\",IF(AND('FMI Template'!M270<>\"\",'FMI Template'!M270<>\"UA\"),'FMI Template'!M270,\"\"))","v":""},{"$f":"IF('FMI Template'!K270=\"direct\",\"NA\",IF(AND('FMI Template'!N270<>\"\",'FMI Template'!N270<>\"UA\"),'FMI Template'!N270,\"\"))","v":""},{"$f":"IF(OR('FMI Template'!H270=\"Other\",'FMI Template'!H270=\"NA\"),'FMI Template'!Q270,\"\")","v":""},{"$f":"IF(AND('FMI Template'!O270<>\"\",'FMI Template'!O270<>\"NA\",'FMI Template'!O270<>\"UA\"),'FMI Template'!O270,\"\")","v":""}]
[null,{"$f":"IF(AND('FMI Template'!B271<>\"\",'FMI Template'!B271<>\"NA\",'FMI Template'!B271<>\"UA\"),'FMI Template'!B271,\"\")","v":""},{"$f":"IF(AND('FMI Template'!C271<>\"\",'FMI Template'!C271<>\"NA\",'FMI Template'!C271<>\"UA\"),'FMI Template'!C271,\"\")","v":""},{"$f":"IF(AND('FMI Template'!D271<>\"\",'FMI Template'!D271<>\"NA\",'FMI Template'!D271<>\"UA\"),'FMI Template'!D271,\"\")","v":""},{"$f":"IF(AND('FMI Template'!F271<>\"\",'FMI Template'!F271<>\"NA\",'FMI Template'!F271<>\"UA\"),'FMI Template'!F271,\"\")","v":""},{"$f":"IF(AND('FMI Template'!H271<>\"\", 'FMI Template'!H271<>\"UA\"),IF('FMI Template'!H271=\"CSD\",\"(I)CSD\",IF('FMI Template'!H271=\"CCP_Derivatives\",\"CCP-Derivatives\",IF('FMI Template'!H271=\"CCP_securities\",\"CCP-securities\",IF('FMI Template'!H271=\"PS_Retail\",\"PS\",IF('FMI Template'!H271=\"PS_LV\",\"PS\",'FMI Template'!H271))))),\"\")","v":""},{"$f":"IF(AND('FMI Template'!I271<>\"\", 'FMI Template'!I271<>\"UA\"),'FMI Template'!I271,\"\")","v":""},{"$f":"IF(AND('FMI Template'!J271<>\"\",'FMI Template'!J271<>\"UA\"),IF('FMI Template'!J271=\"CSD_SSS\",\"CSD-SSS\",IF('FMI Template'!J271=\"CCP_Derivatives\",\"CCP-Derivatives\",IF('FMI Template'!J271=\"CCP_securities\",\"CCP-securities\",IF('FMI Template'!J271=\"Trading_venue\",\"Trading-venue\",'FMI Template'!J271)))),\"\")","v":""},{"$f":"IF(AND('FMI Template'!K271<>\"\",'FMI Template'!K271<>\"UA\"),'FMI Template'!K271,\"\")","v":""},{"$f":"IF('FMI Template'!K271=\"direct\",\"NA\",IF(AND('FMI Template'!M271<>\"\",'FMI Template'!M271<>\"UA\"),'FMI Template'!M271,\"\"))","v":""},{"$f":"IF('FMI Template'!K271=\"direct\",\"NA\",IF(AND('FMI Template'!N271<>\"\",'FMI Template'!N271<>\"UA\"),'FMI Template'!N271,\"\"))","v":""},{"$f":"IF(OR('FMI Template'!H271=\"Other\",'FMI Template'!H271=\"NA\"),'FMI Template'!Q271,\"\")","v":""},{"$f":"IF(AND('FMI Template'!O271<>\"\",'FMI Template'!O271<>\"NA\",'FMI Template'!O271<>\"UA\"),'FMI Template'!O271,\"\")","v":""}]
[null,{"$f":"IF(AND('FMI Template'!B272<>\"\",'FMI Template'!B272<>\"NA\",'FMI Template'!B272<>\"UA\"),'FMI Template'!B272,\"\")","v":""},{"$f":"IF(AND('FMI Template'!C272<>\"\",'FMI Template'!C272<>\"NA\",'FMI Template'!C272<>\"UA\"),'FMI Template'!C272,\"\")","v":""},{"$f":"IF(AND('FMI Template'!D272<>\"\",'FMI Template'!D272<>\"NA\",'FMI Template'!D272<>\"UA\"),'FMI Template'!D272,\"\")","v":""},{"$f":"IF(AND('FMI Template'!F272<>\"\",'FMI Template'!F272<>\"NA\",'FMI Template'!F272<>\"UA\"),'FMI Template'!F272,\"\")","v":""},{"$f":"IF(AND('FMI Template'!H272<>\"\", 'FMI Template'!H272<>\"UA\"),IF('FMI Template'!H272=\"CSD\",\"(I)CSD\",IF('FMI Template'!H272=\"CCP_Derivatives\",\"CCP-Derivatives\",IF('FMI Template'!H272=\"CCP_securities\",\"CCP-securities\",IF('FMI Template'!H272=\"PS_Retail\",\"PS\",IF('FMI Template'!H272=\"PS_LV\",\"PS\",'FMI Template'!H272))))),\"\")","v":""},{"$f":"IF(AND('FMI Template'!I272<>\"\", 'FMI Template'!I272<>\"UA\"),'FMI Template'!I272,\"\")","v":""},{"$f":"IF(AND('FMI Template'!J272<>\"\",'FMI Template'!J272<>\"UA\"),IF('FMI Template'!J272=\"CSD_SSS\",\"CSD-SSS\",IF('FMI Template'!J272=\"CCP_Derivatives\",\"CCP-Derivatives\",IF('FMI Template'!J272=\"CCP_securities\",\"CCP-securities\",IF('FMI Template'!J272=\"Trading_venue\",\"Trading-venue\",'FMI Template'!J272)))),\"\")","v":""},{"$f":"IF(AND('FMI Template'!K272<>\"\",'FMI Template'!K272<>\"UA\"),'FMI Template'!K272,\"\")","v":""},{"$f":"IF('FMI Template'!K272=\"direct\",\"NA\",IF(AND('FMI Template'!M272<>\"\",'FMI Template'!M272<>\"UA\"),'FMI Template'!M272,\"\"))","v":""},{"$f":"IF('FMI Template'!K272=\"direct\",\"NA\",IF(AND('FMI Template'!N272<>\"\",'FMI Template'!N272<>\"UA\"),'FMI Template'!N272,\"\"))","v":""},{"$f":"IF(OR('FMI Template'!H272=\"Other\",'FMI Template'!H272=\"NA\"),'FMI Template'!Q272,\"\")","v":""},{"$f":"IF(AND('FMI Template'!O272<>\"\",'FMI Template'!O272<>\"NA\",'FMI Template'!O272<>\"UA\"),'FMI Template'!O272,\"\")","v":""}]
[null,{"$f":"IF(AND('FMI Template'!B273<>\"\",'FMI Template'!B273<>\"NA\",'FMI Template'!B273<>\"UA\"),'FMI Template'!B273,\"\")","v":""},{"$f":"IF(AND('FMI Template'!C273<>\"\",'FMI Template'!C273<>\"NA\",'FMI Template'!C273<>\"UA\"),'FMI Template'!C273,\"\")","v":""},{"$f":"IF(AND('FMI Template'!D273<>\"\",'FMI Template'!D273<>\"NA\",'FMI Template'!D273<>\"UA\"),'FMI Template'!D273,\"\")","v":""},{"$f":"IF(AND('FMI Template'!F273<>\"\",'FMI Template'!F273<>\"NA\",'FMI Template'!F273<>\"UA\"),'FMI Template'!F273,\"\")","v":""},{"$f":"IF(AND('FMI Template'!H273<>\"\", 'FMI Template'!H273<>\"UA\"),IF('FMI Template'!H273=\"CSD\",\"(I)CSD\",IF('FMI Template'!H273=\"CCP_Derivatives\",\"CCP-Derivatives\",IF('FMI Template'!H273=\"CCP_securities\",\"CCP-securities\",IF('FMI Template'!H273=\"PS_Retail\",\"PS\",IF('FMI Template'!H273=\"PS_LV\",\"PS\",'FMI Template'!H273))))),\"\")","v":""},{"$f":"IF(AND('FMI Template'!I273<>\"\", 'FMI Template'!I273<>\"UA\"),'FMI Template'!I273,\"\")","v":""},{"$f":"IF(AND('FMI Template'!J273<>\"\",'FMI Template'!J273<>\"UA\"),IF('FMI Template'!J273=\"CSD_SSS\",\"CSD-SSS\",IF('FMI Template'!J273=\"CCP_Derivatives\",\"CCP-Derivatives\",IF('FMI Template'!J273=\"CCP_securities\",\"CCP-securities\",IF('FMI Template'!J273=\"Trading_venue\",\"Trading-venue\",'FMI Template'!J273)))),\"\")","v":""},{"$f":"IF(AND('FMI Template'!K273<>\"\",'FMI Template'!K273<>\"UA\"),'FMI Template'!K273,\"\")","v":""},{"$f":"IF('FMI Template'!K273=\"direct\",\"NA\",IF(AND('FMI Template'!M273<>\"\",'FMI Template'!M273<>\"UA\"),'FMI Template'!M273,\"\"))","v":""},{"$f":"IF('FMI Template'!K273=\"direct\",\"NA\",IF(AND('FMI Template'!N273<>\"\",'FMI Template'!N273<>\"UA\"),'FMI Template'!N273,\"\"))","v":""},{"$f":"IF(OR('FMI Template'!H273=\"Other\",'FMI Template'!H273=\"NA\"),'FMI Template'!Q273,\"\")","v":""},{"$f":"IF(AND('FMI Template'!O273<>\"\",'FMI Template'!O273<>\"NA\",'FMI Template'!O273<>\"UA\"),'FMI Template'!O273,\"\")","v":""}]
[null,{"$f":"IF(AND('FMI Template'!B274<>\"\",'FMI Template'!B274<>\"NA\",'FMI Template'!B274<>\"UA\"),'FMI Template'!B274,\"\")","v":""},{"$f":"IF(AND('FMI Template'!C274<>\"\",'FMI Template'!C274<>\"NA\",'FMI Template'!C274<>\"UA\"),'FMI Template'!C274,\"\")","v":""},{"$f":"IF(AND('FMI Template'!D274<>\"\",'FMI Template'!D274<>\"NA\",'FMI Template'!D274<>\"UA\"),'FMI Template'!D274,\"\")","v":""},{"$f":"IF(AND('FMI Template'!F274<>\"\",'FMI Template'!F274<>\"NA\",'FMI Template'!F274<>\"UA\"),'FMI Template'!F274,\"\")","v":""},{"$f":"IF(AND('FMI Template'!H274<>\"\", 'FMI Template'!H274<>\"UA\"),IF('FMI Template'!H274=\"CSD\",\"(I)CSD\",IF('FMI Template'!H274=\"CCP_Derivatives\",\"CCP-Derivatives\",IF('FMI Template'!H274=\"CCP_securities\",\"CCP-securities\",IF('FMI Template'!H274=\"PS_Retail\",\"PS\",IF('FMI Template'!H274=\"PS_LV\",\"PS\",'FMI Template'!H274))))),\"\")","v":""},{"$f":"IF(AND('FMI Template'!I274<>\"\", 'FMI Template'!I274<>\"UA\"),'FMI Template'!I274,\"\")","v":""},{"$f":"IF(AND('FMI Template'!J274<>\"\",'FMI Template'!J274<>\"UA\"),IF('FMI Template'!J274=\"CSD_SSS\",\"CSD-SSS\",IF('FMI Template'!J274=\"CCP_Derivatives\",\"CCP-Derivatives\",IF('FMI Template'!J274=\"CCP_securities\",\"CCP-securities\",IF('FMI Template'!J274=\"Trading_venue\",\"Trading-venue\",'FMI Template'!J274)))),\"\")","v":""},{"$f":"IF(AND('FMI Template'!K274<>\"\",'FMI Template'!K274<>\"UA\"),'FMI Template'!K274,\"\")","v":""},{"$f":"IF('FMI Template'!K274=\"direct\",\"NA\",IF(AND('FMI Template'!M274<>\"\",'FMI Template'!M274<>\"UA\"),'FMI Template'!M274,\"\"))","v":""},{"$f":"IF('FMI Template'!K274=\"direct\",\"NA\",IF(AND('FMI Template'!N274<>\"\",'FMI Template'!N274<>\"UA\"),'FMI Template'!N274,\"\"))","v":""},{"$f":"IF(OR('FMI Template'!H274=\"Other\",'FMI Template'!H274=\"NA\"),'FMI Template'!Q274,\"\")","v":""},{"$f":"IF(AND('FMI Template'!O274<>\"\",'FMI Template'!O274<>\"NA\",'FMI Template'!O274<>\"UA\"),'FMI Template'!O274,\"\")","v":""}]
[null,{"$f":"IF(AND('FMI Template'!B275<>\"\",'FMI Template'!B275<>\"NA\",'FMI Template'!B275<>\"UA\"),'FMI Template'!B275,\"\")","v":""},{"$f":"IF(AND('FMI Template'!C275<>\"\",'FMI Template'!C275<>\"NA\",'FMI Template'!C275<>\"UA\"),'FMI Template'!C275,\"\")","v":""},{"$f":"IF(AND('FMI Template'!D275<>\"\",'FMI Template'!D275<>\"NA\",'FMI Template'!D275<>\"UA\"),'FMI Template'!D275,\"\")","v":""},{"$f":"IF(AND('FMI Template'!F275<>\"\",'FMI Template'!F275<>\"NA\",'FMI Template'!F275<>\"UA\"),'FMI Template'!F275,\"\")","v":""},{"$f":"IF(AND('FMI Template'!H275<>\"\", 'FMI Template'!H275<>\"UA\"),IF('FMI Template'!H275=\"CSD\",\"(I)CSD\",IF('FMI Template'!H275=\"CCP_Derivatives\",\"CCP-Derivatives\",IF('FMI Template'!H275=\"CCP_securities\",\"CCP-securities\",IF('FMI Template'!H275=\"PS_Retail\",\"PS\",IF('FMI Template'!H275=\"PS_LV\",\"PS\",'FMI Template'!H275))))),\"\")","v":""},{"$f":"IF(AND('FMI Template'!I275<>\"\", 'FMI Template'!I275<>\"UA\"),'FMI Template'!I275,\"\")","v":""},{"$f":"IF(AND('FMI Template'!J275<>\"\",'FMI Template'!J275<>\"UA\"),IF('FMI Template'!J275=\"CSD_SSS\",\"CSD-SSS\",IF('FMI Template'!J275=\"CCP_Derivatives\",\"CCP-Derivatives\",IF('FMI Template'!J275=\"CCP_securities\",\"CCP-securities\",IF('FMI Template'!J275=\"Trading_venue\",\"Trading-venue\",'FMI Template'!J275)))),\"\")","v":""},{"$f":"IF(AND('FMI Template'!K275<>\"\",'FMI Template'!K275<>\"UA\"),'FMI Template'!K275,\"\")","v":""},{"$f":"IF('FMI Template'!K275=\"direct\",\"NA\",IF(AND('FMI Template'!M275<>\"\",'FMI Template'!M275<>\"UA\"),'FMI Template'!M275,\"\"))","v":""},{"$f":"IF('FMI Template'!K275=\"direct\",\"NA\",IF(AND('FMI Template'!N275<>\"\",'FMI Template'!N275<>\"UA\"),'FMI Template'!N275,\"\"))","v":""},{"$f":"IF(OR('FMI Template'!H275=\"Other\",'FMI Template'!H275=\"NA\"),'FMI Template'!Q275,\"\")","v":""},{"$f":"IF(AND('FMI Template'!O275<>\"\",'FMI Template'!O275<>\"NA\",'FMI Template'!O275<>\"UA\"),'FMI Template'!O275,\"\")","v":""}]
[null,{"$f":"IF(AND('FMI Template'!B276<>\"\",'FMI Template'!B276<>\"NA\",'FMI Template'!B276<>\"UA\"),'FMI Template'!B276,\"\")","v":""},{"$f":"IF(AND('FMI Template'!C276<>\"\",'FMI Template'!C276<>\"NA\",'FMI Template'!C276<>\"UA\"),'FMI Template'!C276,\"\")","v":""},{"$f":"IF(AND('FMI Template'!D276<>\"\",'FMI Template'!D276<>\"NA\",'FMI Template'!D276<>\"UA\"),'FMI Template'!D276,\"\")","v":""},{"$f":"IF(AND('FMI Template'!F276<>\"\",'FMI Template'!F276<>\"NA\",'FMI Template'!F276<>\"UA\"),'FMI Template'!F276,\"\")","v":""},{"$f":"IF(AND('FMI Template'!H276<>\"\", 'FMI Template'!H276<>\"UA\"),IF('FMI Template'!H276=\"CSD\",\"(I)CSD\",IF('FMI Template'!H276=\"CCP_Derivatives\",\"CCP-Derivatives\",IF('FMI Template'!H276=\"CCP_securities\",\"CCP-securities\",IF('FMI Template'!H276=\"PS_Retail\",\"PS\",IF('FMI Template'!H276=\"PS_LV\",\"PS\",'FMI Template'!H276))))),\"\")","v":""},{"$f":"IF(AND('FMI Template'!I276<>\"\", 'FMI Template'!I276<>\"UA\"),'FMI Template'!I276,\"\")","v":""},{"$f":"IF(AND('FMI Template'!J276<>\"\",'FMI Template'!J276<>\"UA\"),IF('FMI Template'!J276=\"CSD_SSS\",\"CSD-SSS\",IF('FMI Template'!J276=\"CCP_Derivatives\",\"CCP-Derivatives\",IF('FMI Template'!J276=\"CCP_securities\",\"CCP-securities\",IF('FMI Template'!J276=\"Trading_venue\",\"Trading-venue\",'FMI Template'!J276)))),\"\")","v":""},{"$f":"IF(AND('FMI Template'!K276<>\"\",'FMI Template'!K276<>\"UA\"),'FMI Template'!K276,\"\")","v":""},{"$f":"IF('FMI Template'!K276=\"direct\",\"NA\",IF(AND('FMI Template'!M276<>\"\",'FMI Template'!M276<>\"UA\"),'FMI Template'!M276,\"\"))","v":""},{"$f":"IF('FMI Template'!K276=\"direct\",\"NA\",IF(AND('FMI Template'!N276<>\"\",'FMI Template'!N276<>\"UA\"),'FMI Template'!N276,\"\"))","v":""},{"$f":"IF(OR('FMI Template'!H276=\"Other\",'FMI Template'!H276=\"NA\"),'FMI Template'!Q276,\"\")","v":""},{"$f":"IF(AND('FMI Template'!O276<>\"\",'FMI Template'!O276<>\"NA\",'FMI Template'!O276<>\"UA\"),'FMI Template'!O276,\"\")","v":""}]
[null,{"$f":"IF(AND('FMI Template'!B277<>\"\",'FMI Template'!B277<>\"NA\",'FMI Template'!B277<>\"UA\"),'FMI Template'!B277,\"\")","v":""},{"$f":"IF(AND('FMI Template'!C277<>\"\",'FMI Template'!C277<>\"NA\",'FMI Template'!C277<>\"UA\"),'FMI Template'!C277,\"\")","v":""},{"$f":"IF(AND('FMI Template'!D277<>\"\",'FMI Template'!D277<>\"NA\",'FMI Template'!D277<>\"UA\"),'FMI Template'!D277,\"\")","v":""},{"$f":"IF(AND('FMI Template'!F277<>\"\",'FMI Template'!F277<>\"NA\",'FMI Template'!F277<>\"UA\"),'FMI Template'!F277,\"\")","v":""},{"$f":"IF(AND('FMI Template'!H277<>\"\", 'FMI Template'!H277<>\"UA\"),IF('FMI Template'!H277=\"CSD\",\"(I)CSD\",IF('FMI Template'!H277=\"CCP_Derivatives\",\"CCP-Derivatives\",IF('FMI Template'!H277=\"CCP_securities\",\"CCP-securities\",IF('FMI Template'!H277=\"PS_Retail\",\"PS\",IF('FMI Template'!H277=\"PS_LV\",\"PS\",'FMI Template'!H277))))),\"\")","v":""},{"$f":"IF(AND('FMI Template'!I277<>\"\", 'FMI Template'!I277<>\"UA\"),'FMI Template'!I277,\"\")","v":""},{"$f":"IF(AND('FMI Template'!J277<>\"\",'FMI Template'!J277<>\"UA\"),IF('FMI Template'!J277=\"CSD_SSS\",\"CSD-SSS\",IF('FMI Template'!J277=\"CCP_Derivatives\",\"CCP-Derivatives\",IF('FMI Template'!J277=\"CCP_securities\",\"CCP-securities\",IF('FMI Template'!J277=\"Trading_venue\",\"Trading-venue\",'FMI Template'!J277)))),\"\")","v":""},{"$f":"IF(AND('FMI Template'!K277<>\"\",'FMI Template'!K277<>\"UA\"),'FMI Template'!K277,\"\")","v":""},{"$f":"IF('FMI Template'!K277=\"direct\",\"NA\",IF(AND('FMI Template'!M277<>\"\",'FMI Template'!M277<>\"UA\"),'FMI Template'!M277,\"\"))","v":""},{"$f":"IF('FMI Template'!K277=\"direct\",\"NA\",IF(AND('FMI Template'!N277<>\"\",'FMI Template'!N277<>\"UA\"),'FMI Template'!N277,\"\"))","v":""},{"$f":"IF(OR('FMI Template'!H277=\"Other\",'FMI Template'!H277=\"NA\"),'FMI Template'!Q277,\"\")","v":""},{"$f":"IF(AND('FMI Template'!O277<>\"\",'FMI Template'!O277<>\"NA\",'FMI Template'!O277<>\"UA\"),'FMI Template'!O277,\"\")","v":""}]
[null,{"$f":"IF(AND('FMI Template'!B278<>\"\",'FMI Template'!B278<>\"NA\",'FMI Template'!B278<>\"UA\"),'FMI Template'!B278,\"\")","v":""},{"$f":"IF(AND('FMI Template'!C278<>\"\",'FMI Template'!C278<>\"NA\",'FMI Template'!C278<>\"UA\"),'FMI Template'!C278,\"\")","v":""},{"$f":"IF(AND('FMI Template'!D278<>\"\",'FMI Template'!D278<>\"NA\",'FMI Template'!D278<>\"UA\"),'FMI Template'!D278,\"\")","v":""},{"$f":"IF(AND('FMI Template'!F278<>\"\",'FMI Template'!F278<>\"NA\",'FMI Template'!F278<>\"UA\"),'FMI Template'!F278,\"\")","v":""},{"$f":"IF(AND('FMI Template'!H278<>\"\", 'FMI Template'!H278<>\"UA\"),IF('FMI Template'!H278=\"CSD\",\"(I)CSD\",IF('FMI Template'!H278=\"CCP_Derivatives\",\"CCP-Derivatives\",IF('FMI Template'!H278=\"CCP_securities\",\"CCP-securities\",IF('FMI Template'!H278=\"PS_Retail\",\"PS\",IF('FMI Template'!H278=\"PS_LV\",\"PS\",'FMI Template'!H278))))),\"\")","v":""},{"$f":"IF(AND('FMI Template'!I278<>\"\", 'FMI Template'!I278<>\"UA\"),'FMI Template'!I278,\"\")","v":""},{"$f":"IF(AND('FMI Template'!J278<>\"\",'FMI Template'!J278<>\"UA\"),IF('FMI Template'!J278=\"CSD_SSS\",\"CSD-SSS\",IF('FMI Template'!J278=\"CCP_Derivatives\",\"CCP-Derivatives\",IF('FMI Template'!J278=\"CCP_securities\",\"CCP-securities\",IF('FMI Template'!J278=\"Trading_venue\",\"Trading-venue\",'FMI Template'!J278)))),\"\")","v":""},{"$f":"IF(AND('FMI Template'!K278<>\"\",'FMI Template'!K278<>\"UA\"),'FMI Template'!K278,\"\")","v":""},{"$f":"IF('FMI Template'!K278=\"direct\",\"NA\",IF(AND('FMI Template'!M278<>\"\",'FMI Template'!M278<>\"UA\"),'FMI Template'!M278,\"\"))","v":""},{"$f":"IF('FMI Template'!K278=\"direct\",\"NA\",IF(AND('FMI Template'!N278<>\"\",'FMI Template'!N278<>\"UA\"),'FMI Template'!N278,\"\"))","v":""},{"$f":"IF(OR('FMI Template'!H278=\"Other\",'FMI Template'!H278=\"NA\"),'FMI Template'!Q278,\"\")","v":""},{"$f":"IF(AND('FMI Template'!O278<>\"\",'FMI Template'!O278<>\"NA\",'FMI Template'!O278<>\"UA\"),'FMI Template'!O278,\"\")","v":""}]
[null,{"$f":"IF(AND('FMI Template'!B279<>\"\",'FMI Template'!B279<>\"NA\",'FMI Template'!B279<>\"UA\"),'FMI Template'!B279,\"\")","v":""},{"$f":"IF(AND('FMI Template'!C279<>\"\",'FMI Template'!C279<>\"NA\",'FMI Template'!C279<>\"UA\"),'FMI Template'!C279,\"\")","v":""},{"$f":"IF(AND('FMI Template'!D279<>\"\",'FMI Template'!D279<>\"NA\",'FMI Template'!D279<>\"UA\"),'FMI Template'!D279,\"\")","v":""},{"$f":"IF(AND('FMI Template'!F279<>\"\",'FMI Template'!F279<>\"NA\",'FMI Template'!F279<>\"UA\"),'FMI Template'!F279,\"\")","v":""},{"$f":"IF(AND('FMI Template'!H279<>\"\", 'FMI Template'!H279<>\"UA\"),IF('FMI Template'!H279=\"CSD\",\"(I)CSD\",IF('FMI Template'!H279=\"CCP_Derivatives\",\"CCP-Derivatives\",IF('FMI Template'!H279=\"CCP_securities\",\"CCP-securities\",IF('FMI Template'!H279=\"PS_Retail\",\"PS\",IF('FMI Template'!H279=\"PS_LV\",\"PS\",'FMI Template'!H279))))),\"\")","v":""},{"$f":"IF(AND('FMI Template'!I279<>\"\", 'FMI Template'!I279<>\"UA\"),'FMI Template'!I279,\"\")","v":""},{"$f":"IF(AND('FMI Template'!J279<>\"\",'FMI Template'!J279<>\"UA\"),IF('FMI Template'!J279=\"CSD_SSS\",\"CSD-SSS\",IF('FMI Template'!J279=\"CCP_Derivatives\",\"CCP-Derivatives\",IF('FMI Template'!J279=\"CCP_securities\",\"CCP-securities\",IF('FMI Template'!J279=\"Trading_venue\",\"Trading-venue\",'FMI Template'!J279)))),\"\")","v":""},{"$f":"IF(AND('FMI Template'!K279<>\"\",'FMI Template'!K279<>\"UA\"),'FMI Template'!K279,\"\")","v":""},{"$f":"IF('FMI Template'!K279=\"direct\",\"NA\",IF(AND('FMI Template'!M279<>\"\",'FMI Template'!M279<>\"UA\"),'FMI Template'!M279,\"\"))","v":""},{"$f":"IF('FMI Template'!K279=\"direct\",\"NA\",IF(AND('FMI Template'!N279<>\"\",'FMI Template'!N279<>\"UA\"),'FMI Template'!N279,\"\"))","v":""},{"$f":"IF(OR('FMI Template'!H279=\"Other\",'FMI Template'!H279=\"NA\"),'FMI Template'!Q279,\"\")","v":""},{"$f":"IF(AND('FMI Template'!O279<>\"\",'FMI Template'!O279<>\"NA\",'FMI Template'!O279<>\"UA\"),'FMI Template'!O279,\"\")","v":""}]
[null,{"$f":"IF(AND('FMI Template'!B280<>\"\",'FMI Template'!B280<>\"NA\",'FMI Template'!B280<>\"UA\"),'FMI Template'!B280,\"\")","v":""},{"$f":"IF(AND('FMI Template'!C280<>\"\",'FMI Template'!C280<>\"NA\",'FMI Template'!C280<>\"UA\"),'FMI Template'!C280,\"\")","v":""},{"$f":"IF(AND('FMI Template'!D280<>\"\",'FMI Template'!D280<>\"NA\",'FMI Template'!D280<>\"UA\"),'FMI Template'!D280,\"\")","v":""},{"$f":"IF(AND('FMI Template'!F280<>\"\",'FMI Template'!F280<>\"NA\",'FMI Template'!F280<>\"UA\"),'FMI Template'!F280,\"\")","v":""},{"$f":"IF(AND('FMI Template'!H280<>\"\", 'FMI Template'!H280<>\"UA\"),IF('FMI Template'!H280=\"CSD\",\"(I)CSD\",IF('FMI Template'!H280=\"CCP_Derivatives\",\"CCP-Derivatives\",IF('FMI Template'!H280=\"CCP_securities\",\"CCP-securities\",IF('FMI Template'!H280=\"PS_Retail\",\"PS\",IF('FMI Template'!H280=\"PS_LV\",\"PS\",'FMI Template'!H280))))),\"\")","v":""},{"$f":"IF(AND('FMI Template'!I280<>\"\", 'FMI Template'!I280<>\"UA\"),'FMI Template'!I280,\"\")","v":""},{"$f":"IF(AND('FMI Template'!J280<>\"\",'FMI Template'!J280<>\"UA\"),IF('FMI Template'!J280=\"CSD_SSS\",\"CSD-SSS\",IF('FMI Template'!J280=\"CCP_Derivatives\",\"CCP-Derivatives\",IF('FMI Template'!J280=\"CCP_securities\",\"CCP-securities\",IF('FMI Template'!J280=\"Trading_venue\",\"Trading-venue\",'FMI Template'!J280)))),\"\")","v":""},{"$f":"IF(AND('FMI Template'!K280<>\"\",'FMI Template'!K280<>\"UA\"),'FMI Template'!K280,\"\")","v":""},{"$f":"IF('FMI Template'!K280=\"direct\",\"NA\",IF(AND('FMI Template'!M280<>\"\",'FMI Template'!M280<>\"UA\"),'FMI Template'!M280,\"\"))","v":""},{"$f":"IF('FMI Template'!K280=\"direct\",\"NA\",IF(AND('FMI Template'!N280<>\"\",'FMI Template'!N280<>\"UA\"),'FMI Template'!N280,\"\"))","v":""},{"$f":"IF(OR('FMI Template'!H280=\"Other\",'FMI Template'!H280=\"NA\"),'FMI Template'!Q280,\"\")","v":""},{"$f":"IF(AND('FMI Template'!O280<>\"\",'FMI Template'!O280<>\"NA\",'FMI Template'!O280<>\"UA\"),'FMI Template'!O280,\"\")","v":""}]
[null,{"$f":"IF(AND('FMI Template'!B281<>\"\",'FMI Template'!B281<>\"NA\",'FMI Template'!B281<>\"UA\"),'FMI Template'!B281,\"\")","v":""},{"$f":"IF(AND('FMI Template'!C281<>\"\",'FMI Template'!C281<>\"NA\",'FMI Template'!C281<>\"UA\"),'FMI Template'!C281,\"\")","v":""},{"$f":"IF(AND('FMI Template'!D281<>\"\",'FMI Template'!D281<>\"NA\",'FMI Template'!D281<>\"UA\"),'FMI Template'!D281,\"\")","v":""},{"$f":"IF(AND('FMI Template'!F281<>\"\",'FMI Template'!F281<>\"NA\",'FMI Template'!F281<>\"UA\"),'FMI Template'!F281,\"\")","v":""},{"$f":"IF(AND('FMI Template'!H281<>\"\", 'FMI Template'!H281<>\"UA\"),IF('FMI Template'!H281=\"CSD\",\"(I)CSD\",IF('FMI Template'!H281=\"CCP_Derivatives\",\"CCP-Derivatives\",IF('FMI Template'!H281=\"CCP_securities\",\"CCP-securities\",IF('FMI Template'!H281=\"PS_Retail\",\"PS\",IF('FMI Template'!H281=\"PS_LV\",\"PS\",'FMI Template'!H281))))),\"\")","v":""},{"$f":"IF(AND('FMI Template'!I281<>\"\", 'FMI Template'!I281<>\"UA\"),'FMI Template'!I281,\"\")","v":""},{"$f":"IF(AND('FMI Template'!J281<>\"\",'FMI Template'!J281<>\"UA\"),IF('FMI Template'!J281=\"CSD_SSS\",\"CSD-SSS\",IF('FMI Template'!J281=\"CCP_Derivatives\",\"CCP-Derivatives\",IF('FMI Template'!J281=\"CCP_securities\",\"CCP-securities\",IF('FMI Template'!J281=\"Trading_venue\",\"Trading-venue\",'FMI Template'!J281)))),\"\")","v":""},{"$f":"IF(AND('FMI Template'!K281<>\"\",'FMI Template'!K281<>\"UA\"),'FMI Template'!K281,\"\")","v":""},{"$f":"IF('FMI Template'!K281=\"direct\",\"NA\",IF(AND('FMI Template'!M281<>\"\",'FMI Template'!M281<>\"UA\"),'FMI Template'!M281,\"\"))","v":""},{"$f":"IF('FMI Template'!K281=\"direct\",\"NA\",IF(AND('FMI Template'!N281<>\"\",'FMI Template'!N281<>\"UA\"),'FMI Template'!N281,\"\"))","v":""},{"$f":"IF(OR('FMI Template'!H281=\"Other\",'FMI Template'!H281=\"NA\"),'FMI Template'!Q281,\"\")","v":""},{"$f":"IF(AND('FMI Template'!O281<>\"\",'FMI Template'!O281<>\"NA\",'FMI Template'!O281<>\"UA\"),'FMI Template'!O281,\"\")","v":""}]
[null,{"$f":"IF(AND('FMI Template'!B282<>\"\",'FMI Template'!B282<>\"NA\",'FMI Template'!B282<>\"UA\"),'FMI Template'!B282,\"\")","v":""},{"$f":"IF(AND('FMI Template'!C282<>\"\",'FMI Template'!C282<>\"NA\",'FMI Template'!C282<>\"UA\"),'FMI Template'!C282,\"\")","v":""},{"$f":"IF(AND('FMI Template'!D282<>\"\",'FMI Template'!D282<>\"NA\",'FMI Template'!D282<>\"UA\"),'FMI Template'!D282,\"\")","v":""},{"$f":"IF(AND('FMI Template'!F282<>\"\",'FMI Template'!F282<>\"NA\",'FMI Template'!F282<>\"UA\"),'FMI Template'!F282,\"\")","v":""},{"$f":"IF(AND('FMI Template'!H282<>\"\", 'FMI Template'!H282<>\"UA\"),IF('FMI Template'!H282=\"CSD\",\"(I)CSD\",IF('FMI Template'!H282=\"CCP_Derivatives\",\"CCP-Derivatives\",IF('FMI Template'!H282=\"CCP_securities\",\"CCP-securities\",IF('FMI Template'!H282=\"PS_Retail\",\"PS\",IF('FMI Template'!H282=\"PS_LV\",\"PS\",'FMI Template'!H282))))),\"\")","v":""},{"$f":"IF(AND('FMI Template'!I282<>\"\", 'FMI Template'!I282<>\"UA\"),'FMI Template'!I282,\"\")","v":""},{"$f":"IF(AND('FMI Template'!J282<>\"\",'FMI Template'!J282<>\"UA\"),IF('FMI Template'!J282=\"CSD_SSS\",\"CSD-SSS\",IF('FMI Template'!J282=\"CCP_Derivatives\",\"CCP-Derivatives\",IF('FMI Template'!J282=\"CCP_securities\",\"CCP-securities\",IF('FMI Template'!J282=\"Trading_venue\",\"Trading-venue\",'FMI Template'!J282)))),\"\")","v":""},{"$f":"IF(AND('FMI Template'!K282<>\"\",'FMI Template'!K282<>\"UA\"),'FMI Template'!K282,\"\")","v":""},{"$f":"IF('FMI Template'!K282=\"direct\",\"NA\",IF(AND('FMI Template'!M282<>\"\",'FMI Template'!M282<>\"UA\"),'FMI Template'!M282,\"\"))","v":""},{"$f":"IF('FMI Template'!K282=\"direct\",\"NA\",IF(AND('FMI Template'!N282<>\"\",'FMI Template'!N282<>\"UA\"),'FMI Template'!N282,\"\"))","v":""},{"$f":"IF(OR('FMI Template'!H282=\"Other\",'FMI Template'!H282=\"NA\"),'FMI Template'!Q282,\"\")","v":""},{"$f":"IF(AND('FMI Template'!O282<>\"\",'FMI Template'!O282<>\"NA\",'FMI Template'!O282<>\"UA\"),'FMI Template'!O282,\"\")","v":""}]
[null,{"$f":"IF(AND('FMI Template'!B283<>\"\",'FMI Template'!B283<>\"NA\",'FMI Template'!B283<>\"UA\"),'FMI Template'!B283,\"\")","v":""},{"$f":"IF(AND('FMI Template'!C283<>\"\",'FMI Template'!C283<>\"NA\",'FMI Template'!C283<>\"UA\"),'FMI Template'!C283,\"\")","v":""},{"$f":"IF(AND('FMI Template'!D283<>\"\",'FMI Template'!D283<>\"NA\",'FMI Template'!D283<>\"UA\"),'FMI Template'!D283,\"\")","v":""},{"$f":"IF(AND('FMI Template'!F283<>\"\",'FMI Template'!F283<>\"NA\",'FMI Template'!F283<>\"UA\"),'FMI Template'!F283,\"\")","v":""},{"$f":"IF(AND('FMI Template'!H283<>\"\", 'FMI Template'!H283<>\"UA\"),IF('FMI Template'!H283=\"CSD\",\"(I)CSD\",IF('FMI Template'!H283=\"CCP_Derivatives\",\"CCP-Derivatives\",IF('FMI Template'!H283=\"CCP_securities\",\"CCP-securities\",IF('FMI Template'!H283=\"PS_Retail\",\"PS\",IF('FMI Template'!H283=\"PS_LV\",\"PS\",'FMI Template'!H283))))),\"\")","v":""},{"$f":"IF(AND('FMI Template'!I283<>\"\", 'FMI Template'!I283<>\"UA\"),'FMI Template'!I283,\"\")","v":""},{"$f":"IF(AND('FMI Template'!J283<>\"\",'FMI Template'!J283<>\"UA\"),IF('FMI Template'!J283=\"CSD_SSS\",\"CSD-SSS\",IF('FMI Template'!J283=\"CCP_Derivatives\",\"CCP-Derivatives\",IF('FMI Template'!J283=\"CCP_securities\",\"CCP-securities\",IF('FMI Template'!J283=\"Trading_venue\",\"Trading-venue\",'FMI Template'!J283)))),\"\")","v":""},{"$f":"IF(AND('FMI Template'!K283<>\"\",'FMI Template'!K283<>\"UA\"),'FMI Template'!K283,\"\")","v":""},{"$f":"IF('FMI Template'!K283=\"direct\",\"NA\",IF(AND('FMI Template'!M283<>\"\",'FMI Template'!M283<>\"UA\"),'FMI Template'!M283,\"\"))","v":""},{"$f":"IF('FMI Template'!K283=\"direct\",\"NA\",IF(AND('FMI Template'!N283<>\"\",'FMI Template'!N283<>\"UA\"),'FMI Template'!N283,\"\"))","v":""},{"$f":"IF(OR('FMI Template'!H283=\"Other\",'FMI Template'!H283=\"NA\"),'FMI Template'!Q283,\"\")","v":""},{"$f":"IF(AND('FMI Template'!O283<>\"\",'FMI Template'!O283<>\"NA\",'FMI Template'!O283<>\"UA\"),'FMI Template'!O283,\"\")","v":""}]
[null,{"$f":"IF(AND('FMI Template'!B284<>\"\",'FMI Template'!B284<>\"NA\",'FMI Template'!B284<>\"UA\"),'FMI Template'!B284,\"\")","v":""},{"$f":"IF(AND('FMI Template'!C284<>\"\",'FMI Template'!C284<>\"NA\",'FMI Template'!C284<>\"UA\"),'FMI Template'!C284,\"\")","v":""},{"$f":"IF(AND('FMI Template'!D284<>\"\",'FMI Template'!D284<>\"NA\",'FMI Template'!D284<>\"UA\"),'FMI Template'!D284,\"\")","v":""},{"$f":"IF(AND('FMI Template'!F284<>\"\",'FMI Template'!F284<>\"NA\",'FMI Template'!F284<>\"UA\"),'FMI Template'!F284,\"\")","v":""},{"$f":"IF(AND('FMI Template'!H284<>\"\", 'FMI Template'!H284<>\"UA\"),IF('FMI Template'!H284=\"CSD\",\"(I)CSD\",IF('FMI Template'!H284=\"CCP_Derivatives\",\"CCP-Derivatives\",IF('FMI Template'!H284=\"CCP_securities\",\"CCP-securities\",IF('FMI Template'!H284=\"PS_Retail\",\"PS\",IF('FMI Template'!H284=\"PS_LV\",\"PS\",'FMI Template'!H284))))),\"\")","v":""},{"$f":"IF(AND('FMI Template'!I284<>\"\", 'FMI Template'!I284<>\"UA\"),'FMI Template'!I284,\"\")","v":""},{"$f":"IF(AND('FMI Template'!J284<>\"\",'FMI Template'!J284<>\"UA\"),IF('FMI Template'!J284=\"CSD_SSS\",\"CSD-SSS\",IF('FMI Template'!J284=\"CCP_Derivatives\",\"CCP-Derivatives\",IF('FMI Template'!J284=\"CCP_securities\",\"CCP-securities\",IF('FMI Template'!J284=\"Trading_venue\",\"Trading-venue\",'FMI Template'!J284)))),\"\")","v":""},{"$f":"IF(AND('FMI Template'!K284<>\"\",'FMI Template'!K284<>\"UA\"),'FMI Template'!K284,\"\")","v":""},{"$f":"IF('FMI Template'!K284=\"direct\",\"NA\",IF(AND('FMI Template'!M284<>\"\",'FMI Template'!M284<>\"UA\"),'FMI Template'!M284,\"\"))","v":""},{"$f":"IF('FMI Template'!K284=\"direct\",\"NA\",IF(AND('FMI Template'!N284<>\"\",'FMI Template'!N284<>\"UA\"),'FMI Template'!N284,\"\"))","v":""},{"$f":"IF(OR('FMI Template'!H284=\"Other\",'FMI Template'!H284=\"NA\"),'FMI Template'!Q284,\"\")","v":""},{"$f":"IF(AND('FMI Template'!O284<>\"\",'FMI Template'!O284<>\"NA\",'FMI Template'!O284<>\"UA\"),'FMI Template'!O284,\"\")","v":""}]
[null,{"$f":"IF(AND('FMI Template'!B285<>\"\",'FMI Template'!B285<>\"NA\",'FMI Template'!B285<>\"UA\"),'FMI Template'!B285,\"\")","v":""},{"$f":"IF(AND('FMI Template'!C285<>\"\",'FMI Template'!C285<>\"NA\",'FMI Template'!C285<>\"UA\"),'FMI Template'!C285,\"\")","v":""},{"$f":"IF(AND('FMI Template'!D285<>\"\",'FMI Template'!D285<>\"NA\",'FMI Template'!D285<>\"UA\"),'FMI Template'!D285,\"\")","v":""},{"$f":"IF(AND('FMI Template'!F285<>\"\",'FMI Template'!F285<>\"NA\",'FMI Template'!F285<>\"UA\"),'FMI Template'!F285,\"\")","v":""},{"$f":"IF(AND('FMI Template'!H285<>\"\", 'FMI Template'!H285<>\"UA\"),IF('FMI Template'!H285=\"CSD\",\"(I)CSD\",IF('FMI Template'!H285=\"CCP_Derivatives\",\"CCP-Derivatives\",IF('FMI Template'!H285=\"CCP_securities\",\"CCP-securities\",IF('FMI Template'!H285=\"PS_Retail\",\"PS\",IF('FMI Template'!H285=\"PS_LV\",\"PS\",'FMI Template'!H285))))),\"\")","v":""},{"$f":"IF(AND('FMI Template'!I285<>\"\", 'FMI Template'!I285<>\"UA\"),'FMI Template'!I285,\"\")","v":""},{"$f":"IF(AND('FMI Template'!J285<>\"\",'FMI Template'!J285<>\"UA\"),IF('FMI Template'!J285=\"CSD_SSS\",\"CSD-SSS\",IF('FMI Template'!J285=\"CCP_Derivatives\",\"CCP-Derivatives\",IF('FMI Template'!J285=\"CCP_securities\",\"CCP-securities\",IF('FMI Template'!J285=\"Trading_venue\",\"Trading-venue\",'FMI Template'!J285)))),\"\")","v":""},{"$f":"IF(AND('FMI Template'!K285<>\"\",'FMI Template'!K285<>\"UA\"),'FMI Template'!K285,\"\")","v":""},{"$f":"IF('FMI Template'!K285=\"direct\",\"NA\",IF(AND('FMI Template'!M285<>\"\",'FMI Template'!M285<>\"UA\"),'FMI Template'!M285,\"\"))","v":""},{"$f":"IF('FMI Template'!K285=\"direct\",\"NA\",IF(AND('FMI Template'!N285<>\"\",'FMI Template'!N285<>\"UA\"),'FMI Template'!N285,\"\"))","v":""},{"$f":"IF(OR('FMI Template'!H285=\"Other\",'FMI Template'!H285=\"NA\"),'FMI Template'!Q285,\"\")","v":""},{"$f":"IF(AND('FMI Template'!O285<>\"\",'FMI Template'!O285<>\"NA\",'FMI Template'!O285<>\"UA\"),'FMI Template'!O285,\"\")","v":""}]
[null,{"$f":"IF(AND('FMI Template'!B286<>\"\",'FMI Template'!B286<>\"NA\",'FMI Template'!B286<>\"UA\"),'FMI Template'!B286,\"\")","v":""},{"$f":"IF(AND('FMI Template'!C286<>\"\",'FMI Template'!C286<>\"NA\",'FMI Template'!C286<>\"UA\"),'FMI Template'!C286,\"\")","v":""},{"$f":"IF(AND('FMI Template'!D286<>\"\",'FMI Template'!D286<>\"NA\",'FMI Template'!D286<>\"UA\"),'FMI Template'!D286,\"\")","v":""},{"$f":"IF(AND('FMI Template'!F286<>\"\",'FMI Template'!F286<>\"NA\",'FMI Template'!F286<>\"UA\"),'FMI Template'!F286,\"\")","v":""},{"$f":"IF(AND('FMI Template'!H286<>\"\", 'FMI Template'!H286<>\"UA\"),IF('FMI Template'!H286=\"CSD\",\"(I)CSD\",IF('FMI Template'!H286=\"CCP_Derivatives\",\"CCP-Derivatives\",IF('FMI Template'!H286=\"CCP_securities\",\"CCP-securities\",IF('FMI Template'!H286=\"PS_Retail\",\"PS\",IF('FMI Template'!H286=\"PS_LV\",\"PS\",'FMI Template'!H286))))),\"\")","v":""},{"$f":"IF(AND('FMI Template'!I286<>\"\", 'FMI Template'!I286<>\"UA\"),'FMI Template'!I286,\"\")","v":""},{"$f":"IF(AND('FMI Template'!J286<>\"\",'FMI Template'!J286<>\"UA\"),IF('FMI Template'!J286=\"CSD_SSS\",\"CSD-SSS\",IF('FMI Template'!J286=\"CCP_Derivatives\",\"CCP-Derivatives\",IF('FMI Template'!J286=\"CCP_securities\",\"CCP-securities\",IF('FMI Template'!J286=\"Trading_venue\",\"Trading-venue\",'FMI Template'!J286)))),\"\")","v":""},{"$f":"IF(AND('FMI Template'!K286<>\"\",'FMI Template'!K286<>\"UA\"),'FMI Template'!K286,\"\")","v":""},{"$f":"IF('FMI Template'!K286=\"direct\",\"NA\",IF(AND('FMI Template'!M286<>\"\",'FMI Template'!M286<>\"UA\"),'FMI Template'!M286,\"\"))","v":""},{"$f":"IF('FMI Template'!K286=\"direct\",\"NA\",IF(AND('FMI Template'!N286<>\"\",'FMI Template'!N286<>\"UA\"),'FMI Template'!N286,\"\"))","v":""},{"$f":"IF(OR('FMI Template'!H286=\"Other\",'FMI Template'!H286=\"NA\"),'FMI Template'!Q286,\"\")","v":""},{"$f":"IF(AND('FMI Template'!O286<>\"\",'FMI Template'!O286<>\"NA\",'FMI Template'!O286<>\"UA\"),'FMI Template'!O286,\"\")","v":""}]
[null,{"$f":"IF(AND('FMI Template'!B287<>\"\",'FMI Template'!B287<>\"NA\",'FMI Template'!B287<>\"UA\"),'FMI Template'!B287,\"\")","v":""},{"$f":"IF(AND('FMI Template'!C287<>\"\",'FMI Template'!C287<>\"NA\",'FMI Template'!C287<>\"UA\"),'FMI Template'!C287,\"\")","v":""},{"$f":"IF(AND('FMI Template'!D287<>\"\",'FMI Template'!D287<>\"NA\",'FMI Template'!D287<>\"UA\"),'FMI Template'!D287,\"\")","v":""},{"$f":"IF(AND('FMI Template'!F287<>\"\",'FMI Template'!F287<>\"NA\",'FMI Template'!F287<>\"UA\"),'FMI Template'!F287,\"\")","v":""},{"$f":"IF(AND('FMI Template'!H287<>\"\", 'FMI Template'!H287<>\"UA\"),IF('FMI Template'!H287=\"CSD\",\"(I)CSD\",IF('FMI Template'!H287=\"CCP_Derivatives\",\"CCP-Derivatives\",IF('FMI Template'!H287=\"CCP_securities\",\"CCP-securities\",IF('FMI Template'!H287=\"PS_Retail\",\"PS\",IF('FMI Template'!H287=\"PS_LV\",\"PS\",'FMI Template'!H287))))),\"\")","v":""},{"$f":"IF(AND('FMI Template'!I287<>\"\", 'FMI Template'!I287<>\"UA\"),'FMI Template'!I287,\"\")","v":""},{"$f":"IF(AND('FMI Template'!J287<>\"\",'FMI Template'!J287<>\"UA\"),IF('FMI Template'!J287=\"CSD_SSS\",\"CSD-SSS\",IF('FMI Template'!J287=\"CCP_Derivatives\",\"CCP-Derivatives\",IF('FMI Template'!J287=\"CCP_securities\",\"CCP-securities\",IF('FMI Template'!J287=\"Trading_venue\",\"Trading-venue\",'FMI Template'!J287)))),\"\")","v":""},{"$f":"IF(AND('FMI Template'!K287<>\"\",'FMI Template'!K287<>\"UA\"),'FMI Template'!K287,\"\")","v":""},{"$f":"IF('FMI Template'!K287=\"direct\",\"NA\",IF(AND('FMI Template'!M287<>\"\",'FMI Template'!M287<>\"UA\"),'FMI Template'!M287,\"\"))","v":""},{"$f":"IF('FMI Template'!K287=\"direct\",\"NA\",IF(AND('FMI Template'!N287<>\"\",'FMI Template'!N287<>\"UA\"),'FMI Template'!N287,\"\"))","v":""},{"$f":"IF(OR('FMI Template'!H287=\"Other\",'FMI Template'!H287=\"NA\"),'FMI Template'!Q287,\"\")","v":""},{"$f":"IF(AND('FMI Template'!O287<>\"\",'FMI Template'!O287<>\"NA\",'FMI Template'!O287<>\"UA\"),'FMI Template'!O287,\"\")","v":""}]
[null,{"$f":"IF(AND('FMI Template'!B288<>\"\",'FMI Template'!B288<>\"NA\",'FMI Template'!B288<>\"UA\"),'FMI Template'!B288,\"\")","v":""},{"$f":"IF(AND('FMI Template'!C288<>\"\",'FMI Template'!C288<>\"NA\",'FMI Template'!C288<>\"UA\"),'FMI Template'!C288,\"\")","v":""},{"$f":"IF(AND('FMI Template'!D288<>\"\",'FMI Template'!D288<>\"NA\",'FMI Template'!D288<>\"UA\"),'FMI Template'!D288,\"\")","v":""},{"$f":"IF(AND('FMI Template'!F288<>\"\",'FMI Template'!F288<>\"NA\",'FMI Template'!F288<>\"UA\"),'FMI Template'!F288,\"\")","v":""},{"$f":"IF(AND('FMI Template'!H288<>\"\", 'FMI Template'!H288<>\"UA\"),IF('FMI Template'!H288=\"CSD\",\"(I)CSD\",IF('FMI Template'!H288=\"CCP_Derivatives\",\"CCP-Derivatives\",IF('FMI Template'!H288=\"CCP_securities\",\"CCP-securities\",IF('FMI Template'!H288=\"PS_Retail\",\"PS\",IF('FMI Template'!H288=\"PS_LV\",\"PS\",'FMI Template'!H288))))),\"\")","v":""},{"$f":"IF(AND('FMI Template'!I288<>\"\", 'FMI Template'!I288<>\"UA\"),'FMI Template'!I288,\"\")","v":""},{"$f":"IF(AND('FMI Template'!J288<>\"\",'FMI Template'!J288<>\"UA\"),IF('FMI Template'!J288=\"CSD_SSS\",\"CSD-SSS\",IF('FMI Template'!J288=\"CCP_Derivatives\",\"CCP-Derivatives\",IF('FMI Template'!J288=\"CCP_securities\",\"CCP-securities\",IF('FMI Template'!J288=\"Trading_venue\",\"Trading-venue\",'FMI Template'!J288)))),\"\")","v":""},{"$f":"IF(AND('FMI Template'!K288<>\"\",'FMI Template'!K288<>\"UA\"),'FMI Template'!K288,\"\")","v":""},{"$f":"IF('FMI Template'!K288=\"direct\",\"NA\",IF(AND('FMI Template'!M288<>\"\",'FMI Template'!M288<>\"UA\"),'FMI Template'!M288,\"\"))","v":""},{"$f":"IF('FMI Template'!K288=\"direct\",\"NA\",IF(AND('FMI Template'!N288<>\"\",'FMI Template'!N288<>\"UA\"),'FMI Template'!N288,\"\"))","v":""},{"$f":"IF(OR('FMI Template'!H288=\"Other\",'FMI Template'!H288=\"NA\"),'FMI Template'!Q288,\"\")","v":""},{"$f":"IF(AND('FMI Template'!O288<>\"\",'FMI Template'!O288<>\"NA\",'FMI Template'!O288<>\"UA\"),'FMI Template'!O288,\"\")","v":""}]
[null,{"$f":"IF(AND('FMI Template'!B289<>\"\",'FMI Template'!B289<>\"NA\",'FMI Template'!B289<>\"UA\"),'FMI Template'!B289,\"\")","v":""},{"$f":"IF(AND('FMI Template'!C289<>\"\",'FMI Template'!C289<>\"NA\",'FMI Template'!C289<>\"UA\"),'FMI Template'!C289,\"\")","v":""},{"$f":"IF(AND('FMI Template'!D289<>\"\",'FMI Template'!D289<>\"NA\",'FMI Template'!D289<>\"UA\"),'FMI Template'!D289,\"\")","v":""},{"$f":"IF(AND('FMI Template'!F289<>\"\",'FMI Template'!F289<>\"NA\",'FMI Template'!F289<>\"UA\"),'FMI Template'!F289,\"\")","v":""},{"$f":"IF(AND('FMI Template'!H289<>\"\", 'FMI Template'!H289<>\"UA\"),IF('FMI Template'!H289=\"CSD\",\"(I)CSD\",IF('FMI Template'!H289=\"CCP_Derivatives\",\"CCP-Derivatives\",IF('FMI Template'!H289=\"CCP_securities\",\"CCP-securities\",IF('FMI Template'!H289=\"PS_Retail\",\"PS\",IF('FMI Template'!H289=\"PS_LV\",\"PS\",'FMI Template'!H289))))),\"\")","v":""},{"$f":"IF(AND('FMI Template'!I289<>\"\", 'FMI Template'!I289<>\"UA\"),'FMI Template'!I289,\"\")","v":""},{"$f":"IF(AND('FMI Template'!J289<>\"\",'FMI Template'!J289<>\"UA\"),IF('FMI Template'!J289=\"CSD_SSS\",\"CSD-SSS\",IF('FMI Template'!J289=\"CCP_Derivatives\",\"CCP-Derivatives\",IF('FMI Template'!J289=\"CCP_securities\",\"CCP-securities\",IF('FMI Template'!J289=\"Trading_venue\",\"Trading-venue\",'FMI Template'!J289)))),\"\")","v":""},{"$f":"IF(AND('FMI Template'!K289<>\"\",'FMI Template'!K289<>\"UA\"),'FMI Template'!K289,\"\")","v":""},{"$f":"IF('FMI Template'!K289=\"direct\",\"NA\",IF(AND('FMI Template'!M289<>\"\",'FMI Template'!M289<>\"UA\"),'FMI Template'!M289,\"\"))","v":""},{"$f":"IF('FMI Template'!K289=\"direct\",\"NA\",IF(AND('FMI Template'!N289<>\"\",'FMI Template'!N289<>\"UA\"),'FMI Template'!N289,\"\"))","v":""},{"$f":"IF(OR('FMI Template'!H289=\"Other\",'FMI Template'!H289=\"NA\"),'FMI Template'!Q289,\"\")","v":""},{"$f":"IF(AND('FMI Template'!O289<>\"\",'FMI Template'!O289<>\"NA\",'FMI Template'!O289<>\"UA\"),'FMI Template'!O289,\"\")","v":""}]
[null,{"$f":"IF(AND('FMI Template'!B290<>\"\",'FMI Template'!B290<>\"NA\",'FMI Template'!B290<>\"UA\"),'FMI Template'!B290,\"\")","v":""},{"$f":"IF(AND('FMI Template'!C290<>\"\",'FMI Template'!C290<>\"NA\",'FMI Template'!C290<>\"UA\"),'FMI Template'!C290,\"\")","v":""},{"$f":"IF(AND('FMI Template'!D290<>\"\",'FMI Template'!D290<>\"NA\",'FMI Template'!D290<>\"UA\"),'FMI Template'!D290,\"\")","v":""},{"$f":"IF(AND('FMI Template'!F290<>\"\",'FMI Template'!F290<>\"NA\",'FMI Template'!F290<>\"UA\"),'FMI Template'!F290,\"\")","v":""},{"$f":"IF(AND('FMI Template'!H290<>\"\", 'FMI Template'!H290<>\"UA\"),IF('FMI Template'!H290=\"CSD\",\"(I)CSD\",IF('FMI Template'!H290=\"CCP_Derivatives\",\"CCP-Derivatives\",IF('FMI Template'!H290=\"CCP_securities\",\"CCP-securities\",IF('FMI Template'!H290=\"PS_Retail\",\"PS\",IF('FMI Template'!H290=\"PS_LV\",\"PS\",'FMI Template'!H290))))),\"\")","v":""},{"$f":"IF(AND('FMI Template'!I290<>\"\", 'FMI Template'!I290<>\"UA\"),'FMI Template'!I290,\"\")","v":""},{"$f":"IF(AND('FMI Template'!J290<>\"\",'FMI Template'!J290<>\"UA\"),IF('FMI Template'!J290=\"CSD_SSS\",\"CSD-SSS\",IF('FMI Template'!J290=\"CCP_Derivatives\",\"CCP-Derivatives\",IF('FMI Template'!J290=\"CCP_securities\",\"CCP-securities\",IF('FMI Template'!J290=\"Trading_venue\",\"Trading-venue\",'FMI Template'!J290)))),\"\")","v":""},{"$f":"IF(AND('FMI Template'!K290<>\"\",'FMI Template'!K290<>\"UA\"),'FMI Template'!K290,\"\")","v":""},{"$f":"IF('FMI Template'!K290=\"direct\",\"NA\",IF(AND('FMI Template'!M290<>\"\",'FMI Template'!M290<>\"UA\"),'FMI Template'!M290,\"\"))","v":""},{"$f":"IF('FMI Template'!K290=\"direct\",\"NA\",IF(AND('FMI Template'!N290<>\"\",'FMI Template'!N290<>\"UA\"),'FMI Template'!N290,\"\"))","v":""},{"$f":"IF(OR('FMI Template'!H290=\"Other\",'FMI Template'!H290=\"NA\"),'FMI Template'!Q290,\"\")","v":""},{"$f":"IF(AND('FMI Template'!O290<>\"\",'FMI Template'!O290<>\"NA\",'FMI Template'!O290<>\"UA\"),'FMI Template'!O290,\"\")","v":""}]
[null,{"$f":"IF(AND('FMI Template'!B291<>\"\",'FMI Template'!B291<>\"NA\",'FMI Template'!B291<>\"UA\"),'FMI Template'!B291,\"\")","v":""},{"$f":"IF(AND('FMI Template'!C291<>\"\",'FMI Template'!C291<>\"NA\",'FMI Template'!C291<>\"UA\"),'FMI Template'!C291,\"\")","v":""},{"$f":"IF(AND('FMI Template'!D291<>\"\",'FMI Template'!D291<>\"NA\",'FMI Template'!D291<>\"UA\"),'FMI Template'!D291,\"\")","v":""},{"$f":"IF(AND('FMI Template'!F291<>\"\",'FMI Template'!F291<>\"NA\",'FMI Template'!F291<>\"UA\"),'FMI Template'!F291,\"\")","v":""},{"$f":"IF(AND('FMI Template'!H291<>\"\", 'FMI Template'!H291<>\"UA\"),IF('FMI Template'!H291=\"CSD\",\"(I)CSD\",IF('FMI Template'!H291=\"CCP_Derivatives\",\"CCP-Derivatives\",IF('FMI Template'!H291=\"CCP_securities\",\"CCP-securities\",IF('FMI Template'!H291=\"PS_Retail\",\"PS\",IF('FMI Template'!H291=\"PS_LV\",\"PS\",'FMI Template'!H291))))),\"\")","v":""},{"$f":"IF(AND('FMI Template'!I291<>\"\", 'FMI Template'!I291<>\"UA\"),'FMI Template'!I291,\"\")","v":""},{"$f":"IF(AND('FMI Template'!J291<>\"\",'FMI Template'!J291<>\"UA\"),IF('FMI Template'!J291=\"CSD_SSS\",\"CSD-SSS\",IF('FMI Template'!J291=\"CCP_Derivatives\",\"CCP-Derivatives\",IF('FMI Template'!J291=\"CCP_securities\",\"CCP-securities\",IF('FMI Template'!J291=\"Trading_venue\",\"Trading-venue\",'FMI Template'!J291)))),\"\")","v":""},{"$f":"IF(AND('FMI Template'!K291<>\"\",'FMI Template'!K291<>\"UA\"),'FMI Template'!K291,\"\")","v":""},{"$f":"IF('FMI Template'!K291=\"direct\",\"NA\",IF(AND('FMI Template'!M291<>\"\",'FMI Template'!M291<>\"UA\"),'FMI Template'!M291,\"\"))","v":""},{"$f":"IF('FMI Template'!K291=\"direct\",\"NA\",IF(AND('FMI Template'!N291<>\"\",'FMI Template'!N291<>\"UA\"),'FMI Template'!N291,\"\"))","v":""},{"$f":"IF(OR('FMI Template'!H291=\"Other\",'FMI Template'!H291=\"NA\"),'FMI Template'!Q291,\"\")","v":""},{"$f":"IF(AND('FMI Template'!O291<>\"\",'FMI Template'!O291<>\"NA\",'FMI Template'!O291<>\"UA\"),'FMI Template'!O291,\"\")","v":""}]
[null,{"$f":"IF(AND('FMI Template'!B292<>\"\",'FMI Template'!B292<>\"NA\",'FMI Template'!B292<>\"UA\"),'FMI Template'!B292,\"\")","v":""},{"$f":"IF(AND('FMI Template'!C292<>\"\",'FMI Template'!C292<>\"NA\",'FMI Template'!C292<>\"UA\"),'FMI Template'!C292,\"\")","v":""},{"$f":"IF(AND('FMI Template'!D292<>\"\",'FMI Template'!D292<>\"NA\",'FMI Template'!D292<>\"UA\"),'FMI Template'!D292,\"\")","v":""},{"$f":"IF(AND('FMI Template'!F292<>\"\",'FMI Template'!F292<>\"NA\",'FMI Template'!F292<>\"UA\"),'FMI Template'!F292,\"\")","v":""},{"$f":"IF(AND('FMI Template'!H292<>\"\", 'FMI Template'!H292<>\"UA\"),IF('FMI Template'!H292=\"CSD\",\"(I)CSD\",IF('FMI Template'!H292=\"CCP_Derivatives\",\"CCP-Derivatives\",IF('FMI Template'!H292=\"CCP_securities\",\"CCP-securities\",IF('FMI Template'!H292=\"PS_Retail\",\"PS\",IF('FMI Template'!H292=\"PS_LV\",\"PS\",'FMI Template'!H292))))),\"\")","v":""},{"$f":"IF(AND('FMI Template'!I292<>\"\", 'FMI Template'!I292<>\"UA\"),'FMI Template'!I292,\"\")","v":""},{"$f":"IF(AND('FMI Template'!J292<>\"\",'FMI Template'!J292<>\"UA\"),IF('FMI Template'!J292=\"CSD_SSS\",\"CSD-SSS\",IF('FMI Template'!J292=\"CCP_Derivatives\",\"CCP-Derivatives\",IF('FMI Template'!J292=\"CCP_securities\",\"CCP-securities\",IF('FMI Template'!J292=\"Trading_venue\",\"Trading-venue\",'FMI Template'!J292)))),\"\")","v":""},{"$f":"IF(AND('FMI Template'!K292<>\"\",'FMI Template'!K292<>\"UA\"),'FMI Template'!K292,\"\")","v":""},{"$f":"IF('FMI Template'!K292=\"direct\",\"NA\",IF(AND('FMI Template'!M292<>\"\",'FMI Template'!M292<>\"UA\"),'FMI Template'!M292,\"\"))","v":""},{"$f":"IF('FMI Template'!K292=\"direct\",\"NA\",IF(AND('FMI Template'!N292<>\"\",'FMI Template'!N292<>\"UA\"),'FMI Template'!N292,\"\"))","v":""},{"$f":"IF(OR('FMI Template'!H292=\"Other\",'FMI Template'!H292=\"NA\"),'FMI Template'!Q292,\"\")","v":""},{"$f":"IF(AND('FMI Template'!O292<>\"\",'FMI Template'!O292<>\"NA\",'FMI Template'!O292<>\"UA\"),'FMI Template'!O292,\"\")","v":""}]
[null,{"$f":"IF(AND('FMI Template'!B293<>\"\",'FMI Template'!B293<>\"NA\",'FMI Template'!B293<>\"UA\"),'FMI Template'!B293,\"\")","v":""},{"$f":"IF(AND('FMI Template'!C293<>\"\",'FMI Template'!C293<>\"NA\",'FMI Template'!C293<>\"UA\"),'FMI Template'!C293,\"\")","v":""},{"$f":"IF(AND('FMI Template'!D293<>\"\",'FMI Template'!D293<>\"NA\",'FMI Template'!D293<>\"UA\"),'FMI Template'!D293,\"\")","v":""},{"$f":"IF(AND('FMI Template'!F293<>\"\",'FMI Template'!F293<>\"NA\",'FMI Template'!F293<>\"UA\"),'FMI Template'!F293,\"\")","v":""},{"$f":"IF(AND('FMI Template'!H293<>\"\", 'FMI Template'!H293<>\"UA\"),IF('FMI Template'!H293=\"CSD\",\"(I)CSD\",IF('FMI Template'!H293=\"CCP_Derivatives\",\"CCP-Derivatives\",IF('FMI Template'!H293=\"CCP_securities\",\"CCP-securities\",IF('FMI Template'!H293=\"PS_Retail\",\"PS\",IF('FMI Template'!H293=\"PS_LV\",\"PS\",'FMI Template'!H293))))),\"\")","v":""},{"$f":"IF(AND('FMI Template'!I293<>\"\", 'FMI Template'!I293<>\"UA\"),'FMI Template'!I293,\"\")","v":""},{"$f":"IF(AND('FMI Template'!J293<>\"\",'FMI Template'!J293<>\"UA\"),IF('FMI Template'!J293=\"CSD_SSS\",\"CSD-SSS\",IF('FMI Template'!J293=\"CCP_Derivatives\",\"CCP-Derivatives\",IF('FMI Template'!J293=\"CCP_securities\",\"CCP-securities\",IF('FMI Template'!J293=\"Trading_venue\",\"Trading-venue\",'FMI Template'!J293)))),\"\")","v":""},{"$f":"IF(AND('FMI Template'!K293<>\"\",'FMI Template'!K293<>\"UA\"),'FMI Template'!K293,\"\")","v":""},{"$f":"IF('FMI Template'!K293=\"direct\",\"NA\",IF(AND('FMI Template'!M293<>\"\",'FMI Template'!M293<>\"UA\"),'FMI Template'!M293,\"\"))","v":""},{"$f":"IF('FMI Template'!K293=\"direct\",\"NA\",IF(AND('FMI Template'!N293<>\"\",'FMI Template'!N293<>\"UA\"),'FMI Template'!N293,\"\"))","v":""},{"$f":"IF(OR('FMI Template'!H293=\"Other\",'FMI Template'!H293=\"NA\"),'FMI Template'!Q293,\"\")","v":""},{"$f":"IF(AND('FMI Template'!O293<>\"\",'FMI Template'!O293<>\"NA\",'FMI Template'!O293<>\"UA\"),'FMI Template'!O293,\"\")","v":""}]
[null,{"$f":"IF(AND('FMI Template'!B294<>\"\",'FMI Template'!B294<>\"NA\",'FMI Template'!B294<>\"UA\"),'FMI Template'!B294,\"\")","v":""},{"$f":"IF(AND('FMI Template'!C294<>\"\",'FMI Template'!C294<>\"NA\",'FMI Template'!C294<>\"UA\"),'FMI Template'!C294,\"\")","v":""},{"$f":"IF(AND('FMI Template'!D294<>\"\",'FMI Template'!D294<>\"NA\",'FMI Template'!D294<>\"UA\"),'FMI Template'!D294,\"\")","v":""},{"$f":"IF(AND('FMI Template'!F294<>\"\",'FMI Template'!F294<>\"NA\",'FMI Template'!F294<>\"UA\"),'FMI Template'!F294,\"\")","v":""},{"$f":"IF(AND('FMI Template'!H294<>\"\", 'FMI Template'!H294<>\"UA\"),IF('FMI Template'!H294=\"CSD\",\"(I)CSD\",IF('FMI Template'!H294=\"CCP_Derivatives\",\"CCP-Derivatives\",IF('FMI Template'!H294=\"CCP_securities\",\"CCP-securities\",IF('FMI Template'!H294=\"PS_Retail\",\"PS\",IF('FMI Template'!H294=\"PS_LV\",\"PS\",'FMI Template'!H294))))),\"\")","v":""},{"$f":"IF(AND('FMI Template'!I294<>\"\", 'FMI Template'!I294<>\"UA\"),'FMI Template'!I294,\"\")","v":""},{"$f":"IF(AND('FMI Template'!J294<>\"\",'FMI Template'!J294<>\"UA\"),IF('FMI Template'!J294=\"CSD_SSS\",\"CSD-SSS\",IF('FMI Template'!J294=\"CCP_Derivatives\",\"CCP-Derivatives\",IF('FMI Template'!J294=\"CCP_securities\",\"CCP-securities\",IF('FMI Template'!J294=\"Trading_venue\",\"Trading-venue\",'FMI Template'!J294)))),\"\")","v":""},{"$f":"IF(AND('FMI Template'!K294<>\"\",'FMI Template'!K294<>\"UA\"),'FMI Template'!K294,\"\")","v":""},{"$f":"IF('FMI Template'!K294=\"direct\",\"NA\",IF(AND('FMI Template'!M294<>\"\",'FMI Template'!M294<>\"UA\"),'FMI Template'!M294,\"\"))","v":""},{"$f":"IF('FMI Template'!K294=\"direct\",\"NA\",IF(AND('FMI Template'!N294<>\"\",'FMI Template'!N294<>\"UA\"),'FMI Template'!N294,\"\"))","v":""},{"$f":"IF(OR('FMI Template'!H294=\"Other\",'FMI Template'!H294=\"NA\"),'FMI Template'!Q294,\"\")","v":""},{"$f":"IF(AND('FMI Template'!O294<>\"\",'FMI Template'!O294<>\"NA\",'FMI Template'!O294<>\"UA\"),'FMI Template'!O294,\"\")","v":""}]
[null,{"$f":"IF(AND('FMI Template'!B295<>\"\",'FMI Template'!B295<>\"NA\",'FMI Template'!B295<>\"UA\"),'FMI Template'!B295,\"\")","v":""},{"$f":"IF(AND('FMI Template'!C295<>\"\",'FMI Template'!C295<>\"NA\",'FMI Template'!C295<>\"UA\"),'FMI Template'!C295,\"\")","v":""},{"$f":"IF(AND('FMI Template'!D295<>\"\",'FMI Template'!D295<>\"NA\",'FMI Template'!D295<>\"UA\"),'FMI Template'!D295,\"\")","v":""},{"$f":"IF(AND('FMI Template'!F295<>\"\",'FMI Template'!F295<>\"NA\",'FMI Template'!F295<>\"UA\"),'FMI Template'!F295,\"\")","v":""},{"$f":"IF(AND('FMI Template'!H295<>\"\", 'FMI Template'!H295<>\"UA\"),IF('FMI Template'!H295=\"CSD\",\"(I)CSD\",IF('FMI Template'!H295=\"CCP_Derivatives\",\"CCP-Derivatives\",IF('FMI Template'!H295=\"CCP_securities\",\"CCP-securities\",IF('FMI Template'!H295=\"PS_Retail\",\"PS\",IF('FMI Template'!H295=\"PS_LV\",\"PS\",'FMI Template'!H295))))),\"\")","v":""},{"$f":"IF(AND('FMI Template'!I295<>\"\", 'FMI Template'!I295<>\"UA\"),'FMI Template'!I295,\"\")","v":""},{"$f":"IF(AND('FMI Template'!J295<>\"\",'FMI Template'!J295<>\"UA\"),IF('FMI Template'!J295=\"CSD_SSS\",\"CSD-SSS\",IF('FMI Template'!J295=\"CCP_Derivatives\",\"CCP-Derivatives\",IF('FMI Template'!J295=\"CCP_securities\",\"CCP-securities\",IF('FMI Template'!J295=\"Trading_venue\",\"Trading-venue\",'FMI Template'!J295)))),\"\")","v":""},{"$f":"IF(AND('FMI Template'!K295<>\"\",'FMI Template'!K295<>\"UA\"),'FMI Template'!K295,\"\")","v":""},{"$f":"IF('FMI Template'!K295=\"direct\",\"NA\",IF(AND('FMI Template'!M295<>\"\",'FMI Template'!M295<>\"UA\"),'FMI Template'!M295,\"\"))","v":""},{"$f":"IF('FMI Template'!K295=\"direct\",\"NA\",IF(AND('FMI Template'!N295<>\"\",'FMI Template'!N295<>\"UA\"),'FMI Template'!N295,\"\"))","v":""},{"$f":"IF(OR('FMI Template'!H295=\"Other\",'FMI Template'!H295=\"NA\"),'FMI Template'!Q295,\"\")","v":""},{"$f":"IF(AND('FMI Template'!O295<>\"\",'FMI Template'!O295<>\"NA\",'FMI Template'!O295<>\"UA\"),'FMI Template'!O295,\"\")","v":""}]
[null,{"$f":"IF(AND('FMI Template'!B296<>\"\",'FMI Template'!B296<>\"NA\",'FMI Template'!B296<>\"UA\"),'FMI Template'!B296,\"\")","v":""},{"$f":"IF(AND('FMI Template'!C296<>\"\",'FMI Template'!C296<>\"NA\",'FMI Template'!C296<>\"UA\"),'FMI Template'!C296,\"\")","v":""},{"$f":"IF(AND('FMI Template'!D296<>\"\",'FMI Template'!D296<>\"NA\",'FMI Template'!D296<>\"UA\"),'FMI Template'!D296,\"\")","v":""},{"$f":"IF(AND('FMI Template'!F296<>\"\",'FMI Template'!F296<>\"NA\",'FMI Template'!F296<>\"UA\"),'FMI Template'!F296,\"\")","v":""},{"$f":"IF(AND('FMI Template'!H296<>\"\", 'FMI Template'!H296<>\"UA\"),IF('FMI Template'!H296=\"CSD\",\"(I)CSD\",IF('FMI Template'!H296=\"CCP_Derivatives\",\"CCP-Derivatives\",IF('FMI Template'!H296=\"CCP_securities\",\"CCP-securities\",IF('FMI Template'!H296=\"PS_Retail\",\"PS\",IF('FMI Template'!H296=\"PS_LV\",\"PS\",'FMI Template'!H296))))),\"\")","v":""},{"$f":"IF(AND('FMI Template'!I296<>\"\", 'FMI Template'!I296<>\"UA\"),'FMI Template'!I296,\"\")","v":""},{"$f":"IF(AND('FMI Template'!J296<>\"\",'FMI Template'!J296<>\"UA\"),IF('FMI Template'!J296=\"CSD_SSS\",\"CSD-SSS\",IF('FMI Template'!J296=\"CCP_Derivatives\",\"CCP-Derivatives\",IF('FMI Template'!J296=\"CCP_securities\",\"CCP-securities\",IF('FMI Template'!J296=\"Trading_venue\",\"Trading-venue\",'FMI Template'!J296)))),\"\")","v":""},{"$f":"IF(AND('FMI Template'!K296<>\"\",'FMI Template'!K296<>\"UA\"),'FMI Template'!K296,\"\")","v":""},{"$f":"IF('FMI Template'!K296=\"direct\",\"NA\",IF(AND('FMI Template'!M296<>\"\",'FMI Template'!M296<>\"UA\"),'FMI Template'!M296,\"\"))","v":""},{"$f":"IF('FMI Template'!K296=\"direct\",\"NA\",IF(AND('FMI Template'!N296<>\"\",'FMI Template'!N296<>\"UA\"),'FMI Template'!N296,\"\"))","v":""},{"$f":"IF(OR('FMI Template'!H296=\"Other\",'FMI Template'!H296=\"NA\"),'FMI Template'!Q296,\"\")","v":""},{"$f":"IF(AND('FMI Template'!O296<>\"\",'FMI Template'!O296<>\"NA\",'FMI Template'!O296<>\"UA\"),'FMI Template'!O296,\"\")","v":""}]
[null,{"$f":"IF(AND('FMI Template'!B297<>\"\",'FMI Template'!B297<>\"NA\",'FMI Template'!B297<>\"UA\"),'FMI Template'!B297,\"\")","v":""},{"$f":"IF(AND('FMI Template'!C297<>\"\",'FMI Template'!C297<>\"NA\",'FMI Template'!C297<>\"UA\"),'FMI Template'!C297,\"\")","v":""},{"$f":"IF(AND('FMI Template'!D297<>\"\",'FMI Template'!D297<>\"NA\",'FMI Template'!D297<>\"UA\"),'FMI Template'!D297,\"\")","v":""},{"$f":"IF(AND('FMI Template'!F297<>\"\",'FMI Template'!F297<>\"NA\",'FMI Template'!F297<>\"UA\"),'FMI Template'!F297,\"\")","v":""},{"$f":"IF(AND('FMI Template'!H297<>\"\", 'FMI Template'!H297<>\"UA\"),IF('FMI Template'!H297=\"CSD\",\"(I)CSD\",IF('FMI Template'!H297=\"CCP_Derivatives\",\"CCP-Derivatives\",IF('FMI Template'!H297=\"CCP_securities\",\"CCP-securities\",IF('FMI Template'!H297=\"PS_Retail\",\"PS\",IF('FMI Template'!H297=\"PS_LV\",\"PS\",'FMI Template'!H297))))),\"\")","v":""},{"$f":"IF(AND('FMI Template'!I297<>\"\", 'FMI Template'!I297<>\"UA\"),'FMI Template'!I297,\"\")","v":""},{"$f":"IF(AND('FMI Template'!J297<>\"\",'FMI Template'!J297<>\"UA\"),IF('FMI Template'!J297=\"CSD_SSS\",\"CSD-SSS\",IF('FMI Template'!J297=\"CCP_Derivatives\",\"CCP-Derivatives\",IF('FMI Template'!J297=\"CCP_securities\",\"CCP-securities\",IF('FMI Template'!J297=\"Trading_venue\",\"Trading-venue\",'FMI Template'!J297)))),\"\")","v":""},{"$f":"IF(AND('FMI Template'!K297<>\"\",'FMI Template'!K297<>\"UA\"),'FMI Template'!K297,\"\")","v":""},{"$f":"IF('FMI Template'!K297=\"direct\",\"NA\",IF(AND('FMI Template'!M297<>\"\",'FMI Template'!M297<>\"UA\"),'FMI Template'!M297,\"\"))","v":""},{"$f":"IF('FMI Template'!K297=\"direct\",\"NA\",IF(AND('FMI Template'!N297<>\"\",'FMI Template'!N297<>\"UA\"),'FMI Template'!N297,\"\"))","v":""},{"$f":"IF(OR('FMI Template'!H297=\"Other\",'FMI Template'!H297=\"NA\"),'FMI Template'!Q297,\"\")","v":""},{"$f":"IF(AND('FMI Template'!O297<>\"\",'FMI Template'!O297<>\"NA\",'FMI Template'!O297<>\"UA\"),'FMI Template'!O297,\"\")","v":""}]
[null,{"$f":"IF(AND('FMI Template'!B298<>\"\",'FMI Template'!B298<>\"NA\",'FMI Template'!B298<>\"UA\"),'FMI Template'!B298,\"\")","v":""},{"$f":"IF(AND('FMI Template'!C298<>\"\",'FMI Template'!C298<>\"NA\",'FMI Template'!C298<>\"UA\"),'FMI Template'!C298,\"\")","v":""},{"$f":"IF(AND('FMI Template'!D298<>\"\",'FMI Template'!D298<>\"NA\",'FMI Template'!D298<>\"UA\"),'FMI Template'!D298,\"\")","v":""},{"$f":"IF(AND('FMI Template'!F298<>\"\",'FMI Template'!F298<>\"NA\",'FMI Template'!F298<>\"UA\"),'FMI Template'!F298,\"\")","v":""},{"$f":"IF(AND('FMI Template'!H298<>\"\", 'FMI Template'!H298<>\"UA\"),IF('FMI Template'!H298=\"CSD\",\"(I)CSD\",IF('FMI Template'!H298=\"CCP_Derivatives\",\"CCP-Derivatives\",IF('FMI Template'!H298=\"CCP_securities\",\"CCP-securities\",IF('FMI Template'!H298=\"PS_Retail\",\"PS\",IF('FMI Template'!H298=\"PS_LV\",\"PS\",'FMI Template'!H298))))),\"\")","v":""},{"$f":"IF(AND('FMI Template'!I298<>\"\", 'FMI Template'!I298<>\"UA\"),'FMI Template'!I298,\"\")","v":""},{"$f":"IF(AND('FMI Template'!J298<>\"\",'FMI Template'!J298<>\"UA\"),IF('FMI Template'!J298=\"CSD_SSS\",\"CSD-SSS\",IF('FMI Template'!J298=\"CCP_Derivatives\",\"CCP-Derivatives\",IF('FMI Template'!J298=\"CCP_securities\",\"CCP-securities\",IF('FMI Template'!J298=\"Trading_venue\",\"Trading-venue\",'FMI Template'!J298)))),\"\")","v":""},{"$f":"IF(AND('FMI Template'!K298<>\"\",'FMI Template'!K298<>\"UA\"),'FMI Template'!K298,\"\")","v":""},{"$f":"IF('FMI Template'!K298=\"direct\",\"NA\",IF(AND('FMI Template'!M298<>\"\",'FMI Template'!M298<>\"UA\"),'FMI Template'!M298,\"\"))","v":""},{"$f":"IF('FMI Template'!K298=\"direct\",\"NA\",IF(AND('FMI Template'!N298<>\"\",'FMI Template'!N298<>\"UA\"),'FMI Template'!N298,\"\"))","v":""},{"$f":"IF(OR('FMI Template'!H298=\"Other\",'FMI Template'!H298=\"NA\"),'FMI Template'!Q298,\"\")","v":""},{"$f":"IF(AND('FMI Template'!O298<>\"\",'FMI Template'!O298<>\"NA\",'FMI Template'!O298<>\"UA\"),'FMI Template'!O298,\"\")","v":""}]
[null,{"$f":"IF(AND('FMI Template'!B299<>\"\",'FMI Template'!B299<>\"NA\",'FMI Template'!B299<>\"UA\"),'FMI Template'!B299,\"\")","v":""},{"$f":"IF(AND('FMI Template'!C299<>\"\",'FMI Template'!C299<>\"NA\",'FMI Template'!C299<>\"UA\"),'FMI Template'!C299,\"\")","v":""},{"$f":"IF(AND('FMI Template'!D299<>\"\",'FMI Template'!D299<>\"NA\",'FMI Template'!D299<>\"UA\"),'FMI Template'!D299,\"\")","v":""},{"$f":"IF(AND('FMI Template'!F299<>\"\",'FMI Template'!F299<>\"NA\",'FMI Template'!F299<>\"UA\"),'FMI Template'!F299,\"\")","v":""},{"$f":"IF(AND('FMI Template'!H299<>\"\", 'FMI Template'!H299<>\"UA\"),IF('FMI Template'!H299=\"CSD\",\"(I)CSD\",IF('FMI Template'!H299=\"CCP_Derivatives\",\"CCP-Derivatives\",IF('FMI Template'!H299=\"CCP_securities\",\"CCP-securities\",IF('FMI Template'!H299=\"PS_Retail\",\"PS\",IF('FMI Template'!H299=\"PS_LV\",\"PS\",'FMI Template'!H299))))),\"\")","v":""},{"$f":"IF(AND('FMI Template'!I299<>\"\", 'FMI Template'!I299<>\"UA\"),'FMI Template'!I299,\"\")","v":""},{"$f":"IF(AND('FMI Template'!J299<>\"\",'FMI Template'!J299<>\"UA\"),IF('FMI Template'!J299=\"CSD_SSS\",\"CSD-SSS\",IF('FMI Template'!J299=\"CCP_Derivatives\",\"CCP-Derivatives\",IF('FMI Template'!J299=\"CCP_securities\",\"CCP-securities\",IF('FMI Template'!J299=\"Trading_venue\",\"Trading-venue\",'FMI Template'!J299)))),\"\")","v":""},{"$f":"IF(AND('FMI Template'!K299<>\"\",'FMI Template'!K299<>\"UA\"),'FMI Template'!K299,\"\")","v":""},{"$f":"IF('FMI Template'!K299=\"direct\",\"NA\",IF(AND('FMI Template'!M299<>\"\",'FMI Template'!M299<>\"UA\"),'FMI Template'!M299,\"\"))","v":""},{"$f":"IF('FMI Template'!K299=\"direct\",\"NA\",IF(AND('FMI Template'!N299<>\"\",'FMI Template'!N299<>\"UA\"),'FMI Template'!N299,\"\"))","v":""},{"$f":"IF(OR('FMI Template'!H299=\"Other\",'FMI Template'!H299=\"NA\"),'FMI Template'!Q299,\"\")","v":""},{"$f":"IF(AND('FMI Template'!O299<>\"\",'FMI Template'!O299<>\"NA\",'FMI Template'!O299<>\"UA\"),'FMI Template'!O299,\"\")","v":""}]
[null,{"$f":"IF(AND('FMI Template'!B300<>\"\",'FMI Template'!B300<>\"NA\",'FMI Template'!B300<>\"UA\"),'FMI Template'!B300,\"\")","v":""},{"$f":"IF(AND('FMI Template'!C300<>\"\",'FMI Template'!C300<>\"NA\",'FMI Template'!C300<>\"UA\"),'FMI Template'!C300,\"\")","v":""},{"$f":"IF(AND('FMI Template'!D300<>\"\",'FMI Template'!D300<>\"NA\",'FMI Template'!D300<>\"UA\"),'FMI Template'!D300,\"\")","v":""},{"$f":"IF(AND('FMI Template'!F300<>\"\",'FMI Template'!F300<>\"NA\",'FMI Template'!F300<>\"UA\"),'FMI Template'!F300,\"\")","v":""},{"$f":"IF(AND('FMI Template'!H300<>\"\", 'FMI Template'!H300<>\"UA\"),IF('FMI Template'!H300=\"CSD\",\"(I)CSD\",IF('FMI Template'!H300=\"CCP_Derivatives\",\"CCP-Derivatives\",IF('FMI Template'!H300=\"CCP_securities\",\"CCP-securities\",IF('FMI Template'!H300=\"PS_Retail\",\"PS\",IF('FMI Template'!H300=\"PS_LV\",\"PS\",'FMI Template'!H300))))),\"\")","v":""},{"$f":"IF(AND('FMI Template'!I300<>\"\", 'FMI Template'!I300<>\"UA\"),'FMI Template'!I300,\"\")","v":""},{"$f":"IF(AND('FMI Template'!J300<>\"\",'FMI Template'!J300<>\"UA\"),IF('FMI Template'!J300=\"CSD_SSS\",\"CSD-SSS\",IF('FMI Template'!J300=\"CCP_Derivatives\",\"CCP-Derivatives\",IF('FMI Template'!J300=\"CCP_securities\",\"CCP-securities\",IF('FMI Template'!J300=\"Trading_venue\",\"Trading-venue\",'FMI Template'!J300)))),\"\")","v":""},{"$f":"IF(AND('FMI Template'!K300<>\"\",'FMI Template'!K300<>\"UA\"),'FMI Template'!K300,\"\")","v":""},{"$f":"IF('FMI Template'!K300=\"direct\",\"NA\",IF(AND('FMI Template'!M300<>\"\",'FMI Template'!M300<>\"UA\"),'FMI Template'!M300,\"\"))","v":""},{"$f":"IF('FMI Template'!K300=\"direct\",\"NA\",IF(AND('FMI Template'!N300<>\"\",'FMI Template'!N300<>\"UA\"),'FMI Template'!N300,\"\"))","v":""},{"$f":"IF(OR('FMI Template'!H300=\"Other\",'FMI Template'!H300=\"NA\"),'FMI Template'!Q300,\"\")","v":""},{"$f":"IF(AND('FMI Template'!O300<>\"\",'FMI Template'!O300<>\"NA\",'FMI Template'!O300<>\"UA\"),'FMI Template'!O300,\"\")","v":""}]
[null,{"$f":"IF(AND('FMI Template'!B301<>\"\",'FMI Template'!B301<>\"NA\",'FMI Template'!B301<>\"UA\"),'FMI Template'!B301,\"\")","v":""},{"$f":"IF(AND('FMI Template'!C301<>\"\",'FMI Template'!C301<>\"NA\",'FMI Template'!C301<>\"UA\"),'FMI Template'!C301,\"\")","v":""},{"$f":"IF(AND('FMI Template'!D301<>\"\",'FMI Template'!D301<>\"NA\",'FMI Template'!D301<>\"UA\"),'FMI Template'!D301,\"\")","v":""},{"$f":"IF(AND('FMI Template'!F301<>\"\",'FMI Template'!F301<>\"NA\",'FMI Template'!F301<>\"UA\"),'FMI Template'!F301,\"\")","v":""},{"$f":"IF(AND('FMI Template'!H301<>\"\", 'FMI Template'!H301<>\"UA\"),IF('FMI Template'!H301=\"CSD\",\"(I)CSD\",IF('FMI Template'!H301=\"CCP_Derivatives\",\"CCP-Derivatives\",IF('FMI Template'!H301=\"CCP_securities\",\"CCP-securities\",IF('FMI Template'!H301=\"PS_Retail\",\"PS\",IF('FMI Template'!H301=\"PS_LV\",\"PS\",'FMI Template'!H301))))),\"\")","v":""},{"$f":"IF(AND('FMI Template'!I301<>\"\", 'FMI Template'!I301<>\"UA\"),'FMI Template'!I301,\"\")","v":""},{"$f":"IF(AND('FMI Template'!J301<>\"\",'FMI Template'!J301<>\"UA\"),IF('FMI Template'!J301=\"CSD_SSS\",\"CSD-SSS\",IF('FMI Template'!J301=\"CCP_Derivatives\",\"CCP-Derivatives\",IF('FMI Template'!J301=\"CCP_securities\",\"CCP-securities\",IF('FMI Template'!J301=\"Trading_venue\",\"Trading-venue\",'FMI Template'!J301)))),\"\")","v":""},{"$f":"IF(AND('FMI Template'!K301<>\"\",'FMI Template'!K301<>\"UA\"),'FMI Template'!K301,\"\")","v":""},{"$f":"IF('FMI Template'!K301=\"direct\",\"NA\",IF(AND('FMI Template'!M301<>\"\",'FMI Template'!M301<>\"UA\"),'FMI Template'!M301,\"\"))","v":""},{"$f":"IF('FMI Template'!K301=\"direct\",\"NA\",IF(AND('FMI Template'!N301<>\"\",'FMI Template'!N301<>\"UA\"),'FMI Template'!N301,\"\"))","v":""},{"$f":"IF(OR('FMI Template'!H301=\"Other\",'FMI Template'!H301=\"NA\"),'FMI Template'!Q301,\"\")","v":""},{"$f":"IF(AND('FMI Template'!O301<>\"\",'FMI Template'!O301<>\"NA\",'FMI Template'!O301<>\"UA\"),'FMI Template'!O301,\"\")","v":""}]
[null,{"$f":"IF(AND('FMI Template'!B302<>\"\",'FMI Template'!B302<>\"NA\",'FMI Template'!B302<>\"UA\"),'FMI Template'!B302,\"\")","v":""},{"$f":"IF(AND('FMI Template'!C302<>\"\",'FMI Template'!C302<>\"NA\",'FMI Template'!C302<>\"UA\"),'FMI Template'!C302,\"\")","v":""},{"$f":"IF(AND('FMI Template'!D302<>\"\",'FMI Template'!D302<>\"NA\",'FMI Template'!D302<>\"UA\"),'FMI Template'!D302,\"\")","v":""},{"$f":"IF(AND('FMI Template'!F302<>\"\",'FMI Template'!F302<>\"NA\",'FMI Template'!F302<>\"UA\"),'FMI Template'!F302,\"\")","v":""},{"$f":"IF(AND('FMI Template'!H302<>\"\", 'FMI Template'!H302<>\"UA\"),IF('FMI Template'!H302=\"CSD\",\"(I)CSD\",IF('FMI Template'!H302=\"CCP_Derivatives\",\"CCP-Derivatives\",IF('FMI Template'!H302=\"CCP_securities\",\"CCP-securities\",IF('FMI Template'!H302=\"PS_Retail\",\"PS\",IF('FMI Template'!H302=\"PS_LV\",\"PS\",'FMI Template'!H302))))),\"\")","v":""},{"$f":"IF(AND('FMI Template'!I302<>\"\", 'FMI Template'!I302<>\"UA\"),'FMI Template'!I302,\"\")","v":""},{"$f":"IF(AND('FMI Template'!J302<>\"\",'FMI Template'!J302<>\"UA\"),IF('FMI Template'!J302=\"CSD_SSS\",\"CSD-SSS\",IF('FMI Template'!J302=\"CCP_Derivatives\",\"CCP-Derivatives\",IF('FMI Template'!J302=\"CCP_securities\",\"CCP-securities\",IF('FMI Template'!J302=\"Trading_venue\",\"Trading-venue\",'FMI Template'!J302)))),\"\")","v":""},{"$f":"IF(AND('FMI Template'!K302<>\"\",'FMI Template'!K302<>\"UA\"),'FMI Template'!K302,\"\")","v":""},{"$f":"IF('FMI Template'!K302=\"direct\",\"NA\",IF(AND('FMI Template'!M302<>\"\",'FMI Template'!M302<>\"UA\"),'FMI Template'!M302,\"\"))","v":""},{"$f":"IF('FMI Template'!K302=\"direct\",\"NA\",IF(AND('FMI Template'!N302<>\"\",'FMI Template'!N302<>\"UA\"),'FMI Template'!N302,\"\"))","v":""},{"$f":"IF(OR('FMI Template'!H302=\"Other\",'FMI Template'!H302=\"NA\"),'FMI Template'!Q302,\"\")","v":""},{"$f":"IF(AND('FMI Template'!O302<>\"\",'FMI Template'!O302<>\"NA\",'FMI Template'!O302<>\"UA\"),'FMI Template'!O302,\"\")","v":""}]
[null,{"$f":"IF(AND('FMI Template'!B303<>\"\",'FMI Template'!B303<>\"NA\",'FMI Template'!B303<>\"UA\"),'FMI Template'!B303,\"\")","v":""},{"$f":"IF(AND('FMI Template'!C303<>\"\",'FMI Template'!C303<>\"NA\",'FMI Template'!C303<>\"UA\"),'FMI Template'!C303,\"\")","v":""},{"$f":"IF(AND('FMI Template'!D303<>\"\",'FMI Template'!D303<>\"NA\",'FMI Template'!D303<>\"UA\"),'FMI Template'!D303,\"\")","v":""},{"$f":"IF(AND('FMI Template'!F303<>\"\",'FMI Template'!F303<>\"NA\",'FMI Template'!F303<>\"UA\"),'FMI Template'!F303,\"\")","v":""},{"$f":"IF(AND('FMI Template'!H303<>\"\", 'FMI Template'!H303<>\"UA\"),IF('FMI Template'!H303=\"CSD\",\"(I)CSD\",IF('FMI Template'!H303=\"CCP_Derivatives\",\"CCP-Derivatives\",IF('FMI Template'!H303=\"CCP_securities\",\"CCP-securities\",IF('FMI Template'!H303=\"PS_Retail\",\"PS\",IF('FMI Template'!H303=\"PS_LV\",\"PS\",'FMI Template'!H303))))),\"\")","v":""},{"$f":"IF(AND('FMI Template'!I303<>\"\", 'FMI Template'!I303<>\"UA\"),'FMI Template'!I303,\"\")","v":""},{"$f":"IF(AND('FMI Template'!J303<>\"\",'FMI Template'!J303<>\"UA\"),IF('FMI Template'!J303=\"CSD_SSS\",\"CSD-SSS\",IF('FMI Template'!J303=\"CCP_Derivatives\",\"CCP-Derivatives\",IF('FMI Template'!J303=\"CCP_securities\",\"CCP-securities\",IF('FMI Template'!J303=\"Trading_venue\",\"Trading-venue\",'FMI Template'!J303)))),\"\")","v":""},{"$f":"IF(AND('FMI Template'!K303<>\"\",'FMI Template'!K303<>\"UA\"),'FMI Template'!K303,\"\")","v":""},{"$f":"IF('FMI Template'!K303=\"direct\",\"NA\",IF(AND('FMI Template'!M303<>\"\",'FMI Template'!M303<>\"UA\"),'FMI Template'!M303,\"\"))","v":""},{"$f":"IF('FMI Template'!K303=\"direct\",\"NA\",IF(AND('FMI Template'!N303<>\"\",'FMI Template'!N303<>\"UA\"),'FMI Template'!N303,\"\"))","v":""},{"$f":"IF(OR('FMI Template'!H303=\"Other\",'FMI Template'!H303=\"NA\"),'FMI Template'!Q303,\"\")","v":""},{"$f":"IF(AND('FMI Template'!O303<>\"\",'FMI Template'!O303<>\"NA\",'FMI Template'!O303<>\"UA\"),'FMI Template'!O303,\"\")","v":""}]
[null,{"$f":"IF(AND('FMI Template'!B304<>\"\",'FMI Template'!B304<>\"NA\",'FMI Template'!B304<>\"UA\"),'FMI Template'!B304,\"\")","v":""},{"$f":"IF(AND('FMI Template'!C304<>\"\",'FMI Template'!C304<>\"NA\",'FMI Template'!C304<>\"UA\"),'FMI Template'!C304,\"\")","v":""},{"$f":"IF(AND('FMI Template'!D304<>\"\",'FMI Template'!D304<>\"NA\",'FMI Template'!D304<>\"UA\"),'FMI Template'!D304,\"\")","v":""},{"$f":"IF(AND('FMI Template'!F304<>\"\",'FMI Template'!F304<>\"NA\",'FMI Template'!F304<>\"UA\"),'FMI Template'!F304,\"\")","v":""},{"$f":"IF(AND('FMI Template'!H304<>\"\", 'FMI Template'!H304<>\"UA\"),IF('FMI Template'!H304=\"CSD\",\"(I)CSD\",IF('FMI Template'!H304=\"CCP_Derivatives\",\"CCP-Derivatives\",IF('FMI Template'!H304=\"CCP_securities\",\"CCP-securities\",IF('FMI Template'!H304=\"PS_Retail\",\"PS\",IF('FMI Template'!H304=\"PS_LV\",\"PS\",'FMI Template'!H304))))),\"\")","v":""},{"$f":"IF(AND('FMI Template'!I304<>\"\", 'FMI Template'!I304<>\"UA\"),'FMI Template'!I304,\"\")","v":""},{"$f":"IF(AND('FMI Template'!J304<>\"\",'FMI Template'!J304<>\"UA\"),IF('FMI Template'!J304=\"CSD_SSS\",\"CSD-SSS\",IF('FMI Template'!J304=\"CCP_Derivatives\",\"CCP-Derivatives\",IF('FMI Template'!J304=\"CCP_securities\",\"CCP-securities\",IF('FMI Template'!J304=\"Trading_venue\",\"Trading-venue\",'FMI Template'!J304)))),\"\")","v":""},{"$f":"IF(AND('FMI Template'!K304<>\"\",'FMI Template'!K304<>\"UA\"),'FMI Template'!K304,\"\")","v":""},{"$f":"IF('FMI Template'!K304=\"direct\",\"NA\",IF(AND('FMI Template'!M304<>\"\",'FMI Template'!M304<>\"UA\"),'FMI Template'!M304,\"\"))","v":""},{"$f":"IF('FMI Template'!K304=\"direct\",\"NA\",IF(AND('FMI Template'!N304<>\"\",'FMI Template'!N304<>\"UA\"),'FMI Template'!N304,\"\"))","v":""},{"$f":"IF(OR('FMI Template'!H304=\"Other\",'FMI Template'!H304=\"NA\"),'FMI Template'!Q304,\"\")","v":""},{"$f":"IF(AND('FMI Template'!O304<>\"\",'FMI Template'!O304<>\"NA\",'FMI Template'!O304<>\"UA\"),'FMI Template'!O304,\"\")","v":""}]
[null,{"$f":"IF(AND('FMI Template'!B305<>\"\",'FMI Template'!B305<>\"NA\",'FMI Template'!B305<>\"UA\"),'FMI Template'!B305,\"\")","v":""},{"$f":"IF(AND('FMI Template'!C305<>\"\",'FMI Template'!C305<>\"NA\",'FMI Template'!C305<>\"UA\"),'FMI Template'!C305,\"\")","v":""},{"$f":"IF(AND('FMI Template'!D305<>\"\",'FMI Template'!D305<>\"NA\",'FMI Template'!D305<>\"UA\"),'FMI Template'!D305,\"\")","v":""},{"$f":"IF(AND('FMI Template'!F305<>\"\",'FMI Template'!F305<>\"NA\",'FMI Template'!F305<>\"UA\"),'FMI Template'!F305,\"\")","v":""},{"$f":"IF(AND('FMI Template'!H305<>\"\", 'FMI Template'!H305<>\"UA\"),IF('FMI Template'!H305=\"CSD\",\"(I)CSD\",IF('FMI Template'!H305=\"CCP_Derivatives\",\"CCP-Derivatives\",IF('FMI Template'!H305=\"CCP_securities\",\"CCP-securities\",IF('FMI Template'!H305=\"PS_Retail\",\"PS\",IF('FMI Template'!H305=\"PS_LV\",\"PS\",'FMI Template'!H305))))),\"\")","v":""},{"$f":"IF(AND('FMI Template'!I305<>\"\", 'FMI Template'!I305<>\"UA\"),'FMI Template'!I305,\"\")","v":""},{"$f":"IF(AND('FMI Template'!J305<>\"\",'FMI Template'!J305<>\"UA\"),IF('FMI Template'!J305=\"CSD_SSS\",\"CSD-SSS\",IF('FMI Template'!J305=\"CCP_Derivatives\",\"CCP-Derivatives\",IF('FMI Template'!J305=\"CCP_securities\",\"CCP-securities\",IF('FMI Template'!J305=\"Trading_venue\",\"Trading-venue\",'FMI Template'!J305)))),\"\")","v":""},{"$f":"IF(AND('FMI Template'!K305<>\"\",'FMI Template'!K305<>\"UA\"),'FMI Template'!K305,\"\")","v":""},{"$f":"IF('FMI Template'!K305=\"direct\",\"NA\",IF(AND('FMI Template'!M305<>\"\",'FMI Template'!M305<>\"UA\"),'FMI Template'!M305,\"\"))","v":""},{"$f":"IF('FMI Template'!K305=\"direct\",\"NA\",IF(AND('FMI Template'!N305<>\"\",'FMI Template'!N305<>\"UA\"),'FMI Template'!N305,\"\"))","v":""},{"$f":"IF(OR('FMI Template'!H305=\"Other\",'FMI Template'!H305=\"NA\"),'FMI Template'!Q305,\"\")","v":""},{"$f":"IF(AND('FMI Template'!O305<>\"\",'FMI Template'!O305<>\"NA\",'FMI Template'!O305<>\"UA\"),'FMI Template'!O305,\"\")","v":""}]
[null,{"$f":"IF(AND('FMI Template'!B306<>\"\",'FMI Template'!B306<>\"NA\",'FMI Template'!B306<>\"UA\"),'FMI Template'!B306,\"\")","v":""},{"$f":"IF(AND('FMI Template'!C306<>\"\",'FMI Template'!C306<>\"NA\",'FMI Template'!C306<>\"UA\"),'FMI Template'!C306,\"\")","v":""},{"$f":"IF(AND('FMI Template'!D306<>\"\",'FMI Template'!D306<>\"NA\",'FMI Template'!D306<>\"UA\"),'FMI Template'!D306,\"\")","v":""},{"$f":"IF(AND('FMI Template'!F306<>\"\",'FMI Template'!F306<>\"NA\",'FMI Template'!F306<>\"UA\"),'FMI Template'!F306,\"\")","v":""},{"$f":"IF(AND('FMI Template'!H306<>\"\", 'FMI Template'!H306<>\"UA\"),IF('FMI Template'!H306=\"CSD\",\"(I)CSD\",IF('FMI Template'!H306=\"CCP_Derivatives\",\"CCP-Derivatives\",IF('FMI Template'!H306=\"CCP_securities\",\"CCP-securities\",IF('FMI Template'!H306=\"PS_Retail\",\"PS\",IF('FMI Template'!H306=\"PS_LV\",\"PS\",'FMI Template'!H306))))),\"\")","v":""},{"$f":"IF(AND('FMI Template'!I306<>\"\", 'FMI Template'!I306<>\"UA\"),'FMI Template'!I306,\"\")","v":""},{"$f":"IF(AND('FMI Template'!J306<>\"\",'FMI Template'!J306<>\"UA\"),IF('FMI Template'!J306=\"CSD_SSS\",\"CSD-SSS\",IF('FMI Template'!J306=\"CCP_Derivatives\",\"CCP-Derivatives\",IF('FMI Template'!J306=\"CCP_securities\",\"CCP-securities\",IF('FMI Template'!J306=\"Trading_venue\",\"Trading-venue\",'FMI Template'!J306)))),\"\")","v":""},{"$f":"IF(AND('FMI Template'!K306<>\"\",'FMI Template'!K306<>\"UA\"),'FMI Template'!K306,\"\")","v":""},{"$f":"IF('FMI Template'!K306=\"direct\",\"NA\",IF(AND('FMI Template'!M306<>\"\",'FMI Template'!M306<>\"UA\"),'FMI Template'!M306,\"\"))","v":""},{"$f":"IF('FMI Template'!K306=\"direct\",\"NA\",IF(AND('FMI Template'!N306<>\"\",'FMI Template'!N306<>\"UA\"),'FMI Template'!N306,\"\"))","v":""},{"$f":"IF(OR('FMI Template'!H306=\"Other\",'FMI Template'!H306=\"NA\"),'FMI Template'!Q306,\"\")","v":""},{"$f":"IF(AND('FMI Template'!O306<>\"\",'FMI Template'!O306<>\"NA\",'FMI Template'!O306<>\"UA\"),'FMI Template'!O306,\"\")","v":""}]
[null,{"$f":"IF(AND('FMI Template'!B307<>\"\",'FMI Template'!B307<>\"NA\",'FMI Template'!B307<>\"UA\"),'FMI Template'!B307,\"\")","v":""},{"$f":"IF(AND('FMI Template'!C307<>\"\",'FMI Template'!C307<>\"NA\",'FMI Template'!C307<>\"UA\"),'FMI Template'!C307,\"\")","v":""},{"$f":"IF(AND('FMI Template'!D307<>\"\",'FMI Template'!D307<>\"NA\",'FMI Template'!D307<>\"UA\"),'FMI Template'!D307,\"\")","v":""},{"$f":"IF(AND('FMI Template'!F307<>\"\",'FMI Template'!F307<>\"NA\",'FMI Template'!F307<>\"UA\"),'FMI Template'!F307,\"\")","v":""},{"$f":"IF(AND('FMI Template'!H307<>\"\", 'FMI Template'!H307<>\"UA\"),IF('FMI Template'!H307=\"CSD\",\"(I)CSD\",IF('FMI Template'!H307=\"CCP_Derivatives\",\"CCP-Derivatives\",IF('FMI Template'!H307=\"CCP_securities\",\"CCP-securities\",IF('FMI Template'!H307=\"PS_Retail\",\"PS\",IF('FMI Template'!H307=\"PS_LV\",\"PS\",'FMI Template'!H307))))),\"\")","v":""},{"$f":"IF(AND('FMI Template'!I307<>\"\", 'FMI Template'!I307<>\"UA\"),'FMI Template'!I307,\"\")","v":""},{"$f":"IF(AND('FMI Template'!J307<>\"\",'FMI Template'!J307<>\"UA\"),IF('FMI Template'!J307=\"CSD_SSS\",\"CSD-SSS\",IF('FMI Template'!J307=\"CCP_Derivatives\",\"CCP-Derivatives\",IF('FMI Template'!J307=\"CCP_securities\",\"CCP-securities\",IF('FMI Template'!J307=\"Trading_venue\",\"Trading-venue\",'FMI Template'!J307)))),\"\")","v":""},{"$f":"IF(AND('FMI Template'!K307<>\"\",'FMI Template'!K307<>\"UA\"),'FMI Template'!K307,\"\")","v":""},{"$f":"IF('FMI Template'!K307=\"direct\",\"NA\",IF(AND('FMI Template'!M307<>\"\",'FMI Template'!M307<>\"UA\"),'FMI Template'!M307,\"\"))","v":""},{"$f":"IF('FMI Template'!K307=\"direct\",\"NA\",IF(AND('FMI Template'!N307<>\"\",'FMI Template'!N307<>\"UA\"),'FMI Template'!N307,\"\"))","v":""},{"$f":"IF(OR('FMI Template'!H307=\"Other\",'FMI Template'!H307=\"NA\"),'FMI Template'!Q307,\"\")","v":""},{"$f":"IF(AND('FMI Template'!O307<>\"\",'FMI Template'!O307<>\"NA\",'FMI Template'!O307<>\"UA\"),'FMI Template'!O307,\"\")","v":""}]
[null,{"$f":"IF(AND('FMI Template'!B308<>\"\",'FMI Template'!B308<>\"NA\",'FMI Template'!B308<>\"UA\"),'FMI Template'!B308,\"\")","v":""},{"$f":"IF(AND('FMI Template'!C308<>\"\",'FMI Template'!C308<>\"NA\",'FMI Template'!C308<>\"UA\"),'FMI Template'!C308,\"\")","v":""},{"$f":"IF(AND('FMI Template'!D308<>\"\",'FMI Template'!D308<>\"NA\",'FMI Template'!D308<>\"UA\"),'FMI Template'!D308,\"\")","v":""},{"$f":"IF(AND('FMI Template'!F308<>\"\",'FMI Template'!F308<>\"NA\",'FMI Template'!F308<>\"UA\"),'FMI Template'!F308,\"\")","v":""},{"$f":"IF(AND('FMI Template'!H308<>\"\", 'FMI Template'!H308<>\"UA\"),IF('FMI Template'!H308=\"CSD\",\"(I)CSD\",IF('FMI Template'!H308=\"CCP_Derivatives\",\"CCP-Derivatives\",IF('FMI Template'!H308=\"CCP_securities\",\"CCP-securities\",IF('FMI Template'!H308=\"PS_Retail\",\"PS\",IF('FMI Template'!H308=\"PS_LV\",\"PS\",'FMI Template'!H308))))),\"\")","v":""},{"$f":"IF(AND('FMI Template'!I308<>\"\", 'FMI Template'!I308<>\"UA\"),'FMI Template'!I308,\"\")","v":""},{"$f":"IF(AND('FMI Template'!J308<>\"\",'FMI Template'!J308<>\"UA\"),IF('FMI Template'!J308=\"CSD_SSS\",\"CSD-SSS\",IF('FMI Template'!J308=\"CCP_Derivatives\",\"CCP-Derivatives\",IF('FMI Template'!J308=\"CCP_securities\",\"CCP-securities\",IF('FMI Template'!J308=\"Trading_venue\",\"Trading-venue\",'FMI Template'!J308)))),\"\")","v":""},{"$f":"IF(AND('FMI Template'!K308<>\"\",'FMI Template'!K308<>\"UA\"),'FMI Template'!K308,\"\")","v":""},{"$f":"IF('FMI Template'!K308=\"direct\",\"NA\",IF(AND('FMI Template'!M308<>\"\",'FMI Template'!M308<>\"UA\"),'FMI Template'!M308,\"\"))","v":""},{"$f":"IF('FMI Template'!K308=\"direct\",\"NA\",IF(AND('FMI Template'!N308<>\"\",'FMI Template'!N308<>\"UA\"),'FMI Template'!N308,\"\"))","v":""},{"$f":"IF(OR('FMI Template'!H308=\"Other\",'FMI Template'!H308=\"NA\"),'FMI Template'!Q308,\"\")","v":""},{"$f":"IF(AND('FMI Template'!O308<>\"\",'FMI Template'!O308<>\"NA\",'FMI Template'!O308<>\"UA\"),'FMI Template'!O308,\"\")","v":""}]
[null,{"$f":"IF(AND('FMI Template'!B309<>\"\",'FMI Template'!B309<>\"NA\",'FMI Template'!B309<>\"UA\"),'FMI Template'!B309,\"\")","v":""},{"$f":"IF(AND('FMI Template'!C309<>\"\",'FMI Template'!C309<>\"NA\",'FMI Template'!C309<>\"UA\"),'FMI Template'!C309,\"\")","v":""},{"$f":"IF(AND('FMI Template'!D309<>\"\",'FMI Template'!D309<>\"NA\",'FMI Template'!D309<>\"UA\"),'FMI Template'!D309,\"\")","v":""},{"$f":"IF(AND('FMI Template'!F309<>\"\",'FMI Template'!F309<>\"NA\",'FMI Template'!F309<>\"UA\"),'FMI Template'!F309,\"\")","v":""},{"$f":"IF(AND('FMI Template'!H309<>\"\", 'FMI Template'!H309<>\"UA\"),IF('FMI Template'!H309=\"CSD\",\"(I)CSD\",IF('FMI Template'!H309=\"CCP_Derivatives\",\"CCP-Derivatives\",IF('FMI Template'!H309=\"CCP_securities\",\"CCP-securities\",IF('FMI Template'!H309=\"PS_Retail\",\"PS\",IF('FMI Template'!H309=\"PS_LV\",\"PS\",'FMI Template'!H309))))),\"\")","v":""},{"$f":"IF(AND('FMI Template'!I309<>\"\", 'FMI Template'!I309<>\"UA\"),'FMI Template'!I309,\"\")","v":""},{"$f":"IF(AND('FMI Template'!J309<>\"\",'FMI Template'!J309<>\"UA\"),IF('FMI Template'!J309=\"CSD_SSS\",\"CSD-SSS\",IF('FMI Template'!J309=\"CCP_Derivatives\",\"CCP-Derivatives\",IF('FMI Template'!J309=\"CCP_securities\",\"CCP-securities\",IF('FMI Template'!J309=\"Trading_venue\",\"Trading-venue\",'FMI Template'!J309)))),\"\")","v":""},{"$f":"IF(AND('FMI Template'!K309<>\"\",'FMI Template'!K309<>\"UA\"),'FMI Template'!K309,\"\")","v":""},{"$f":"IF('FMI Template'!K309=\"direct\",\"NA\",IF(AND('FMI Template'!M309<>\"\",'FMI Template'!M309<>\"UA\"),'FMI Template'!M309,\"\"))","v":""},{"$f":"IF('FMI Template'!K309=\"direct\",\"NA\",IF(AND('FMI Template'!N309<>\"\",'FMI Template'!N309<>\"UA\"),'FMI Template'!N309,\"\"))","v":""},{"$f":"IF(OR('FMI Template'!H309=\"Other\",'FMI Template'!H309=\"NA\"),'FMI Template'!Q309,\"\")","v":""},{"$f":"IF(AND('FMI Template'!O309<>\"\",'FMI Template'!O309<>\"NA\",'FMI Template'!O309<>\"UA\"),'FMI Template'!O309,\"\")","v":""}]
[null,{"$f":"IF(AND('FMI Template'!B310<>\"\",'FMI Template'!B310<>\"NA\",'FMI Template'!B310<>\"UA\"),'FMI Template'!B310,\"\")","v":""},{"$f":"IF(AND('FMI Template'!C310<>\"\",'FMI Template'!C310<>\"NA\",'FMI Template'!C310<>\"UA\"),'FMI Template'!C310,\"\")","v":""},{"$f":"IF(AND('FMI Template'!D310<>\"\",'FMI Template'!D310<>\"NA\",'FMI Template'!D310<>\"UA\"),'FMI Template'!D310,\"\")","v":""},{"$f":"IF(AND('FMI Template'!F310<>\"\",'FMI Template'!F310<>\"NA\",'FMI Template'!F310<>\"UA\"),'FMI Template'!F310,\"\")","v":""},{"$f":"IF(AND('FMI Template'!H310<>\"\", 'FMI Template'!H310<>\"UA\"),IF('FMI Template'!H310=\"CSD\",\"(I)CSD\",IF('FMI Template'!H310=\"CCP_Derivatives\",\"CCP-Derivatives\",IF('FMI Template'!H310=\"CCP_securities\",\"CCP-securities\",IF('FMI Template'!H310=\"PS_Retail\",\"PS\",IF('FMI Template'!H310=\"PS_LV\",\"PS\",'FMI Template'!H310))))),\"\")","v":""},{"$f":"IF(AND('FMI Template'!I310<>\"\", 'FMI Template'!I310<>\"UA\"),'FMI Template'!I310,\"\")","v":""},{"$f":"IF(AND('FMI Template'!J310<>\"\",'FMI Template'!J310<>\"UA\"),IF('FMI Template'!J310=\"CSD_SSS\",\"CSD-SSS\",IF('FMI Template'!J310=\"CCP_Derivatives\",\"CCP-Derivatives\",IF('FMI Template'!J310=\"CCP_securities\",\"CCP-securities\",IF('FMI Template'!J310=\"Trading_venue\",\"Trading-venue\",'FMI Template'!J310)))),\"\")","v":""},{"$f":"IF(AND('FMI Template'!K310<>\"\",'FMI Template'!K310<>\"UA\"),'FMI Template'!K310,\"\")","v":""},{"$f":"IF('FMI Template'!K310=\"direct\",\"NA\",IF(AND('FMI Template'!M310<>\"\",'FMI Template'!M310<>\"UA\"),'FMI Template'!M310,\"\"))","v":""},{"$f":"IF('FMI Template'!K310=\"direct\",\"NA\",IF(AND('FMI Template'!N310<>\"\",'FMI Template'!N310<>\"UA\"),'FMI Template'!N310,\"\"))","v":""},{"$f":"IF(OR('FMI Template'!H310=\"Other\",'FMI Template'!H310=\"NA\"),'FMI Template'!Q310,\"\")","v":""},{"$f":"IF(AND('FMI Template'!O310<>\"\",'FMI Template'!O310<>\"NA\",'FMI Template'!O310<>\"UA\"),'FMI Template'!O310,\"\")","v":""}]
[null,{"$f":"IF(AND('FMI Template'!B311<>\"\",'FMI Template'!B311<>\"NA\",'FMI Template'!B311<>\"UA\"),'FMI Template'!B311,\"\")","v":""},{"$f":"IF(AND('FMI Template'!C311<>\"\",'FMI Template'!C311<>\"NA\",'FMI Template'!C311<>\"UA\"),'FMI Template'!C311,\"\")","v":""},{"$f":"IF(AND('FMI Template'!D311<>\"\",'FMI Template'!D311<>\"NA\",'FMI Template'!D311<>\"UA\"),'FMI Template'!D311,\"\")","v":""},{"$f":"IF(AND('FMI Template'!F311<>\"\",'FMI Template'!F311<>\"NA\",'FMI Template'!F311<>\"UA\"),'FMI Template'!F311,\"\")","v":""},{"$f":"IF(AND('FMI Template'!H311<>\"\", 'FMI Template'!H311<>\"UA\"),IF('FMI Template'!H311=\"CSD\",\"(I)CSD\",IF('FMI Template'!H311=\"CCP_Derivatives\",\"CCP-Derivatives\",IF('FMI Template'!H311=\"CCP_securities\",\"CCP-securities\",IF('FMI Template'!H311=\"PS_Retail\",\"PS\",IF('FMI Template'!H311=\"PS_LV\",\"PS\",'FMI Template'!H311))))),\"\")","v":""},{"$f":"IF(AND('FMI Template'!I311<>\"\", 'FMI Template'!I311<>\"UA\"),'FMI Template'!I311,\"\")","v":""},{"$f":"IF(AND('FMI Template'!J311<>\"\",'FMI Template'!J311<>\"UA\"),IF('FMI Template'!J311=\"CSD_SSS\",\"CSD-SSS\",IF('FMI Template'!J311=\"CCP_Derivatives\",\"CCP-Derivatives\",IF('FMI Template'!J311=\"CCP_securities\",\"CCP-securities\",IF('FMI Template'!J311=\"Trading_venue\",\"Trading-venue\",'FMI Template'!J311)))),\"\")","v":""},{"$f":"IF(AND('FMI Template'!K311<>\"\",'FMI Template'!K311<>\"UA\"),'FMI Template'!K311,\"\")","v":""},{"$f":"IF('FMI Template'!K311=\"direct\",\"NA\",IF(AND('FMI Template'!M311<>\"\",'FMI Template'!M311<>\"UA\"),'FMI Template'!M311,\"\"))","v":""},{"$f":"IF('FMI Template'!K311=\"direct\",\"NA\",IF(AND('FMI Template'!N311<>\"\",'FMI Template'!N311<>\"UA\"),'FMI Template'!N311,\"\"))","v":""},{"$f":"IF(OR('FMI Template'!H311=\"Other\",'FMI Template'!H311=\"NA\"),'FMI Template'!Q311,\"\")","v":""},{"$f":"IF(AND('FMI Template'!O311<>\"\",'FMI Template'!O311<>\"NA\",'FMI Template'!O311<>\"UA\"),'FMI Template'!O311,\"\")","v":""}]
[null,{"$f":"IF(AND('FMI Template'!B312<>\"\",'FMI Template'!B312<>\"NA\",'FMI Template'!B312<>\"UA\"),'FMI Template'!B312,\"\")","v":""},{"$f":"IF(AND('FMI Template'!C312<>\"\",'FMI Template'!C312<>\"NA\",'FMI Template'!C312<>\"UA\"),'FMI Template'!C312,\"\")","v":""},{"$f":"IF(AND('FMI Template'!D312<>\"\",'FMI Template'!D312<>\"NA\",'FMI Template'!D312<>\"UA\"),'FMI Template'!D312,\"\")","v":""},{"$f":"IF(AND('FMI Template'!F312<>\"\",'FMI Template'!F312<>\"NA\",'FMI Template'!F312<>\"UA\"),'FMI Template'!F312,\"\")","v":""},{"$f":"IF(AND('FMI Template'!H312<>\"\", 'FMI Template'!H312<>\"UA\"),IF('FMI Template'!H312=\"CSD\",\"(I)CSD\",IF('FMI Template'!H312=\"CCP_Derivatives\",\"CCP-Derivatives\",IF('FMI Template'!H312=\"CCP_securities\",\"CCP-securities\",IF('FMI Template'!H312=\"PS_Retail\",\"PS\",IF('FMI Template'!H312=\"PS_LV\",\"PS\",'FMI Template'!H312))))),\"\")","v":""},{"$f":"IF(AND('FMI Template'!I312<>\"\", 'FMI Template'!I312<>\"UA\"),'FMI Template'!I312,\"\")","v":""},{"$f":"IF(AND('FMI Template'!J312<>\"\",'FMI Template'!J312<>\"UA\"),IF('FMI Template'!J312=\"CSD_SSS\",\"CSD-SSS\",IF('FMI Template'!J312=\"CCP_Derivatives\",\"CCP-Derivatives\",IF('FMI Template'!J312=\"CCP_securities\",\"CCP-securities\",IF('FMI Template'!J312=\"Trading_venue\",\"Trading-venue\",'FMI Template'!J312)))),\"\")","v":""},{"$f":"IF(AND('FMI Template'!K312<>\"\",'FMI Template'!K312<>\"UA\"),'FMI Template'!K312,\"\")","v":""},{"$f":"IF('FMI Template'!K312=\"direct\",\"NA\",IF(AND('FMI Template'!M312<>\"\",'FMI Template'!M312<>\"UA\"),'FMI Template'!M312,\"\"))","v":""},{"$f":"IF('FMI Template'!K312=\"direct\",\"NA\",IF(AND('FMI Template'!N312<>\"\",'FMI Template'!N312<>\"UA\"),'FMI Template'!N312,\"\"))","v":""},{"$f":"IF(OR('FMI Template'!H312=\"Other\",'FMI Template'!H312=\"NA\"),'FMI Template'!Q312,\"\")","v":""},{"$f":"IF(AND('FMI Template'!O312<>\"\",'FMI Template'!O312<>\"NA\",'FMI Template'!O312<>\"UA\"),'FMI Template'!O312,\"\")","v":""}]
[null,{"$f":"IF(AND('FMI Template'!B313<>\"\",'FMI Template'!B313<>\"NA\",'FMI Template'!B313<>\"UA\"),'FMI Template'!B313,\"\")","v":""},{"$f":"IF(AND('FMI Template'!C313<>\"\",'FMI Template'!C313<>\"NA\",'FMI Template'!C313<>\"UA\"),'FMI Template'!C313,\"\")","v":""},{"$f":"IF(AND('FMI Template'!D313<>\"\",'FMI Template'!D313<>\"NA\",'FMI Template'!D313<>\"UA\"),'FMI Template'!D313,\"\")","v":""},{"$f":"IF(AND('FMI Template'!F313<>\"\",'FMI Template'!F313<>\"NA\",'FMI Template'!F313<>\"UA\"),'FMI Template'!F313,\"\")","v":""},{"$f":"IF(AND('FMI Template'!H313<>\"\", 'FMI Template'!H313<>\"UA\"),IF('FMI Template'!H313=\"CSD\",\"(I)CSD\",IF('FMI Template'!H313=\"CCP_Derivatives\",\"CCP-Derivatives\",IF('FMI Template'!H313=\"CCP_securities\",\"CCP-securities\",IF('FMI Template'!H313=\"PS_Retail\",\"PS\",IF('FMI Template'!H313=\"PS_LV\",\"PS\",'FMI Template'!H313))))),\"\")","v":""},{"$f":"IF(AND('FMI Template'!I313<>\"\", 'FMI Template'!I313<>\"UA\"),'FMI Template'!I313,\"\")","v":""},{"$f":"IF(AND('FMI Template'!J313<>\"\",'FMI Template'!J313<>\"UA\"),IF('FMI Template'!J313=\"CSD_SSS\",\"CSD-SSS\",IF('FMI Template'!J313=\"CCP_Derivatives\",\"CCP-Derivatives\",IF('FMI Template'!J313=\"CCP_securities\",\"CCP-securities\",IF('FMI Template'!J313=\"Trading_venue\",\"Trading-venue\",'FMI Template'!J313)))),\"\")","v":""},{"$f":"IF(AND('FMI Template'!K313<>\"\",'FMI Template'!K313<>\"UA\"),'FMI Template'!K313,\"\")","v":""},{"$f":"IF('FMI Template'!K313=\"direct\",\"NA\",IF(AND('FMI Template'!M313<>\"\",'FMI Template'!M313<>\"UA\"),'FMI Template'!M313,\"\"))","v":""},{"$f":"IF('FMI Template'!K313=\"direct\",\"NA\",IF(AND('FMI Template'!N313<>\"\",'FMI Template'!N313<>\"UA\"),'FMI Template'!N313,\"\"))","v":""},{"$f":"IF(OR('FMI Template'!H313=\"Other\",'FMI Template'!H313=\"NA\"),'FMI Template'!Q313,\"\")","v":""},{"$f":"IF(AND('FMI Template'!O313<>\"\",'FMI Template'!O313<>\"NA\",'FMI Template'!O313<>\"UA\"),'FMI Template'!O313,\"\")","v":""}]
[null,{"$f":"IF(AND('FMI Template'!B314<>\"\",'FMI Template'!B314<>\"NA\",'FMI Template'!B314<>\"UA\"),'FMI Template'!B314,\"\")","v":""},{"$f":"IF(AND('FMI Template'!C314<>\"\",'FMI Template'!C314<>\"NA\",'FMI Template'!C314<>\"UA\"),'FMI Template'!C314,\"\")","v":""},{"$f":"IF(AND('FMI Template'!D314<>\"\",'FMI Template'!D314<>\"NA\",'FMI Template'!D314<>\"UA\"),'FMI Template'!D314,\"\")","v":""},{"$f":"IF(AND('FMI Template'!F314<>\"\",'FMI Template'!F314<>\"NA\",'FMI Template'!F314<>\"UA\"),'FMI Template'!F314,\"\")","v":""},{"$f":"IF(AND('FMI Template'!H314<>\"\", 'FMI Template'!H314<>\"UA\"),IF('FMI Template'!H314=\"CSD\",\"(I)CSD\",IF('FMI Template'!H314=\"CCP_Derivatives\",\"CCP-Derivatives\",IF('FMI Template'!H314=\"CCP_securities\",\"CCP-securities\",IF('FMI Template'!H314=\"PS_Retail\",\"PS\",IF('FMI Template'!H314=\"PS_LV\",\"PS\",'FMI Template'!H314))))),\"\")","v":""},{"$f":"IF(AND('FMI Template'!I314<>\"\", 'FMI Template'!I314<>\"UA\"),'FMI Template'!I314,\"\")","v":""},{"$f":"IF(AND('FMI Template'!J314<>\"\",'FMI Template'!J314<>\"UA\"),IF('FMI Template'!J314=\"CSD_SSS\",\"CSD-SSS\",IF('FMI Template'!J314=\"CCP_Derivatives\",\"CCP-Derivatives\",IF('FMI Template'!J314=\"CCP_securities\",\"CCP-securities\",IF('FMI Template'!J314=\"Trading_venue\",\"Trading-venue\",'FMI Template'!J314)))),\"\")","v":""},{"$f":"IF(AND('FMI Template'!K314<>\"\",'FMI Template'!K314<>\"UA\"),'FMI Template'!K314,\"\")","v":""},{"$f":"IF('FMI Template'!K314=\"direct\",\"NA\",IF(AND('FMI Template'!M314<>\"\",'FMI Template'!M314<>\"UA\"),'FMI Template'!M314,\"\"))","v":""},{"$f":"IF('FMI Template'!K314=\"direct\",\"NA\",IF(AND('FMI Template'!N314<>\"\",'FMI Template'!N314<>\"UA\"),'FMI Template'!N314,\"\"))","v":""},{"$f":"IF(OR('FMI Template'!H314=\"Other\",'FMI Template'!H314=\"NA\"),'FMI Template'!Q314,\"\")","v":""},{"$f":"IF(AND('FMI Template'!O314<>\"\",'FMI Template'!O314<>\"NA\",'FMI Template'!O314<>\"UA\"),'FMI Template'!O314,\"\")","v":""}]
[null,{"$f":"IF(AND('FMI Template'!B315<>\"\",'FMI Template'!B315<>\"NA\",'FMI Template'!B315<>\"UA\"),'FMI Template'!B315,\"\")","v":""},{"$f":"IF(AND('FMI Template'!C315<>\"\",'FMI Template'!C315<>\"NA\",'FMI Template'!C315<>\"UA\"),'FMI Template'!C315,\"\")","v":""},{"$f":"IF(AND('FMI Template'!D315<>\"\",'FMI Template'!D315<>\"NA\",'FMI Template'!D315<>\"UA\"),'FMI Template'!D315,\"\")","v":""},{"$f":"IF(AND('FMI Template'!F315<>\"\",'FMI Template'!F315<>\"NA\",'FMI Template'!F315<>\"UA\"),'FMI Template'!F315,\"\")","v":""},{"$f":"IF(AND('FMI Template'!H315<>\"\", 'FMI Template'!H315<>\"UA\"),IF('FMI Template'!H315=\"CSD\",\"(I)CSD\",IF('FMI Template'!H315=\"CCP_Derivatives\",\"CCP-Derivatives\",IF('FMI Template'!H315=\"CCP_securities\",\"CCP-securities\",IF('FMI Template'!H315=\"PS_Retail\",\"PS\",IF('FMI Template'!H315=\"PS_LV\",\"PS\",'FMI Template'!H315))))),\"\")","v":""},{"$f":"IF(AND('FMI Template'!I315<>\"\", 'FMI Template'!I315<>\"UA\"),'FMI Template'!I315,\"\")","v":""},{"$f":"IF(AND('FMI Template'!J315<>\"\",'FMI Template'!J315<>\"UA\"),IF('FMI Template'!J315=\"CSD_SSS\",\"CSD-SSS\",IF('FMI Template'!J315=\"CCP_Derivatives\",\"CCP-Derivatives\",IF('FMI Template'!J315=\"CCP_securities\",\"CCP-securities\",IF('FMI Template'!J315=\"Trading_venue\",\"Trading-venue\",'FMI Template'!J315)))),\"\")","v":""},{"$f":"IF(AND('FMI Template'!K315<>\"\",'FMI Template'!K315<>\"UA\"),'FMI Template'!K315,\"\")","v":""},{"$f":"IF('FMI Template'!K315=\"direct\",\"NA\",IF(AND('FMI Template'!M315<>\"\",'FMI Template'!M315<>\"UA\"),'FMI Template'!M315,\"\"))","v":""},{"$f":"IF('FMI Template'!K315=\"direct\",\"NA\",IF(AND('FMI Template'!N315<>\"\",'FMI Template'!N315<>\"UA\"),'FMI Template'!N315,\"\"))","v":""},{"$f":"IF(OR('FMI Template'!H315=\"Other\",'FMI Template'!H315=\"NA\"),'FMI Template'!Q315,\"\")","v":""},{"$f":"IF(AND('FMI Template'!O315<>\"\",'FMI Template'!O315<>\"NA\",'FMI Template'!O315<>\"UA\"),'FMI Template'!O315,\"\")","v":""}]
[null,{"$f":"IF(AND('FMI Template'!B316<>\"\",'FMI Template'!B316<>\"NA\",'FMI Template'!B316<>\"UA\"),'FMI Template'!B316,\"\")","v":""},{"$f":"IF(AND('FMI Template'!C316<>\"\",'FMI Template'!C316<>\"NA\",'FMI Template'!C316<>\"UA\"),'FMI Template'!C316,\"\")","v":""},{"$f":"IF(AND('FMI Template'!D316<>\"\",'FMI Template'!D316<>\"NA\",'FMI Template'!D316<>\"UA\"),'FMI Template'!D316,\"\")","v":""},{"$f":"IF(AND('FMI Template'!F316<>\"\",'FMI Template'!F316<>\"NA\",'FMI Template'!F316<>\"UA\"),'FMI Template'!F316,\"\")","v":""},{"$f":"IF(AND('FMI Template'!H316<>\"\", 'FMI Template'!H316<>\"UA\"),IF('FMI Template'!H316=\"CSD\",\"(I)CSD\",IF('FMI Template'!H316=\"CCP_Derivatives\",\"CCP-Derivatives\",IF('FMI Template'!H316=\"CCP_securities\",\"CCP-securities\",IF('FMI Template'!H316=\"PS_Retail\",\"PS\",IF('FMI Template'!H316=\"PS_LV\",\"PS\",'FMI Template'!H316))))),\"\")","v":""},{"$f":"IF(AND('FMI Template'!I316<>\"\", 'FMI Template'!I316<>\"UA\"),'FMI Template'!I316,\"\")","v":""},{"$f":"IF(AND('FMI Template'!J316<>\"\",'FMI Template'!J316<>\"UA\"),IF('FMI Template'!J316=\"CSD_SSS\",\"CSD-SSS\",IF('FMI Template'!J316=\"CCP_Derivatives\",\"CCP-Derivatives\",IF('FMI Template'!J316=\"CCP_securities\",\"CCP-securities\",IF('FMI Template'!J316=\"Trading_venue\",\"Trading-venue\",'FMI Template'!J316)))),\"\")","v":""},{"$f":"IF(AND('FMI Template'!K316<>\"\",'FMI Template'!K316<>\"UA\"),'FMI Template'!K316,\"\")","v":""},{"$f":"IF('FMI Template'!K316=\"direct\",\"NA\",IF(AND('FMI Template'!M316<>\"\",'FMI Template'!M316<>\"UA\"),'FMI Template'!M316,\"\"))","v":""},{"$f":"IF('FMI Template'!K316=\"direct\",\"NA\",IF(AND('FMI Template'!N316<>\"\",'FMI Template'!N316<>\"UA\"),'FMI Template'!N316,\"\"))","v":""},{"$f":"IF(OR('FMI Template'!H316=\"Other\",'FMI Template'!H316=\"NA\"),'FMI Template'!Q316,\"\")","v":""},{"$f":"IF(AND('FMI Template'!O316<>\"\",'FMI Template'!O316<>\"NA\",'FMI Template'!O316<>\"UA\"),'FMI Template'!O316,\"\")","v":""}]
[null,{"$f":"IF(AND('FMI Template'!B317<>\"\",'FMI Template'!B317<>\"NA\",'FMI Template'!B317<>\"UA\"),'FMI Template'!B317,\"\")","v":""},{"$f":"IF(AND('FMI Template'!C317<>\"\",'FMI Template'!C317<>\"NA\",'FMI Template'!C317<>\"UA\"),'FMI Template'!C317,\"\")","v":""},{"$f":"IF(AND('FMI Template'!D317<>\"\",'FMI Template'!D317<>\"NA\",'FMI Template'!D317<>\"UA\"),'FMI Template'!D317,\"\")","v":""},{"$f":"IF(AND('FMI Template'!F317<>\"\",'FMI Template'!F317<>\"NA\",'FMI Template'!F317<>\"UA\"),'FMI Template'!F317,\"\")","v":""},{"$f":"IF(AND('FMI Template'!H317<>\"\", 'FMI Template'!H317<>\"UA\"),IF('FMI Template'!H317=\"CSD\",\"(I)CSD\",IF('FMI Template'!H317=\"CCP_Derivatives\",\"CCP-Derivatives\",IF('FMI Template'!H317=\"CCP_securities\",\"CCP-securities\",IF('FMI Template'!H317=\"PS_Retail\",\"PS\",IF('FMI Template'!H317=\"PS_LV\",\"PS\",'FMI Template'!H317))))),\"\")","v":""},{"$f":"IF(AND('FMI Template'!I317<>\"\", 'FMI Template'!I317<>\"UA\"),'FMI Template'!I317,\"\")","v":""},{"$f":"IF(AND('FMI Template'!J317<>\"\",'FMI Template'!J317<>\"UA\"),IF('FMI Template'!J317=\"CSD_SSS\",\"CSD-SSS\",IF('FMI Template'!J317=\"CCP_Derivatives\",\"CCP-Derivatives\",IF('FMI Template'!J317=\"CCP_securities\",\"CCP-securities\",IF('FMI Template'!J317=\"Trading_venue\",\"Trading-venue\",'FMI Template'!J317)))),\"\")","v":""},{"$f":"IF(AND('FMI Template'!K317<>\"\",'FMI Template'!K317<>\"UA\"),'FMI Template'!K317,\"\")","v":""},{"$f":"IF('FMI Template'!K317=\"direct\",\"NA\",IF(AND('FMI Template'!M317<>\"\",'FMI Template'!M317<>\"UA\"),'FMI Template'!M317,\"\"))","v":""},{"$f":"IF('FMI Template'!K317=\"direct\",\"NA\",IF(AND('FMI Template'!N317<>\"\",'FMI Template'!N317<>\"UA\"),'FMI Template'!N317,\"\"))","v":""},{"$f":"IF(OR('FMI Template'!H317=\"Other\",'FMI Template'!H317=\"NA\"),'FMI Template'!Q317,\"\")","v":""},{"$f":"IF(AND('FMI Template'!O317<>\"\",'FMI Template'!O317<>\"NA\",'FMI Template'!O317<>\"UA\"),'FMI Template'!O317,\"\")","v":""}]
[null,{"$f":"IF(AND('FMI Template'!B318<>\"\",'FMI Template'!B318<>\"NA\",'FMI Template'!B318<>\"UA\"),'FMI Template'!B318,\"\")","v":""},{"$f":"IF(AND('FMI Template'!C318<>\"\",'FMI Template'!C318<>\"NA\",'FMI Template'!C318<>\"UA\"),'FMI Template'!C318,\"\")","v":""},{"$f":"IF(AND('FMI Template'!D318<>\"\",'FMI Template'!D318<>\"NA\",'FMI Template'!D318<>\"UA\"),'FMI Template'!D318,\"\")","v":""},{"$f":"IF(AND('FMI Template'!F318<>\"\",'FMI Template'!F318<>\"NA\",'FMI Template'!F318<>\"UA\"),'FMI Template'!F318,\"\")","v":""},{"$f":"IF(AND('FMI Template'!H318<>\"\", 'FMI Template'!H318<>\"UA\"),IF('FMI Template'!H318=\"CSD\",\"(I)CSD\",IF('FMI Template'!H318=\"CCP_Derivatives\",\"CCP-Derivatives\",IF('FMI Template'!H318=\"CCP_securities\",\"CCP-securities\",IF('FMI Template'!H318=\"PS_Retail\",\"PS\",IF('FMI Template'!H318=\"PS_LV\",\"PS\",'FMI Template'!H318))))),\"\")","v":""},{"$f":"IF(AND('FMI Template'!I318<>\"\", 'FMI Template'!I318<>\"UA\"),'FMI Template'!I318,\"\")","v":""},{"$f":"IF(AND('FMI Template'!J318<>\"\",'FMI Template'!J318<>\"UA\"),IF('FMI Template'!J318=\"CSD_SSS\",\"CSD-SSS\",IF('FMI Template'!J318=\"CCP_Derivatives\",\"CCP-Derivatives\",IF('FMI Template'!J318=\"CCP_securities\",\"CCP-securities\",IF('FMI Template'!J318=\"Trading_venue\",\"Trading-venue\",'FMI Template'!J318)))),\"\")","v":""},{"$f":"IF(AND('FMI Template'!K318<>\"\",'FMI Template'!K318<>\"UA\"),'FMI Template'!K318,\"\")","v":""},{"$f":"IF('FMI Template'!K318=\"direct\",\"NA\",IF(AND('FMI Template'!M318<>\"\",'FMI Template'!M318<>\"UA\"),'FMI Template'!M318,\"\"))","v":""},{"$f":"IF('FMI Template'!K318=\"direct\",\"NA\",IF(AND('FMI Template'!N318<>\"\",'FMI Template'!N318<>\"UA\"),'FMI Template'!N318,\"\"))","v":""},{"$f":"IF(OR('FMI Template'!H318=\"Other\",'FMI Template'!H318=\"NA\"),'FMI Template'!Q318,\"\")","v":""},{"$f":"IF(AND('FMI Template'!O318<>\"\",'FMI Template'!O318<>\"NA\",'FMI Template'!O318<>\"UA\"),'FMI Template'!O318,\"\")","v":""}]
[null,{"$f":"IF(AND('FMI Template'!B319<>\"\",'FMI Template'!B319<>\"NA\",'FMI Template'!B319<>\"UA\"),'FMI Template'!B319,\"\")","v":""},{"$f":"IF(AND('FMI Template'!C319<>\"\",'FMI Template'!C319<>\"NA\",'FMI Template'!C319<>\"UA\"),'FMI Template'!C319,\"\")","v":""},{"$f":"IF(AND('FMI Template'!D319<>\"\",'FMI Template'!D319<>\"NA\",'FMI Template'!D319<>\"UA\"),'FMI Template'!D319,\"\")","v":""},{"$f":"IF(AND('FMI Template'!F319<>\"\",'FMI Template'!F319<>\"NA\",'FMI Template'!F319<>\"UA\"),'FMI Template'!F319,\"\")","v":""},{"$f":"IF(AND('FMI Template'!H319<>\"\", 'FMI Template'!H319<>\"UA\"),IF('FMI Template'!H319=\"CSD\",\"(I)CSD\",IF('FMI Template'!H319=\"CCP_Derivatives\",\"CCP-Derivatives\",IF('FMI Template'!H319=\"CCP_securities\",\"CCP-securities\",IF('FMI Template'!H319=\"PS_Retail\",\"PS\",IF('FMI Template'!H319=\"PS_LV\",\"PS\",'FMI Template'!H319))))),\"\")","v":""},{"$f":"IF(AND('FMI Template'!I319<>\"\", 'FMI Template'!I319<>\"UA\"),'FMI Template'!I319,\"\")","v":""},{"$f":"IF(AND('FMI Template'!J319<>\"\",'FMI Template'!J319<>\"UA\"),IF('FMI Template'!J319=\"CSD_SSS\",\"CSD-SSS\",IF('FMI Template'!J319=\"CCP_Derivatives\",\"CCP-Derivatives\",IF('FMI Template'!J319=\"CCP_securities\",\"CCP-securities\",IF('FMI Template'!J319=\"Trading_venue\",\"Trading-venue\",'FMI Template'!J319)))),\"\")","v":""},{"$f":"IF(AND('FMI Template'!K319<>\"\",'FMI Template'!K319<>\"UA\"),'FMI Template'!K319,\"\")","v":""},{"$f":"IF('FMI Template'!K319=\"direct\",\"NA\",IF(AND('FMI Template'!M319<>\"\",'FMI Template'!M319<>\"UA\"),'FMI Template'!M319,\"\"))","v":""},{"$f":"IF('FMI Template'!K319=\"direct\",\"NA\",IF(AND('FMI Template'!N319<>\"\",'FMI Template'!N319<>\"UA\"),'FMI Template'!N319,\"\"))","v":""},{"$f":"IF(OR('FMI Template'!H319=\"Other\",'FMI Template'!H319=\"NA\"),'FMI Template'!Q319,\"\")","v":""},{"$f":"IF(AND('FMI Template'!O319<>\"\",'FMI Template'!O319<>\"NA\",'FMI Template'!O319<>\"UA\"),'FMI Template'!O319,\"\")","v":""}]
[null,{"$f":"IF(AND('FMI Template'!B320<>\"\",'FMI Template'!B320<>\"NA\",'FMI Template'!B320<>\"UA\"),'FMI Template'!B320,\"\")","v":""},{"$f":"IF(AND('FMI Template'!C320<>\"\",'FMI Template'!C320<>\"NA\",'FMI Template'!C320<>\"UA\"),'FMI Template'!C320,\"\")","v":""},{"$f":"IF(AND('FMI Template'!D320<>\"\",'FMI Template'!D320<>\"NA\",'FMI Template'!D320<>\"UA\"),'FMI Template'!D320,\"\")","v":""},{"$f":"IF(AND('FMI Template'!F320<>\"\",'FMI Template'!F320<>\"NA\",'FMI Template'!F320<>\"UA\"),'FMI Template'!F320,\"\")","v":""},{"$f":"IF(AND('FMI Template'!H320<>\"\", 'FMI Template'!H320<>\"UA\"),IF('FMI Template'!H320=\"CSD\",\"(I)CSD\",IF('FMI Template'!H320=\"CCP_Derivatives\",\"CCP-Derivatives\",IF('FMI Template'!H320=\"CCP_securities\",\"CCP-securities\",IF('FMI Template'!H320=\"PS_Retail\",\"PS\",IF('FMI Template'!H320=\"PS_LV\",\"PS\",'FMI Template'!H320))))),\"\")","v":""},{"$f":"IF(AND('FMI Template'!I320<>\"\", 'FMI Template'!I320<>\"UA\"),'FMI Template'!I320,\"\")","v":""},{"$f":"IF(AND('FMI Template'!J320<>\"\",'FMI Template'!J320<>\"UA\"),IF('FMI Template'!J320=\"CSD_SSS\",\"CSD-SSS\",IF('FMI Template'!J320=\"CCP_Derivatives\",\"CCP-Derivatives\",IF('FMI Template'!J320=\"CCP_securities\",\"CCP-securities\",IF('FMI Template'!J320=\"Trading_venue\",\"Trading-venue\",'FMI Template'!J320)))),\"\")","v":""},{"$f":"IF(AND('FMI Template'!K320<>\"\",'FMI Template'!K320<>\"UA\"),'FMI Template'!K320,\"\")","v":""},{"$f":"IF('FMI Template'!K320=\"direct\",\"NA\",IF(AND('FMI Template'!M320<>\"\",'FMI Template'!M320<>\"UA\"),'FMI Template'!M320,\"\"))","v":""},{"$f":"IF('FMI Template'!K320=\"direct\",\"NA\",IF(AND('FMI Template'!N320<>\"\",'FMI Template'!N320<>\"UA\"),'FMI Template'!N320,\"\"))","v":""},{"$f":"IF(OR('FMI Template'!H320=\"Other\",'FMI Template'!H320=\"NA\"),'FMI Template'!Q320,\"\")","v":""},{"$f":"IF(AND('FMI Template'!O320<>\"\",'FMI Template'!O320<>\"NA\",'FMI Template'!O320<>\"UA\"),'FMI Template'!O320,\"\")","v":""}]
[null,{"$f":"IF(AND('FMI Template'!B321<>\"\",'FMI Template'!B321<>\"NA\",'FMI Template'!B321<>\"UA\"),'FMI Template'!B321,\"\")","v":""},{"$f":"IF(AND('FMI Template'!C321<>\"\",'FMI Template'!C321<>\"NA\",'FMI Template'!C321<>\"UA\"),'FMI Template'!C321,\"\")","v":""},{"$f":"IF(AND('FMI Template'!D321<>\"\",'FMI Template'!D321<>\"NA\",'FMI Template'!D321<>\"UA\"),'FMI Template'!D321,\"\")","v":""},{"$f":"IF(AND('FMI Template'!F321<>\"\",'FMI Template'!F321<>\"NA\",'FMI Template'!F321<>\"UA\"),'FMI Template'!F321,\"\")","v":""},{"$f":"IF(AND('FMI Template'!H321<>\"\", 'FMI Template'!H321<>\"UA\"),IF('FMI Template'!H321=\"CSD\",\"(I)CSD\",IF('FMI Template'!H321=\"CCP_Derivatives\",\"CCP-Derivatives\",IF('FMI Template'!H321=\"CCP_securities\",\"CCP-securities\",IF('FMI Template'!H321=\"PS_Retail\",\"PS\",IF('FMI Template'!H321=\"PS_LV\",\"PS\",'FMI Template'!H321))))),\"\")","v":""},{"$f":"IF(AND('FMI Template'!I321<>\"\", 'FMI Template'!I321<>\"UA\"),'FMI Template'!I321,\"\")","v":""},{"$f":"IF(AND('FMI Template'!J321<>\"\",'FMI Template'!J321<>\"UA\"),IF('FMI Template'!J321=\"CSD_SSS\",\"CSD-SSS\",IF('FMI Template'!J321=\"CCP_Derivatives\",\"CCP-Derivatives\",IF('FMI Template'!J321=\"CCP_securities\",\"CCP-securities\",IF('FMI Template'!J321=\"Trading_venue\",\"Trading-venue\",'FMI Template'!J321)))),\"\")","v":""},{"$f":"IF(AND('FMI Template'!K321<>\"\",'FMI Template'!K321<>\"UA\"),'FMI Template'!K321,\"\")","v":""},{"$f":"IF('FMI Template'!K321=\"direct\",\"NA\",IF(AND('FMI Template'!M321<>\"\",'FMI Template'!M321<>\"UA\"),'FMI Template'!M321,\"\"))","v":""},{"$f":"IF('FMI Template'!K321=\"direct\",\"NA\",IF(AND('FMI Template'!N321<>\"\",'FMI Template'!N321<>\"UA\"),'FMI Template'!N321,\"\"))","v":""},{"$f":"IF(OR('FMI Template'!H321=\"Other\",'FMI Template'!H321=\"NA\"),'FMI Template'!Q321,\"\")","v":""},{"$f":"IF(AND('FMI Template'!O321<>\"\",'FMI Template'!O321<>\"NA\",'FMI Template'!O321<>\"UA\"),'FMI Template'!O321,\"\")","v":""}]
[null,{"$f":"IF(AND('FMI Template'!B322<>\"\",'FMI Template'!B322<>\"NA\",'FMI Template'!B322<>\"UA\"),'FMI Template'!B322,\"\")","v":""},{"$f":"IF(AND('FMI Template'!C322<>\"\",'FMI Template'!C322<>\"NA\",'FMI Template'!C322<>\"UA\"),'FMI Template'!C322,\"\")","v":""},{"$f":"IF(AND('FMI Template'!D322<>\"\",'FMI Template'!D322<>\"NA\",'FMI Template'!D322<>\"UA\"),'FMI Template'!D322,\"\")","v":""},{"$f":"IF(AND('FMI Template'!F322<>\"\",'FMI Template'!F322<>\"NA\",'FMI Template'!F322<>\"UA\"),'FMI Template'!F322,\"\")","v":""},{"$f":"IF(AND('FMI Template'!H322<>\"\", 'FMI Template'!H322<>\"UA\"),IF('FMI Template'!H322=\"CSD\",\"(I)CSD\",IF('FMI Template'!H322=\"CCP_Derivatives\",\"CCP-Derivatives\",IF('FMI Template'!H322=\"CCP_securities\",\"CCP-securities\",IF('FMI Template'!H322=\"PS_Retail\",\"PS\",IF('FMI Template'!H322=\"PS_LV\",\"PS\",'FMI Template'!H322))))),\"\")","v":""},{"$f":"IF(AND('FMI Template'!I322<>\"\", 'FMI Template'!I322<>\"UA\"),'FMI Template'!I322,\"\")","v":""},{"$f":"IF(AND('FMI Template'!J322<>\"\",'FMI Template'!J322<>\"UA\"),IF('FMI Template'!J322=\"CSD_SSS\",\"CSD-SSS\",IF('FMI Template'!J322=\"CCP_Derivatives\",\"CCP-Derivatives\",IF('FMI Template'!J322=\"CCP_securities\",\"CCP-securities\",IF('FMI Template'!J322=\"Trading_venue\",\"Trading-venue\",'FMI Template'!J322)))),\"\")","v":""},{"$f":"IF(AND('FMI Template'!K322<>\"\",'FMI Template'!K322<>\"UA\"),'FMI Template'!K322,\"\")","v":""},{"$f":"IF('FMI Template'!K322=\"direct\",\"NA\",IF(AND('FMI Template'!M322<>\"\",'FMI Template'!M322<>\"UA\"),'FMI Template'!M322,\"\"))","v":""},{"$f":"IF('FMI Template'!K322=\"direct\",\"NA\",IF(AND('FMI Template'!N322<>\"\",'FMI Template'!N322<>\"UA\"),'FMI Template'!N322,\"\"))","v":""},{"$f":"IF(OR('FMI Template'!H322=\"Other\",'FMI Template'!H322=\"NA\"),'FMI Template'!Q322,\"\")","v":""},{"$f":"IF(AND('FMI Template'!O322<>\"\",'FMI Template'!O322<>\"NA\",'FMI Template'!O322<>\"UA\"),'FMI Template'!O322,\"\")","v":""}]
[null,{"$f":"IF(AND('FMI Template'!B323<>\"\",'FMI Template'!B323<>\"NA\",'FMI Template'!B323<>\"UA\"),'FMI Template'!B323,\"\")","v":""},{"$f":"IF(AND('FMI Template'!C323<>\"\",'FMI Template'!C323<>\"NA\",'FMI Template'!C323<>\"UA\"),'FMI Template'!C323,\"\")","v":""},{"$f":"IF(AND('FMI Template'!D323<>\"\",'FMI Template'!D323<>\"NA\",'FMI Template'!D323<>\"UA\"),'FMI Template'!D323,\"\")","v":""},{"$f":"IF(AND('FMI Template'!F323<>\"\",'FMI Template'!F323<>\"NA\",'FMI Template'!F323<>\"UA\"),'FMI Template'!F323,\"\")","v":""},{"$f":"IF(AND('FMI Template'!H323<>\"\", 'FMI Template'!H323<>\"UA\"),IF('FMI Template'!H323=\"CSD\",\"(I)CSD\",IF('FMI Template'!H323=\"CCP_Derivatives\",\"CCP-Derivatives\",IF('FMI Template'!H323=\"CCP_securities\",\"CCP-securities\",IF('FMI Template'!H323=\"PS_Retail\",\"PS\",IF('FMI Template'!H323=\"PS_LV\",\"PS\",'FMI Template'!H323))))),\"\")","v":""},{"$f":"IF(AND('FMI Template'!I323<>\"\", 'FMI Template'!I323<>\"UA\"),'FMI Template'!I323,\"\")","v":""},{"$f":"IF(AND('FMI Template'!J323<>\"\",'FMI Template'!J323<>\"UA\"),IF('FMI Template'!J323=\"CSD_SSS\",\"CSD-SSS\",IF('FMI Template'!J323=\"CCP_Derivatives\",\"CCP-Derivatives\",IF('FMI Template'!J323=\"CCP_securities\",\"CCP-securities\",IF('FMI Template'!J323=\"Trading_venue\",\"Trading-venue\",'FMI Template'!J323)))),\"\")","v":""},{"$f":"IF(AND('FMI Template'!K323<>\"\",'FMI Template'!K323<>\"UA\"),'FMI Template'!K323,\"\")","v":""},{"$f":"IF('FMI Template'!K323=\"direct\",\"NA\",IF(AND('FMI Template'!M323<>\"\",'FMI Template'!M323<>\"UA\"),'FMI Template'!M323,\"\"))","v":""},{"$f":"IF('FMI Template'!K323=\"direct\",\"NA\",IF(AND('FMI Template'!N323<>\"\",'FMI Template'!N323<>\"UA\"),'FMI Template'!N323,\"\"))","v":""},{"$f":"IF(OR('FMI Template'!H323=\"Other\",'FMI Template'!H323=\"NA\"),'FMI Template'!Q323,\"\")","v":""},{"$f":"IF(AND('FMI Template'!O323<>\"\",'FMI Template'!O323<>\"NA\",'FMI Template'!O323<>\"UA\"),'FMI Template'!O323,\"\")","v":""}]
[null,{"$f":"IF(AND('FMI Template'!B324<>\"\",'FMI Template'!B324<>\"NA\",'FMI Template'!B324<>\"UA\"),'FMI Template'!B324,\"\")","v":""},{"$f":"IF(AND('FMI Template'!C324<>\"\",'FMI Template'!C324<>\"NA\",'FMI Template'!C324<>\"UA\"),'FMI Template'!C324,\"\")","v":""},{"$f":"IF(AND('FMI Template'!D324<>\"\",'FMI Template'!D324<>\"NA\",'FMI Template'!D324<>\"UA\"),'FMI Template'!D324,\"\")","v":""},{"$f":"IF(AND('FMI Template'!F324<>\"\",'FMI Template'!F324<>\"NA\",'FMI Template'!F324<>\"UA\"),'FMI Template'!F324,\"\")","v":""},{"$f":"IF(AND('FMI Template'!H324<>\"\", 'FMI Template'!H324<>\"UA\"),IF('FMI Template'!H324=\"CSD\",\"(I)CSD\",IF('FMI Template'!H324=\"CCP_Derivatives\",\"CCP-Derivatives\",IF('FMI Template'!H324=\"CCP_securities\",\"CCP-securities\",IF('FMI Template'!H324=\"PS_Retail\",\"PS\",IF('FMI Template'!H324=\"PS_LV\",\"PS\",'FMI Template'!H324))))),\"\")","v":""},{"$f":"IF(AND('FMI Template'!I324<>\"\", 'FMI Template'!I324<>\"UA\"),'FMI Template'!I324,\"\")","v":""},{"$f":"IF(AND('FMI Template'!J324<>\"\",'FMI Template'!J324<>\"UA\"),IF('FMI Template'!J324=\"CSD_SSS\",\"CSD-SSS\",IF('FMI Template'!J324=\"CCP_Derivatives\",\"CCP-Derivatives\",IF('FMI Template'!J324=\"CCP_securities\",\"CCP-securities\",IF('FMI Template'!J324=\"Trading_venue\",\"Trading-venue\",'FMI Template'!J324)))),\"\")","v":""},{"$f":"IF(AND('FMI Template'!K324<>\"\",'FMI Template'!K324<>\"UA\"),'FMI Template'!K324,\"\")","v":""},{"$f":"IF('FMI Template'!K324=\"direct\",\"NA\",IF(AND('FMI Template'!M324<>\"\",'FMI Template'!M324<>\"UA\"),'FMI Template'!M324,\"\"))","v":""},{"$f":"IF('FMI Template'!K324=\"direct\",\"NA\",IF(AND('FMI Template'!N324<>\"\",'FMI Template'!N324<>\"UA\"),'FMI Template'!N324,\"\"))","v":""},{"$f":"IF(OR('FMI Template'!H324=\"Other\",'FMI Template'!H324=\"NA\"),'FMI Template'!Q324,\"\")","v":""},{"$f":"IF(AND('FMI Template'!O324<>\"\",'FMI Template'!O324<>\"NA\",'FMI Template'!O324<>\"UA\"),'FMI Template'!O324,\"\")","v":""}]
[null,{"$f":"IF(AND('FMI Template'!B325<>\"\",'FMI Template'!B325<>\"NA\",'FMI Template'!B325<>\"UA\"),'FMI Template'!B325,\"\")","v":""},{"$f":"IF(AND('FMI Template'!C325<>\"\",'FMI Template'!C325<>\"NA\",'FMI Template'!C325<>\"UA\"),'FMI Template'!C325,\"\")","v":""},{"$f":"IF(AND('FMI Template'!D325<>\"\",'FMI Template'!D325<>\"NA\",'FMI Template'!D325<>\"UA\"),'FMI Template'!D325,\"\")","v":""},{"$f":"IF(AND('FMI Template'!F325<>\"\",'FMI Template'!F325<>\"NA\",'FMI Template'!F325<>\"UA\"),'FMI Template'!F325,\"\")","v":""},{"$f":"IF(AND('FMI Template'!H325<>\"\", 'FMI Template'!H325<>\"UA\"),IF('FMI Template'!H325=\"CSD\",\"(I)CSD\",IF('FMI Template'!H325=\"CCP_Derivatives\",\"CCP-Derivatives\",IF('FMI Template'!H325=\"CCP_securities\",\"CCP-securities\",IF('FMI Template'!H325=\"PS_Retail\",\"PS\",IF('FMI Template'!H325=\"PS_LV\",\"PS\",'FMI Template'!H325))))),\"\")","v":""},{"$f":"IF(AND('FMI Template'!I325<>\"\", 'FMI Template'!I325<>\"UA\"),'FMI Template'!I325,\"\")","v":""},{"$f":"IF(AND('FMI Template'!J325<>\"\",'FMI Template'!J325<>\"UA\"),IF('FMI Template'!J325=\"CSD_SSS\",\"CSD-SSS\",IF('FMI Template'!J325=\"CCP_Derivatives\",\"CCP-Derivatives\",IF('FMI Template'!J325=\"CCP_securities\",\"CCP-securities\",IF('FMI Template'!J325=\"Trading_venue\",\"Trading-venue\",'FMI Template'!J325)))),\"\")","v":""},{"$f":"IF(AND('FMI Template'!K325<>\"\",'FMI Template'!K325<>\"UA\"),'FMI Template'!K325,\"\")","v":""},{"$f":"IF('FMI Template'!K325=\"direct\",\"NA\",IF(AND('FMI Template'!M325<>\"\",'FMI Template'!M325<>\"UA\"),'FMI Template'!M325,\"\"))","v":""},{"$f":"IF('FMI Template'!K325=\"direct\",\"NA\",IF(AND('FMI Template'!N325<>\"\",'FMI Template'!N325<>\"UA\"),'FMI Template'!N325,\"\"))","v":""},{"$f":"IF(OR('FMI Template'!H325=\"Other\",'FMI Template'!H325=\"NA\"),'FMI Template'!Q325,\"\")","v":""},{"$f":"IF(AND('FMI Template'!O325<>\"\",'FMI Template'!O325<>\"NA\",'FMI Template'!O325<>\"UA\"),'FMI Template'!O325,\"\")","v":""}]
[null,{"$f":"IF(AND('FMI Template'!B326<>\"\",'FMI Template'!B326<>\"NA\",'FMI Template'!B326<>\"UA\"),'FMI Template'!B326,\"\")","v":""},{"$f":"IF(AND('FMI Template'!C326<>\"\",'FMI Template'!C326<>\"NA\",'FMI Template'!C326<>\"UA\"),'FMI Template'!C326,\"\")","v":""},{"$f":"IF(AND('FMI Template'!D326<>\"\",'FMI Template'!D326<>\"NA\",'FMI Template'!D326<>\"UA\"),'FMI Template'!D326,\"\")","v":""},{"$f":"IF(AND('FMI Template'!F326<>\"\",'FMI Template'!F326<>\"NA\",'FMI Template'!F326<>\"UA\"),'FMI Template'!F326,\"\")","v":""},{"$f":"IF(AND('FMI Template'!H326<>\"\", 'FMI Template'!H326<>\"UA\"),IF('FMI Template'!H326=\"CSD\",\"(I)CSD\",IF('FMI Template'!H326=\"CCP_Derivatives\",\"CCP-Derivatives\",IF('FMI Template'!H326=\"CCP_securities\",\"CCP-securities\",IF('FMI Template'!H326=\"PS_Retail\",\"PS\",IF('FMI Template'!H326=\"PS_LV\",\"PS\",'FMI Template'!H326))))),\"\")","v":""},{"$f":"IF(AND('FMI Template'!I326<>\"\", 'FMI Template'!I326<>\"UA\"),'FMI Template'!I326,\"\")","v":""},{"$f":"IF(AND('FMI Template'!J326<>\"\",'FMI Template'!J326<>\"UA\"),IF('FMI Template'!J326=\"CSD_SSS\",\"CSD-SSS\",IF('FMI Template'!J326=\"CCP_Derivatives\",\"CCP-Derivatives\",IF('FMI Template'!J326=\"CCP_securities\",\"CCP-securities\",IF('FMI Template'!J326=\"Trading_venue\",\"Trading-venue\",'FMI Template'!J326)))),\"\")","v":""},{"$f":"IF(AND('FMI Template'!K326<>\"\",'FMI Template'!K326<>\"UA\"),'FMI Template'!K326,\"\")","v":""},{"$f":"IF('FMI Template'!K326=\"direct\",\"NA\",IF(AND('FMI Template'!M326<>\"\",'FMI Template'!M326<>\"UA\"),'FMI Template'!M326,\"\"))","v":""},{"$f":"IF('FMI Template'!K326=\"direct\",\"NA\",IF(AND('FMI Template'!N326<>\"\",'FMI Template'!N326<>\"UA\"),'FMI Template'!N326,\"\"))","v":""},{"$f":"IF(OR('FMI Template'!H326=\"Other\",'FMI Template'!H326=\"NA\"),'FMI Template'!Q326,\"\")","v":""},{"$f":"IF(AND('FMI Template'!O326<>\"\",'FMI Template'!O326<>\"NA\",'FMI Template'!O326<>\"UA\"),'FMI Template'!O326,\"\")","v":""}]
[null,{"$f":"IF(AND('FMI Template'!B327<>\"\",'FMI Template'!B327<>\"NA\",'FMI Template'!B327<>\"UA\"),'FMI Template'!B327,\"\")","v":""},{"$f":"IF(AND('FMI Template'!C327<>\"\",'FMI Template'!C327<>\"NA\",'FMI Template'!C327<>\"UA\"),'FMI Template'!C327,\"\")","v":""},{"$f":"IF(AND('FMI Template'!D327<>\"\",'FMI Template'!D327<>\"NA\",'FMI Template'!D327<>\"UA\"),'FMI Template'!D327,\"\")","v":""},{"$f":"IF(AND('FMI Template'!F327<>\"\",'FMI Template'!F327<>\"NA\",'FMI Template'!F327<>\"UA\"),'FMI Template'!F327,\"\")","v":""},{"$f":"IF(AND('FMI Template'!H327<>\"\", 'FMI Template'!H327<>\"UA\"),IF('FMI Template'!H327=\"CSD\",\"(I)CSD\",IF('FMI Template'!H327=\"CCP_Derivatives\",\"CCP-Derivatives\",IF('FMI Template'!H327=\"CCP_securities\",\"CCP-securities\",IF('FMI Template'!H327=\"PS_Retail\",\"PS\",IF('FMI Template'!H327=\"PS_LV\",\"PS\",'FMI Template'!H327))))),\"\")","v":""},{"$f":"IF(AND('FMI Template'!I327<>\"\", 'FMI Template'!I327<>\"UA\"),'FMI Template'!I327,\"\")","v":""},{"$f":"IF(AND('FMI Template'!J327<>\"\",'FMI Template'!J327<>\"UA\"),IF('FMI Template'!J327=\"CSD_SSS\",\"CSD-SSS\",IF('FMI Template'!J327=\"CCP_Derivatives\",\"CCP-Derivatives\",IF('FMI Template'!J327=\"CCP_securities\",\"CCP-securities\",IF('FMI Template'!J327=\"Trading_venue\",\"Trading-venue\",'FMI Template'!J327)))),\"\")","v":""},{"$f":"IF(AND('FMI Template'!K327<>\"\",'FMI Template'!K327<>\"UA\"),'FMI Template'!K327,\"\")","v":""},{"$f":"IF('FMI Template'!K327=\"direct\",\"NA\",IF(AND('FMI Template'!M327<>\"\",'FMI Template'!M327<>\"UA\"),'FMI Template'!M327,\"\"))","v":""},{"$f":"IF('FMI Template'!K327=\"direct\",\"NA\",IF(AND('FMI Template'!N327<>\"\",'FMI Template'!N327<>\"UA\"),'FMI Template'!N327,\"\"))","v":""},{"$f":"IF(OR('FMI Template'!H327=\"Other\",'FMI Template'!H327=\"NA\"),'FMI Template'!Q327,\"\")","v":""},{"$f":"IF(AND('FMI Template'!O327<>\"\",'FMI Template'!O327<>\"NA\",'FMI Template'!O327<>\"UA\"),'FMI Template'!O327,\"\")","v":""}]
[null,{"$f":"IF(AND('FMI Template'!B328<>\"\",'FMI Template'!B328<>\"NA\",'FMI Template'!B328<>\"UA\"),'FMI Template'!B328,\"\")","v":""},{"$f":"IF(AND('FMI Template'!C328<>\"\",'FMI Template'!C328<>\"NA\",'FMI Template'!C328<>\"UA\"),'FMI Template'!C328,\"\")","v":""},{"$f":"IF(AND('FMI Template'!D328<>\"\",'FMI Template'!D328<>\"NA\",'FMI Template'!D328<>\"UA\"),'FMI Template'!D328,\"\")","v":""},{"$f":"IF(AND('FMI Template'!F328<>\"\",'FMI Template'!F328<>\"NA\",'FMI Template'!F328<>\"UA\"),'FMI Template'!F328,\"\")","v":""},{"$f":"IF(AND('FMI Template'!H328<>\"\", 'FMI Template'!H328<>\"UA\"),IF('FMI Template'!H328=\"CSD\",\"(I)CSD\",IF('FMI Template'!H328=\"CCP_Derivatives\",\"CCP-Derivatives\",IF('FMI Template'!H328=\"CCP_securities\",\"CCP-securities\",IF('FMI Template'!H328=\"PS_Retail\",\"PS\",IF('FMI Template'!H328=\"PS_LV\",\"PS\",'FMI Template'!H328))))),\"\")","v":""},{"$f":"IF(AND('FMI Template'!I328<>\"\", 'FMI Template'!I328<>\"UA\"),'FMI Template'!I328,\"\")","v":""},{"$f":"IF(AND('FMI Template'!J328<>\"\",'FMI Template'!J328<>\"UA\"),IF('FMI Template'!J328=\"CSD_SSS\",\"CSD-SSS\",IF('FMI Template'!J328=\"CCP_Derivatives\",\"CCP-Derivatives\",IF('FMI Template'!J328=\"CCP_securities\",\"CCP-securities\",IF('FMI Template'!J328=\"Trading_venue\",\"Trading-venue\",'FMI Template'!J328)))),\"\")","v":""},{"$f":"IF(AND('FMI Template'!K328<>\"\",'FMI Template'!K328<>\"UA\"),'FMI Template'!K328,\"\")","v":""},{"$f":"IF('FMI Template'!K328=\"direct\",\"NA\",IF(AND('FMI Template'!M328<>\"\",'FMI Template'!M328<>\"UA\"),'FMI Template'!M328,\"\"))","v":""},{"$f":"IF('FMI Template'!K328=\"direct\",\"NA\",IF(AND('FMI Template'!N328<>\"\",'FMI Template'!N328<>\"UA\"),'FMI Template'!N328,\"\"))","v":""},{"$f":"IF(OR('FMI Template'!H328=\"Other\",'FMI Template'!H328=\"NA\"),'FMI Template'!Q328,\"\")","v":""},{"$f":"IF(AND('FMI Template'!O328<>\"\",'FMI Template'!O328<>\"NA\",'FMI Template'!O328<>\"UA\"),'FMI Template'!O328,\"\")","v":""}]
[null,{"$f":"IF(AND('FMI Template'!B329<>\"\",'FMI Template'!B329<>\"NA\",'FMI Template'!B329<>\"UA\"),'FMI Template'!B329,\"\")","v":""},{"$f":"IF(AND('FMI Template'!C329<>\"\",'FMI Template'!C329<>\"NA\",'FMI Template'!C329<>\"UA\"),'FMI Template'!C329,\"\")","v":""},{"$f":"IF(AND('FMI Template'!D329<>\"\",'FMI Template'!D329<>\"NA\",'FMI Template'!D329<>\"UA\"),'FMI Template'!D329,\"\")","v":""},{"$f":"IF(AND('FMI Template'!F329<>\"\",'FMI Template'!F329<>\"NA\",'FMI Template'!F329<>\"UA\"),'FMI Template'!F329,\"\")","v":""},{"$f":"IF(AND('FMI Template'!H329<>\"\", 'FMI Template'!H329<>\"UA\"),IF('FMI Template'!H329=\"CSD\",\"(I)CSD\",IF('FMI Template'!H329=\"CCP_Derivatives\",\"CCP-Derivatives\",IF('FMI Template'!H329=\"CCP_securities\",\"CCP-securities\",IF('FMI Template'!H329=\"PS_Retail\",\"PS\",IF('FMI Template'!H329=\"PS_LV\",\"PS\",'FMI Template'!H329))))),\"\")","v":""},{"$f":"IF(AND('FMI Template'!I329<>\"\", 'FMI Template'!I329<>\"UA\"),'FMI Template'!I329,\"\")","v":""},{"$f":"IF(AND('FMI Template'!J329<>\"\",'FMI Template'!J329<>\"UA\"),IF('FMI Template'!J329=\"CSD_SSS\",\"CSD-SSS\",IF('FMI Template'!J329=\"CCP_Derivatives\",\"CCP-Derivatives\",IF('FMI Template'!J329=\"CCP_securities\",\"CCP-securities\",IF('FMI Template'!J329=\"Trading_venue\",\"Trading-venue\",'FMI Template'!J329)))),\"\")","v":""},{"$f":"IF(AND('FMI Template'!K329<>\"\",'FMI Template'!K329<>\"UA\"),'FMI Template'!K329,\"\")","v":""},{"$f":"IF('FMI Template'!K329=\"direct\",\"NA\",IF(AND('FMI Template'!M329<>\"\",'FMI Template'!M329<>\"UA\"),'FMI Template'!M329,\"\"))","v":""},{"$f":"IF('FMI Template'!K329=\"direct\",\"NA\",IF(AND('FMI Template'!N329<>\"\",'FMI Template'!N329<>\"UA\"),'FMI Template'!N329,\"\"))","v":""},{"$f":"IF(OR('FMI Template'!H329=\"Other\",'FMI Template'!H329=\"NA\"),'FMI Template'!Q329,\"\")","v":""},{"$f":"IF(AND('FMI Template'!O329<>\"\",'FMI Template'!O329<>\"NA\",'FMI Template'!O329<>\"UA\"),'FMI Template'!O329,\"\")","v":""}]
[null,{"$f":"IF(AND('FMI Template'!B330<>\"\",'FMI Template'!B330<>\"NA\",'FMI Template'!B330<>\"UA\"),'FMI Template'!B330,\"\")","v":""},{"$f":"IF(AND('FMI Template'!C330<>\"\",'FMI Template'!C330<>\"NA\",'FMI Template'!C330<>\"UA\"),'FMI Template'!C330,\"\")","v":""},{"$f":"IF(AND('FMI Template'!D330<>\"\",'FMI Template'!D330<>\"NA\",'FMI Template'!D330<>\"UA\"),'FMI Template'!D330,\"\")","v":""},{"$f":"IF(AND('FMI Template'!F330<>\"\",'FMI Template'!F330<>\"NA\",'FMI Template'!F330<>\"UA\"),'FMI Template'!F330,\"\")","v":""},{"$f":"IF(AND('FMI Template'!H330<>\"\", 'FMI Template'!H330<>\"UA\"),IF('FMI Template'!H330=\"CSD\",\"(I)CSD\",IF('FMI Template'!H330=\"CCP_Derivatives\",\"CCP-Derivatives\",IF('FMI Template'!H330=\"CCP_securities\",\"CCP-securities\",IF('FMI Template'!H330=\"PS_Retail\",\"PS\",IF('FMI Template'!H330=\"PS_LV\",\"PS\",'FMI Template'!H330))))),\"\")","v":""},{"$f":"IF(AND('FMI Template'!I330<>\"\", 'FMI Template'!I330<>\"UA\"),'FMI Template'!I330,\"\")","v":""},{"$f":"IF(AND('FMI Template'!J330<>\"\",'FMI Template'!J330<>\"UA\"),IF('FMI Template'!J330=\"CSD_SSS\",\"CSD-SSS\",IF('FMI Template'!J330=\"CCP_Derivatives\",\"CCP-Derivatives\",IF('FMI Template'!J330=\"CCP_securities\",\"CCP-securities\",IF('FMI Template'!J330=\"Trading_venue\",\"Trading-venue\",'FMI Template'!J330)))),\"\")","v":""},{"$f":"IF(AND('FMI Template'!K330<>\"\",'FMI Template'!K330<>\"UA\"),'FMI Template'!K330,\"\")","v":""},{"$f":"IF('FMI Template'!K330=\"direct\",\"NA\",IF(AND('FMI Template'!M330<>\"\",'FMI Template'!M330<>\"UA\"),'FMI Template'!M330,\"\"))","v":""},{"$f":"IF('FMI Template'!K330=\"direct\",\"NA\",IF(AND('FMI Template'!N330<>\"\",'FMI Template'!N330<>\"UA\"),'FMI Template'!N330,\"\"))","v":""},{"$f":"IF(OR('FMI Template'!H330=\"Other\",'FMI Template'!H330=\"NA\"),'FMI Template'!Q330,\"\")","v":""},{"$f":"IF(AND('FMI Template'!O330<>\"\",'FMI Template'!O330<>\"NA\",'FMI Template'!O330<>\"UA\"),'FMI Template'!O330,\"\")","v":""}]
[null,{"$f":"IF(AND('FMI Template'!B331<>\"\",'FMI Template'!B331<>\"NA\",'FMI Template'!B331<>\"UA\"),'FMI Template'!B331,\"\")","v":""},{"$f":"IF(AND('FMI Template'!C331<>\"\",'FMI Template'!C331<>\"NA\",'FMI Template'!C331<>\"UA\"),'FMI Template'!C331,\"\")","v":""},{"$f":"IF(AND('FMI Template'!D331<>\"\",'FMI Template'!D331<>\"NA\",'FMI Template'!D331<>\"UA\"),'FMI Template'!D331,\"\")","v":""},{"$f":"IF(AND('FMI Template'!F331<>\"\",'FMI Template'!F331<>\"NA\",'FMI Template'!F331<>\"UA\"),'FMI Template'!F331,\"\")","v":""},{"$f":"IF(AND('FMI Template'!H331<>\"\", 'FMI Template'!H331<>\"UA\"),IF('FMI Template'!H331=\"CSD\",\"(I)CSD\",IF('FMI Template'!H331=\"CCP_Derivatives\",\"CCP-Derivatives\",IF('FMI Template'!H331=\"CCP_securities\",\"CCP-securities\",IF('FMI Template'!H331=\"PS_Retail\",\"PS\",IF('FMI Template'!H331=\"PS_LV\",\"PS\",'FMI Template'!H331))))),\"\")","v":""},{"$f":"IF(AND('FMI Template'!I331<>\"\", 'FMI Template'!I331<>\"UA\"),'FMI Template'!I331,\"\")","v":""},{"$f":"IF(AND('FMI Template'!J331<>\"\",'FMI Template'!J331<>\"UA\"),IF('FMI Template'!J331=\"CSD_SSS\",\"CSD-SSS\",IF('FMI Template'!J331=\"CCP_Derivatives\",\"CCP-Derivatives\",IF('FMI Template'!J331=\"CCP_securities\",\"CCP-securities\",IF('FMI Template'!J331=\"Trading_venue\",\"Trading-venue\",'FMI Template'!J331)))),\"\")","v":""},{"$f":"IF(AND('FMI Template'!K331<>\"\",'FMI Template'!K331<>\"UA\"),'FMI Template'!K331,\"\")","v":""},{"$f":"IF('FMI Template'!K331=\"direct\",\"NA\",IF(AND('FMI Template'!M331<>\"\",'FMI Template'!M331<>\"UA\"),'FMI Template'!M331,\"\"))","v":""},{"$f":"IF('FMI Template'!K331=\"direct\",\"NA\",IF(AND('FMI Template'!N331<>\"\",'FMI Template'!N331<>\"UA\"),'FMI Template'!N331,\"\"))","v":""},{"$f":"IF(OR('FMI Template'!H331=\"Other\",'FMI Template'!H331=\"NA\"),'FMI Template'!Q331,\"\")","v":""},{"$f":"IF(AND('FMI Template'!O331<>\"\",'FMI Template'!O331<>\"NA\",'FMI Template'!O331<>\"UA\"),'FMI Template'!O331,\"\")","v":""}]
[null,{"$f":"IF(AND('FMI Template'!B332<>\"\",'FMI Template'!B332<>\"NA\",'FMI Template'!B332<>\"UA\"),'FMI Template'!B332,\"\")","v":""},{"$f":"IF(AND('FMI Template'!C332<>\"\",'FMI Template'!C332<>\"NA\",'FMI Template'!C332<>\"UA\"),'FMI Template'!C332,\"\")","v":""},{"$f":"IF(AND('FMI Template'!D332<>\"\",'FMI Template'!D332<>\"NA\",'FMI Template'!D332<>\"UA\"),'FMI Template'!D332,\"\")","v":""},{"$f":"IF(AND('FMI Template'!F332<>\"\",'FMI Template'!F332<>\"NA\",'FMI Template'!F332<>\"UA\"),'FMI Template'!F332,\"\")","v":""},{"$f":"IF(AND('FMI Template'!H332<>\"\", 'FMI Template'!H332<>\"UA\"),IF('FMI Template'!H332=\"CSD\",\"(I)CSD\",IF('FMI Template'!H332=\"CCP_Derivatives\",\"CCP-Derivatives\",IF('FMI Template'!H332=\"CCP_securities\",\"CCP-securities\",IF('FMI Template'!H332=\"PS_Retail\",\"PS\",IF('FMI Template'!H332=\"PS_LV\",\"PS\",'FMI Template'!H332))))),\"\")","v":""},{"$f":"IF(AND('FMI Template'!I332<>\"\", 'FMI Template'!I332<>\"UA\"),'FMI Template'!I332,\"\")","v":""},{"$f":"IF(AND('FMI Template'!J332<>\"\",'FMI Template'!J332<>\"UA\"),IF('FMI Template'!J332=\"CSD_SSS\",\"CSD-SSS\",IF('FMI Template'!J332=\"CCP_Derivatives\",\"CCP-Derivatives\",IF('FMI Template'!J332=\"CCP_securities\",\"CCP-securities\",IF('FMI Template'!J332=\"Trading_venue\",\"Trading-venue\",'FMI Template'!J332)))),\"\")","v":""},{"$f":"IF(AND('FMI Template'!K332<>\"\",'FMI Template'!K332<>\"UA\"),'FMI Template'!K332,\"\")","v":""},{"$f":"IF('FMI Template'!K332=\"direct\",\"NA\",IF(AND('FMI Template'!M332<>\"\",'FMI Template'!M332<>\"UA\"),'FMI Template'!M332,\"\"))","v":""},{"$f":"IF('FMI Template'!K332=\"direct\",\"NA\",IF(AND('FMI Template'!N332<>\"\",'FMI Template'!N332<>\"UA\"),'FMI Template'!N332,\"\"))","v":""},{"$f":"IF(OR('FMI Template'!H332=\"Other\",'FMI Template'!H332=\"NA\"),'FMI Template'!Q332,\"\")","v":""},{"$f":"IF(AND('FMI Template'!O332<>\"\",'FMI Template'!O332<>\"NA\",'FMI Template'!O332<>\"UA\"),'FMI Template'!O332,\"\")","v":""}]
[null,{"$f":"IF(AND('FMI Template'!B333<>\"\",'FMI Template'!B333<>\"NA\",'FMI Template'!B333<>\"UA\"),'FMI Template'!B333,\"\")","v":""},{"$f":"IF(AND('FMI Template'!C333<>\"\",'FMI Template'!C333<>\"NA\",'FMI Template'!C333<>\"UA\"),'FMI Template'!C333,\"\")","v":""},{"$f":"IF(AND('FMI Template'!D333<>\"\",'FMI Template'!D333<>\"NA\",'FMI Template'!D333<>\"UA\"),'FMI Template'!D333,\"\")","v":""},{"$f":"IF(AND('FMI Template'!F333<>\"\",'FMI Template'!F333<>\"NA\",'FMI Template'!F333<>\"UA\"),'FMI Template'!F333,\"\")","v":""},{"$f":"IF(AND('FMI Template'!H333<>\"\", 'FMI Template'!H333<>\"UA\"),IF('FMI Template'!H333=\"CSD\",\"(I)CSD\",IF('FMI Template'!H333=\"CCP_Derivatives\",\"CCP-Derivatives\",IF('FMI Template'!H333=\"CCP_securities\",\"CCP-securities\",IF('FMI Template'!H333=\"PS_Retail\",\"PS\",IF('FMI Template'!H333=\"PS_LV\",\"PS\",'FMI Template'!H333))))),\"\")","v":""},{"$f":"IF(AND('FMI Template'!I333<>\"\", 'FMI Template'!I333<>\"UA\"),'FMI Template'!I333,\"\")","v":""},{"$f":"IF(AND('FMI Template'!J333<>\"\",'FMI Template'!J333<>\"UA\"),IF('FMI Template'!J333=\"CSD_SSS\",\"CSD-SSS\",IF('FMI Template'!J333=\"CCP_Derivatives\",\"CCP-Derivatives\",IF('FMI Template'!J333=\"CCP_securities\",\"CCP-securities\",IF('FMI Template'!J333=\"Trading_venue\",\"Trading-venue\",'FMI Template'!J333)))),\"\")","v":""},{"$f":"IF(AND('FMI Template'!K333<>\"\",'FMI Template'!K333<>\"UA\"),'FMI Template'!K333,\"\")","v":""},{"$f":"IF('FMI Template'!K333=\"direct\",\"NA\",IF(AND('FMI Template'!M333<>\"\",'FMI Template'!M333<>\"UA\"),'FMI Template'!M333,\"\"))","v":""},{"$f":"IF('FMI Template'!K333=\"direct\",\"NA\",IF(AND('FMI Template'!N333<>\"\",'FMI Template'!N333<>\"UA\"),'FMI Template'!N333,\"\"))","v":""},{"$f":"IF(OR('FMI Template'!H333=\"Other\",'FMI Template'!H333=\"NA\"),'FMI Template'!Q333,\"\")","v":""},{"$f":"IF(AND('FMI Template'!O333<>\"\",'FMI Template'!O333<>\"NA\",'FMI Template'!O333<>\"UA\"),'FMI Template'!O333,\"\")","v":""}]
[null,{"$f":"IF(AND('FMI Template'!B334<>\"\",'FMI Template'!B334<>\"NA\",'FMI Template'!B334<>\"UA\"),'FMI Template'!B334,\"\")","v":""},{"$f":"IF(AND('FMI Template'!C334<>\"\",'FMI Template'!C334<>\"NA\",'FMI Template'!C334<>\"UA\"),'FMI Template'!C334,\"\")","v":""},{"$f":"IF(AND('FMI Template'!D334<>\"\",'FMI Template'!D334<>\"NA\",'FMI Template'!D334<>\"UA\"),'FMI Template'!D334,\"\")","v":""},{"$f":"IF(AND('FMI Template'!F334<>\"\",'FMI Template'!F334<>\"NA\",'FMI Template'!F334<>\"UA\"),'FMI Template'!F334,\"\")","v":""},{"$f":"IF(AND('FMI Template'!H334<>\"\", 'FMI Template'!H334<>\"UA\"),IF('FMI Template'!H334=\"CSD\",\"(I)CSD\",IF('FMI Template'!H334=\"CCP_Derivatives\",\"CCP-Derivatives\",IF('FMI Template'!H334=\"CCP_securities\",\"CCP-securities\",IF('FMI Template'!H334=\"PS_Retail\",\"PS\",IF('FMI Template'!H334=\"PS_LV\",\"PS\",'FMI Template'!H334))))),\"\")","v":""},{"$f":"IF(AND('FMI Template'!I334<>\"\", 'FMI Template'!I334<>\"UA\"),'FMI Template'!I334,\"\")","v":""},{"$f":"IF(AND('FMI Template'!J334<>\"\",'FMI Template'!J334<>\"UA\"),IF('FMI Template'!J334=\"CSD_SSS\",\"CSD-SSS\",IF('FMI Template'!J334=\"CCP_Derivatives\",\"CCP-Derivatives\",IF('FMI Template'!J334=\"CCP_securities\",\"CCP-securities\",IF('FMI Template'!J334=\"Trading_venue\",\"Trading-venue\",'FMI Template'!J334)))),\"\")","v":""},{"$f":"IF(AND('FMI Template'!K334<>\"\",'FMI Template'!K334<>\"UA\"),'FMI Template'!K334,\"\")","v":""},{"$f":"IF('FMI Template'!K334=\"direct\",\"NA\",IF(AND('FMI Template'!M334<>\"\",'FMI Template'!M334<>\"UA\"),'FMI Template'!M334,\"\"))","v":""},{"$f":"IF('FMI Template'!K334=\"direct\",\"NA\",IF(AND('FMI Template'!N334<>\"\",'FMI Template'!N334<>\"UA\"),'FMI Template'!N334,\"\"))","v":""},{"$f":"IF(OR('FMI Template'!H334=\"Other\",'FMI Template'!H334=\"NA\"),'FMI Template'!Q334,\"\")","v":""},{"$f":"IF(AND('FMI Template'!O334<>\"\",'FMI Template'!O334<>\"NA\",'FMI Template'!O334<>\"UA\"),'FMI Template'!O334,\"\")","v":""}]
[null,{"$f":"IF(AND('FMI Template'!B335<>\"\",'FMI Template'!B335<>\"NA\",'FMI Template'!B335<>\"UA\"),'FMI Template'!B335,\"\")","v":""},{"$f":"IF(AND('FMI Template'!C335<>\"\",'FMI Template'!C335<>\"NA\",'FMI Template'!C335<>\"UA\"),'FMI Template'!C335,\"\")","v":""},{"$f":"IF(AND('FMI Template'!D335<>\"\",'FMI Template'!D335<>\"NA\",'FMI Template'!D335<>\"UA\"),'FMI Template'!D335,\"\")","v":""},{"$f":"IF(AND('FMI Template'!F335<>\"\",'FMI Template'!F335<>\"NA\",'FMI Template'!F335<>\"UA\"),'FMI Template'!F335,\"\")","v":""},{"$f":"IF(AND('FMI Template'!H335<>\"\", 'FMI Template'!H335<>\"UA\"),IF('FMI Template'!H335=\"CSD\",\"(I)CSD\",IF('FMI Template'!H335=\"CCP_Derivatives\",\"CCP-Derivatives\",IF('FMI Template'!H335=\"CCP_securities\",\"CCP-securities\",IF('FMI Template'!H335=\"PS_Retail\",\"PS\",IF('FMI Template'!H335=\"PS_LV\",\"PS\",'FMI Template'!H335))))),\"\")","v":""},{"$f":"IF(AND('FMI Template'!I335<>\"\", 'FMI Template'!I335<>\"UA\"),'FMI Template'!I335,\"\")","v":""},{"$f":"IF(AND('FMI Template'!J335<>\"\",'FMI Template'!J335<>\"UA\"),IF('FMI Template'!J335=\"CSD_SSS\",\"CSD-SSS\",IF('FMI Template'!J335=\"CCP_Derivatives\",\"CCP-Derivatives\",IF('FMI Template'!J335=\"CCP_securities\",\"CCP-securities\",IF('FMI Template'!J335=\"Trading_venue\",\"Trading-venue\",'FMI Template'!J335)))),\"\")","v":""},{"$f":"IF(AND('FMI Template'!K335<>\"\",'FMI Template'!K335<>\"UA\"),'FMI Template'!K335,\"\")","v":""},{"$f":"IF('FMI Template'!K335=\"direct\",\"NA\",IF(AND('FMI Template'!M335<>\"\",'FMI Template'!M335<>\"UA\"),'FMI Template'!M335,\"\"))","v":""},{"$f":"IF('FMI Template'!K335=\"direct\",\"NA\",IF(AND('FMI Template'!N335<>\"\",'FMI Template'!N335<>\"UA\"),'FMI Template'!N335,\"\"))","v":""},{"$f":"IF(OR('FMI Template'!H335=\"Other\",'FMI Template'!H335=\"NA\"),'FMI Template'!Q335,\"\")","v":""},{"$f":"IF(AND('FMI Template'!O335<>\"\",'FMI Template'!O335<>\"NA\",'FMI Template'!O335<>\"UA\"),'FMI Template'!O335,\"\")","v":""}]
[null,{"$f":"IF(AND('FMI Template'!B336<>\"\",'FMI Template'!B336<>\"NA\",'FMI Template'!B336<>\"UA\"),'FMI Template'!B336,\"\")","v":""},{"$f":"IF(AND('FMI Template'!C336<>\"\",'FMI Template'!C336<>\"NA\",'FMI Template'!C336<>\"UA\"),'FMI Template'!C336,\"\")","v":""},{"$f":"IF(AND('FMI Template'!D336<>\"\",'FMI Template'!D336<>\"NA\",'FMI Template'!D336<>\"UA\"),'FMI Template'!D336,\"\")","v":""},{"$f":"IF(AND('FMI Template'!F336<>\"\",'FMI Template'!F336<>\"NA\",'FMI Template'!F336<>\"UA\"),'FMI Template'!F336,\"\")","v":""},{"$f":"IF(AND('FMI Template'!H336<>\"\", 'FMI Template'!H336<>\"UA\"),IF('FMI Template'!H336=\"CSD\",\"(I)CSD\",IF('FMI Template'!H336=\"CCP_Derivatives\",\"CCP-Derivatives\",IF('FMI Template'!H336=\"CCP_securities\",\"CCP-securities\",IF('FMI Template'!H336=\"PS_Retail\",\"PS\",IF('FMI Template'!H336=\"PS_LV\",\"PS\",'FMI Template'!H336))))),\"\")","v":""},{"$f":"IF(AND('FMI Template'!I336<>\"\", 'FMI Template'!I336<>\"UA\"),'FMI Template'!I336,\"\")","v":""},{"$f":"IF(AND('FMI Template'!J336<>\"\",'FMI Template'!J336<>\"UA\"),IF('FMI Template'!J336=\"CSD_SSS\",\"CSD-SSS\",IF('FMI Template'!J336=\"CCP_Derivatives\",\"CCP-Derivatives\",IF('FMI Template'!J336=\"CCP_securities\",\"CCP-securities\",IF('FMI Template'!J336=\"Trading_venue\",\"Trading-venue\",'FMI Template'!J336)))),\"\")","v":""},{"$f":"IF(AND('FMI Template'!K336<>\"\",'FMI Template'!K336<>\"UA\"),'FMI Template'!K336,\"\")","v":""},{"$f":"IF('FMI Template'!K336=\"direct\",\"NA\",IF(AND('FMI Template'!M336<>\"\",'FMI Template'!M336<>\"UA\"),'FMI Template'!M336,\"\"))","v":""},{"$f":"IF('FMI Template'!K336=\"direct\",\"NA\",IF(AND('FMI Template'!N336<>\"\",'FMI Template'!N336<>\"UA\"),'FMI Template'!N336,\"\"))","v":""},{"$f":"IF(OR('FMI Template'!H336=\"Other\",'FMI Template'!H336=\"NA\"),'FMI Template'!Q336,\"\")","v":""},{"$f":"IF(AND('FMI Template'!O336<>\"\",'FMI Template'!O336<>\"NA\",'FMI Template'!O336<>\"UA\"),'FMI Template'!O336,\"\")","v":""}]
[null,{"$f":"IF(AND('FMI Template'!B337<>\"\",'FMI Template'!B337<>\"NA\",'FMI Template'!B337<>\"UA\"),'FMI Template'!B337,\"\")","v":""},{"$f":"IF(AND('FMI Template'!C337<>\"\",'FMI Template'!C337<>\"NA\",'FMI Template'!C337<>\"UA\"),'FMI Template'!C337,\"\")","v":""},{"$f":"IF(AND('FMI Template'!D337<>\"\",'FMI Template'!D337<>\"NA\",'FMI Template'!D337<>\"UA\"),'FMI Template'!D337,\"\")","v":""},{"$f":"IF(AND('FMI Template'!F337<>\"\",'FMI Template'!F337<>\"NA\",'FMI Template'!F337<>\"UA\"),'FMI Template'!F337,\"\")","v":""},{"$f":"IF(AND('FMI Template'!H337<>\"\", 'FMI Template'!H337<>\"UA\"),IF('FMI Template'!H337=\"CSD\",\"(I)CSD\",IF('FMI Template'!H337=\"CCP_Derivatives\",\"CCP-Derivatives\",IF('FMI Template'!H337=\"CCP_securities\",\"CCP-securities\",IF('FMI Template'!H337=\"PS_Retail\",\"PS\",IF('FMI Template'!H337=\"PS_LV\",\"PS\",'FMI Template'!H337))))),\"\")","v":""},{"$f":"IF(AND('FMI Template'!I337<>\"\", 'FMI Template'!I337<>\"UA\"),'FMI Template'!I337,\"\")","v":""},{"$f":"IF(AND('FMI Template'!J337<>\"\",'FMI Template'!J337<>\"UA\"),IF('FMI Template'!J337=\"CSD_SSS\",\"CSD-SSS\",IF('FMI Template'!J337=\"CCP_Derivatives\",\"CCP-Derivatives\",IF('FMI Template'!J337=\"CCP_securities\",\"CCP-securities\",IF('FMI Template'!J337=\"Trading_venue\",\"Trading-venue\",'FMI Template'!J337)))),\"\")","v":""},{"$f":"IF(AND('FMI Template'!K337<>\"\",'FMI Template'!K337<>\"UA\"),'FMI Template'!K337,\"\")","v":""},{"$f":"IF('FMI Template'!K337=\"direct\",\"NA\",IF(AND('FMI Template'!M337<>\"\",'FMI Template'!M337<>\"UA\"),'FMI Template'!M337,\"\"))","v":""},{"$f":"IF('FMI Template'!K337=\"direct\",\"NA\",IF(AND('FMI Template'!N337<>\"\",'FMI Template'!N337<>\"UA\"),'FMI Template'!N337,\"\"))","v":""},{"$f":"IF(OR('FMI Template'!H337=\"Other\",'FMI Template'!H337=\"NA\"),'FMI Template'!Q337,\"\")","v":""},{"$f":"IF(AND('FMI Template'!O337<>\"\",'FMI Template'!O337<>\"NA\",'FMI Template'!O337<>\"UA\"),'FMI Template'!O337,\"\")","v":""}]
[null,{"$f":"IF(AND('FMI Template'!B338<>\"\",'FMI Template'!B338<>\"NA\",'FMI Template'!B338<>\"UA\"),'FMI Template'!B338,\"\")","v":""},{"$f":"IF(AND('FMI Template'!C338<>\"\",'FMI Template'!C338<>\"NA\",'FMI Template'!C338<>\"UA\"),'FMI Template'!C338,\"\")","v":""},{"$f":"IF(AND('FMI Template'!D338<>\"\",'FMI Template'!D338<>\"NA\",'FMI Template'!D338<>\"UA\"),'FMI Template'!D338,\"\")","v":""},{"$f":"IF(AND('FMI Template'!F338<>\"\",'FMI Template'!F338<>\"NA\",'FMI Template'!F338<>\"UA\"),'FMI Template'!F338,\"\")","v":""},{"$f":"IF(AND('FMI Template'!H338<>\"\", 'FMI Template'!H338<>\"UA\"),IF('FMI Template'!H338=\"CSD\",\"(I)CSD\",IF('FMI Template'!H338=\"CCP_Derivatives\",\"CCP-Derivatives\",IF('FMI Template'!H338=\"CCP_securities\",\"CCP-securities\",IF('FMI Template'!H338=\"PS_Retail\",\"PS\",IF('FMI Template'!H338=\"PS_LV\",\"PS\",'FMI Template'!H338))))),\"\")","v":""},{"$f":"IF(AND('FMI Template'!I338<>\"\", 'FMI Template'!I338<>\"UA\"),'FMI Template'!I338,\"\")","v":""},{"$f":"IF(AND('FMI Template'!J338<>\"\",'FMI Template'!J338<>\"UA\"),IF('FMI Template'!J338=\"CSD_SSS\",\"CSD-SSS\",IF('FMI Template'!J338=\"CCP_Derivatives\",\"CCP-Derivatives\",IF('FMI Template'!J338=\"CCP_securities\",\"CCP-securities\",IF('FMI Template'!J338=\"Trading_venue\",\"Trading-venue\",'FMI Template'!J338)))),\"\")","v":""},{"$f":"IF(AND('FMI Template'!K338<>\"\",'FMI Template'!K338<>\"UA\"),'FMI Template'!K338,\"\")","v":""},{"$f":"IF('FMI Template'!K338=\"direct\",\"NA\",IF(AND('FMI Template'!M338<>\"\",'FMI Template'!M338<>\"UA\"),'FMI Template'!M338,\"\"))","v":""},{"$f":"IF('FMI Template'!K338=\"direct\",\"NA\",IF(AND('FMI Template'!N338<>\"\",'FMI Template'!N338<>\"UA\"),'FMI Template'!N338,\"\"))","v":""},{"$f":"IF(OR('FMI Template'!H338=\"Other\",'FMI Template'!H338=\"NA\"),'FMI Template'!Q338,\"\")","v":""},{"$f":"IF(AND('FMI Template'!O338<>\"\",'FMI Template'!O338<>\"NA\",'FMI Template'!O338<>\"UA\"),'FMI Template'!O338,\"\")","v":""}]
[null,{"$f":"IF(AND('FMI Template'!B339<>\"\",'FMI Template'!B339<>\"NA\",'FMI Template'!B339<>\"UA\"),'FMI Template'!B339,\"\")","v":""},{"$f":"IF(AND('FMI Template'!C339<>\"\",'FMI Template'!C339<>\"NA\",'FMI Template'!C339<>\"UA\"),'FMI Template'!C339,\"\")","v":""},{"$f":"IF(AND('FMI Template'!D339<>\"\",'FMI Template'!D339<>\"NA\",'FMI Template'!D339<>\"UA\"),'FMI Template'!D339,\"\")","v":""},{"$f":"IF(AND('FMI Template'!F339<>\"\",'FMI Template'!F339<>\"NA\",'FMI Template'!F339<>\"UA\"),'FMI Template'!F339,\"\")","v":""},{"$f":"IF(AND('FMI Template'!H339<>\"\", 'FMI Template'!H339<>\"UA\"),IF('FMI Template'!H339=\"CSD\",\"(I)CSD\",IF('FMI Template'!H339=\"CCP_Derivatives\",\"CCP-Derivatives\",IF('FMI Template'!H339=\"CCP_securities\",\"CCP-securities\",IF('FMI Template'!H339=\"PS_Retail\",\"PS\",IF('FMI Template'!H339=\"PS_LV\",\"PS\",'FMI Template'!H339))))),\"\")","v":""},{"$f":"IF(AND('FMI Template'!I339<>\"\", 'FMI Template'!I339<>\"UA\"),'FMI Template'!I339,\"\")","v":""},{"$f":"IF(AND('FMI Template'!J339<>\"\",'FMI Template'!J339<>\"UA\"),IF('FMI Template'!J339=\"CSD_SSS\",\"CSD-SSS\",IF('FMI Template'!J339=\"CCP_Derivatives\",\"CCP-Derivatives\",IF('FMI Template'!J339=\"CCP_securities\",\"CCP-securities\",IF('FMI Template'!J339=\"Trading_venue\",\"Trading-venue\",'FMI Template'!J339)))),\"\")","v":""},{"$f":"IF(AND('FMI Template'!K339<>\"\",'FMI Template'!K339<>\"UA\"),'FMI Template'!K339,\"\")","v":""},{"$f":"IF('FMI Template'!K339=\"direct\",\"NA\",IF(AND('FMI Template'!M339<>\"\",'FMI Template'!M339<>\"UA\"),'FMI Template'!M339,\"\"))","v":""},{"$f":"IF('FMI Template'!K339=\"direct\",\"NA\",IF(AND('FMI Template'!N339<>\"\",'FMI Template'!N339<>\"UA\"),'FMI Template'!N339,\"\"))","v":""},{"$f":"IF(OR('FMI Template'!H339=\"Other\",'FMI Template'!H339=\"NA\"),'FMI Template'!Q339,\"\")","v":""},{"$f":"IF(AND('FMI Template'!O339<>\"\",'FMI Template'!O339<>\"NA\",'FMI Template'!O339<>\"UA\"),'FMI Template'!O339,\"\")","v":""}]
[null,{"$f":"IF(AND('FMI Template'!B340<>\"\",'FMI Template'!B340<>\"NA\",'FMI Template'!B340<>\"UA\"),'FMI Template'!B340,\"\")","v":""},{"$f":"IF(AND('FMI Template'!C340<>\"\",'FMI Template'!C340<>\"NA\",'FMI Template'!C340<>\"UA\"),'FMI Template'!C340,\"\")","v":""},{"$f":"IF(AND('FMI Template'!D340<>\"\",'FMI Template'!D340<>\"NA\",'FMI Template'!D340<>\"UA\"),'FMI Template'!D340,\"\")","v":""},{"$f":"IF(AND('FMI Template'!F340<>\"\",'FMI Template'!F340<>\"NA\",'FMI Template'!F340<>\"UA\"),'FMI Template'!F340,\"\")","v":""},{"$f":"IF(AND('FMI Template'!H340<>\"\", 'FMI Template'!H340<>\"UA\"),IF('FMI Template'!H340=\"CSD\",\"(I)CSD\",IF('FMI Template'!H340=\"CCP_Derivatives\",\"CCP-Derivatives\",IF('FMI Template'!H340=\"CCP_securities\",\"CCP-securities\",IF('FMI Template'!H340=\"PS_Retail\",\"PS\",IF('FMI Template'!H340=\"PS_LV\",\"PS\",'FMI Template'!H340))))),\"\")","v":""},{"$f":"IF(AND('FMI Template'!I340<>\"\", 'FMI Template'!I340<>\"UA\"),'FMI Template'!I340,\"\")","v":""},{"$f":"IF(AND('FMI Template'!J340<>\"\",'FMI Template'!J340<>\"UA\"),IF('FMI Template'!J340=\"CSD_SSS\",\"CSD-SSS\",IF('FMI Template'!J340=\"CCP_Derivatives\",\"CCP-Derivatives\",IF('FMI Template'!J340=\"CCP_securities\",\"CCP-securities\",IF('FMI Template'!J340=\"Trading_venue\",\"Trading-venue\",'FMI Template'!J340)))),\"\")","v":""},{"$f":"IF(AND('FMI Template'!K340<>\"\",'FMI Template'!K340<>\"UA\"),'FMI Template'!K340,\"\")","v":""},{"$f":"IF('FMI Template'!K340=\"direct\",\"NA\",IF(AND('FMI Template'!M340<>\"\",'FMI Template'!M340<>\"UA\"),'FMI Template'!M340,\"\"))","v":""},{"$f":"IF('FMI Template'!K340=\"direct\",\"NA\",IF(AND('FMI Template'!N340<>\"\",'FMI Template'!N340<>\"UA\"),'FMI Template'!N340,\"\"))","v":""},{"$f":"IF(OR('FMI Template'!H340=\"Other\",'FMI Template'!H340=\"NA\"),'FMI Template'!Q340,\"\")","v":""},{"$f":"IF(AND('FMI Template'!O340<>\"\",'FMI Template'!O340<>\"NA\",'FMI Template'!O340<>\"UA\"),'FMI Template'!O340,\"\")","v":""}]
[null,{"$f":"IF(AND('FMI Template'!B341<>\"\",'FMI Template'!B341<>\"NA\",'FMI Template'!B341<>\"UA\"),'FMI Template'!B341,\"\")","v":""},{"$f":"IF(AND('FMI Template'!C341<>\"\",'FMI Template'!C341<>\"NA\",'FMI Template'!C341<>\"UA\"),'FMI Template'!C341,\"\")","v":""},{"$f":"IF(AND('FMI Template'!D341<>\"\",'FMI Template'!D341<>\"NA\",'FMI Template'!D341<>\"UA\"),'FMI Template'!D341,\"\")","v":""},{"$f":"IF(AND('FMI Template'!F341<>\"\",'FMI Template'!F341<>\"NA\",'FMI Template'!F341<>\"UA\"),'FMI Template'!F341,\"\")","v":""},{"$f":"IF(AND('FMI Template'!H341<>\"\", 'FMI Template'!H341<>\"UA\"),IF('FMI Template'!H341=\"CSD\",\"(I)CSD\",IF('FMI Template'!H341=\"CCP_Derivatives\",\"CCP-Derivatives\",IF('FMI Template'!H341=\"CCP_securities\",\"CCP-securities\",IF('FMI Template'!H341=\"PS_Retail\",\"PS\",IF('FMI Template'!H341=\"PS_LV\",\"PS\",'FMI Template'!H341))))),\"\")","v":""},{"$f":"IF(AND('FMI Template'!I341<>\"\", 'FMI Template'!I341<>\"UA\"),'FMI Template'!I341,\"\")","v":""},{"$f":"IF(AND('FMI Template'!J341<>\"\",'FMI Template'!J341<>\"UA\"),IF('FMI Template'!J341=\"CSD_SSS\",\"CSD-SSS\",IF('FMI Template'!J341=\"CCP_Derivatives\",\"CCP-Derivatives\",IF('FMI Template'!J341=\"CCP_securities\",\"CCP-securities\",IF('FMI Template'!J341=\"Trading_venue\",\"Trading-venue\",'FMI Template'!J341)))),\"\")","v":""},{"$f":"IF(AND('FMI Template'!K341<>\"\",'FMI Template'!K341<>\"UA\"),'FMI Template'!K341,\"\")","v":""},{"$f":"IF('FMI Template'!K341=\"direct\",\"NA\",IF(AND('FMI Template'!M341<>\"\",'FMI Template'!M341<>\"UA\"),'FMI Template'!M341,\"\"))","v":""},{"$f":"IF('FMI Template'!K341=\"direct\",\"NA\",IF(AND('FMI Template'!N341<>\"\",'FMI Template'!N341<>\"UA\"),'FMI Template'!N341,\"\"))","v":""},{"$f":"IF(OR('FMI Template'!H341=\"Other\",'FMI Template'!H341=\"NA\"),'FMI Template'!Q341,\"\")","v":""},{"$f":"IF(AND('FMI Template'!O341<>\"\",'FMI Template'!O341<>\"NA\",'FMI Template'!O341<>\"UA\"),'FMI Template'!O341,\"\")","v":""}]
[null,{"$f":"IF(AND('FMI Template'!B342<>\"\",'FMI Template'!B342<>\"NA\",'FMI Template'!B342<>\"UA\"),'FMI Template'!B342,\"\")","v":""},{"$f":"IF(AND('FMI Template'!C342<>\"\",'FMI Template'!C342<>\"NA\",'FMI Template'!C342<>\"UA\"),'FMI Template'!C342,\"\")","v":""},{"$f":"IF(AND('FMI Template'!D342<>\"\",'FMI Template'!D342<>\"NA\",'FMI Template'!D342<>\"UA\"),'FMI Template'!D342,\"\")","v":""},{"$f":"IF(AND('FMI Template'!F342<>\"\",'FMI Template'!F342<>\"NA\",'FMI Template'!F342<>\"UA\"),'FMI Template'!F342,\"\")","v":""},{"$f":"IF(AND('FMI Template'!H342<>\"\", 'FMI Template'!H342<>\"UA\"),IF('FMI Template'!H342=\"CSD\",\"(I)CSD\",IF('FMI Template'!H342=\"CCP_Derivatives\",\"CCP-Derivatives\",IF('FMI Template'!H342=\"CCP_securities\",\"CCP-securities\",IF('FMI Template'!H342=\"PS_Retail\",\"PS\",IF('FMI Template'!H342=\"PS_LV\",\"PS\",'FMI Template'!H342))))),\"\")","v":""},{"$f":"IF(AND('FMI Template'!I342<>\"\", 'FMI Template'!I342<>\"UA\"),'FMI Template'!I342,\"\")","v":""},{"$f":"IF(AND('FMI Template'!J342<>\"\",'FMI Template'!J342<>\"UA\"),IF('FMI Template'!J342=\"CSD_SSS\",\"CSD-SSS\",IF('FMI Template'!J342=\"CCP_Derivatives\",\"CCP-Derivatives\",IF('FMI Template'!J342=\"CCP_securities\",\"CCP-securities\",IF('FMI Template'!J342=\"Trading_venue\",\"Trading-venue\",'FMI Template'!J342)))),\"\")","v":""},{"$f":"IF(AND('FMI Template'!K342<>\"\",'FMI Template'!K342<>\"UA\"),'FMI Template'!K342,\"\")","v":""},{"$f":"IF('FMI Template'!K342=\"direct\",\"NA\",IF(AND('FMI Template'!M342<>\"\",'FMI Template'!M342<>\"UA\"),'FMI Template'!M342,\"\"))","v":""},{"$f":"IF('FMI Template'!K342=\"direct\",\"NA\",IF(AND('FMI Template'!N342<>\"\",'FMI Template'!N342<>\"UA\"),'FMI Template'!N342,\"\"))","v":""},{"$f":"IF(OR('FMI Template'!H342=\"Other\",'FMI Template'!H342=\"NA\"),'FMI Template'!Q342,\"\")","v":""},{"$f":"IF(AND('FMI Template'!O342<>\"\",'FMI Template'!O342<>\"NA\",'FMI Template'!O342<>\"UA\"),'FMI Template'!O342,\"\")","v":""}]
[null,{"$f":"IF(AND('FMI Template'!B343<>\"\",'FMI Template'!B343<>\"NA\",'FMI Template'!B343<>\"UA\"),'FMI Template'!B343,\"\")","v":""},{"$f":"IF(AND('FMI Template'!C343<>\"\",'FMI Template'!C343<>\"NA\",'FMI Template'!C343<>\"UA\"),'FMI Template'!C343,\"\")","v":""},{"$f":"IF(AND('FMI Template'!D343<>\"\",'FMI Template'!D343<>\"NA\",'FMI Template'!D343<>\"UA\"),'FMI Template'!D343,\"\")","v":""},{"$f":"IF(AND('FMI Template'!F343<>\"\",'FMI Template'!F343<>\"NA\",'FMI Template'!F343<>\"UA\"),'FMI Template'!F343,\"\")","v":""},{"$f":"IF(AND('FMI Template'!H343<>\"\", 'FMI Template'!H343<>\"UA\"),IF('FMI Template'!H343=\"CSD\",\"(I)CSD\",IF('FMI Template'!H343=\"CCP_Derivatives\",\"CCP-Derivatives\",IF('FMI Template'!H343=\"CCP_securities\",\"CCP-securities\",IF('FMI Template'!H343=\"PS_Retail\",\"PS\",IF('FMI Template'!H343=\"PS_LV\",\"PS\",'FMI Template'!H343))))),\"\")","v":""},{"$f":"IF(AND('FMI Template'!I343<>\"\", 'FMI Template'!I343<>\"UA\"),'FMI Template'!I343,\"\")","v":""},{"$f":"IF(AND('FMI Template'!J343<>\"\",'FMI Template'!J343<>\"UA\"),IF('FMI Template'!J343=\"CSD_SSS\",\"CSD-SSS\",IF('FMI Template'!J343=\"CCP_Derivatives\",\"CCP-Derivatives\",IF('FMI Template'!J343=\"CCP_securities\",\"CCP-securities\",IF('FMI Template'!J343=\"Trading_venue\",\"Trading-venue\",'FMI Template'!J343)))),\"\")","v":""},{"$f":"IF(AND('FMI Template'!K343<>\"\",'FMI Template'!K343<>\"UA\"),'FMI Template'!K343,\"\")","v":""},{"$f":"IF('FMI Template'!K343=\"direct\",\"NA\",IF(AND('FMI Template'!M343<>\"\",'FMI Template'!M343<>\"UA\"),'FMI Template'!M343,\"\"))","v":""},{"$f":"IF('FMI Template'!K343=\"direct\",\"NA\",IF(AND('FMI Template'!N343<>\"\",'FMI Template'!N343<>\"UA\"),'FMI Template'!N343,\"\"))","v":""},{"$f":"IF(OR('FMI Template'!H343=\"Other\",'FMI Template'!H343=\"NA\"),'FMI Template'!Q343,\"\")","v":""},{"$f":"IF(AND('FMI Template'!O343<>\"\",'FMI Template'!O343<>\"NA\",'FMI Template'!O343<>\"UA\"),'FMI Template'!O343,\"\")","v":""}]
[null,{"$f":"IF(AND('FMI Template'!B344<>\"\",'FMI Template'!B344<>\"NA\",'FMI Template'!B344<>\"UA\"),'FMI Template'!B344,\"\")","v":""},{"$f":"IF(AND('FMI Template'!C344<>\"\",'FMI Template'!C344<>\"NA\",'FMI Template'!C344<>\"UA\"),'FMI Template'!C344,\"\")","v":""},{"$f":"IF(AND('FMI Template'!D344<>\"\",'FMI Template'!D344<>\"NA\",'FMI Template'!D344<>\"UA\"),'FMI Template'!D344,\"\")","v":""},{"$f":"IF(AND('FMI Template'!F344<>\"\",'FMI Template'!F344<>\"NA\",'FMI Template'!F344<>\"UA\"),'FMI Template'!F344,\"\")","v":""},{"$f":"IF(AND('FMI Template'!H344<>\"\", 'FMI Template'!H344<>\"UA\"),IF('FMI Template'!H344=\"CSD\",\"(I)CSD\",IF('FMI Template'!H344=\"CCP_Derivatives\",\"CCP-Derivatives\",IF('FMI Template'!H344=\"CCP_securities\",\"CCP-securities\",IF('FMI Template'!H344=\"PS_Retail\",\"PS\",IF('FMI Template'!H344=\"PS_LV\",\"PS\",'FMI Template'!H344))))),\"\")","v":""},{"$f":"IF(AND('FMI Template'!I344<>\"\", 'FMI Template'!I344<>\"UA\"),'FMI Template'!I344,\"\")","v":""},{"$f":"IF(AND('FMI Template'!J344<>\"\",'FMI Template'!J344<>\"UA\"),IF('FMI Template'!J344=\"CSD_SSS\",\"CSD-SSS\",IF('FMI Template'!J344=\"CCP_Derivatives\",\"CCP-Derivatives\",IF('FMI Template'!J344=\"CCP_securities\",\"CCP-securities\",IF('FMI Template'!J344=\"Trading_venue\",\"Trading-venue\",'FMI Template'!J344)))),\"\")","v":""},{"$f":"IF(AND('FMI Template'!K344<>\"\",'FMI Template'!K344<>\"UA\"),'FMI Template'!K344,\"\")","v":""},{"$f":"IF('FMI Template'!K344=\"direct\",\"NA\",IF(AND('FMI Template'!M344<>\"\",'FMI Template'!M344<>\"UA\"),'FMI Template'!M344,\"\"))","v":""},{"$f":"IF('FMI Template'!K344=\"direct\",\"NA\",IF(AND('FMI Template'!N344<>\"\",'FMI Template'!N344<>\"UA\"),'FMI Template'!N344,\"\"))","v":""},{"$f":"IF(OR('FMI Template'!H344=\"Other\",'FMI Template'!H344=\"NA\"),'FMI Template'!Q344,\"\")","v":""},{"$f":"IF(AND('FMI Template'!O344<>\"\",'FMI Template'!O344<>\"NA\",'FMI Template'!O344<>\"UA\"),'FMI Template'!O344,\"\")","v":""}]
[null,{"$f":"IF(AND('FMI Template'!B345<>\"\",'FMI Template'!B345<>\"NA\",'FMI Template'!B345<>\"UA\"),'FMI Template'!B345,\"\")","v":""},{"$f":"IF(AND('FMI Template'!C345<>\"\",'FMI Template'!C345<>\"NA\",'FMI Template'!C345<>\"UA\"),'FMI Template'!C345,\"\")","v":""},{"$f":"IF(AND('FMI Template'!D345<>\"\",'FMI Template'!D345<>\"NA\",'FMI Template'!D345<>\"UA\"),'FMI Template'!D345,\"\")","v":""},{"$f":"IF(AND('FMI Template'!F345<>\"\",'FMI Template'!F345<>\"NA\",'FMI Template'!F345<>\"UA\"),'FMI Template'!F345,\"\")","v":""},{"$f":"IF(AND('FMI Template'!H345<>\"\", 'FMI Template'!H345<>\"UA\"),IF('FMI Template'!H345=\"CSD\",\"(I)CSD\",IF('FMI Template'!H345=\"CCP_Derivatives\",\"CCP-Derivatives\",IF('FMI Template'!H345=\"CCP_securities\",\"CCP-securities\",IF('FMI Template'!H345=\"PS_Retail\",\"PS\",IF('FMI Template'!H345=\"PS_LV\",\"PS\",'FMI Template'!H345))))),\"\")","v":""},{"$f":"IF(AND('FMI Template'!I345<>\"\", 'FMI Template'!I345<>\"UA\"),'FMI Template'!I345,\"\")","v":""},{"$f":"IF(AND('FMI Template'!J345<>\"\",'FMI Template'!J345<>\"UA\"),IF('FMI Template'!J345=\"CSD_SSS\",\"CSD-SSS\",IF('FMI Template'!J345=\"CCP_Derivatives\",\"CCP-Derivatives\",IF('FMI Template'!J345=\"CCP_securities\",\"CCP-securities\",IF('FMI Template'!J345=\"Trading_venue\",\"Trading-venue\",'FMI Template'!J345)))),\"\")","v":""},{"$f":"IF(AND('FMI Template'!K345<>\"\",'FMI Template'!K345<>\"UA\"),'FMI Template'!K345,\"\")","v":""},{"$f":"IF('FMI Template'!K345=\"direct\",\"NA\",IF(AND('FMI Template'!M345<>\"\",'FMI Template'!M345<>\"UA\"),'FMI Template'!M345,\"\"))","v":""},{"$f":"IF('FMI Template'!K345=\"direct\",\"NA\",IF(AND('FMI Template'!N345<>\"\",'FMI Template'!N345<>\"UA\"),'FMI Template'!N345,\"\"))","v":""},{"$f":"IF(OR('FMI Template'!H345=\"Other\",'FMI Template'!H345=\"NA\"),'FMI Template'!Q345,\"\")","v":""},{"$f":"IF(AND('FMI Template'!O345<>\"\",'FMI Template'!O345<>\"NA\",'FMI Template'!O345<>\"UA\"),'FMI Template'!O345,\"\")","v":""}]
[null,{"$f":"IF(AND('FMI Template'!B346<>\"\",'FMI Template'!B346<>\"NA\",'FMI Template'!B346<>\"UA\"),'FMI Template'!B346,\"\")","v":""},{"$f":"IF(AND('FMI Template'!C346<>\"\",'FMI Template'!C346<>\"NA\",'FMI Template'!C346<>\"UA\"),'FMI Template'!C346,\"\")","v":""},{"$f":"IF(AND('FMI Template'!D346<>\"\",'FMI Template'!D346<>\"NA\",'FMI Template'!D346<>\"UA\"),'FMI Template'!D346,\"\")","v":""},{"$f":"IF(AND('FMI Template'!F346<>\"\",'FMI Template'!F346<>\"NA\",'FMI Template'!F346<>\"UA\"),'FMI Template'!F346,\"\")","v":""},{"$f":"IF(AND('FMI Template'!H346<>\"\", 'FMI Template'!H346<>\"UA\"),IF('FMI Template'!H346=\"CSD\",\"(I)CSD\",IF('FMI Template'!H346=\"CCP_Derivatives\",\"CCP-Derivatives\",IF('FMI Template'!H346=\"CCP_securities\",\"CCP-securities\",IF('FMI Template'!H346=\"PS_Retail\",\"PS\",IF('FMI Template'!H346=\"PS_LV\",\"PS\",'FMI Template'!H346))))),\"\")","v":""},{"$f":"IF(AND('FMI Template'!I346<>\"\", 'FMI Template'!I346<>\"UA\"),'FMI Template'!I346,\"\")","v":""},{"$f":"IF(AND('FMI Template'!J346<>\"\",'FMI Template'!J346<>\"UA\"),IF('FMI Template'!J346=\"CSD_SSS\",\"CSD-SSS\",IF('FMI Template'!J346=\"CCP_Derivatives\",\"CCP-Derivatives\",IF('FMI Template'!J346=\"CCP_securities\",\"CCP-securities\",IF('FMI Template'!J346=\"Trading_venue\",\"Trading-venue\",'FMI Template'!J346)))),\"\")","v":""},{"$f":"IF(AND('FMI Template'!K346<>\"\",'FMI Template'!K346<>\"UA\"),'FMI Template'!K346,\"\")","v":""},{"$f":"IF('FMI Template'!K346=\"direct\",\"NA\",IF(AND('FMI Template'!M346<>\"\",'FMI Template'!M346<>\"UA\"),'FMI Template'!M346,\"\"))","v":""},{"$f":"IF('FMI Template'!K346=\"direct\",\"NA\",IF(AND('FMI Template'!N346<>\"\",'FMI Template'!N346<>\"UA\"),'FMI Template'!N346,\"\"))","v":""},{"$f":"IF(OR('FMI Template'!H346=\"Other\",'FMI Template'!H346=\"NA\"),'FMI Template'!Q346,\"\")","v":""},{"$f":"IF(AND('FMI Template'!O346<>\"\",'FMI Template'!O346<>\"NA\",'FMI Template'!O346<>\"UA\"),'FMI Template'!O346,\"\")","v":""}]
[null,{"$f":"IF(AND('FMI Template'!B347<>\"\",'FMI Template'!B347<>\"NA\",'FMI Template'!B347<>\"UA\"),'FMI Template'!B347,\"\")","v":""},{"$f":"IF(AND('FMI Template'!C347<>\"\",'FMI Template'!C347<>\"NA\",'FMI Template'!C347<>\"UA\"),'FMI Template'!C347,\"\")","v":""},{"$f":"IF(AND('FMI Template'!D347<>\"\",'FMI Template'!D347<>\"NA\",'FMI Template'!D347<>\"UA\"),'FMI Template'!D347,\"\")","v":""},{"$f":"IF(AND('FMI Template'!F347<>\"\",'FMI Template'!F347<>\"NA\",'FMI Template'!F347<>\"UA\"),'FMI Template'!F347,\"\")","v":""},{"$f":"IF(AND('FMI Template'!H347<>\"\", 'FMI Template'!H347<>\"UA\"),IF('FMI Template'!H347=\"CSD\",\"(I)CSD\",IF('FMI Template'!H347=\"CCP_Derivatives\",\"CCP-Derivatives\",IF('FMI Template'!H347=\"CCP_securities\",\"CCP-securities\",IF('FMI Template'!H347=\"PS_Retail\",\"PS\",IF('FMI Template'!H347=\"PS_LV\",\"PS\",'FMI Template'!H347))))),\"\")","v":""},{"$f":"IF(AND('FMI Template'!I347<>\"\", 'FMI Template'!I347<>\"UA\"),'FMI Template'!I347,\"\")","v":""},{"$f":"IF(AND('FMI Template'!J347<>\"\",'FMI Template'!J347<>\"UA\"),IF('FMI Template'!J347=\"CSD_SSS\",\"CSD-SSS\",IF('FMI Template'!J347=\"CCP_Derivatives\",\"CCP-Derivatives\",IF('FMI Template'!J347=\"CCP_securities\",\"CCP-securities\",IF('FMI Template'!J347=\"Trading_venue\",\"Trading-venue\",'FMI Template'!J347)))),\"\")","v":""},{"$f":"IF(AND('FMI Template'!K347<>\"\",'FMI Template'!K347<>\"UA\"),'FMI Template'!K347,\"\")","v":""},{"$f":"IF('FMI Template'!K347=\"direct\",\"NA\",IF(AND('FMI Template'!M347<>\"\",'FMI Template'!M347<>\"UA\"),'FMI Template'!M347,\"\"))","v":""},{"$f":"IF('FMI Template'!K347=\"direct\",\"NA\",IF(AND('FMI Template'!N347<>\"\",'FMI Template'!N347<>\"UA\"),'FMI Template'!N347,\"\"))","v":""},{"$f":"IF(OR('FMI Template'!H347=\"Other\",'FMI Template'!H347=\"NA\"),'FMI Template'!Q347,\"\")","v":""},{"$f":"IF(AND('FMI Template'!O347<>\"\",'FMI Template'!O347<>\"NA\",'FMI Template'!O347<>\"UA\"),'FMI Template'!O347,\"\")","v":""}]
[null,{"$f":"IF(AND('FMI Template'!B348<>\"\",'FMI Template'!B348<>\"NA\",'FMI Template'!B348<>\"UA\"),'FMI Template'!B348,\"\")","v":""},{"$f":"IF(AND('FMI Template'!C348<>\"\",'FMI Template'!C348<>\"NA\",'FMI Template'!C348<>\"UA\"),'FMI Template'!C348,\"\")","v":""},{"$f":"IF(AND('FMI Template'!D348<>\"\",'FMI Template'!D348<>\"NA\",'FMI Template'!D348<>\"UA\"),'FMI Template'!D348,\"\")","v":""},{"$f":"IF(AND('FMI Template'!F348<>\"\",'FMI Template'!F348<>\"NA\",'FMI Template'!F348<>\"UA\"),'FMI Template'!F348,\"\")","v":""},{"$f":"IF(AND('FMI Template'!H348<>\"\", 'FMI Template'!H348<>\"UA\"),IF('FMI Template'!H348=\"CSD\",\"(I)CSD\",IF('FMI Template'!H348=\"CCP_Derivatives\",\"CCP-Derivatives\",IF('FMI Template'!H348=\"CCP_securities\",\"CCP-securities\",IF('FMI Template'!H348=\"PS_Retail\",\"PS\",IF('FMI Template'!H348=\"PS_LV\",\"PS\",'FMI Template'!H348))))),\"\")","v":""},{"$f":"IF(AND('FMI Template'!I348<>\"\", 'FMI Template'!I348<>\"UA\"),'FMI Template'!I348,\"\")","v":""},{"$f":"IF(AND('FMI Template'!J348<>\"\",'FMI Template'!J348<>\"UA\"),IF('FMI Template'!J348=\"CSD_SSS\",\"CSD-SSS\",IF('FMI Template'!J348=\"CCP_Derivatives\",\"CCP-Derivatives\",IF('FMI Template'!J348=\"CCP_securities\",\"CCP-securities\",IF('FMI Template'!J348=\"Trading_venue\",\"Trading-venue\",'FMI Template'!J348)))),\"\")","v":""},{"$f":"IF(AND('FMI Template'!K348<>\"\",'FMI Template'!K348<>\"UA\"),'FMI Template'!K348,\"\")","v":""},{"$f":"IF('FMI Template'!K348=\"direct\",\"NA\",IF(AND('FMI Template'!M348<>\"\",'FMI Template'!M348<>\"UA\"),'FMI Template'!M348,\"\"))","v":""},{"$f":"IF('FMI Template'!K348=\"direct\",\"NA\",IF(AND('FMI Template'!N348<>\"\",'FMI Template'!N348<>\"UA\"),'FMI Template'!N348,\"\"))","v":""},{"$f":"IF(OR('FMI Template'!H348=\"Other\",'FMI Template'!H348=\"NA\"),'FMI Template'!Q348,\"\")","v":""},{"$f":"IF(AND('FMI Template'!O348<>\"\",'FMI Template'!O348<>\"NA\",'FMI Template'!O348<>\"UA\"),'FMI Template'!O348,\"\")","v":""}]
[null,{"$f":"IF(AND('FMI Template'!B349<>\"\",'FMI Template'!B349<>\"NA\",'FMI Template'!B349<>\"UA\"),'FMI Template'!B349,\"\")","v":""},{"$f":"IF(AND('FMI Template'!C349<>\"\",'FMI Template'!C349<>\"NA\",'FMI Template'!C349<>\"UA\"),'FMI Template'!C349,\"\")","v":""},{"$f":"IF(AND('FMI Template'!D349<>\"\",'FMI Template'!D349<>\"NA\",'FMI Template'!D349<>\"UA\"),'FMI Template'!D349,\"\")","v":""},{"$f":"IF(AND('FMI Template'!F349<>\"\",'FMI Template'!F349<>\"NA\",'FMI Template'!F349<>\"UA\"),'FMI Template'!F349,\"\")","v":""},{"$f":"IF(AND('FMI Template'!H349<>\"\", 'FMI Template'!H349<>\"UA\"),IF('FMI Template'!H349=\"CSD\",\"(I)CSD\",IF('FMI Template'!H349=\"CCP_Derivatives\",\"CCP-Derivatives\",IF('FMI Template'!H349=\"CCP_securities\",\"CCP-securities\",IF('FMI Template'!H349=\"PS_Retail\",\"PS\",IF('FMI Template'!H349=\"PS_LV\",\"PS\",'FMI Template'!H349))))),\"\")","v":""},{"$f":"IF(AND('FMI Template'!I349<>\"\", 'FMI Template'!I349<>\"UA\"),'FMI Template'!I349,\"\")","v":""},{"$f":"IF(AND('FMI Template'!J349<>\"\",'FMI Template'!J349<>\"UA\"),IF('FMI Template'!J349=\"CSD_SSS\",\"CSD-SSS\",IF('FMI Template'!J349=\"CCP_Derivatives\",\"CCP-Derivatives\",IF('FMI Template'!J349=\"CCP_securities\",\"CCP-securities\",IF('FMI Template'!J349=\"Trading_venue\",\"Trading-venue\",'FMI Template'!J349)))),\"\")","v":""},{"$f":"IF(AND('FMI Template'!K349<>\"\",'FMI Template'!K349<>\"UA\"),'FMI Template'!K349,\"\")","v":""},{"$f":"IF('FMI Template'!K349=\"direct\",\"NA\",IF(AND('FMI Template'!M349<>\"\",'FMI Template'!M349<>\"UA\"),'FMI Template'!M349,\"\"))","v":""},{"$f":"IF('FMI Template'!K349=\"direct\",\"NA\",IF(AND('FMI Template'!N349<>\"\",'FMI Template'!N349<>\"UA\"),'FMI Template'!N349,\"\"))","v":""},{"$f":"IF(OR('FMI Template'!H349=\"Other\",'FMI Template'!H349=\"NA\"),'FMI Template'!Q349,\"\")","v":""},{"$f":"IF(AND('FMI Template'!O349<>\"\",'FMI Template'!O349<>\"NA\",'FMI Template'!O349<>\"UA\"),'FMI Template'!O349,\"\")","v":""}]
[null,{"$f":"IF(AND('FMI Template'!B350<>\"\",'FMI Template'!B350<>\"NA\",'FMI Template'!B350<>\"UA\"),'FMI Template'!B350,\"\")","v":""},{"$f":"IF(AND('FMI Template'!C350<>\"\",'FMI Template'!C350<>\"NA\",'FMI Template'!C350<>\"UA\"),'FMI Template'!C350,\"\")","v":""},{"$f":"IF(AND('FMI Template'!D350<>\"\",'FMI Template'!D350<>\"NA\",'FMI Template'!D350<>\"UA\"),'FMI Template'!D350,\"\")","v":""},{"$f":"IF(AND('FMI Template'!F350<>\"\",'FMI Template'!F350<>\"NA\",'FMI Template'!F350<>\"UA\"),'FMI Template'!F350,\"\")","v":""},{"$f":"IF(AND('FMI Template'!H350<>\"\", 'FMI Template'!H350<>\"UA\"),IF('FMI Template'!H350=\"CSD\",\"(I)CSD\",IF('FMI Template'!H350=\"CCP_Derivatives\",\"CCP-Derivatives\",IF('FMI Template'!H350=\"CCP_securities\",\"CCP-securities\",IF('FMI Template'!H350=\"PS_Retail\",\"PS\",IF('FMI Template'!H350=\"PS_LV\",\"PS\",'FMI Template'!H350))))),\"\")","v":""},{"$f":"IF(AND('FMI Template'!I350<>\"\", 'FMI Template'!I350<>\"UA\"),'FMI Template'!I350,\"\")","v":""},{"$f":"IF(AND('FMI Template'!J350<>\"\",'FMI Template'!J350<>\"UA\"),IF('FMI Template'!J350=\"CSD_SSS\",\"CSD-SSS\",IF('FMI Template'!J350=\"CCP_Derivatives\",\"CCP-Derivatives\",IF('FMI Template'!J350=\"CCP_securities\",\"CCP-securities\",IF('FMI Template'!J350=\"Trading_venue\",\"Trading-venue\",'FMI Template'!J350)))),\"\")","v":""},{"$f":"IF(AND('FMI Template'!K350<>\"\",'FMI Template'!K350<>\"UA\"),'FMI Template'!K350,\"\")","v":""},{"$f":"IF('FMI Template'!K350=\"direct\",\"NA\",IF(AND('FMI Template'!M350<>\"\",'FMI Template'!M350<>\"UA\"),'FMI Template'!M350,\"\"))","v":""},{"$f":"IF('FMI Template'!K350=\"direct\",\"NA\",IF(AND('FMI Template'!N350<>\"\",'FMI Template'!N350<>\"UA\"),'FMI Template'!N350,\"\"))","v":""},{"$f":"IF(OR('FMI Template'!H350=\"Other\",'FMI Template'!H350=\"NA\"),'FMI Template'!Q350,\"\")","v":""},{"$f":"IF(AND('FMI Template'!O350<>\"\",'FMI Template'!O350<>\"NA\",'FMI Template'!O350<>\"UA\"),'FMI Template'!O350,\"\")","v":""}]
[null,{"$f":"IF(AND('FMI Template'!B351<>\"\",'FMI Template'!B351<>\"NA\",'FMI Template'!B351<>\"UA\"),'FMI Template'!B351,\"\")","v":""},{"$f":"IF(AND('FMI Template'!C351<>\"\",'FMI Template'!C351<>\"NA\",'FMI Template'!C351<>\"UA\"),'FMI Template'!C351,\"\")","v":""},{"$f":"IF(AND('FMI Template'!D351<>\"\",'FMI Template'!D351<>\"NA\",'FMI Template'!D351<>\"UA\"),'FMI Template'!D351,\"\")","v":""},{"$f":"IF(AND('FMI Template'!F351<>\"\",'FMI Template'!F351<>\"NA\",'FMI Template'!F351<>\"UA\"),'FMI Template'!F351,\"\")","v":""},{"$f":"IF(AND('FMI Template'!H351<>\"\", 'FMI Template'!H351<>\"UA\"),IF('FMI Template'!H351=\"CSD\",\"(I)CSD\",IF('FMI Template'!H351=\"CCP_Derivatives\",\"CCP-Derivatives\",IF('FMI Template'!H351=\"CCP_securities\",\"CCP-securities\",IF('FMI Template'!H351=\"PS_Retail\",\"PS\",IF('FMI Template'!H351=\"PS_LV\",\"PS\",'FMI Template'!H351))))),\"\")","v":""},{"$f":"IF(AND('FMI Template'!I351<>\"\", 'FMI Template'!I351<>\"UA\"),'FMI Template'!I351,\"\")","v":""},{"$f":"IF(AND('FMI Template'!J351<>\"\",'FMI Template'!J351<>\"UA\"),IF('FMI Template'!J351=\"CSD_SSS\",\"CSD-SSS\",IF('FMI Template'!J351=\"CCP_Derivatives\",\"CCP-Derivatives\",IF('FMI Template'!J351=\"CCP_securities\",\"CCP-securities\",IF('FMI Template'!J351=\"Trading_venue\",\"Trading-venue\",'FMI Template'!J351)))),\"\")","v":""},{"$f":"IF(AND('FMI Template'!K351<>\"\",'FMI Template'!K351<>\"UA\"),'FMI Template'!K351,\"\")","v":""},{"$f":"IF('FMI Template'!K351=\"direct\",\"NA\",IF(AND('FMI Template'!M351<>\"\",'FMI Template'!M351<>\"UA\"),'FMI Template'!M351,\"\"))","v":""},{"$f":"IF('FMI Template'!K351=\"direct\",\"NA\",IF(AND('FMI Template'!N351<>\"\",'FMI Template'!N351<>\"UA\"),'FMI Template'!N351,\"\"))","v":""},{"$f":"IF(OR('FMI Template'!H351=\"Other\",'FMI Template'!H351=\"NA\"),'FMI Template'!Q351,\"\")","v":""},{"$f":"IF(AND('FMI Template'!O351<>\"\",'FMI Template'!O351<>\"NA\",'FMI Template'!O351<>\"UA\"),'FMI Template'!O351,\"\")","v":""}]
[null,{"$f":"IF(AND('FMI Template'!B352<>\"\",'FMI Template'!B352<>\"NA\",'FMI Template'!B352<>\"UA\"),'FMI Template'!B352,\"\")","v":""},{"$f":"IF(AND('FMI Template'!C352<>\"\",'FMI Template'!C352<>\"NA\",'FMI Template'!C352<>\"UA\"),'FMI Template'!C352,\"\")","v":""},{"$f":"IF(AND('FMI Template'!D352<>\"\",'FMI Template'!D352<>\"NA\",'FMI Template'!D352<>\"UA\"),'FMI Template'!D352,\"\")","v":""},{"$f":"IF(AND('FMI Template'!F352<>\"\",'FMI Template'!F352<>\"NA\",'FMI Template'!F352<>\"UA\"),'FMI Template'!F352,\"\")","v":""},{"$f":"IF(AND('FMI Template'!H352<>\"\", 'FMI Template'!H352<>\"UA\"),IF('FMI Template'!H352=\"CSD\",\"(I)CSD\",IF('FMI Template'!H352=\"CCP_Derivatives\",\"CCP-Derivatives\",IF('FMI Template'!H352=\"CCP_securities\",\"CCP-securities\",IF('FMI Template'!H352=\"PS_Retail\",\"PS\",IF('FMI Template'!H352=\"PS_LV\",\"PS\",'FMI Template'!H352))))),\"\")","v":""},{"$f":"IF(AND('FMI Template'!I352<>\"\", 'FMI Template'!I352<>\"UA\"),'FMI Template'!I352,\"\")","v":""},{"$f":"IF(AND('FMI Template'!J352<>\"\",'FMI Template'!J352<>\"UA\"),IF('FMI Template'!J352=\"CSD_SSS\",\"CSD-SSS\",IF('FMI Template'!J352=\"CCP_Derivatives\",\"CCP-Derivatives\",IF('FMI Template'!J352=\"CCP_securities\",\"CCP-securities\",IF('FMI Template'!J352=\"Trading_venue\",\"Trading-venue\",'FMI Template'!J352)))),\"\")","v":""},{"$f":"IF(AND('FMI Template'!K352<>\"\",'FMI Template'!K352<>\"UA\"),'FMI Template'!K352,\"\")","v":""},{"$f":"IF('FMI Template'!K352=\"direct\",\"NA\",IF(AND('FMI Template'!M352<>\"\",'FMI Template'!M352<>\"UA\"),'FMI Template'!M352,\"\"))","v":""},{"$f":"IF('FMI Template'!K352=\"direct\",\"NA\",IF(AND('FMI Template'!N352<>\"\",'FMI Template'!N352<>\"UA\"),'FMI Template'!N352,\"\"))","v":""},{"$f":"IF(OR('FMI Template'!H352=\"Other\",'FMI Template'!H352=\"NA\"),'FMI Template'!Q352,\"\")","v":""},{"$f":"IF(AND('FMI Template'!O352<>\"\",'FMI Template'!O352<>\"NA\",'FMI Template'!O352<>\"UA\"),'FMI Template'!O352,\"\")","v":""}]
[null,{"$f":"IF(AND('FMI Template'!B353<>\"\",'FMI Template'!B353<>\"NA\",'FMI Template'!B353<>\"UA\"),'FMI Template'!B353,\"\")","v":""},{"$f":"IF(AND('FMI Template'!C353<>\"\",'FMI Template'!C353<>\"NA\",'FMI Template'!C353<>\"UA\"),'FMI Template'!C353,\"\")","v":""},{"$f":"IF(AND('FMI Template'!D353<>\"\",'FMI Template'!D353<>\"NA\",'FMI Template'!D353<>\"UA\"),'FMI Template'!D353,\"\")","v":""},{"$f":"IF(AND('FMI Template'!F353<>\"\",'FMI Template'!F353<>\"NA\",'FMI Template'!F353<>\"UA\"),'FMI Template'!F353,\"\")","v":""},{"$f":"IF(AND('FMI Template'!H353<>\"\", 'FMI Template'!H353<>\"UA\"),IF('FMI Template'!H353=\"CSD\",\"(I)CSD\",IF('FMI Template'!H353=\"CCP_Derivatives\",\"CCP-Derivatives\",IF('FMI Template'!H353=\"CCP_securities\",\"CCP-securities\",IF('FMI Template'!H353=\"PS_Retail\",\"PS\",IF('FMI Template'!H353=\"PS_LV\",\"PS\",'FMI Template'!H353))))),\"\")","v":""},{"$f":"IF(AND('FMI Template'!I353<>\"\", 'FMI Template'!I353<>\"UA\"),'FMI Template'!I353,\"\")","v":""},{"$f":"IF(AND('FMI Template'!J353<>\"\",'FMI Template'!J353<>\"UA\"),IF('FMI Template'!J353=\"CSD_SSS\",\"CSD-SSS\",IF('FMI Template'!J353=\"CCP_Derivatives\",\"CCP-Derivatives\",IF('FMI Template'!J353=\"CCP_securities\",\"CCP-securities\",IF('FMI Template'!J353=\"Trading_venue\",\"Trading-venue\",'FMI Template'!J353)))),\"\")","v":""},{"$f":"IF(AND('FMI Template'!K353<>\"\",'FMI Template'!K353<>\"UA\"),'FMI Template'!K353,\"\")","v":""},{"$f":"IF('FMI Template'!K353=\"direct\",\"NA\",IF(AND('FMI Template'!M353<>\"\",'FMI Template'!M353<>\"UA\"),'FMI Template'!M353,\"\"))","v":""},{"$f":"IF('FMI Template'!K353=\"direct\",\"NA\",IF(AND('FMI Template'!N353<>\"\",'FMI Template'!N353<>\"UA\"),'FMI Template'!N353,\"\"))","v":""},{"$f":"IF(OR('FMI Template'!H353=\"Other\",'FMI Template'!H353=\"NA\"),'FMI Template'!Q353,\"\")","v":""},{"$f":"IF(AND('FMI Template'!O353<>\"\",'FMI Template'!O353<>\"NA\",'FMI Template'!O353<>\"UA\"),'FMI Template'!O353,\"\")","v":""}]
[null,{"$f":"IF(AND('FMI Template'!B354<>\"\",'FMI Template'!B354<>\"NA\",'FMI Template'!B354<>\"UA\"),'FMI Template'!B354,\"\")","v":""},{"$f":"IF(AND('FMI Template'!C354<>\"\",'FMI Template'!C354<>\"NA\",'FMI Template'!C354<>\"UA\"),'FMI Template'!C354,\"\")","v":""},{"$f":"IF(AND('FMI Template'!D354<>\"\",'FMI Template'!D354<>\"NA\",'FMI Template'!D354<>\"UA\"),'FMI Template'!D354,\"\")","v":""},{"$f":"IF(AND('FMI Template'!F354<>\"\",'FMI Template'!F354<>\"NA\",'FMI Template'!F354<>\"UA\"),'FMI Template'!F354,\"\")","v":""},{"$f":"IF(AND('FMI Template'!H354<>\"\", 'FMI Template'!H354<>\"UA\"),IF('FMI Template'!H354=\"CSD\",\"(I)CSD\",IF('FMI Template'!H354=\"CCP_Derivatives\",\"CCP-Derivatives\",IF('FMI Template'!H354=\"CCP_securities\",\"CCP-securities\",IF('FMI Template'!H354=\"PS_Retail\",\"PS\",IF('FMI Template'!H354=\"PS_LV\",\"PS\",'FMI Template'!H354))))),\"\")","v":""},{"$f":"IF(AND('FMI Template'!I354<>\"\", 'FMI Template'!I354<>\"UA\"),'FMI Template'!I354,\"\")","v":""},{"$f":"IF(AND('FMI Template'!J354<>\"\",'FMI Template'!J354<>\"UA\"),IF('FMI Template'!J354=\"CSD_SSS\",\"CSD-SSS\",IF('FMI Template'!J354=\"CCP_Derivatives\",\"CCP-Derivatives\",IF('FMI Template'!J354=\"CCP_securities\",\"CCP-securities\",IF('FMI Template'!J354=\"Trading_venue\",\"Trading-venue\",'FMI Template'!J354)))),\"\")","v":""},{"$f":"IF(AND('FMI Template'!K354<>\"\",'FMI Template'!K354<>\"UA\"),'FMI Template'!K354,\"\")","v":""},{"$f":"IF('FMI Template'!K354=\"direct\",\"NA\",IF(AND('FMI Template'!M354<>\"\",'FMI Template'!M354<>\"UA\"),'FMI Template'!M354,\"\"))","v":""},{"$f":"IF('FMI Template'!K354=\"direct\",\"NA\",IF(AND('FMI Template'!N354<>\"\",'FMI Template'!N354<>\"UA\"),'FMI Template'!N354,\"\"))","v":""},{"$f":"IF(OR('FMI Template'!H354=\"Other\",'FMI Template'!H354=\"NA\"),'FMI Template'!Q354,\"\")","v":""},{"$f":"IF(AND('FMI Template'!O354<>\"\",'FMI Template'!O354<>\"NA\",'FMI Template'!O354<>\"UA\"),'FMI Template'!O354,\"\")","v":""}]
[null,{"$f":"IF(AND('FMI Template'!B355<>\"\",'FMI Template'!B355<>\"NA\",'FMI Template'!B355<>\"UA\"),'FMI Template'!B355,\"\")","v":""},{"$f":"IF(AND('FMI Template'!C355<>\"\",'FMI Template'!C355<>\"NA\",'FMI Template'!C355<>\"UA\"),'FMI Template'!C355,\"\")","v":""},{"$f":"IF(AND('FMI Template'!D355<>\"\",'FMI Template'!D355<>\"NA\",'FMI Template'!D355<>\"UA\"),'FMI Template'!D355,\"\")","v":""},{"$f":"IF(AND('FMI Template'!F355<>\"\",'FMI Template'!F355<>\"NA\",'FMI Template'!F355<>\"UA\"),'FMI Template'!F355,\"\")","v":""},{"$f":"IF(AND('FMI Template'!H355<>\"\", 'FMI Template'!H355<>\"UA\"),IF('FMI Template'!H355=\"CSD\",\"(I)CSD\",IF('FMI Template'!H355=\"CCP_Derivatives\",\"CCP-Derivatives\",IF('FMI Template'!H355=\"CCP_securities\",\"CCP-securities\",IF('FMI Template'!H355=\"PS_Retail\",\"PS\",IF('FMI Template'!H355=\"PS_LV\",\"PS\",'FMI Template'!H355))))),\"\")","v":""},{"$f":"IF(AND('FMI Template'!I355<>\"\", 'FMI Template'!I355<>\"UA\"),'FMI Template'!I355,\"\")","v":""},{"$f":"IF(AND('FMI Template'!J355<>\"\",'FMI Template'!J355<>\"UA\"),IF('FMI Template'!J355=\"CSD_SSS\",\"CSD-SSS\",IF('FMI Template'!J355=\"CCP_Derivatives\",\"CCP-Derivatives\",IF('FMI Template'!J355=\"CCP_securities\",\"CCP-securities\",IF('FMI Template'!J355=\"Trading_venue\",\"Trading-venue\",'FMI Template'!J355)))),\"\")","v":""},{"$f":"IF(AND('FMI Template'!K355<>\"\",'FMI Template'!K355<>\"UA\"),'FMI Template'!K355,\"\")","v":""},{"$f":"IF('FMI Template'!K355=\"direct\",\"NA\",IF(AND('FMI Template'!M355<>\"\",'FMI Template'!M355<>\"UA\"),'FMI Template'!M355,\"\"))","v":""},{"$f":"IF('FMI Template'!K355=\"direct\",\"NA\",IF(AND('FMI Template'!N355<>\"\",'FMI Template'!N355<>\"UA\"),'FMI Template'!N355,\"\"))","v":""},{"$f":"IF(OR('FMI Template'!H355=\"Other\",'FMI Template'!H355=\"NA\"),'FMI Template'!Q355,\"\")","v":""},{"$f":"IF(AND('FMI Template'!O355<>\"\",'FMI Template'!O355<>\"NA\",'FMI Template'!O355<>\"UA\"),'FMI Template'!O355,\"\")","v":""}]
[null,{"$f":"IF(AND('FMI Template'!B356<>\"\",'FMI Template'!B356<>\"NA\",'FMI Template'!B356<>\"UA\"),'FMI Template'!B356,\"\")","v":""},{"$f":"IF(AND('FMI Template'!C356<>\"\",'FMI Template'!C356<>\"NA\",'FMI Template'!C356<>\"UA\"),'FMI Template'!C356,\"\")","v":""},{"$f":"IF(AND('FMI Template'!D356<>\"\",'FMI Template'!D356<>\"NA\",'FMI Template'!D356<>\"UA\"),'FMI Template'!D356,\"\")","v":""},{"$f":"IF(AND('FMI Template'!F356<>\"\",'FMI Template'!F356<>\"NA\",'FMI Template'!F356<>\"UA\"),'FMI Template'!F356,\"\")","v":""},{"$f":"IF(AND('FMI Template'!H356<>\"\", 'FMI Template'!H356<>\"UA\"),IF('FMI Template'!H356=\"CSD\",\"(I)CSD\",IF('FMI Template'!H356=\"CCP_Derivatives\",\"CCP-Derivatives\",IF('FMI Template'!H356=\"CCP_securities\",\"CCP-securities\",IF('FMI Template'!H356=\"PS_Retail\",\"PS\",IF('FMI Template'!H356=\"PS_LV\",\"PS\",'FMI Template'!H356))))),\"\")","v":""},{"$f":"IF(AND('FMI Template'!I356<>\"\", 'FMI Template'!I356<>\"UA\"),'FMI Template'!I356,\"\")","v":""},{"$f":"IF(AND('FMI Template'!J356<>\"\",'FMI Template'!J356<>\"UA\"),IF('FMI Template'!J356=\"CSD_SSS\",\"CSD-SSS\",IF('FMI Template'!J356=\"CCP_Derivatives\",\"CCP-Derivatives\",IF('FMI Template'!J356=\"CCP_securities\",\"CCP-securities\",IF('FMI Template'!J356=\"Trading_venue\",\"Trading-venue\",'FMI Template'!J356)))),\"\")","v":""},{"$f":"IF(AND('FMI Template'!K356<>\"\",'FMI Template'!K356<>\"UA\"),'FMI Template'!K356,\"\")","v":""},{"$f":"IF('FMI Template'!K356=\"direct\",\"NA\",IF(AND('FMI Template'!M356<>\"\",'FMI Template'!M356<>\"UA\"),'FMI Template'!M356,\"\"))","v":""},{"$f":"IF('FMI Template'!K356=\"direct\",\"NA\",IF(AND('FMI Template'!N356<>\"\",'FMI Template'!N356<>\"UA\"),'FMI Template'!N356,\"\"))","v":""},{"$f":"IF(OR('FMI Template'!H356=\"Other\",'FMI Template'!H356=\"NA\"),'FMI Template'!Q356,\"\")","v":""},{"$f":"IF(AND('FMI Template'!O356<>\"\",'FMI Template'!O356<>\"NA\",'FMI Template'!O356<>\"UA\"),'FMI Template'!O356,\"\")","v":""}]
[null,{"$f":"IF(AND('FMI Template'!B357<>\"\",'FMI Template'!B357<>\"NA\",'FMI Template'!B357<>\"UA\"),'FMI Template'!B357,\"\")","v":""},{"$f":"IF(AND('FMI Template'!C357<>\"\",'FMI Template'!C357<>\"NA\",'FMI Template'!C357<>\"UA\"),'FMI Template'!C357,\"\")","v":""},{"$f":"IF(AND('FMI Template'!D357<>\"\",'FMI Template'!D357<>\"NA\",'FMI Template'!D357<>\"UA\"),'FMI Template'!D357,\"\")","v":""},{"$f":"IF(AND('FMI Template'!F357<>\"\",'FMI Template'!F357<>\"NA\",'FMI Template'!F357<>\"UA\"),'FMI Template'!F357,\"\")","v":""},{"$f":"IF(AND('FMI Template'!H357<>\"\", 'FMI Template'!H357<>\"UA\"),IF('FMI Template'!H357=\"CSD\",\"(I)CSD\",IF('FMI Template'!H357=\"CCP_Derivatives\",\"CCP-Derivatives\",IF('FMI Template'!H357=\"CCP_securities\",\"CCP-securities\",IF('FMI Template'!H357=\"PS_Retail\",\"PS\",IF('FMI Template'!H357=\"PS_LV\",\"PS\",'FMI Template'!H357))))),\"\")","v":""},{"$f":"IF(AND('FMI Template'!I357<>\"\", 'FMI Template'!I357<>\"UA\"),'FMI Template'!I357,\"\")","v":""},{"$f":"IF(AND('FMI Template'!J357<>\"\",'FMI Template'!J357<>\"UA\"),IF('FMI Template'!J357=\"CSD_SSS\",\"CSD-SSS\",IF('FMI Template'!J357=\"CCP_Derivatives\",\"CCP-Derivatives\",IF('FMI Template'!J357=\"CCP_securities\",\"CCP-securities\",IF('FMI Template'!J357=\"Trading_venue\",\"Trading-venue\",'FMI Template'!J357)))),\"\")","v":""},{"$f":"IF(AND('FMI Template'!K357<>\"\",'FMI Template'!K357<>\"UA\"),'FMI Template'!K357,\"\")","v":""},{"$f":"IF('FMI Template'!K357=\"direct\",\"NA\",IF(AND('FMI Template'!M357<>\"\",'FMI Template'!M357<>\"UA\"),'FMI Template'!M357,\"\"))","v":""},{"$f":"IF('FMI Template'!K357=\"direct\",\"NA\",IF(AND('FMI Template'!N357<>\"\",'FMI Template'!N357<>\"UA\"),'FMI Template'!N357,\"\"))","v":""},{"$f":"IF(OR('FMI Template'!H357=\"Other\",'FMI Template'!H357=\"NA\"),'FMI Template'!Q357,\"\")","v":""},{"$f":"IF(AND('FMI Template'!O357<>\"\",'FMI Template'!O357<>\"NA\",'FMI Template'!O357<>\"UA\"),'FMI Template'!O357,\"\")","v":""}]
[null,{"$f":"IF(AND('FMI Template'!B358<>\"\",'FMI Template'!B358<>\"NA\",'FMI Template'!B358<>\"UA\"),'FMI Template'!B358,\"\")","v":""},{"$f":"IF(AND('FMI Template'!C358<>\"\",'FMI Template'!C358<>\"NA\",'FMI Template'!C358<>\"UA\"),'FMI Template'!C358,\"\")","v":""},{"$f":"IF(AND('FMI Template'!D358<>\"\",'FMI Template'!D358<>\"NA\",'FMI Template'!D358<>\"UA\"),'FMI Template'!D358,\"\")","v":""},{"$f":"IF(AND('FMI Template'!F358<>\"\",'FMI Template'!F358<>\"NA\",'FMI Template'!F358<>\"UA\"),'FMI Template'!F358,\"\")","v":""},{"$f":"IF(AND('FMI Template'!H358<>\"\", 'FMI Template'!H358<>\"UA\"),IF('FMI Template'!H358=\"CSD\",\"(I)CSD\",IF('FMI Template'!H358=\"CCP_Derivatives\",\"CCP-Derivatives\",IF('FMI Template'!H358=\"CCP_securities\",\"CCP-securities\",IF('FMI Template'!H358=\"PS_Retail\",\"PS\",IF('FMI Template'!H358=\"PS_LV\",\"PS\",'FMI Template'!H358))))),\"\")","v":""},{"$f":"IF(AND('FMI Template'!I358<>\"\", 'FMI Template'!I358<>\"UA\"),'FMI Template'!I358,\"\")","v":""},{"$f":"IF(AND('FMI Template'!J358<>\"\",'FMI Template'!J358<>\"UA\"),IF('FMI Template'!J358=\"CSD_SSS\",\"CSD-SSS\",IF('FMI Template'!J358=\"CCP_Derivatives\",\"CCP-Derivatives\",IF('FMI Template'!J358=\"CCP_securities\",\"CCP-securities\",IF('FMI Template'!J358=\"Trading_venue\",\"Trading-venue\",'FMI Template'!J358)))),\"\")","v":""},{"$f":"IF(AND('FMI Template'!K358<>\"\",'FMI Template'!K358<>\"UA\"),'FMI Template'!K358,\"\")","v":""},{"$f":"IF('FMI Template'!K358=\"direct\",\"NA\",IF(AND('FMI Template'!M358<>\"\",'FMI Template'!M358<>\"UA\"),'FMI Template'!M358,\"\"))","v":""},{"$f":"IF('FMI Template'!K358=\"direct\",\"NA\",IF(AND('FMI Template'!N358<>\"\",'FMI Template'!N358<>\"UA\"),'FMI Template'!N358,\"\"))","v":""},{"$f":"IF(OR('FMI Template'!H358=\"Other\",'FMI Template'!H358=\"NA\"),'FMI Template'!Q358,\"\")","v":""},{"$f":"IF(AND('FMI Template'!O358<>\"\",'FMI Template'!O358<>\"NA\",'FMI Template'!O358<>\"UA\"),'FMI Template'!O358,\"\")","v":""}]
[null,{"$f":"IF(AND('FMI Template'!B359<>\"\",'FMI Template'!B359<>\"NA\",'FMI Template'!B359<>\"UA\"),'FMI Template'!B359,\"\")","v":""},{"$f":"IF(AND('FMI Template'!C359<>\"\",'FMI Template'!C359<>\"NA\",'FMI Template'!C359<>\"UA\"),'FMI Template'!C359,\"\")","v":""},{"$f":"IF(AND('FMI Template'!D359<>\"\",'FMI Template'!D359<>\"NA\",'FMI Template'!D359<>\"UA\"),'FMI Template'!D359,\"\")","v":""},{"$f":"IF(AND('FMI Template'!F359<>\"\",'FMI Template'!F359<>\"NA\",'FMI Template'!F359<>\"UA\"),'FMI Template'!F359,\"\")","v":""},{"$f":"IF(AND('FMI Template'!H359<>\"\", 'FMI Template'!H359<>\"UA\"),IF('FMI Template'!H359=\"CSD\",\"(I)CSD\",IF('FMI Template'!H359=\"CCP_Derivatives\",\"CCP-Derivatives\",IF('FMI Template'!H359=\"CCP_securities\",\"CCP-securities\",IF('FMI Template'!H359=\"PS_Retail\",\"PS\",IF('FMI Template'!H359=\"PS_LV\",\"PS\",'FMI Template'!H359))))),\"\")","v":""},{"$f":"IF(AND('FMI Template'!I359<>\"\", 'FMI Template'!I359<>\"UA\"),'FMI Template'!I359,\"\")","v":""},{"$f":"IF(AND('FMI Template'!J359<>\"\",'FMI Template'!J359<>\"UA\"),IF('FMI Template'!J359=\"CSD_SSS\",\"CSD-SSS\",IF('FMI Template'!J359=\"CCP_Derivatives\",\"CCP-Derivatives\",IF('FMI Template'!J359=\"CCP_securities\",\"CCP-securities\",IF('FMI Template'!J359=\"Trading_venue\",\"Trading-venue\",'FMI Template'!J359)))),\"\")","v":""},{"$f":"IF(AND('FMI Template'!K359<>\"\",'FMI Template'!K359<>\"UA\"),'FMI Template'!K359,\"\")","v":""},{"$f":"IF('FMI Template'!K359=\"direct\",\"NA\",IF(AND('FMI Template'!M359<>\"\",'FMI Template'!M359<>\"UA\"),'FMI Template'!M359,\"\"))","v":""},{"$f":"IF('FMI Template'!K359=\"direct\",\"NA\",IF(AND('FMI Template'!N359<>\"\",'FMI Template'!N359<>\"UA\"),'FMI Template'!N359,\"\"))","v":""},{"$f":"IF(OR('FMI Template'!H359=\"Other\",'FMI Template'!H359=\"NA\"),'FMI Template'!Q359,\"\")","v":""},{"$f":"IF(AND('FMI Template'!O359<>\"\",'FMI Template'!O359<>\"NA\",'FMI Template'!O359<>\"UA\"),'FMI Template'!O359,\"\")","v":""}]
[null,{"$f":"IF(AND('FMI Template'!B360<>\"\",'FMI Template'!B360<>\"NA\",'FMI Template'!B360<>\"UA\"),'FMI Template'!B360,\"\")","v":""},{"$f":"IF(AND('FMI Template'!C360<>\"\",'FMI Template'!C360<>\"NA\",'FMI Template'!C360<>\"UA\"),'FMI Template'!C360,\"\")","v":""},{"$f":"IF(AND('FMI Template'!D360<>\"\",'FMI Template'!D360<>\"NA\",'FMI Template'!D360<>\"UA\"),'FMI Template'!D360,\"\")","v":""},{"$f":"IF(AND('FMI Template'!F360<>\"\",'FMI Template'!F360<>\"NA\",'FMI Template'!F360<>\"UA\"),'FMI Template'!F360,\"\")","v":""},{"$f":"IF(AND('FMI Template'!H360<>\"\", 'FMI Template'!H360<>\"UA\"),IF('FMI Template'!H360=\"CSD\",\"(I)CSD\",IF('FMI Template'!H360=\"CCP_Derivatives\",\"CCP-Derivatives\",IF('FMI Template'!H360=\"CCP_securities\",\"CCP-securities\",IF('FMI Template'!H360=\"PS_Retail\",\"PS\",IF('FMI Template'!H360=\"PS_LV\",\"PS\",'FMI Template'!H360))))),\"\")","v":""},{"$f":"IF(AND('FMI Template'!I360<>\"\", 'FMI Template'!I360<>\"UA\"),'FMI Template'!I360,\"\")","v":""},{"$f":"IF(AND('FMI Template'!J360<>\"\",'FMI Template'!J360<>\"UA\"),IF('FMI Template'!J360=\"CSD_SSS\",\"CSD-SSS\",IF('FMI Template'!J360=\"CCP_Derivatives\",\"CCP-Derivatives\",IF('FMI Template'!J360=\"CCP_securities\",\"CCP-securities\",IF('FMI Template'!J360=\"Trading_venue\",\"Trading-venue\",'FMI Template'!J360)))),\"\")","v":""},{"$f":"IF(AND('FMI Template'!K360<>\"\",'FMI Template'!K360<>\"UA\"),'FMI Template'!K360,\"\")","v":""},{"$f":"IF('FMI Template'!K360=\"direct\",\"NA\",IF(AND('FMI Template'!M360<>\"\",'FMI Template'!M360<>\"UA\"),'FMI Template'!M360,\"\"))","v":""},{"$f":"IF('FMI Template'!K360=\"direct\",\"NA\",IF(AND('FMI Template'!N360<>\"\",'FMI Template'!N360<>\"UA\"),'FMI Template'!N360,\"\"))","v":""},{"$f":"IF(OR('FMI Template'!H360=\"Other\",'FMI Template'!H360=\"NA\"),'FMI Template'!Q360,\"\")","v":""},{"$f":"IF(AND('FMI Template'!O360<>\"\",'FMI Template'!O360<>\"NA\",'FMI Template'!O360<>\"UA\"),'FMI Template'!O360,\"\")","v":""}]
[null,{"$f":"IF(AND('FMI Template'!B361<>\"\",'FMI Template'!B361<>\"NA\",'FMI Template'!B361<>\"UA\"),'FMI Template'!B361,\"\")","v":""},{"$f":"IF(AND('FMI Template'!C361<>\"\",'FMI Template'!C361<>\"NA\",'FMI Template'!C361<>\"UA\"),'FMI Template'!C361,\"\")","v":""},{"$f":"IF(AND('FMI Template'!D361<>\"\",'FMI Template'!D361<>\"NA\",'FMI Template'!D361<>\"UA\"),'FMI Template'!D361,\"\")","v":""},{"$f":"IF(AND('FMI Template'!F361<>\"\",'FMI Template'!F361<>\"NA\",'FMI Template'!F361<>\"UA\"),'FMI Template'!F361,\"\")","v":""},{"$f":"IF(AND('FMI Template'!H361<>\"\", 'FMI Template'!H361<>\"UA\"),IF('FMI Template'!H361=\"CSD\",\"(I)CSD\",IF('FMI Template'!H361=\"CCP_Derivatives\",\"CCP-Derivatives\",IF('FMI Template'!H361=\"CCP_securities\",\"CCP-securities\",IF('FMI Template'!H361=\"PS_Retail\",\"PS\",IF('FMI Template'!H361=\"PS_LV\",\"PS\",'FMI Template'!H361))))),\"\")","v":""},{"$f":"IF(AND('FMI Template'!I361<>\"\", 'FMI Template'!I361<>\"UA\"),'FMI Template'!I361,\"\")","v":""},{"$f":"IF(AND('FMI Template'!J361<>\"\",'FMI Template'!J361<>\"UA\"),IF('FMI Template'!J361=\"CSD_SSS\",\"CSD-SSS\",IF('FMI Template'!J361=\"CCP_Derivatives\",\"CCP-Derivatives\",IF('FMI Template'!J361=\"CCP_securities\",\"CCP-securities\",IF('FMI Template'!J361=\"Trading_venue\",\"Trading-venue\",'FMI Template'!J361)))),\"\")","v":""},{"$f":"IF(AND('FMI Template'!K361<>\"\",'FMI Template'!K361<>\"UA\"),'FMI Template'!K361,\"\")","v":""},{"$f":"IF('FMI Template'!K361=\"direct\",\"NA\",IF(AND('FMI Template'!M361<>\"\",'FMI Template'!M361<>\"UA\"),'FMI Template'!M361,\"\"))","v":""},{"$f":"IF('FMI Template'!K361=\"direct\",\"NA\",IF(AND('FMI Template'!N361<>\"\",'FMI Template'!N361<>\"UA\"),'FMI Template'!N361,\"\"))","v":""},{"$f":"IF(OR('FMI Template'!H361=\"Other\",'FMI Template'!H361=\"NA\"),'FMI Template'!Q361,\"\")","v":""},{"$f":"IF(AND('FMI Template'!O361<>\"\",'FMI Template'!O361<>\"NA\",'FMI Template'!O361<>\"UA\"),'FMI Template'!O361,\"\")","v":""}]
[null,{"$f":"IF(AND('FMI Template'!B362<>\"\",'FMI Template'!B362<>\"NA\",'FMI Template'!B362<>\"UA\"),'FMI Template'!B362,\"\")","v":""},{"$f":"IF(AND('FMI Template'!C362<>\"\",'FMI Template'!C362<>\"NA\",'FMI Template'!C362<>\"UA\"),'FMI Template'!C362,\"\")","v":""},{"$f":"IF(AND('FMI Template'!D362<>\"\",'FMI Template'!D362<>\"NA\",'FMI Template'!D362<>\"UA\"),'FMI Template'!D362,\"\")","v":""},{"$f":"IF(AND('FMI Template'!F362<>\"\",'FMI Template'!F362<>\"NA\",'FMI Template'!F362<>\"UA\"),'FMI Template'!F362,\"\")","v":""},{"$f":"IF(AND('FMI Template'!H362<>\"\", 'FMI Template'!H362<>\"UA\"),IF('FMI Template'!H362=\"CSD\",\"(I)CSD\",IF('FMI Template'!H362=\"CCP_Derivatives\",\"CCP-Derivatives\",IF('FMI Template'!H362=\"CCP_securities\",\"CCP-securities\",IF('FMI Template'!H362=\"PS_Retail\",\"PS\",IF('FMI Template'!H362=\"PS_LV\",\"PS\",'FMI Template'!H362))))),\"\")","v":""},{"$f":"IF(AND('FMI Template'!I362<>\"\", 'FMI Template'!I362<>\"UA\"),'FMI Template'!I362,\"\")","v":""},{"$f":"IF(AND('FMI Template'!J362<>\"\",'FMI Template'!J362<>\"UA\"),IF('FMI Template'!J362=\"CSD_SSS\",\"CSD-SSS\",IF('FMI Template'!J362=\"CCP_Derivatives\",\"CCP-Derivatives\",IF('FMI Template'!J362=\"CCP_securities\",\"CCP-securities\",IF('FMI Template'!J362=\"Trading_venue\",\"Trading-venue\",'FMI Template'!J362)))),\"\")","v":""},{"$f":"IF(AND('FMI Template'!K362<>\"\",'FMI Template'!K362<>\"UA\"),'FMI Template'!K362,\"\")","v":""},{"$f":"IF('FMI Template'!K362=\"direct\",\"NA\",IF(AND('FMI Template'!M362<>\"\",'FMI Template'!M362<>\"UA\"),'FMI Template'!M362,\"\"))","v":""},{"$f":"IF('FMI Template'!K362=\"direct\",\"NA\",IF(AND('FMI Template'!N362<>\"\",'FMI Template'!N362<>\"UA\"),'FMI Template'!N362,\"\"))","v":""},{"$f":"IF(OR('FMI Template'!H362=\"Other\",'FMI Template'!H362=\"NA\"),'FMI Template'!Q362,\"\")","v":""},{"$f":"IF(AND('FMI Template'!O362<>\"\",'FMI Template'!O362<>\"NA\",'FMI Template'!O362<>\"UA\"),'FMI Template'!O362,\"\")","v":""}]
[null,{"$f":"IF(AND('FMI Template'!B363<>\"\",'FMI Template'!B363<>\"NA\",'FMI Template'!B363<>\"UA\"),'FMI Template'!B363,\"\")","v":""},{"$f":"IF(AND('FMI Template'!C363<>\"\",'FMI Template'!C363<>\"NA\",'FMI Template'!C363<>\"UA\"),'FMI Template'!C363,\"\")","v":""},{"$f":"IF(AND('FMI Template'!D363<>\"\",'FMI Template'!D363<>\"NA\",'FMI Template'!D363<>\"UA\"),'FMI Template'!D363,\"\")","v":""},{"$f":"IF(AND('FMI Template'!F363<>\"\",'FMI Template'!F363<>\"NA\",'FMI Template'!F363<>\"UA\"),'FMI Template'!F363,\"\")","v":""},{"$f":"IF(AND('FMI Template'!H363<>\"\", 'FMI Template'!H363<>\"UA\"),IF('FMI Template'!H363=\"CSD\",\"(I)CSD\",IF('FMI Template'!H363=\"CCP_Derivatives\",\"CCP-Derivatives\",IF('FMI Template'!H363=\"CCP_securities\",\"CCP-securities\",IF('FMI Template'!H363=\"PS_Retail\",\"PS\",IF('FMI Template'!H363=\"PS_LV\",\"PS\",'FMI Template'!H363))))),\"\")","v":""},{"$f":"IF(AND('FMI Template'!I363<>\"\", 'FMI Template'!I363<>\"UA\"),'FMI Template'!I363,\"\")","v":""},{"$f":"IF(AND('FMI Template'!J363<>\"\",'FMI Template'!J363<>\"UA\"),IF('FMI Template'!J363=\"CSD_SSS\",\"CSD-SSS\",IF('FMI Template'!J363=\"CCP_Derivatives\",\"CCP-Derivatives\",IF('FMI Template'!J363=\"CCP_securities\",\"CCP-securities\",IF('FMI Template'!J363=\"Trading_venue\",\"Trading-venue\",'FMI Template'!J363)))),\"\")","v":""},{"$f":"IF(AND('FMI Template'!K363<>\"\",'FMI Template'!K363<>\"UA\"),'FMI Template'!K363,\"\")","v":""},{"$f":"IF('FMI Template'!K363=\"direct\",\"NA\",IF(AND('FMI Template'!M363<>\"\",'FMI Template'!M363<>\"UA\"),'FMI Template'!M363,\"\"))","v":""},{"$f":"IF('FMI Template'!K363=\"direct\",\"NA\",IF(AND('FMI Template'!N363<>\"\",'FMI Template'!N363<>\"UA\"),'FMI Template'!N363,\"\"))","v":""},{"$f":"IF(OR('FMI Template'!H363=\"Other\",'FMI Template'!H363=\"NA\"),'FMI Template'!Q363,\"\")","v":""},{"$f":"IF(AND('FMI Template'!O363<>\"\",'FMI Template'!O363<>\"NA\",'FMI Template'!O363<>\"UA\"),'FMI Template'!O363,\"\")","v":""}]
[null,{"$f":"IF(AND('FMI Template'!B364<>\"\",'FMI Template'!B364<>\"NA\",'FMI Template'!B364<>\"UA\"),'FMI Template'!B364,\"\")","v":""},{"$f":"IF(AND('FMI Template'!C364<>\"\",'FMI Template'!C364<>\"NA\",'FMI Template'!C364<>\"UA\"),'FMI Template'!C364,\"\")","v":""},{"$f":"IF(AND('FMI Template'!D364<>\"\",'FMI Template'!D364<>\"NA\",'FMI Template'!D364<>\"UA\"),'FMI Template'!D364,\"\")","v":""},{"$f":"IF(AND('FMI Template'!F364<>\"\",'FMI Template'!F364<>\"NA\",'FMI Template'!F364<>\"UA\"),'FMI Template'!F364,\"\")","v":""},{"$f":"IF(AND('FMI Template'!H364<>\"\", 'FMI Template'!H364<>\"UA\"),IF('FMI Template'!H364=\"CSD\",\"(I)CSD\",IF('FMI Template'!H364=\"CCP_Derivatives\",\"CCP-Derivatives\",IF('FMI Template'!H364=\"CCP_securities\",\"CCP-securities\",IF('FMI Template'!H364=\"PS_Retail\",\"PS\",IF('FMI Template'!H364=\"PS_LV\",\"PS\",'FMI Template'!H364))))),\"\")","v":""},{"$f":"IF(AND('FMI Template'!I364<>\"\", 'FMI Template'!I364<>\"UA\"),'FMI Template'!I364,\"\")","v":""},{"$f":"IF(AND('FMI Template'!J364<>\"\",'FMI Template'!J364<>\"UA\"),IF('FMI Template'!J364=\"CSD_SSS\",\"CSD-SSS\",IF('FMI Template'!J364=\"CCP_Derivatives\",\"CCP-Derivatives\",IF('FMI Template'!J364=\"CCP_securities\",\"CCP-securities\",IF('FMI Template'!J364=\"Trading_venue\",\"Trading-venue\",'FMI Template'!J364)))),\"\")","v":""},{"$f":"IF(AND('FMI Template'!K364<>\"\",'FMI Template'!K364<>\"UA\"),'FMI Template'!K364,\"\")","v":""},{"$f":"IF('FMI Template'!K364=\"direct\",\"NA\",IF(AND('FMI Template'!M364<>\"\",'FMI Template'!M364<>\"UA\"),'FMI Template'!M364,\"\"))","v":""},{"$f":"IF('FMI Template'!K364=\"direct\",\"NA\",IF(AND('FMI Template'!N364<>\"\",'FMI Template'!N364<>\"UA\"),'FMI Template'!N364,\"\"))","v":""},{"$f":"IF(OR('FMI Template'!H364=\"Other\",'FMI Template'!H364=\"NA\"),'FMI Template'!Q364,\"\")","v":""},{"$f":"IF(AND('FMI Template'!O364<>\"\",'FMI Template'!O364<>\"NA\",'FMI Template'!O364<>\"UA\"),'FMI Template'!O364,\"\")","v":""}]
[null,{"$f":"IF(AND('FMI Template'!B365<>\"\",'FMI Template'!B365<>\"NA\",'FMI Template'!B365<>\"UA\"),'FMI Template'!B365,\"\")","v":""},{"$f":"IF(AND('FMI Template'!C365<>\"\",'FMI Template'!C365<>\"NA\",'FMI Template'!C365<>\"UA\"),'FMI Template'!C365,\"\")","v":""},{"$f":"IF(AND('FMI Template'!D365<>\"\",'FMI Template'!D365<>\"NA\",'FMI Template'!D365<>\"UA\"),'FMI Template'!D365,\"\")","v":""},{"$f":"IF(AND('FMI Template'!F365<>\"\",'FMI Template'!F365<>\"NA\",'FMI Template'!F365<>\"UA\"),'FMI Template'!F365,\"\")","v":""},{"$f":"IF(AND('FMI Template'!H365<>\"\", 'FMI Template'!H365<>\"UA\"),IF('FMI Template'!H365=\"CSD\",\"(I)CSD\",IF('FMI Template'!H365=\"CCP_Derivatives\",\"CCP-Derivatives\",IF('FMI Template'!H365=\"CCP_securities\",\"CCP-securities\",IF('FMI Template'!H365=\"PS_Retail\",\"PS\",IF('FMI Template'!H365=\"PS_LV\",\"PS\",'FMI Template'!H365))))),\"\")","v":""},{"$f":"IF(AND('FMI Template'!I365<>\"\", 'FMI Template'!I365<>\"UA\"),'FMI Template'!I365,\"\")","v":""},{"$f":"IF(AND('FMI Template'!J365<>\"\",'FMI Template'!J365<>\"UA\"),IF('FMI Template'!J365=\"CSD_SSS\",\"CSD-SSS\",IF('FMI Template'!J365=\"CCP_Derivatives\",\"CCP-Derivatives\",IF('FMI Template'!J365=\"CCP_securities\",\"CCP-securities\",IF('FMI Template'!J365=\"Trading_venue\",\"Trading-venue\",'FMI Template'!J365)))),\"\")","v":""},{"$f":"IF(AND('FMI Template'!K365<>\"\",'FMI Template'!K365<>\"UA\"),'FMI Template'!K365,\"\")","v":""},{"$f":"IF('FMI Template'!K365=\"direct\",\"NA\",IF(AND('FMI Template'!M365<>\"\",'FMI Template'!M365<>\"UA\"),'FMI Template'!M365,\"\"))","v":""},{"$f":"IF('FMI Template'!K365=\"direct\",\"NA\",IF(AND('FMI Template'!N365<>\"\",'FMI Template'!N365<>\"UA\"),'FMI Template'!N365,\"\"))","v":""},{"$f":"IF(OR('FMI Template'!H365=\"Other\",'FMI Template'!H365=\"NA\"),'FMI Template'!Q365,\"\")","v":""},{"$f":"IF(AND('FMI Template'!O365<>\"\",'FMI Template'!O365<>\"NA\",'FMI Template'!O365<>\"UA\"),'FMI Template'!O365,\"\")","v":""}]
[null,{"$f":"IF(AND('FMI Template'!B366<>\"\",'FMI Template'!B366<>\"NA\",'FMI Template'!B366<>\"UA\"),'FMI Template'!B366,\"\")","v":""},{"$f":"IF(AND('FMI Template'!C366<>\"\",'FMI Template'!C366<>\"NA\",'FMI Template'!C366<>\"UA\"),'FMI Template'!C366,\"\")","v":""},{"$f":"IF(AND('FMI Template'!D366<>\"\",'FMI Template'!D366<>\"NA\",'FMI Template'!D366<>\"UA\"),'FMI Template'!D366,\"\")","v":""},{"$f":"IF(AND('FMI Template'!F366<>\"\",'FMI Template'!F366<>\"NA\",'FMI Template'!F366<>\"UA\"),'FMI Template'!F366,\"\")","v":""},{"$f":"IF(AND('FMI Template'!H366<>\"\", 'FMI Template'!H366<>\"UA\"),IF('FMI Template'!H366=\"CSD\",\"(I)CSD\",IF('FMI Template'!H366=\"CCP_Derivatives\",\"CCP-Derivatives\",IF('FMI Template'!H366=\"CCP_securities\",\"CCP-securities\",IF('FMI Template'!H366=\"PS_Retail\",\"PS\",IF('FMI Template'!H366=\"PS_LV\",\"PS\",'FMI Template'!H366))))),\"\")","v":""},{"$f":"IF(AND('FMI Template'!I366<>\"\", 'FMI Template'!I366<>\"UA\"),'FMI Template'!I366,\"\")","v":""},{"$f":"IF(AND('FMI Template'!J366<>\"\",'FMI Template'!J366<>\"UA\"),IF('FMI Template'!J366=\"CSD_SSS\",\"CSD-SSS\",IF('FMI Template'!J366=\"CCP_Derivatives\",\"CCP-Derivatives\",IF('FMI Template'!J366=\"CCP_securities\",\"CCP-securities\",IF('FMI Template'!J366=\"Trading_venue\",\"Trading-venue\",'FMI Template'!J366)))),\"\")","v":""},{"$f":"IF(AND('FMI Template'!K366<>\"\",'FMI Template'!K366<>\"UA\"),'FMI Template'!K366,\"\")","v":""},{"$f":"IF('FMI Template'!K366=\"direct\",\"NA\",IF(AND('FMI Template'!M366<>\"\",'FMI Template'!M366<>\"UA\"),'FMI Template'!M366,\"\"))","v":""},{"$f":"IF('FMI Template'!K366=\"direct\",\"NA\",IF(AND('FMI Template'!N366<>\"\",'FMI Template'!N366<>\"UA\"),'FMI Template'!N366,\"\"))","v":""},{"$f":"IF(OR('FMI Template'!H366=\"Other\",'FMI Template'!H366=\"NA\"),'FMI Template'!Q366,\"\")","v":""},{"$f":"IF(AND('FMI Template'!O366<>\"\",'FMI Template'!O366<>\"NA\",'FMI Template'!O366<>\"UA\"),'FMI Template'!O366,\"\")","v":""}]
[null,{"$f":"IF(AND('FMI Template'!B367<>\"\",'FMI Template'!B367<>\"NA\",'FMI Template'!B367<>\"UA\"),'FMI Template'!B367,\"\")","v":""},{"$f":"IF(AND('FMI Template'!C367<>\"\",'FMI Template'!C367<>\"NA\",'FMI Template'!C367<>\"UA\"),'FMI Template'!C367,\"\")","v":""},{"$f":"IF(AND('FMI Template'!D367<>\"\",'FMI Template'!D367<>\"NA\",'FMI Template'!D367<>\"UA\"),'FMI Template'!D367,\"\")","v":""},{"$f":"IF(AND('FMI Template'!F367<>\"\",'FMI Template'!F367<>\"NA\",'FMI Template'!F367<>\"UA\"),'FMI Template'!F367,\"\")","v":""},{"$f":"IF(AND('FMI Template'!H367<>\"\", 'FMI Template'!H367<>\"UA\"),IF('FMI Template'!H367=\"CSD\",\"(I)CSD\",IF('FMI Template'!H367=\"CCP_Derivatives\",\"CCP-Derivatives\",IF('FMI Template'!H367=\"CCP_securities\",\"CCP-securities\",IF('FMI Template'!H367=\"PS_Retail\",\"PS\",IF('FMI Template'!H367=\"PS_LV\",\"PS\",'FMI Template'!H367))))),\"\")","v":""},{"$f":"IF(AND('FMI Template'!I367<>\"\", 'FMI Template'!I367<>\"UA\"),'FMI Template'!I367,\"\")","v":""},{"$f":"IF(AND('FMI Template'!J367<>\"\",'FMI Template'!J367<>\"UA\"),IF('FMI Template'!J367=\"CSD_SSS\",\"CSD-SSS\",IF('FMI Template'!J367=\"CCP_Derivatives\",\"CCP-Derivatives\",IF('FMI Template'!J367=\"CCP_securities\",\"CCP-securities\",IF('FMI Template'!J367=\"Trading_venue\",\"Trading-venue\",'FMI Template'!J367)))),\"\")","v":""},{"$f":"IF(AND('FMI Template'!K367<>\"\",'FMI Template'!K367<>\"UA\"),'FMI Template'!K367,\"\")","v":""},{"$f":"IF('FMI Template'!K367=\"direct\",\"NA\",IF(AND('FMI Template'!M367<>\"\",'FMI Template'!M367<>\"UA\"),'FMI Template'!M367,\"\"))","v":""},{"$f":"IF('FMI Template'!K367=\"direct\",\"NA\",IF(AND('FMI Template'!N367<>\"\",'FMI Template'!N367<>\"UA\"),'FMI Template'!N367,\"\"))","v":""},{"$f":"IF(OR('FMI Template'!H367=\"Other\",'FMI Template'!H367=\"NA\"),'FMI Template'!Q367,\"\")","v":""},{"$f":"IF(AND('FMI Template'!O367<>\"\",'FMI Template'!O367<>\"NA\",'FMI Template'!O367<>\"UA\"),'FMI Template'!O367,\"\")","v":""}]
[null,{"$f":"IF(AND('FMI Template'!B368<>\"\",'FMI Template'!B368<>\"NA\",'FMI Template'!B368<>\"UA\"),'FMI Template'!B368,\"\")","v":""},{"$f":"IF(AND('FMI Template'!C368<>\"\",'FMI Template'!C368<>\"NA\",'FMI Template'!C368<>\"UA\"),'FMI Template'!C368,\"\")","v":""},{"$f":"IF(AND('FMI Template'!D368<>\"\",'FMI Template'!D368<>\"NA\",'FMI Template'!D368<>\"UA\"),'FMI Template'!D368,\"\")","v":""},{"$f":"IF(AND('FMI Template'!F368<>\"\",'FMI Template'!F368<>\"NA\",'FMI Template'!F368<>\"UA\"),'FMI Template'!F368,\"\")","v":""},{"$f":"IF(AND('FMI Template'!H368<>\"\", 'FMI Template'!H368<>\"UA\"),IF('FMI Template'!H368=\"CSD\",\"(I)CSD\",IF('FMI Template'!H368=\"CCP_Derivatives\",\"CCP-Derivatives\",IF('FMI Template'!H368=\"CCP_securities\",\"CCP-securities\",IF('FMI Template'!H368=\"PS_Retail\",\"PS\",IF('FMI Template'!H368=\"PS_LV\",\"PS\",'FMI Template'!H368))))),\"\")","v":""},{"$f":"IF(AND('FMI Template'!I368<>\"\", 'FMI Template'!I368<>\"UA\"),'FMI Template'!I368,\"\")","v":""},{"$f":"IF(AND('FMI Template'!J368<>\"\",'FMI Template'!J368<>\"UA\"),IF('FMI Template'!J368=\"CSD_SSS\",\"CSD-SSS\",IF('FMI Template'!J368=\"CCP_Derivatives\",\"CCP-Derivatives\",IF('FMI Template'!J368=\"CCP_securities\",\"CCP-securities\",IF('FMI Template'!J368=\"Trading_venue\",\"Trading-venue\",'FMI Template'!J368)))),\"\")","v":""},{"$f":"IF(AND('FMI Template'!K368<>\"\",'FMI Template'!K368<>\"UA\"),'FMI Template'!K368,\"\")","v":""},{"$f":"IF('FMI Template'!K368=\"direct\",\"NA\",IF(AND('FMI Template'!M368<>\"\",'FMI Template'!M368<>\"UA\"),'FMI Template'!M368,\"\"))","v":""},{"$f":"IF('FMI Template'!K368=\"direct\",\"NA\",IF(AND('FMI Template'!N368<>\"\",'FMI Template'!N368<>\"UA\"),'FMI Template'!N368,\"\"))","v":""},{"$f":"IF(OR('FMI Template'!H368=\"Other\",'FMI Template'!H368=\"NA\"),'FMI Template'!Q368,\"\")","v":""},{"$f":"IF(AND('FMI Template'!O368<>\"\",'FMI Template'!O368<>\"NA\",'FMI Template'!O368<>\"UA\"),'FMI Template'!O368,\"\")","v":""}]
[null,{"$f":"IF(AND('FMI Template'!B369<>\"\",'FMI Template'!B369<>\"NA\",'FMI Template'!B369<>\"UA\"),'FMI Template'!B369,\"\")","v":""},{"$f":"IF(AND('FMI Template'!C369<>\"\",'FMI Template'!C369<>\"NA\",'FMI Template'!C369<>\"UA\"),'FMI Template'!C369,\"\")","v":""},{"$f":"IF(AND('FMI Template'!D369<>\"\",'FMI Template'!D369<>\"NA\",'FMI Template'!D369<>\"UA\"),'FMI Template'!D369,\"\")","v":""},{"$f":"IF(AND('FMI Template'!F369<>\"\",'FMI Template'!F369<>\"NA\",'FMI Template'!F369<>\"UA\"),'FMI Template'!F369,\"\")","v":""},{"$f":"IF(AND('FMI Template'!H369<>\"\", 'FMI Template'!H369<>\"UA\"),IF('FMI Template'!H369=\"CSD\",\"(I)CSD\",IF('FMI Template'!H369=\"CCP_Derivatives\",\"CCP-Derivatives\",IF('FMI Template'!H369=\"CCP_securities\",\"CCP-securities\",IF('FMI Template'!H369=\"PS_Retail\",\"PS\",IF('FMI Template'!H369=\"PS_LV\",\"PS\",'FMI Template'!H369))))),\"\")","v":""},{"$f":"IF(AND('FMI Template'!I369<>\"\", 'FMI Template'!I369<>\"UA\"),'FMI Template'!I369,\"\")","v":""},{"$f":"IF(AND('FMI Template'!J369<>\"\",'FMI Template'!J369<>\"UA\"),IF('FMI Template'!J369=\"CSD_SSS\",\"CSD-SSS\",IF('FMI Template'!J369=\"CCP_Derivatives\",\"CCP-Derivatives\",IF('FMI Template'!J369=\"CCP_securities\",\"CCP-securities\",IF('FMI Template'!J369=\"Trading_venue\",\"Trading-venue\",'FMI Template'!J369)))),\"\")","v":""},{"$f":"IF(AND('FMI Template'!K369<>\"\",'FMI Template'!K369<>\"UA\"),'FMI Template'!K369,\"\")","v":""},{"$f":"IF('FMI Template'!K369=\"direct\",\"NA\",IF(AND('FMI Template'!M369<>\"\",'FMI Template'!M369<>\"UA\"),'FMI Template'!M369,\"\"))","v":""},{"$f":"IF('FMI Template'!K369=\"direct\",\"NA\",IF(AND('FMI Template'!N369<>\"\",'FMI Template'!N369<>\"UA\"),'FMI Template'!N369,\"\"))","v":""},{"$f":"IF(OR('FMI Template'!H369=\"Other\",'FMI Template'!H369=\"NA\"),'FMI Template'!Q369,\"\")","v":""},{"$f":"IF(AND('FMI Template'!O369<>\"\",'FMI Template'!O369<>\"NA\",'FMI Template'!O369<>\"UA\"),'FMI Template'!O369,\"\")","v":""}]
[null,{"$f":"IF(AND('FMI Template'!B370<>\"\",'FMI Template'!B370<>\"NA\",'FMI Template'!B370<>\"UA\"),'FMI Template'!B370,\"\")","v":""},{"$f":"IF(AND('FMI Template'!C370<>\"\",'FMI Template'!C370<>\"NA\",'FMI Template'!C370<>\"UA\"),'FMI Template'!C370,\"\")","v":""},{"$f":"IF(AND('FMI Template'!D370<>\"\",'FMI Template'!D370<>\"NA\",'FMI Template'!D370<>\"UA\"),'FMI Template'!D370,\"\")","v":""},{"$f":"IF(AND('FMI Template'!F370<>\"\",'FMI Template'!F370<>\"NA\",'FMI Template'!F370<>\"UA\"),'FMI Template'!F370,\"\")","v":""},{"$f":"IF(AND('FMI Template'!H370<>\"\", 'FMI Template'!H370<>\"UA\"),IF('FMI Template'!H370=\"CSD\",\"(I)CSD\",IF('FMI Template'!H370=\"CCP_Derivatives\",\"CCP-Derivatives\",IF('FMI Template'!H370=\"CCP_securities\",\"CCP-securities\",IF('FMI Template'!H370=\"PS_Retail\",\"PS\",IF('FMI Template'!H370=\"PS_LV\",\"PS\",'FMI Template'!H370))))),\"\")","v":""},{"$f":"IF(AND('FMI Template'!I370<>\"\", 'FMI Template'!I370<>\"UA\"),'FMI Template'!I370,\"\")","v":""},{"$f":"IF(AND('FMI Template'!J370<>\"\",'FMI Template'!J370<>\"UA\"),IF('FMI Template'!J370=\"CSD_SSS\",\"CSD-SSS\",IF('FMI Template'!J370=\"CCP_Derivatives\",\"CCP-Derivatives\",IF('FMI Template'!J370=\"CCP_securities\",\"CCP-securities\",IF('FMI Template'!J370=\"Trading_venue\",\"Trading-venue\",'FMI Template'!J370)))),\"\")","v":""},{"$f":"IF(AND('FMI Template'!K370<>\"\",'FMI Template'!K370<>\"UA\"),'FMI Template'!K370,\"\")","v":""},{"$f":"IF('FMI Template'!K370=\"direct\",\"NA\",IF(AND('FMI Template'!M370<>\"\",'FMI Template'!M370<>\"UA\"),'FMI Template'!M370,\"\"))","v":""},{"$f":"IF('FMI Template'!K370=\"direct\",\"NA\",IF(AND('FMI Template'!N370<>\"\",'FMI Template'!N370<>\"UA\"),'FMI Template'!N370,\"\"))","v":""},{"$f":"IF(OR('FMI Template'!H370=\"Other\",'FMI Template'!H370=\"NA\"),'FMI Template'!Q370,\"\")","v":""},{"$f":"IF(AND('FMI Template'!O370<>\"\",'FMI Template'!O370<>\"NA\",'FMI Template'!O370<>\"UA\"),'FMI Template'!O370,\"\")","v":""}]
[null,{"$f":"IF(AND('FMI Template'!B371<>\"\",'FMI Template'!B371<>\"NA\",'FMI Template'!B371<>\"UA\"),'FMI Template'!B371,\"\")","v":""},{"$f":"IF(AND('FMI Template'!C371<>\"\",'FMI Template'!C371<>\"NA\",'FMI Template'!C371<>\"UA\"),'FMI Template'!C371,\"\")","v":""},{"$f":"IF(AND('FMI Template'!D371<>\"\",'FMI Template'!D371<>\"NA\",'FMI Template'!D371<>\"UA\"),'FMI Template'!D371,\"\")","v":""},{"$f":"IF(AND('FMI Template'!F371<>\"\",'FMI Template'!F371<>\"NA\",'FMI Template'!F371<>\"UA\"),'FMI Template'!F371,\"\")","v":""},{"$f":"IF(AND('FMI Template'!H371<>\"\", 'FMI Template'!H371<>\"UA\"),IF('FMI Template'!H371=\"CSD\",\"(I)CSD\",IF('FMI Template'!H371=\"CCP_Derivatives\",\"CCP-Derivatives\",IF('FMI Template'!H371=\"CCP_securities\",\"CCP-securities\",IF('FMI Template'!H371=\"PS_Retail\",\"PS\",IF('FMI Template'!H371=\"PS_LV\",\"PS\",'FMI Template'!H371))))),\"\")","v":""},{"$f":"IF(AND('FMI Template'!I371<>\"\", 'FMI Template'!I371<>\"UA\"),'FMI Template'!I371,\"\")","v":""},{"$f":"IF(AND('FMI Template'!J371<>\"\",'FMI Template'!J371<>\"UA\"),IF('FMI Template'!J371=\"CSD_SSS\",\"CSD-SSS\",IF('FMI Template'!J371=\"CCP_Derivatives\",\"CCP-Derivatives\",IF('FMI Template'!J371=\"CCP_securities\",\"CCP-securities\",IF('FMI Template'!J371=\"Trading_venue\",\"Trading-venue\",'FMI Template'!J371)))),\"\")","v":""},{"$f":"IF(AND('FMI Template'!K371<>\"\",'FMI Template'!K371<>\"UA\"),'FMI Template'!K371,\"\")","v":""},{"$f":"IF('FMI Template'!K371=\"direct\",\"NA\",IF(AND('FMI Template'!M371<>\"\",'FMI Template'!M371<>\"UA\"),'FMI Template'!M371,\"\"))","v":""},{"$f":"IF('FMI Template'!K371=\"direct\",\"NA\",IF(AND('FMI Template'!N371<>\"\",'FMI Template'!N371<>\"UA\"),'FMI Template'!N371,\"\"))","v":""},{"$f":"IF(OR('FMI Template'!H371=\"Other\",'FMI Template'!H371=\"NA\"),'FMI Template'!Q371,\"\")","v":""},{"$f":"IF(AND('FMI Template'!O371<>\"\",'FMI Template'!O371<>\"NA\",'FMI Template'!O371<>\"UA\"),'FMI Template'!O371,\"\")","v":""}]
[null,{"$f":"IF(AND('FMI Template'!B372<>\"\",'FMI Template'!B372<>\"NA\",'FMI Template'!B372<>\"UA\"),'FMI Template'!B372,\"\")","v":""},{"$f":"IF(AND('FMI Template'!C372<>\"\",'FMI Template'!C372<>\"NA\",'FMI Template'!C372<>\"UA\"),'FMI Template'!C372,\"\")","v":""},{"$f":"IF(AND('FMI Template'!D372<>\"\",'FMI Template'!D372<>\"NA\",'FMI Template'!D372<>\"UA\"),'FMI Template'!D372,\"\")","v":""},{"$f":"IF(AND('FMI Template'!F372<>\"\",'FMI Template'!F372<>\"NA\",'FMI Template'!F372<>\"UA\"),'FMI Template'!F372,\"\")","v":""},{"$f":"IF(AND('FMI Template'!H372<>\"\", 'FMI Template'!H372<>\"UA\"),IF('FMI Template'!H372=\"CSD\",\"(I)CSD\",IF('FMI Template'!H372=\"CCP_Derivatives\",\"CCP-Derivatives\",IF('FMI Template'!H372=\"CCP_securities\",\"CCP-securities\",IF('FMI Template'!H372=\"PS_Retail\",\"PS\",IF('FMI Template'!H372=\"PS_LV\",\"PS\",'FMI Template'!H372))))),\"\")","v":""},{"$f":"IF(AND('FMI Template'!I372<>\"\", 'FMI Template'!I372<>\"UA\"),'FMI Template'!I372,\"\")","v":""},{"$f":"IF(AND('FMI Template'!J372<>\"\",'FMI Template'!J372<>\"UA\"),IF('FMI Template'!J372=\"CSD_SSS\",\"CSD-SSS\",IF('FMI Template'!J372=\"CCP_Derivatives\",\"CCP-Derivatives\",IF('FMI Template'!J372=\"CCP_securities\",\"CCP-securities\",IF('FMI Template'!J372=\"Trading_venue\",\"Trading-venue\",'FMI Template'!J372)))),\"\")","v":""},{"$f":"IF(AND('FMI Template'!K372<>\"\",'FMI Template'!K372<>\"UA\"),'FMI Template'!K372,\"\")","v":""},{"$f":"IF('FMI Template'!K372=\"direct\",\"NA\",IF(AND('FMI Template'!M372<>\"\",'FMI Template'!M372<>\"UA\"),'FMI Template'!M372,\"\"))","v":""},{"$f":"IF('FMI Template'!K372=\"direct\",\"NA\",IF(AND('FMI Template'!N372<>\"\",'FMI Template'!N372<>\"UA\"),'FMI Template'!N372,\"\"))","v":""},{"$f":"IF(OR('FMI Template'!H372=\"Other\",'FMI Template'!H372=\"NA\"),'FMI Template'!Q372,\"\")","v":""},{"$f":"IF(AND('FMI Template'!O372<>\"\",'FMI Template'!O372<>\"NA\",'FMI Template'!O372<>\"UA\"),'FMI Template'!O372,\"\")","v":""}]
[null,{"$f":"IF(AND('FMI Template'!B373<>\"\",'FMI Template'!B373<>\"NA\",'FMI Template'!B373<>\"UA\"),'FMI Template'!B373,\"\")","v":""},{"$f":"IF(AND('FMI Template'!C373<>\"\",'FMI Template'!C373<>\"NA\",'FMI Template'!C373<>\"UA\"),'FMI Template'!C373,\"\")","v":""},{"$f":"IF(AND('FMI Template'!D373<>\"\",'FMI Template'!D373<>\"NA\",'FMI Template'!D373<>\"UA\"),'FMI Template'!D373,\"\")","v":""},{"$f":"IF(AND('FMI Template'!F373<>\"\",'FMI Template'!F373<>\"NA\",'FMI Template'!F373<>\"UA\"),'FMI Template'!F373,\"\")","v":""},{"$f":"IF(AND('FMI Template'!H373<>\"\", 'FMI Template'!H373<>\"UA\"),IF('FMI Template'!H373=\"CSD\",\"(I)CSD\",IF('FMI Template'!H373=\"CCP_Derivatives\",\"CCP-Derivatives\",IF('FMI Template'!H373=\"CCP_securities\",\"CCP-securities\",IF('FMI Template'!H373=\"PS_Retail\",\"PS\",IF('FMI Template'!H373=\"PS_LV\",\"PS\",'FMI Template'!H373))))),\"\")","v":""},{"$f":"IF(AND('FMI Template'!I373<>\"\", 'FMI Template'!I373<>\"UA\"),'FMI Template'!I373,\"\")","v":""},{"$f":"IF(AND('FMI Template'!J373<>\"\",'FMI Template'!J373<>\"UA\"),IF('FMI Template'!J373=\"CSD_SSS\",\"CSD-SSS\",IF('FMI Template'!J373=\"CCP_Derivatives\",\"CCP-Derivatives\",IF('FMI Template'!J373=\"CCP_securities\",\"CCP-securities\",IF('FMI Template'!J373=\"Trading_venue\",\"Trading-venue\",'FMI Template'!J373)))),\"\")","v":""},{"$f":"IF(AND('FMI Template'!K373<>\"\",'FMI Template'!K373<>\"UA\"),'FMI Template'!K373,\"\")","v":""},{"$f":"IF('FMI Template'!K373=\"direct\",\"NA\",IF(AND('FMI Template'!M373<>\"\",'FMI Template'!M373<>\"UA\"),'FMI Template'!M373,\"\"))","v":""},{"$f":"IF('FMI Template'!K373=\"direct\",\"NA\",IF(AND('FMI Template'!N373<>\"\",'FMI Template'!N373<>\"UA\"),'FMI Template'!N373,\"\"))","v":""},{"$f":"IF(OR('FMI Template'!H373=\"Other\",'FMI Template'!H373=\"NA\"),'FMI Template'!Q373,\"\")","v":""},{"$f":"IF(AND('FMI Template'!O373<>\"\",'FMI Template'!O373<>\"NA\",'FMI Template'!O373<>\"UA\"),'FMI Template'!O373,\"\")","v":""}]
[null,{"$f":"IF(AND('FMI Template'!B374<>\"\",'FMI Template'!B374<>\"NA\",'FMI Template'!B374<>\"UA\"),'FMI Template'!B374,\"\")","v":""},{"$f":"IF(AND('FMI Template'!C374<>\"\",'FMI Template'!C374<>\"NA\",'FMI Template'!C374<>\"UA\"),'FMI Template'!C374,\"\")","v":""},{"$f":"IF(AND('FMI Template'!D374<>\"\",'FMI Template'!D374<>\"NA\",'FMI Template'!D374<>\"UA\"),'FMI Template'!D374,\"\")","v":""},{"$f":"IF(AND('FMI Template'!F374<>\"\",'FMI Template'!F374<>\"NA\",'FMI Template'!F374<>\"UA\"),'FMI Template'!F374,\"\")","v":""},{"$f":"IF(AND('FMI Template'!H374<>\"\", 'FMI Template'!H374<>\"UA\"),IF('FMI Template'!H374=\"CSD\",\"(I)CSD\",IF('FMI Template'!H374=\"CCP_Derivatives\",\"CCP-Derivatives\",IF('FMI Template'!H374=\"CCP_securities\",\"CCP-securities\",IF('FMI Template'!H374=\"PS_Retail\",\"PS\",IF('FMI Template'!H374=\"PS_LV\",\"PS\",'FMI Template'!H374))))),\"\")","v":""},{"$f":"IF(AND('FMI Template'!I374<>\"\", 'FMI Template'!I374<>\"UA\"),'FMI Template'!I374,\"\")","v":""},{"$f":"IF(AND('FMI Template'!J374<>\"\",'FMI Template'!J374<>\"UA\"),IF('FMI Template'!J374=\"CSD_SSS\",\"CSD-SSS\",IF('FMI Template'!J374=\"CCP_Derivatives\",\"CCP-Derivatives\",IF('FMI Template'!J374=\"CCP_securities\",\"CCP-securities\",IF('FMI Template'!J374=\"Trading_venue\",\"Trading-venue\",'FMI Template'!J374)))),\"\")","v":""},{"$f":"IF(AND('FMI Template'!K374<>\"\",'FMI Template'!K374<>\"UA\"),'FMI Template'!K374,\"\")","v":""},{"$f":"IF('FMI Template'!K374=\"direct\",\"NA\",IF(AND('FMI Template'!M374<>\"\",'FMI Template'!M374<>\"UA\"),'FMI Template'!M374,\"\"))","v":""},{"$f":"IF('FMI Template'!K374=\"direct\",\"NA\",IF(AND('FMI Template'!N374<>\"\",'FMI Template'!N374<>\"UA\"),'FMI Template'!N374,\"\"))","v":""},{"$f":"IF(OR('FMI Template'!H374=\"Other\",'FMI Template'!H374=\"NA\"),'FMI Template'!Q374,\"\")","v":""},{"$f":"IF(AND('FMI Template'!O374<>\"\",'FMI Template'!O374<>\"NA\",'FMI Template'!O374<>\"UA\"),'FMI Template'!O374,\"\")","v":""}]
[null,{"$f":"IF(AND('FMI Template'!B375<>\"\",'FMI Template'!B375<>\"NA\",'FMI Template'!B375<>\"UA\"),'FMI Template'!B375,\"\")","v":""},{"$f":"IF(AND('FMI Template'!C375<>\"\",'FMI Template'!C375<>\"NA\",'FMI Template'!C375<>\"UA\"),'FMI Template'!C375,\"\")","v":""},{"$f":"IF(AND('FMI Template'!D375<>\"\",'FMI Template'!D375<>\"NA\",'FMI Template'!D375<>\"UA\"),'FMI Template'!D375,\"\")","v":""},{"$f":"IF(AND('FMI Template'!F375<>\"\",'FMI Template'!F375<>\"NA\",'FMI Template'!F375<>\"UA\"),'FMI Template'!F375,\"\")","v":""},{"$f":"IF(AND('FMI Template'!H375<>\"\", 'FMI Template'!H375<>\"UA\"),IF('FMI Template'!H375=\"CSD\",\"(I)CSD\",IF('FMI Template'!H375=\"CCP_Derivatives\",\"CCP-Derivatives\",IF('FMI Template'!H375=\"CCP_securities\",\"CCP-securities\",IF('FMI Template'!H375=\"PS_Retail\",\"PS\",IF('FMI Template'!H375=\"PS_LV\",\"PS\",'FMI Template'!H375))))),\"\")","v":""},{"$f":"IF(AND('FMI Template'!I375<>\"\", 'FMI Template'!I375<>\"UA\"),'FMI Template'!I375,\"\")","v":""},{"$f":"IF(AND('FMI Template'!J375<>\"\",'FMI Template'!J375<>\"UA\"),IF('FMI Template'!J375=\"CSD_SSS\",\"CSD-SSS\",IF('FMI Template'!J375=\"CCP_Derivatives\",\"CCP-Derivatives\",IF('FMI Template'!J375=\"CCP_securities\",\"CCP-securities\",IF('FMI Template'!J375=\"Trading_venue\",\"Trading-venue\",'FMI Template'!J375)))),\"\")","v":""},{"$f":"IF(AND('FMI Template'!K375<>\"\",'FMI Template'!K375<>\"UA\"),'FMI Template'!K375,\"\")","v":""},{"$f":"IF('FMI Template'!K375=\"direct\",\"NA\",IF(AND('FMI Template'!M375<>\"\",'FMI Template'!M375<>\"UA\"),'FMI Template'!M375,\"\"))","v":""},{"$f":"IF('FMI Template'!K375=\"direct\",\"NA\",IF(AND('FMI Template'!N375<>\"\",'FMI Template'!N375<>\"UA\"),'FMI Template'!N375,\"\"))","v":""},{"$f":"IF(OR('FMI Template'!H375=\"Other\",'FMI Template'!H375=\"NA\"),'FMI Template'!Q375,\"\")","v":""},{"$f":"IF(AND('FMI Template'!O375<>\"\",'FMI Template'!O375<>\"NA\",'FMI Template'!O375<>\"UA\"),'FMI Template'!O375,\"\")","v":""}]
[null,{"$f":"IF(AND('FMI Template'!B376<>\"\",'FMI Template'!B376<>\"NA\",'FMI Template'!B376<>\"UA\"),'FMI Template'!B376,\"\")","v":""},{"$f":"IF(AND('FMI Template'!C376<>\"\",'FMI Template'!C376<>\"NA\",'FMI Template'!C376<>\"UA\"),'FMI Template'!C376,\"\")","v":""},{"$f":"IF(AND('FMI Template'!D376<>\"\",'FMI Template'!D376<>\"NA\",'FMI Template'!D376<>\"UA\"),'FMI Template'!D376,\"\")","v":""},{"$f":"IF(AND('FMI Template'!F376<>\"\",'FMI Template'!F376<>\"NA\",'FMI Template'!F376<>\"UA\"),'FMI Template'!F376,\"\")","v":""},{"$f":"IF(AND('FMI Template'!H376<>\"\", 'FMI Template'!H376<>\"UA\"),IF('FMI Template'!H376=\"CSD\",\"(I)CSD\",IF('FMI Template'!H376=\"CCP_Derivatives\",\"CCP-Derivatives\",IF('FMI Template'!H376=\"CCP_securities\",\"CCP-securities\",IF('FMI Template'!H376=\"PS_Retail\",\"PS\",IF('FMI Template'!H376=\"PS_LV\",\"PS\",'FMI Template'!H376))))),\"\")","v":""},{"$f":"IF(AND('FMI Template'!I376<>\"\", 'FMI Template'!I376<>\"UA\"),'FMI Template'!I376,\"\")","v":""},{"$f":"IF(AND('FMI Template'!J376<>\"\",'FMI Template'!J376<>\"UA\"),IF('FMI Template'!J376=\"CSD_SSS\",\"CSD-SSS\",IF('FMI Template'!J376=\"CCP_Derivatives\",\"CCP-Derivatives\",IF('FMI Template'!J376=\"CCP_securities\",\"CCP-securities\",IF('FMI Template'!J376=\"Trading_venue\",\"Trading-venue\",'FMI Template'!J376)))),\"\")","v":""},{"$f":"IF(AND('FMI Template'!K376<>\"\",'FMI Template'!K376<>\"UA\"),'FMI Template'!K376,\"\")","v":""},{"$f":"IF('FMI Template'!K376=\"direct\",\"NA\",IF(AND('FMI Template'!M376<>\"\",'FMI Template'!M376<>\"UA\"),'FMI Template'!M376,\"\"))","v":""},{"$f":"IF('FMI Template'!K376=\"direct\",\"NA\",IF(AND('FMI Template'!N376<>\"\",'FMI Template'!N376<>\"UA\"),'FMI Template'!N376,\"\"))","v":""},{"$f":"IF(OR('FMI Template'!H376=\"Other\",'FMI Template'!H376=\"NA\"),'FMI Template'!Q376,\"\")","v":""},{"$f":"IF(AND('FMI Template'!O376<>\"\",'FMI Template'!O376<>\"NA\",'FMI Template'!O376<>\"UA\"),'FMI Template'!O376,\"\")","v":""}]
[null,{"$f":"IF(AND('FMI Template'!B377<>\"\",'FMI Template'!B377<>\"NA\",'FMI Template'!B377<>\"UA\"),'FMI Template'!B377,\"\")","v":""},{"$f":"IF(AND('FMI Template'!C377<>\"\",'FMI Template'!C377<>\"NA\",'FMI Template'!C377<>\"UA\"),'FMI Template'!C377,\"\")","v":""},{"$f":"IF(AND('FMI Template'!D377<>\"\",'FMI Template'!D377<>\"NA\",'FMI Template'!D377<>\"UA\"),'FMI Template'!D377,\"\")","v":""},{"$f":"IF(AND('FMI Template'!F377<>\"\",'FMI Template'!F377<>\"NA\",'FMI Template'!F377<>\"UA\"),'FMI Template'!F377,\"\")","v":""},{"$f":"IF(AND('FMI Template'!H377<>\"\", 'FMI Template'!H377<>\"UA\"),IF('FMI Template'!H377=\"CSD\",\"(I)CSD\",IF('FMI Template'!H377=\"CCP_Derivatives\",\"CCP-Derivatives\",IF('FMI Template'!H377=\"CCP_securities\",\"CCP-securities\",IF('FMI Template'!H377=\"PS_Retail\",\"PS\",IF('FMI Template'!H377=\"PS_LV\",\"PS\",'FMI Template'!H377))))),\"\")","v":""},{"$f":"IF(AND('FMI Template'!I377<>\"\", 'FMI Template'!I377<>\"UA\"),'FMI Template'!I377,\"\")","v":""},{"$f":"IF(AND('FMI Template'!J377<>\"\",'FMI Template'!J377<>\"UA\"),IF('FMI Template'!J377=\"CSD_SSS\",\"CSD-SSS\",IF('FMI Template'!J377=\"CCP_Derivatives\",\"CCP-Derivatives\",IF('FMI Template'!J377=\"CCP_securities\",\"CCP-securities\",IF('FMI Template'!J377=\"Trading_venue\",\"Trading-venue\",'FMI Template'!J377)))),\"\")","v":""},{"$f":"IF(AND('FMI Template'!K377<>\"\",'FMI Template'!K377<>\"UA\"),'FMI Template'!K377,\"\")","v":""},{"$f":"IF('FMI Template'!K377=\"direct\",\"NA\",IF(AND('FMI Template'!M377<>\"\",'FMI Template'!M377<>\"UA\"),'FMI Template'!M377,\"\"))","v":""},{"$f":"IF('FMI Template'!K377=\"direct\",\"NA\",IF(AND('FMI Template'!N377<>\"\",'FMI Template'!N377<>\"UA\"),'FMI Template'!N377,\"\"))","v":""},{"$f":"IF(OR('FMI Template'!H377=\"Other\",'FMI Template'!H377=\"NA\"),'FMI Template'!Q377,\"\")","v":""},{"$f":"IF(AND('FMI Template'!O377<>\"\",'FMI Template'!O377<>\"NA\",'FMI Template'!O377<>\"UA\"),'FMI Template'!O377,\"\")","v":""}]
[null,{"$f":"IF(AND('FMI Template'!B378<>\"\",'FMI Template'!B378<>\"NA\",'FMI Template'!B378<>\"UA\"),'FMI Template'!B378,\"\")","v":""},{"$f":"IF(AND('FMI Template'!C378<>\"\",'FMI Template'!C378<>\"NA\",'FMI Template'!C378<>\"UA\"),'FMI Template'!C378,\"\")","v":""},{"$f":"IF(AND('FMI Template'!D378<>\"\",'FMI Template'!D378<>\"NA\",'FMI Template'!D378<>\"UA\"),'FMI Template'!D378,\"\")","v":""},{"$f":"IF(AND('FMI Template'!F378<>\"\",'FMI Template'!F378<>\"NA\",'FMI Template'!F378<>\"UA\"),'FMI Template'!F378,\"\")","v":""},{"$f":"IF(AND('FMI Template'!H378<>\"\", 'FMI Template'!H378<>\"UA\"),IF('FMI Template'!H378=\"CSD\",\"(I)CSD\",IF('FMI Template'!H378=\"CCP_Derivatives\",\"CCP-Derivatives\",IF('FMI Template'!H378=\"CCP_securities\",\"CCP-securities\",IF('FMI Template'!H378=\"PS_Retail\",\"PS\",IF('FMI Template'!H378=\"PS_LV\",\"PS\",'FMI Template'!H378))))),\"\")","v":""},{"$f":"IF(AND('FMI Template'!I378<>\"\", 'FMI Template'!I378<>\"UA\"),'FMI Template'!I378,\"\")","v":""},{"$f":"IF(AND('FMI Template'!J378<>\"\",'FMI Template'!J378<>\"UA\"),IF('FMI Template'!J378=\"CSD_SSS\",\"CSD-SSS\",IF('FMI Template'!J378=\"CCP_Derivatives\",\"CCP-Derivatives\",IF('FMI Template'!J378=\"CCP_securities\",\"CCP-securities\",IF('FMI Template'!J378=\"Trading_venue\",\"Trading-venue\",'FMI Template'!J378)))),\"\")","v":""},{"$f":"IF(AND('FMI Template'!K378<>\"\",'FMI Template'!K378<>\"UA\"),'FMI Template'!K378,\"\")","v":""},{"$f":"IF('FMI Template'!K378=\"direct\",\"NA\",IF(AND('FMI Template'!M378<>\"\",'FMI Template'!M378<>\"UA\"),'FMI Template'!M378,\"\"))","v":""},{"$f":"IF('FMI Template'!K378=\"direct\",\"NA\",IF(AND('FMI Template'!N378<>\"\",'FMI Template'!N378<>\"UA\"),'FMI Template'!N378,\"\"))","v":""},{"$f":"IF(OR('FMI Template'!H378=\"Other\",'FMI Template'!H378=\"NA\"),'FMI Template'!Q378,\"\")","v":""},{"$f":"IF(AND('FMI Template'!O378<>\"\",'FMI Template'!O378<>\"NA\",'FMI Template'!O378<>\"UA\"),'FMI Template'!O378,\"\")","v":""}]
[null,{"$f":"IF(AND('FMI Template'!B379<>\"\",'FMI Template'!B379<>\"NA\",'FMI Template'!B379<>\"UA\"),'FMI Template'!B379,\"\")","v":""},{"$f":"IF(AND('FMI Template'!C379<>\"\",'FMI Template'!C379<>\"NA\",'FMI Template'!C379<>\"UA\"),'FMI Template'!C379,\"\")","v":""},{"$f":"IF(AND('FMI Template'!D379<>\"\",'FMI Template'!D379<>\"NA\",'FMI Template'!D379<>\"UA\"),'FMI Template'!D379,\"\")","v":""},{"$f":"IF(AND('FMI Template'!F379<>\"\",'FMI Template'!F379<>\"NA\",'FMI Template'!F379<>\"UA\"),'FMI Template'!F379,\"\")","v":""},{"$f":"IF(AND('FMI Template'!H379<>\"\", 'FMI Template'!H379<>\"UA\"),IF('FMI Template'!H379=\"CSD\",\"(I)CSD\",IF('FMI Template'!H379=\"CCP_Derivatives\",\"CCP-Derivatives\",IF('FMI Template'!H379=\"CCP_securities\",\"CCP-securities\",IF('FMI Template'!H379=\"PS_Retail\",\"PS\",IF('FMI Template'!H379=\"PS_LV\",\"PS\",'FMI Template'!H379))))),\"\")","v":""},{"$f":"IF(AND('FMI Template'!I379<>\"\", 'FMI Template'!I379<>\"UA\"),'FMI Template'!I379,\"\")","v":""},{"$f":"IF(AND('FMI Template'!J379<>\"\",'FMI Template'!J379<>\"UA\"),IF('FMI Template'!J379=\"CSD_SSS\",\"CSD-SSS\",IF('FMI Template'!J379=\"CCP_Derivatives\",\"CCP-Derivatives\",IF('FMI Template'!J379=\"CCP_securities\",\"CCP-securities\",IF('FMI Template'!J379=\"Trading_venue\",\"Trading-venue\",'FMI Template'!J379)))),\"\")","v":""},{"$f":"IF(AND('FMI Template'!K379<>\"\",'FMI Template'!K379<>\"UA\"),'FMI Template'!K379,\"\")","v":""},{"$f":"IF('FMI Template'!K379=\"direct\",\"NA\",IF(AND('FMI Template'!M379<>\"\",'FMI Template'!M379<>\"UA\"),'FMI Template'!M379,\"\"))","v":""},{"$f":"IF('FMI Template'!K379=\"direct\",\"NA\",IF(AND('FMI Template'!N379<>\"\",'FMI Template'!N379<>\"UA\"),'FMI Template'!N379,\"\"))","v":""},{"$f":"IF(OR('FMI Template'!H379=\"Other\",'FMI Template'!H379=\"NA\"),'FMI Template'!Q379,\"\")","v":""},{"$f":"IF(AND('FMI Template'!O379<>\"\",'FMI Template'!O379<>\"NA\",'FMI Template'!O379<>\"UA\"),'FMI Template'!O379,\"\")","v":""}]
[null,{"$f":"IF(AND('FMI Template'!B380<>\"\",'FMI Template'!B380<>\"NA\",'FMI Template'!B380<>\"UA\"),'FMI Template'!B380,\"\")","v":""},{"$f":"IF(AND('FMI Template'!C380<>\"\",'FMI Template'!C380<>\"NA\",'FMI Template'!C380<>\"UA\"),'FMI Template'!C380,\"\")","v":""},{"$f":"IF(AND('FMI Template'!D380<>\"\",'FMI Template'!D380<>\"NA\",'FMI Template'!D380<>\"UA\"),'FMI Template'!D380,\"\")","v":""},{"$f":"IF(AND('FMI Template'!F380<>\"\",'FMI Template'!F380<>\"NA\",'FMI Template'!F380<>\"UA\"),'FMI Template'!F380,\"\")","v":""},{"$f":"IF(AND('FMI Template'!H380<>\"\", 'FMI Template'!H380<>\"UA\"),IF('FMI Template'!H380=\"CSD\",\"(I)CSD\",IF('FMI Template'!H380=\"CCP_Derivatives\",\"CCP-Derivatives\",IF('FMI Template'!H380=\"CCP_securities\",\"CCP-securities\",IF('FMI Template'!H380=\"PS_Retail\",\"PS\",IF('FMI Template'!H380=\"PS_LV\",\"PS\",'FMI Template'!H380))))),\"\")","v":""},{"$f":"IF(AND('FMI Template'!I380<>\"\", 'FMI Template'!I380<>\"UA\"),'FMI Template'!I380,\"\")","v":""},{"$f":"IF(AND('FMI Template'!J380<>\"\",'FMI Template'!J380<>\"UA\"),IF('FMI Template'!J380=\"CSD_SSS\",\"CSD-SSS\",IF('FMI Template'!J380=\"CCP_Derivatives\",\"CCP-Derivatives\",IF('FMI Template'!J380=\"CCP_securities\",\"CCP-securities\",IF('FMI Template'!J380=\"Trading_venue\",\"Trading-venue\",'FMI Template'!J380)))),\"\")","v":""},{"$f":"IF(AND('FMI Template'!K380<>\"\",'FMI Template'!K380<>\"UA\"),'FMI Template'!K380,\"\")","v":""},{"$f":"IF('FMI Template'!K380=\"direct\",\"NA\",IF(AND('FMI Template'!M380<>\"\",'FMI Template'!M380<>\"UA\"),'FMI Template'!M380,\"\"))","v":""},{"$f":"IF('FMI Template'!K380=\"direct\",\"NA\",IF(AND('FMI Template'!N380<>\"\",'FMI Template'!N380<>\"UA\"),'FMI Template'!N380,\"\"))","v":""},{"$f":"IF(OR('FMI Template'!H380=\"Other\",'FMI Template'!H380=\"NA\"),'FMI Template'!Q380,\"\")","v":""},{"$f":"IF(AND('FMI Template'!O380<>\"\",'FMI Template'!O380<>\"NA\",'FMI Template'!O380<>\"UA\"),'FMI Template'!O380,\"\")","v":""}]
[null,{"$f":"IF(AND('FMI Template'!B381<>\"\",'FMI Template'!B381<>\"NA\",'FMI Template'!B381<>\"UA\"),'FMI Template'!B381,\"\")","v":""},{"$f":"IF(AND('FMI Template'!C381<>\"\",'FMI Template'!C381<>\"NA\",'FMI Template'!C381<>\"UA\"),'FMI Template'!C381,\"\")","v":""},{"$f":"IF(AND('FMI Template'!D381<>\"\",'FMI Template'!D381<>\"NA\",'FMI Template'!D381<>\"UA\"),'FMI Template'!D381,\"\")","v":""},{"$f":"IF(AND('FMI Template'!F381<>\"\",'FMI Template'!F381<>\"NA\",'FMI Template'!F381<>\"UA\"),'FMI Template'!F381,\"\")","v":""},{"$f":"IF(AND('FMI Template'!H381<>\"\", 'FMI Template'!H381<>\"UA\"),IF('FMI Template'!H381=\"CSD\",\"(I)CSD\",IF('FMI Template'!H381=\"CCP_Derivatives\",\"CCP-Derivatives\",IF('FMI Template'!H381=\"CCP_securities\",\"CCP-securities\",IF('FMI Template'!H381=\"PS_Retail\",\"PS\",IF('FMI Template'!H381=\"PS_LV\",\"PS\",'FMI Template'!H381))))),\"\")","v":""},{"$f":"IF(AND('FMI Template'!I381<>\"\", 'FMI Template'!I381<>\"UA\"),'FMI Template'!I381,\"\")","v":""},{"$f":"IF(AND('FMI Template'!J381<>\"\",'FMI Template'!J381<>\"UA\"),IF('FMI Template'!J381=\"CSD_SSS\",\"CSD-SSS\",IF('FMI Template'!J381=\"CCP_Derivatives\",\"CCP-Derivatives\",IF('FMI Template'!J381=\"CCP_securities\",\"CCP-securities\",IF('FMI Template'!J381=\"Trading_venue\",\"Trading-venue\",'FMI Template'!J381)))),\"\")","v":""},{"$f":"IF(AND('FMI Template'!K381<>\"\",'FMI Template'!K381<>\"UA\"),'FMI Template'!K381,\"\")","v":""},{"$f":"IF('FMI Template'!K381=\"direct\",\"NA\",IF(AND('FMI Template'!M381<>\"\",'FMI Template'!M381<>\"UA\"),'FMI Template'!M381,\"\"))","v":""},{"$f":"IF('FMI Template'!K381=\"direct\",\"NA\",IF(AND('FMI Template'!N381<>\"\",'FMI Template'!N381<>\"UA\"),'FMI Template'!N381,\"\"))","v":""},{"$f":"IF(OR('FMI Template'!H381=\"Other\",'FMI Template'!H381=\"NA\"),'FMI Template'!Q381,\"\")","v":""},{"$f":"IF(AND('FMI Template'!O381<>\"\",'FMI Template'!O381<>\"NA\",'FMI Template'!O381<>\"UA\"),'FMI Template'!O381,\"\")","v":""}]
[null,{"$f":"IF(AND('FMI Template'!B382<>\"\",'FMI Template'!B382<>\"NA\",'FMI Template'!B382<>\"UA\"),'FMI Template'!B382,\"\")","v":""},{"$f":"IF(AND('FMI Template'!C382<>\"\",'FMI Template'!C382<>\"NA\",'FMI Template'!C382<>\"UA\"),'FMI Template'!C382,\"\")","v":""},{"$f":"IF(AND('FMI Template'!D382<>\"\",'FMI Template'!D382<>\"NA\",'FMI Template'!D382<>\"UA\"),'FMI Template'!D382,\"\")","v":""},{"$f":"IF(AND('FMI Template'!F382<>\"\",'FMI Template'!F382<>\"NA\",'FMI Template'!F382<>\"UA\"),'FMI Template'!F382,\"\")","v":""},{"$f":"IF(AND('FMI Template'!H382<>\"\", 'FMI Template'!H382<>\"UA\"),IF('FMI Template'!H382=\"CSD\",\"(I)CSD\",IF('FMI Template'!H382=\"CCP_Derivatives\",\"CCP-Derivatives\",IF('FMI Template'!H382=\"CCP_securities\",\"CCP-securities\",IF('FMI Template'!H382=\"PS_Retail\",\"PS\",IF('FMI Template'!H382=\"PS_LV\",\"PS\",'FMI Template'!H382))))),\"\")","v":""},{"$f":"IF(AND('FMI Template'!I382<>\"\", 'FMI Template'!I382<>\"UA\"),'FMI Template'!I382,\"\")","v":""},{"$f":"IF(AND('FMI Template'!J382<>\"\",'FMI Template'!J382<>\"UA\"),IF('FMI Template'!J382=\"CSD_SSS\",\"CSD-SSS\",IF('FMI Template'!J382=\"CCP_Derivatives\",\"CCP-Derivatives\",IF('FMI Template'!J382=\"CCP_securities\",\"CCP-securities\",IF('FMI Template'!J382=\"Trading_venue\",\"Trading-venue\",'FMI Template'!J382)))),\"\")","v":""},{"$f":"IF(AND('FMI Template'!K382<>\"\",'FMI Template'!K382<>\"UA\"),'FMI Template'!K382,\"\")","v":""},{"$f":"IF('FMI Template'!K382=\"direct\",\"NA\",IF(AND('FMI Template'!M382<>\"\",'FMI Template'!M382<>\"UA\"),'FMI Template'!M382,\"\"))","v":""},{"$f":"IF('FMI Template'!K382=\"direct\",\"NA\",IF(AND('FMI Template'!N382<>\"\",'FMI Template'!N382<>\"UA\"),'FMI Template'!N382,\"\"))","v":""},{"$f":"IF(OR('FMI Template'!H382=\"Other\",'FMI Template'!H382=\"NA\"),'FMI Template'!Q382,\"\")","v":""},{"$f":"IF(AND('FMI Template'!O382<>\"\",'FMI Template'!O382<>\"NA\",'FMI Template'!O382<>\"UA\"),'FMI Template'!O382,\"\")","v":""}]
[null,{"$f":"IF(AND('FMI Template'!B383<>\"\",'FMI Template'!B383<>\"NA\",'FMI Template'!B383<>\"UA\"),'FMI Template'!B383,\"\")","v":""},{"$f":"IF(AND('FMI Template'!C383<>\"\",'FMI Template'!C383<>\"NA\",'FMI Template'!C383<>\"UA\"),'FMI Template'!C383,\"\")","v":""},{"$f":"IF(AND('FMI Template'!D383<>\"\",'FMI Template'!D383<>\"NA\",'FMI Template'!D383<>\"UA\"),'FMI Template'!D383,\"\")","v":""},{"$f":"IF(AND('FMI Template'!F383<>\"\",'FMI Template'!F383<>\"NA\",'FMI Template'!F383<>\"UA\"),'FMI Template'!F383,\"\")","v":""},{"$f":"IF(AND('FMI Template'!H383<>\"\", 'FMI Template'!H383<>\"UA\"),IF('FMI Template'!H383=\"CSD\",\"(I)CSD\",IF('FMI Template'!H383=\"CCP_Derivatives\",\"CCP-Derivatives\",IF('FMI Template'!H383=\"CCP_securities\",\"CCP-securities\",IF('FMI Template'!H383=\"PS_Retail\",\"PS\",IF('FMI Template'!H383=\"PS_LV\",\"PS\",'FMI Template'!H383))))),\"\")","v":""},{"$f":"IF(AND('FMI Template'!I383<>\"\", 'FMI Template'!I383<>\"UA\"),'FMI Template'!I383,\"\")","v":""},{"$f":"IF(AND('FMI Template'!J383<>\"\",'FMI Template'!J383<>\"UA\"),IF('FMI Template'!J383=\"CSD_SSS\",\"CSD-SSS\",IF('FMI Template'!J383=\"CCP_Derivatives\",\"CCP-Derivatives\",IF('FMI Template'!J383=\"CCP_securities\",\"CCP-securities\",IF('FMI Template'!J383=\"Trading_venue\",\"Trading-venue\",'FMI Template'!J383)))),\"\")","v":""},{"$f":"IF(AND('FMI Template'!K383<>\"\",'FMI Template'!K383<>\"UA\"),'FMI Template'!K383,\"\")","v":""},{"$f":"IF('FMI Template'!K383=\"direct\",\"NA\",IF(AND('FMI Template'!M383<>\"\",'FMI Template'!M383<>\"UA\"),'FMI Template'!M383,\"\"))","v":""},{"$f":"IF('FMI Template'!K383=\"direct\",\"NA\",IF(AND('FMI Template'!N383<>\"\",'FMI Template'!N383<>\"UA\"),'FMI Template'!N383,\"\"))","v":""},{"$f":"IF(OR('FMI Template'!H383=\"Other\",'FMI Template'!H383=\"NA\"),'FMI Template'!Q383,\"\")","v":""},{"$f":"IF(AND('FMI Template'!O383<>\"\",'FMI Template'!O383<>\"NA\",'FMI Template'!O383<>\"UA\"),'FMI Template'!O383,\"\")","v":""}]
[null,{"$f":"IF(AND('FMI Template'!B384<>\"\",'FMI Template'!B384<>\"NA\",'FMI Template'!B384<>\"UA\"),'FMI Template'!B384,\"\")","v":""},{"$f":"IF(AND('FMI Template'!C384<>\"\",'FMI Template'!C384<>\"NA\",'FMI Template'!C384<>\"UA\"),'FMI Template'!C384,\"\")","v":""},{"$f":"IF(AND('FMI Template'!D384<>\"\",'FMI Template'!D384<>\"NA\",'FMI Template'!D384<>\"UA\"),'FMI Template'!D384,\"\")","v":""},{"$f":"IF(AND('FMI Template'!F384<>\"\",'FMI Template'!F384<>\"NA\",'FMI Template'!F384<>\"UA\"),'FMI Template'!F384,\"\")","v":""},{"$f":"IF(AND('FMI Template'!H384<>\"\", 'FMI Template'!H384<>\"UA\"),IF('FMI Template'!H384=\"CSD\",\"(I)CSD\",IF('FMI Template'!H384=\"CCP_Derivatives\",\"CCP-Derivatives\",IF('FMI Template'!H384=\"CCP_securities\",\"CCP-securities\",IF('FMI Template'!H384=\"PS_Retail\",\"PS\",IF('FMI Template'!H384=\"PS_LV\",\"PS\",'FMI Template'!H384))))),\"\")","v":""},{"$f":"IF(AND('FMI Template'!I384<>\"\", 'FMI Template'!I384<>\"UA\"),'FMI Template'!I384,\"\")","v":""},{"$f":"IF(AND('FMI Template'!J384<>\"\",'FMI Template'!J384<>\"UA\"),IF('FMI Template'!J384=\"CSD_SSS\",\"CSD-SSS\",IF('FMI Template'!J384=\"CCP_Derivatives\",\"CCP-Derivatives\",IF('FMI Template'!J384=\"CCP_securities\",\"CCP-securities\",IF('FMI Template'!J384=\"Trading_venue\",\"Trading-venue\",'FMI Template'!J384)))),\"\")","v":""},{"$f":"IF(AND('FMI Template'!K384<>\"\",'FMI Template'!K384<>\"UA\"),'FMI Template'!K384,\"\")","v":""},{"$f":"IF('FMI Template'!K384=\"direct\",\"NA\",IF(AND('FMI Template'!M384<>\"\",'FMI Template'!M384<>\"UA\"),'FMI Template'!M384,\"\"))","v":""},{"$f":"IF('FMI Template'!K384=\"direct\",\"NA\",IF(AND('FMI Template'!N384<>\"\",'FMI Template'!N384<>\"UA\"),'FMI Template'!N384,\"\"))","v":""},{"$f":"IF(OR('FMI Template'!H384=\"Other\",'FMI Template'!H384=\"NA\"),'FMI Template'!Q384,\"\")","v":""},{"$f":"IF(AND('FMI Template'!O384<>\"\",'FMI Template'!O384<>\"NA\",'FMI Template'!O384<>\"UA\"),'FMI Template'!O384,\"\")","v":""}]
[null,{"$f":"IF(AND('FMI Template'!B385<>\"\",'FMI Template'!B385<>\"NA\",'FMI Template'!B385<>\"UA\"),'FMI Template'!B385,\"\")","v":""},{"$f":"IF(AND('FMI Template'!C385<>\"\",'FMI Template'!C385<>\"NA\",'FMI Template'!C385<>\"UA\"),'FMI Template'!C385,\"\")","v":""},{"$f":"IF(AND('FMI Template'!D385<>\"\",'FMI Template'!D385<>\"NA\",'FMI Template'!D385<>\"UA\"),'FMI Template'!D385,\"\")","v":""},{"$f":"IF(AND('FMI Template'!F385<>\"\",'FMI Template'!F385<>\"NA\",'FMI Template'!F385<>\"UA\"),'FMI Template'!F385,\"\")","v":""},{"$f":"IF(AND('FMI Template'!H385<>\"\", 'FMI Template'!H385<>\"UA\"),IF('FMI Template'!H385=\"CSD\",\"(I)CSD\",IF('FMI Template'!H385=\"CCP_Derivatives\",\"CCP-Derivatives\",IF('FMI Template'!H385=\"CCP_securities\",\"CCP-securities\",IF('FMI Template'!H385=\"PS_Retail\",\"PS\",IF('FMI Template'!H385=\"PS_LV\",\"PS\",'FMI Template'!H385))))),\"\")","v":""},{"$f":"IF(AND('FMI Template'!I385<>\"\", 'FMI Template'!I385<>\"UA\"),'FMI Template'!I385,\"\")","v":""},{"$f":"IF(AND('FMI Template'!J385<>\"\",'FMI Template'!J385<>\"UA\"),IF('FMI Template'!J385=\"CSD_SSS\",\"CSD-SSS\",IF('FMI Template'!J385=\"CCP_Derivatives\",\"CCP-Derivatives\",IF('FMI Template'!J385=\"CCP_securities\",\"CCP-securities\",IF('FMI Template'!J385=\"Trading_venue\",\"Trading-venue\",'FMI Template'!J385)))),\"\")","v":""},{"$f":"IF(AND('FMI Template'!K385<>\"\",'FMI Template'!K385<>\"UA\"),'FMI Template'!K385,\"\")","v":""},{"$f":"IF('FMI Template'!K385=\"direct\",\"NA\",IF(AND('FMI Template'!M385<>\"\",'FMI Template'!M385<>\"UA\"),'FMI Template'!M385,\"\"))","v":""},{"$f":"IF('FMI Template'!K385=\"direct\",\"NA\",IF(AND('FMI Template'!N385<>\"\",'FMI Template'!N385<>\"UA\"),'FMI Template'!N385,\"\"))","v":""},{"$f":"IF(OR('FMI Template'!H385=\"Other\",'FMI Template'!H385=\"NA\"),'FMI Template'!Q385,\"\")","v":""},{"$f":"IF(AND('FMI Template'!O385<>\"\",'FMI Template'!O385<>\"NA\",'FMI Template'!O385<>\"UA\"),'FMI Template'!O385,\"\")","v":""}]
[null,{"$f":"IF(AND('FMI Template'!B386<>\"\",'FMI Template'!B386<>\"NA\",'FMI Template'!B386<>\"UA\"),'FMI Template'!B386,\"\")","v":""},{"$f":"IF(AND('FMI Template'!C386<>\"\",'FMI Template'!C386<>\"NA\",'FMI Template'!C386<>\"UA\"),'FMI Template'!C386,\"\")","v":""},{"$f":"IF(AND('FMI Template'!D386<>\"\",'FMI Template'!D386<>\"NA\",'FMI Template'!D386<>\"UA\"),'FMI Template'!D386,\"\")","v":""},{"$f":"IF(AND('FMI Template'!F386<>\"\",'FMI Template'!F386<>\"NA\",'FMI Template'!F386<>\"UA\"),'FMI Template'!F386,\"\")","v":""},{"$f":"IF(AND('FMI Template'!H386<>\"\", 'FMI Template'!H386<>\"UA\"),IF('FMI Template'!H386=\"CSD\",\"(I)CSD\",IF('FMI Template'!H386=\"CCP_Derivatives\",\"CCP-Derivatives\",IF('FMI Template'!H386=\"CCP_securities\",\"CCP-securities\",IF('FMI Template'!H386=\"PS_Retail\",\"PS\",IF('FMI Template'!H386=\"PS_LV\",\"PS\",'FMI Template'!H386))))),\"\")","v":""},{"$f":"IF(AND('FMI Template'!I386<>\"\", 'FMI Template'!I386<>\"UA\"),'FMI Template'!I386,\"\")","v":""},{"$f":"IF(AND('FMI Template'!J386<>\"\",'FMI Template'!J386<>\"UA\"),IF('FMI Template'!J386=\"CSD_SSS\",\"CSD-SSS\",IF('FMI Template'!J386=\"CCP_Derivatives\",\"CCP-Derivatives\",IF('FMI Template'!J386=\"CCP_securities\",\"CCP-securities\",IF('FMI Template'!J386=\"Trading_venue\",\"Trading-venue\",'FMI Template'!J386)))),\"\")","v":""},{"$f":"IF(AND('FMI Template'!K386<>\"\",'FMI Template'!K386<>\"UA\"),'FMI Template'!K386,\"\")","v":""},{"$f":"IF('FMI Template'!K386=\"direct\",\"NA\",IF(AND('FMI Template'!M386<>\"\",'FMI Template'!M386<>\"UA\"),'FMI Template'!M386,\"\"))","v":""},{"$f":"IF('FMI Template'!K386=\"direct\",\"NA\",IF(AND('FMI Template'!N386<>\"\",'FMI Template'!N386<>\"UA\"),'FMI Template'!N386,\"\"))","v":""},{"$f":"IF(OR('FMI Template'!H386=\"Other\",'FMI Template'!H386=\"NA\"),'FMI Template'!Q386,\"\")","v":""},{"$f":"IF(AND('FMI Template'!O386<>\"\",'FMI Template'!O386<>\"NA\",'FMI Template'!O386<>\"UA\"),'FMI Template'!O386,\"\")","v":""}]
[null,{"$f":"IF(AND('FMI Template'!B387<>\"\",'FMI Template'!B387<>\"NA\",'FMI Template'!B387<>\"UA\"),'FMI Template'!B387,\"\")","v":""},{"$f":"IF(AND('FMI Template'!C387<>\"\",'FMI Template'!C387<>\"NA\",'FMI Template'!C387<>\"UA\"),'FMI Template'!C387,\"\")","v":""},{"$f":"IF(AND('FMI Template'!D387<>\"\",'FMI Template'!D387<>\"NA\",'FMI Template'!D387<>\"UA\"),'FMI Template'!D387,\"\")","v":""},{"$f":"IF(AND('FMI Template'!F387<>\"\",'FMI Template'!F387<>\"NA\",'FMI Template'!F387<>\"UA\"),'FMI Template'!F387,\"\")","v":""},{"$f":"IF(AND('FMI Template'!H387<>\"\", 'FMI Template'!H387<>\"UA\"),IF('FMI Template'!H387=\"CSD\",\"(I)CSD\",IF('FMI Template'!H387=\"CCP_Derivatives\",\"CCP-Derivatives\",IF('FMI Template'!H387=\"CCP_securities\",\"CCP-securities\",IF('FMI Template'!H387=\"PS_Retail\",\"PS\",IF('FMI Template'!H387=\"PS_LV\",\"PS\",'FMI Template'!H387))))),\"\")","v":""},{"$f":"IF(AND('FMI Template'!I387<>\"\", 'FMI Template'!I387<>\"UA\"),'FMI Template'!I387,\"\")","v":""},{"$f":"IF(AND('FMI Template'!J387<>\"\",'FMI Template'!J387<>\"UA\"),IF('FMI Template'!J387=\"CSD_SSS\",\"CSD-SSS\",IF('FMI Template'!J387=\"CCP_Derivatives\",\"CCP-Derivatives\",IF('FMI Template'!J387=\"CCP_securities\",\"CCP-securities\",IF('FMI Template'!J387=\"Trading_venue\",\"Trading-venue\",'FMI Template'!J387)))),\"\")","v":""},{"$f":"IF(AND('FMI Template'!K387<>\"\",'FMI Template'!K387<>\"UA\"),'FMI Template'!K387,\"\")","v":""},{"$f":"IF('FMI Template'!K387=\"direct\",\"NA\",IF(AND('FMI Template'!M387<>\"\",'FMI Template'!M387<>\"UA\"),'FMI Template'!M387,\"\"))","v":""},{"$f":"IF('FMI Template'!K387=\"direct\",\"NA\",IF(AND('FMI Template'!N387<>\"\",'FMI Template'!N387<>\"UA\"),'FMI Template'!N387,\"\"))","v":""},{"$f":"IF(OR('FMI Template'!H387=\"Other\",'FMI Template'!H387=\"NA\"),'FMI Template'!Q387,\"\")","v":""},{"$f":"IF(AND('FMI Template'!O387<>\"\",'FMI Template'!O387<>\"NA\",'FMI Template'!O387<>\"UA\"),'FMI Template'!O387,\"\")","v":""}]
[null,{"$f":"IF(AND('FMI Template'!B388<>\"\",'FMI Template'!B388<>\"NA\",'FMI Template'!B388<>\"UA\"),'FMI Template'!B388,\"\")","v":""},{"$f":"IF(AND('FMI Template'!C388<>\"\",'FMI Template'!C388<>\"NA\",'FMI Template'!C388<>\"UA\"),'FMI Template'!C388,\"\")","v":""},{"$f":"IF(AND('FMI Template'!D388<>\"\",'FMI Template'!D388<>\"NA\",'FMI Template'!D388<>\"UA\"),'FMI Template'!D388,\"\")","v":""},{"$f":"IF(AND('FMI Template'!F388<>\"\",'FMI Template'!F388<>\"NA\",'FMI Template'!F388<>\"UA\"),'FMI Template'!F388,\"\")","v":""},{"$f":"IF(AND('FMI Template'!H388<>\"\", 'FMI Template'!H388<>\"UA\"),IF('FMI Template'!H388=\"CSD\",\"(I)CSD\",IF('FMI Template'!H388=\"CCP_Derivatives\",\"CCP-Derivatives\",IF('FMI Template'!H388=\"CCP_securities\",\"CCP-securities\",IF('FMI Template'!H388=\"PS_Retail\",\"PS\",IF('FMI Template'!H388=\"PS_LV\",\"PS\",'FMI Template'!H388))))),\"\")","v":""},{"$f":"IF(AND('FMI Template'!I388<>\"\", 'FMI Template'!I388<>\"UA\"),'FMI Template'!I388,\"\")","v":""},{"$f":"IF(AND('FMI Template'!J388<>\"\",'FMI Template'!J388<>\"UA\"),IF('FMI Template'!J388=\"CSD_SSS\",\"CSD-SSS\",IF('FMI Template'!J388=\"CCP_Derivatives\",\"CCP-Derivatives\",IF('FMI Template'!J388=\"CCP_securities\",\"CCP-securities\",IF('FMI Template'!J388=\"Trading_venue\",\"Trading-venue\",'FMI Template'!J388)))),\"\")","v":""},{"$f":"IF(AND('FMI Template'!K388<>\"\",'FMI Template'!K388<>\"UA\"),'FMI Template'!K388,\"\")","v":""},{"$f":"IF('FMI Template'!K388=\"direct\",\"NA\",IF(AND('FMI Template'!M388<>\"\",'FMI Template'!M388<>\"UA\"),'FMI Template'!M388,\"\"))","v":""},{"$f":"IF('FMI Template'!K388=\"direct\",\"NA\",IF(AND('FMI Template'!N388<>\"\",'FMI Template'!N388<>\"UA\"),'FMI Template'!N388,\"\"))","v":""},{"$f":"IF(OR('FMI Template'!H388=\"Other\",'FMI Template'!H388=\"NA\"),'FMI Template'!Q388,\"\")","v":""},{"$f":"IF(AND('FMI Template'!O388<>\"\",'FMI Template'!O388<>\"NA\",'FMI Template'!O388<>\"UA\"),'FMI Template'!O388,\"\")","v":""}]
[null,{"$f":"IF(AND('FMI Template'!B389<>\"\",'FMI Template'!B389<>\"NA\",'FMI Template'!B389<>\"UA\"),'FMI Template'!B389,\"\")","v":""},{"$f":"IF(AND('FMI Template'!C389<>\"\",'FMI Template'!C389<>\"NA\",'FMI Template'!C389<>\"UA\"),'FMI Template'!C389,\"\")","v":""},{"$f":"IF(AND('FMI Template'!D389<>\"\",'FMI Template'!D389<>\"NA\",'FMI Template'!D389<>\"UA\"),'FMI Template'!D389,\"\")","v":""},{"$f":"IF(AND('FMI Template'!F389<>\"\",'FMI Template'!F389<>\"NA\",'FMI Template'!F389<>\"UA\"),'FMI Template'!F389,\"\")","v":""},{"$f":"IF(AND('FMI Template'!H389<>\"\", 'FMI Template'!H389<>\"UA\"),IF('FMI Template'!H389=\"CSD\",\"(I)CSD\",IF('FMI Template'!H389=\"CCP_Derivatives\",\"CCP-Derivatives\",IF('FMI Template'!H389=\"CCP_securities\",\"CCP-securities\",IF('FMI Template'!H389=\"PS_Retail\",\"PS\",IF('FMI Template'!H389=\"PS_LV\",\"PS\",'FMI Template'!H389))))),\"\")","v":""},{"$f":"IF(AND('FMI Template'!I389<>\"\", 'FMI Template'!I389<>\"UA\"),'FMI Template'!I389,\"\")","v":""},{"$f":"IF(AND('FMI Template'!J389<>\"\",'FMI Template'!J389<>\"UA\"),IF('FMI Template'!J389=\"CSD_SSS\",\"CSD-SSS\",IF('FMI Template'!J389=\"CCP_Derivatives\",\"CCP-Derivatives\",IF('FMI Template'!J389=\"CCP_securities\",\"CCP-securities\",IF('FMI Template'!J389=\"Trading_venue\",\"Trading-venue\",'FMI Template'!J389)))),\"\")","v":""},{"$f":"IF(AND('FMI Template'!K389<>\"\",'FMI Template'!K389<>\"UA\"),'FMI Template'!K389,\"\")","v":""},{"$f":"IF('FMI Template'!K389=\"direct\",\"NA\",IF(AND('FMI Template'!M389<>\"\",'FMI Template'!M389<>\"UA\"),'FMI Template'!M389,\"\"))","v":""},{"$f":"IF('FMI Template'!K389=\"direct\",\"NA\",IF(AND('FMI Template'!N389<>\"\",'FMI Template'!N389<>\"UA\"),'FMI Template'!N389,\"\"))","v":""},{"$f":"IF(OR('FMI Template'!H389=\"Other\",'FMI Template'!H389=\"NA\"),'FMI Template'!Q389,\"\")","v":""},{"$f":"IF(AND('FMI Template'!O389<>\"\",'FMI Template'!O389<>\"NA\",'FMI Template'!O389<>\"UA\"),'FMI Template'!O389,\"\")","v":""}]
[null,{"$f":"IF(AND('FMI Template'!B390<>\"\",'FMI Template'!B390<>\"NA\",'FMI Template'!B390<>\"UA\"),'FMI Template'!B390,\"\")","v":""},{"$f":"IF(AND('FMI Template'!C390<>\"\",'FMI Template'!C390<>\"NA\",'FMI Template'!C390<>\"UA\"),'FMI Template'!C390,\"\")","v":""},{"$f":"IF(AND('FMI Template'!D390<>\"\",'FMI Template'!D390<>\"NA\",'FMI Template'!D390<>\"UA\"),'FMI Template'!D390,\"\")","v":""},{"$f":"IF(AND('FMI Template'!F390<>\"\",'FMI Template'!F390<>\"NA\",'FMI Template'!F390<>\"UA\"),'FMI Template'!F390,\"\")","v":""},{"$f":"IF(AND('FMI Template'!H390<>\"\", 'FMI Template'!H390<>\"UA\"),IF('FMI Template'!H390=\"CSD\",\"(I)CSD\",IF('FMI Template'!H390=\"CCP_Derivatives\",\"CCP-Derivatives\",IF('FMI Template'!H390=\"CCP_securities\",\"CCP-securities\",IF('FMI Template'!H390=\"PS_Retail\",\"PS\",IF('FMI Template'!H390=\"PS_LV\",\"PS\",'FMI Template'!H390))))),\"\")","v":""},{"$f":"IF(AND('FMI Template'!I390<>\"\", 'FMI Template'!I390<>\"UA\"),'FMI Template'!I390,\"\")","v":""},{"$f":"IF(AND('FMI Template'!J390<>\"\",'FMI Template'!J390<>\"UA\"),IF('FMI Template'!J390=\"CSD_SSS\",\"CSD-SSS\",IF('FMI Template'!J390=\"CCP_Derivatives\",\"CCP-Derivatives\",IF('FMI Template'!J390=\"CCP_securities\",\"CCP-securities\",IF('FMI Template'!J390=\"Trading_venue\",\"Trading-venue\",'FMI Template'!J390)))),\"\")","v":""},{"$f":"IF(AND('FMI Template'!K390<>\"\",'FMI Template'!K390<>\"UA\"),'FMI Template'!K390,\"\")","v":""},{"$f":"IF('FMI Template'!K390=\"direct\",\"NA\",IF(AND('FMI Template'!M390<>\"\",'FMI Template'!M390<>\"UA\"),'FMI Template'!M390,\"\"))","v":""},{"$f":"IF('FMI Template'!K390=\"direct\",\"NA\",IF(AND('FMI Template'!N390<>\"\",'FMI Template'!N390<>\"UA\"),'FMI Template'!N390,\"\"))","v":""},{"$f":"IF(OR('FMI Template'!H390=\"Other\",'FMI Template'!H390=\"NA\"),'FMI Template'!Q390,\"\")","v":""},{"$f":"IF(AND('FMI Template'!O390<>\"\",'FMI Template'!O390<>\"NA\",'FMI Template'!O390<>\"UA\"),'FMI Template'!O390,\"\")","v":""}]
[null,{"$f":"IF(AND('FMI Template'!B391<>\"\",'FMI Template'!B391<>\"NA\",'FMI Template'!B391<>\"UA\"),'FMI Template'!B391,\"\")","v":""},{"$f":"IF(AND('FMI Template'!C391<>\"\",'FMI Template'!C391<>\"NA\",'FMI Template'!C391<>\"UA\"),'FMI Template'!C391,\"\")","v":""},{"$f":"IF(AND('FMI Template'!D391<>\"\",'FMI Template'!D391<>\"NA\",'FMI Template'!D391<>\"UA\"),'FMI Template'!D391,\"\")","v":""},{"$f":"IF(AND('FMI Template'!F391<>\"\",'FMI Template'!F391<>\"NA\",'FMI Template'!F391<>\"UA\"),'FMI Template'!F391,\"\")","v":""},{"$f":"IF(AND('FMI Template'!H391<>\"\", 'FMI Template'!H391<>\"UA\"),IF('FMI Template'!H391=\"CSD\",\"(I)CSD\",IF('FMI Template'!H391=\"CCP_Derivatives\",\"CCP-Derivatives\",IF('FMI Template'!H391=\"CCP_securities\",\"CCP-securities\",IF('FMI Template'!H391=\"PS_Retail\",\"PS\",IF('FMI Template'!H391=\"PS_LV\",\"PS\",'FMI Template'!H391))))),\"\")","v":""},{"$f":"IF(AND('FMI Template'!I391<>\"\", 'FMI Template'!I391<>\"UA\"),'FMI Template'!I391,\"\")","v":""},{"$f":"IF(AND('FMI Template'!J391<>\"\",'FMI Template'!J391<>\"UA\"),IF('FMI Template'!J391=\"CSD_SSS\",\"CSD-SSS\",IF('FMI Template'!J391=\"CCP_Derivatives\",\"CCP-Derivatives\",IF('FMI Template'!J391=\"CCP_securities\",\"CCP-securities\",IF('FMI Template'!J391=\"Trading_venue\",\"Trading-venue\",'FMI Template'!J391)))),\"\")","v":""},{"$f":"IF(AND('FMI Template'!K391<>\"\",'FMI Template'!K391<>\"UA\"),'FMI Template'!K391,\"\")","v":""},{"$f":"IF('FMI Template'!K391=\"direct\",\"NA\",IF(AND('FMI Template'!M391<>\"\",'FMI Template'!M391<>\"UA\"),'FMI Template'!M391,\"\"))","v":""},{"$f":"IF('FMI Template'!K391=\"direct\",\"NA\",IF(AND('FMI Template'!N391<>\"\",'FMI Template'!N391<>\"UA\"),'FMI Template'!N391,\"\"))","v":""},{"$f":"IF(OR('FMI Template'!H391=\"Other\",'FMI Template'!H391=\"NA\"),'FMI Template'!Q391,\"\")","v":""},{"$f":"IF(AND('FMI Template'!O391<>\"\",'FMI Template'!O391<>\"NA\",'FMI Template'!O391<>\"UA\"),'FMI Template'!O391,\"\")","v":""}]
[null,{"$f":"IF(AND('FMI Template'!B392<>\"\",'FMI Template'!B392<>\"NA\",'FMI Template'!B392<>\"UA\"),'FMI Template'!B392,\"\")","v":""},{"$f":"IF(AND('FMI Template'!C392<>\"\",'FMI Template'!C392<>\"NA\",'FMI Template'!C392<>\"UA\"),'FMI Template'!C392,\"\")","v":""},{"$f":"IF(AND('FMI Template'!D392<>\"\",'FMI Template'!D392<>\"NA\",'FMI Template'!D392<>\"UA\"),'FMI Template'!D392,\"\")","v":""},{"$f":"IF(AND('FMI Template'!F392<>\"\",'FMI Template'!F392<>\"NA\",'FMI Template'!F392<>\"UA\"),'FMI Template'!F392,\"\")","v":""},{"$f":"IF(AND('FMI Template'!H392<>\"\", 'FMI Template'!H392<>\"UA\"),IF('FMI Template'!H392=\"CSD\",\"(I)CSD\",IF('FMI Template'!H392=\"CCP_Derivatives\",\"CCP-Derivatives\",IF('FMI Template'!H392=\"CCP_securities\",\"CCP-securities\",IF('FMI Template'!H392=\"PS_Retail\",\"PS\",IF('FMI Template'!H392=\"PS_LV\",\"PS\",'FMI Template'!H392))))),\"\")","v":""},{"$f":"IF(AND('FMI Template'!I392<>\"\", 'FMI Template'!I392<>\"UA\"),'FMI Template'!I392,\"\")","v":""},{"$f":"IF(AND('FMI Template'!J392<>\"\",'FMI Template'!J392<>\"UA\"),IF('FMI Template'!J392=\"CSD_SSS\",\"CSD-SSS\",IF('FMI Template'!J392=\"CCP_Derivatives\",\"CCP-Derivatives\",IF('FMI Template'!J392=\"CCP_securities\",\"CCP-securities\",IF('FMI Template'!J392=\"Trading_venue\",\"Trading-venue\",'FMI Template'!J392)))),\"\")","v":""},{"$f":"IF(AND('FMI Template'!K392<>\"\",'FMI Template'!K392<>\"UA\"),'FMI Template'!K392,\"\")","v":""},{"$f":"IF('FMI Template'!K392=\"direct\",\"NA\",IF(AND('FMI Template'!M392<>\"\",'FMI Template'!M392<>\"UA\"),'FMI Template'!M392,\"\"))","v":""},{"$f":"IF('FMI Template'!K392=\"direct\",\"NA\",IF(AND('FMI Template'!N392<>\"\",'FMI Template'!N392<>\"UA\"),'FMI Template'!N392,\"\"))","v":""},{"$f":"IF(OR('FMI Template'!H392=\"Other\",'FMI Template'!H392=\"NA\"),'FMI Template'!Q392,\"\")","v":""},{"$f":"IF(AND('FMI Template'!O392<>\"\",'FMI Template'!O392<>\"NA\",'FMI Template'!O392<>\"UA\"),'FMI Template'!O392,\"\")","v":""}]
[null,{"$f":"IF(AND('FMI Template'!B393<>\"\",'FMI Template'!B393<>\"NA\",'FMI Template'!B393<>\"UA\"),'FMI Template'!B393,\"\")","v":""},{"$f":"IF(AND('FMI Template'!C393<>\"\",'FMI Template'!C393<>\"NA\",'FMI Template'!C393<>\"UA\"),'FMI Template'!C393,\"\")","v":""},{"$f":"IF(AND('FMI Template'!D393<>\"\",'FMI Template'!D393<>\"NA\",'FMI Template'!D393<>\"UA\"),'FMI Template'!D393,\"\")","v":""},{"$f":"IF(AND('FMI Template'!F393<>\"\",'FMI Template'!F393<>\"NA\",'FMI Template'!F393<>\"UA\"),'FMI Template'!F393,\"\")","v":""},{"$f":"IF(AND('FMI Template'!H393<>\"\", 'FMI Template'!H393<>\"UA\"),IF('FMI Template'!H393=\"CSD\",\"(I)CSD\",IF('FMI Template'!H393=\"CCP_Derivatives\",\"CCP-Derivatives\",IF('FMI Template'!H393=\"CCP_securities\",\"CCP-securities\",IF('FMI Template'!H393=\"PS_Retail\",\"PS\",IF('FMI Template'!H393=\"PS_LV\",\"PS\",'FMI Template'!H393))))),\"\")","v":""},{"$f":"IF(AND('FMI Template'!I393<>\"\", 'FMI Template'!I393<>\"UA\"),'FMI Template'!I393,\"\")","v":""},{"$f":"IF(AND('FMI Template'!J393<>\"\",'FMI Template'!J393<>\"UA\"),IF('FMI Template'!J393=\"CSD_SSS\",\"CSD-SSS\",IF('FMI Template'!J393=\"CCP_Derivatives\",\"CCP-Derivatives\",IF('FMI Template'!J393=\"CCP_securities\",\"CCP-securities\",IF('FMI Template'!J393=\"Trading_venue\",\"Trading-venue\",'FMI Template'!J393)))),\"\")","v":""},{"$f":"IF(AND('FMI Template'!K393<>\"\",'FMI Template'!K393<>\"UA\"),'FMI Template'!K393,\"\")","v":""},{"$f":"IF('FMI Template'!K393=\"direct\",\"NA\",IF(AND('FMI Template'!M393<>\"\",'FMI Template'!M393<>\"UA\"),'FMI Template'!M393,\"\"))","v":""},{"$f":"IF('FMI Template'!K393=\"direct\",\"NA\",IF(AND('FMI Template'!N393<>\"\",'FMI Template'!N393<>\"UA\"),'FMI Template'!N393,\"\"))","v":""},{"$f":"IF(OR('FMI Template'!H393=\"Other\",'FMI Template'!H393=\"NA\"),'FMI Template'!Q393,\"\")","v":""},{"$f":"IF(AND('FMI Template'!O393<>\"\",'FMI Template'!O393<>\"NA\",'FMI Template'!O393<>\"UA\"),'FMI Template'!O393,\"\")","v":""}]
[null,{"$f":"IF(AND('FMI Template'!B394<>\"\",'FMI Template'!B394<>\"NA\",'FMI Template'!B394<>\"UA\"),'FMI Template'!B394,\"\")","v":""},{"$f":"IF(AND('FMI Template'!C394<>\"\",'FMI Template'!C394<>\"NA\",'FMI Template'!C394<>\"UA\"),'FMI Template'!C394,\"\")","v":""},{"$f":"IF(AND('FMI Template'!D394<>\"\",'FMI Template'!D394<>\"NA\",'FMI Template'!D394<>\"UA\"),'FMI Template'!D394,\"\")","v":""},{"$f":"IF(AND('FMI Template'!F394<>\"\",'FMI Template'!F394<>\"NA\",'FMI Template'!F394<>\"UA\"),'FMI Template'!F394,\"\")","v":""},{"$f":"IF(AND('FMI Template'!H394<>\"\", 'FMI Template'!H394<>\"UA\"),IF('FMI Template'!H394=\"CSD\",\"(I)CSD\",IF('FMI Template'!H394=\"CCP_Derivatives\",\"CCP-Derivatives\",IF('FMI Template'!H394=\"CCP_securities\",\"CCP-securities\",IF('FMI Template'!H394=\"PS_Retail\",\"PS\",IF('FMI Template'!H394=\"PS_LV\",\"PS\",'FMI Template'!H394))))),\"\")","v":""},{"$f":"IF(AND('FMI Template'!I394<>\"\", 'FMI Template'!I394<>\"UA\"),'FMI Template'!I394,\"\")","v":""},{"$f":"IF(AND('FMI Template'!J394<>\"\",'FMI Template'!J394<>\"UA\"),IF('FMI Template'!J394=\"CSD_SSS\",\"CSD-SSS\",IF('FMI Template'!J394=\"CCP_Derivatives\",\"CCP-Derivatives\",IF('FMI Template'!J394=\"CCP_securities\",\"CCP-securities\",IF('FMI Template'!J394=\"Trading_venue\",\"Trading-venue\",'FMI Template'!J394)))),\"\")","v":""},{"$f":"IF(AND('FMI Template'!K394<>\"\",'FMI Template'!K394<>\"UA\"),'FMI Template'!K394,\"\")","v":""},{"$f":"IF('FMI Template'!K394=\"direct\",\"NA\",IF(AND('FMI Template'!M394<>\"\",'FMI Template'!M394<>\"UA\"),'FMI Template'!M394,\"\"))","v":""},{"$f":"IF('FMI Template'!K394=\"direct\",\"NA\",IF(AND('FMI Template'!N394<>\"\",'FMI Template'!N394<>\"UA\"),'FMI Template'!N394,\"\"))","v":""},{"$f":"IF(OR('FMI Template'!H394=\"Other\",'FMI Template'!H394=\"NA\"),'FMI Template'!Q394,\"\")","v":""},{"$f":"IF(AND('FMI Template'!O394<>\"\",'FMI Template'!O394<>\"NA\",'FMI Template'!O394<>\"UA\"),'FMI Template'!O394,\"\")","v":""}]
[null,{"$f":"IF(AND('FMI Template'!B395<>\"\",'FMI Template'!B395<>\"NA\",'FMI Template'!B395<>\"UA\"),'FMI Template'!B395,\"\")","v":""},{"$f":"IF(AND('FMI Template'!C395<>\"\",'FMI Template'!C395<>\"NA\",'FMI Template'!C395<>\"UA\"),'FMI Template'!C395,\"\")","v":""},{"$f":"IF(AND('FMI Template'!D395<>\"\",'FMI Template'!D395<>\"NA\",'FMI Template'!D395<>\"UA\"),'FMI Template'!D395,\"\")","v":""},{"$f":"IF(AND('FMI Template'!F395<>\"\",'FMI Template'!F395<>\"NA\",'FMI Template'!F395<>\"UA\"),'FMI Template'!F395,\"\")","v":""},{"$f":"IF(AND('FMI Template'!H395<>\"\", 'FMI Template'!H395<>\"UA\"),IF('FMI Template'!H395=\"CSD\",\"(I)CSD\",IF('FMI Template'!H395=\"CCP_Derivatives\",\"CCP-Derivatives\",IF('FMI Template'!H395=\"CCP_securities\",\"CCP-securities\",IF('FMI Template'!H395=\"PS_Retail\",\"PS\",IF('FMI Template'!H395=\"PS_LV\",\"PS\",'FMI Template'!H395))))),\"\")","v":""},{"$f":"IF(AND('FMI Template'!I395<>\"\", 'FMI Template'!I395<>\"UA\"),'FMI Template'!I395,\"\")","v":""},{"$f":"IF(AND('FMI Template'!J395<>\"\",'FMI Template'!J395<>\"UA\"),IF('FMI Template'!J395=\"CSD_SSS\",\"CSD-SSS\",IF('FMI Template'!J395=\"CCP_Derivatives\",\"CCP-Derivatives\",IF('FMI Template'!J395=\"CCP_securities\",\"CCP-securities\",IF('FMI Template'!J395=\"Trading_venue\",\"Trading-venue\",'FMI Template'!J395)))),\"\")","v":""},{"$f":"IF(AND('FMI Template'!K395<>\"\",'FMI Template'!K395<>\"UA\"),'FMI Template'!K395,\"\")","v":""},{"$f":"IF('FMI Template'!K395=\"direct\",\"NA\",IF(AND('FMI Template'!M395<>\"\",'FMI Template'!M395<>\"UA\"),'FMI Template'!M395,\"\"))","v":""},{"$f":"IF('FMI Template'!K395=\"direct\",\"NA\",IF(AND('FMI Template'!N395<>\"\",'FMI Template'!N395<>\"UA\"),'FMI Template'!N395,\"\"))","v":""},{"$f":"IF(OR('FMI Template'!H395=\"Other\",'FMI Template'!H395=\"NA\"),'FMI Template'!Q395,\"\")","v":""},{"$f":"IF(AND('FMI Template'!O395<>\"\",'FMI Template'!O395<>\"NA\",'FMI Template'!O395<>\"UA\"),'FMI Template'!O395,\"\")","v":""}]
[null,{"$f":"IF(AND('FMI Template'!B396<>\"\",'FMI Template'!B396<>\"NA\",'FMI Template'!B396<>\"UA\"),'FMI Template'!B396,\"\")","v":""},{"$f":"IF(AND('FMI Template'!C396<>\"\",'FMI Template'!C396<>\"NA\",'FMI Template'!C396<>\"UA\"),'FMI Template'!C396,\"\")","v":""},{"$f":"IF(AND('FMI Template'!D396<>\"\",'FMI Template'!D396<>\"NA\",'FMI Template'!D396<>\"UA\"),'FMI Template'!D396,\"\")","v":""},{"$f":"IF(AND('FMI Template'!F396<>\"\",'FMI Template'!F396<>\"NA\",'FMI Template'!F396<>\"UA\"),'FMI Template'!F396,\"\")","v":""},{"$f":"IF(AND('FMI Template'!H396<>\"\", 'FMI Template'!H396<>\"UA\"),IF('FMI Template'!H396=\"CSD\",\"(I)CSD\",IF('FMI Template'!H396=\"CCP_Derivatives\",\"CCP-Derivatives\",IF('FMI Template'!H396=\"CCP_securities\",\"CCP-securities\",IF('FMI Template'!H396=\"PS_Retail\",\"PS\",IF('FMI Template'!H396=\"PS_LV\",\"PS\",'FMI Template'!H396))))),\"\")","v":""},{"$f":"IF(AND('FMI Template'!I396<>\"\", 'FMI Template'!I396<>\"UA\"),'FMI Template'!I396,\"\")","v":""},{"$f":"IF(AND('FMI Template'!J396<>\"\",'FMI Template'!J396<>\"UA\"),IF('FMI Template'!J396=\"CSD_SSS\",\"CSD-SSS\",IF('FMI Template'!J396=\"CCP_Derivatives\",\"CCP-Derivatives\",IF('FMI Template'!J396=\"CCP_securities\",\"CCP-securities\",IF('FMI Template'!J396=\"Trading_venue\",\"Trading-venue\",'FMI Template'!J396)))),\"\")","v":""},{"$f":"IF(AND('FMI Template'!K396<>\"\",'FMI Template'!K396<>\"UA\"),'FMI Template'!K396,\"\")","v":""},{"$f":"IF('FMI Template'!K396=\"direct\",\"NA\",IF(AND('FMI Template'!M396<>\"\",'FMI Template'!M396<>\"UA\"),'FMI Template'!M396,\"\"))","v":""},{"$f":"IF('FMI Template'!K396=\"direct\",\"NA\",IF(AND('FMI Template'!N396<>\"\",'FMI Template'!N396<>\"UA\"),'FMI Template'!N396,\"\"))","v":""},{"$f":"IF(OR('FMI Template'!H396=\"Other\",'FMI Template'!H396=\"NA\"),'FMI Template'!Q396,\"\")","v":""},{"$f":"IF(AND('FMI Template'!O396<>\"\",'FMI Template'!O396<>\"NA\",'FMI Template'!O396<>\"UA\"),'FMI Template'!O396,\"\")","v":""}]
[null,{"$f":"IF(AND('FMI Template'!B397<>\"\",'FMI Template'!B397<>\"NA\",'FMI Template'!B397<>\"UA\"),'FMI Template'!B397,\"\")","v":""},{"$f":"IF(AND('FMI Template'!C397<>\"\",'FMI Template'!C397<>\"NA\",'FMI Template'!C397<>\"UA\"),'FMI Template'!C397,\"\")","v":""},{"$f":"IF(AND('FMI Template'!D397<>\"\",'FMI Template'!D397<>\"NA\",'FMI Template'!D397<>\"UA\"),'FMI Template'!D397,\"\")","v":""},{"$f":"IF(AND('FMI Template'!F397<>\"\",'FMI Template'!F397<>\"NA\",'FMI Template'!F397<>\"UA\"),'FMI Template'!F397,\"\")","v":""},{"$f":"IF(AND('FMI Template'!H397<>\"\", 'FMI Template'!H397<>\"UA\"),IF('FMI Template'!H397=\"CSD\",\"(I)CSD\",IF('FMI Template'!H397=\"CCP_Derivatives\",\"CCP-Derivatives\",IF('FMI Template'!H397=\"CCP_securities\",\"CCP-securities\",IF('FMI Template'!H397=\"PS_Retail\",\"PS\",IF('FMI Template'!H397=\"PS_LV\",\"PS\",'FMI Template'!H397))))),\"\")","v":""},{"$f":"IF(AND('FMI Template'!I397<>\"\", 'FMI Template'!I397<>\"UA\"),'FMI Template'!I397,\"\")","v":""},{"$f":"IF(AND('FMI Template'!J397<>\"\",'FMI Template'!J397<>\"UA\"),IF('FMI Template'!J397=\"CSD_SSS\",\"CSD-SSS\",IF('FMI Template'!J397=\"CCP_Derivatives\",\"CCP-Derivatives\",IF('FMI Template'!J397=\"CCP_securities\",\"CCP-securities\",IF('FMI Template'!J397=\"Trading_venue\",\"Trading-venue\",'FMI Template'!J397)))),\"\")","v":""},{"$f":"IF(AND('FMI Template'!K397<>\"\",'FMI Template'!K397<>\"UA\"),'FMI Template'!K397,\"\")","v":""},{"$f":"IF('FMI Template'!K397=\"direct\",\"NA\",IF(AND('FMI Template'!M397<>\"\",'FMI Template'!M397<>\"UA\"),'FMI Template'!M397,\"\"))","v":""},{"$f":"IF('FMI Template'!K397=\"direct\",\"NA\",IF(AND('FMI Template'!N397<>\"\",'FMI Template'!N397<>\"UA\"),'FMI Template'!N397,\"\"))","v":""},{"$f":"IF(OR('FMI Template'!H397=\"Other\",'FMI Template'!H397=\"NA\"),'FMI Template'!Q397,\"\")","v":""},{"$f":"IF(AND('FMI Template'!O397<>\"\",'FMI Template'!O397<>\"NA\",'FMI Template'!O397<>\"UA\"),'FMI Template'!O397,\"\")","v":""}]
[null,{"$f":"IF(AND('FMI Template'!B398<>\"\",'FMI Template'!B398<>\"NA\",'FMI Template'!B398<>\"UA\"),'FMI Template'!B398,\"\")","v":""},{"$f":"IF(AND('FMI Template'!C398<>\"\",'FMI Template'!C398<>\"NA\",'FMI Template'!C398<>\"UA\"),'FMI Template'!C398,\"\")","v":""},{"$f":"IF(AND('FMI Template'!D398<>\"\",'FMI Template'!D398<>\"NA\",'FMI Template'!D398<>\"UA\"),'FMI Template'!D398,\"\")","v":""},{"$f":"IF(AND('FMI Template'!F398<>\"\",'FMI Template'!F398<>\"NA\",'FMI Template'!F398<>\"UA\"),'FMI Template'!F398,\"\")","v":""},{"$f":"IF(AND('FMI Template'!H398<>\"\", 'FMI Template'!H398<>\"UA\"),IF('FMI Template'!H398=\"CSD\",\"(I)CSD\",IF('FMI Template'!H398=\"CCP_Derivatives\",\"CCP-Derivatives\",IF('FMI Template'!H398=\"CCP_securities\",\"CCP-securities\",IF('FMI Template'!H398=\"PS_Retail\",\"PS\",IF('FMI Template'!H398=\"PS_LV\",\"PS\",'FMI Template'!H398))))),\"\")","v":""},{"$f":"IF(AND('FMI Template'!I398<>\"\", 'FMI Template'!I398<>\"UA\"),'FMI Template'!I398,\"\")","v":""},{"$f":"IF(AND('FMI Template'!J398<>\"\",'FMI Template'!J398<>\"UA\"),IF('FMI Template'!J398=\"CSD_SSS\",\"CSD-SSS\",IF('FMI Template'!J398=\"CCP_Derivatives\",\"CCP-Derivatives\",IF('FMI Template'!J398=\"CCP_securities\",\"CCP-securities\",IF('FMI Template'!J398=\"Trading_venue\",\"Trading-venue\",'FMI Template'!J398)))),\"\")","v":""},{"$f":"IF(AND('FMI Template'!K398<>\"\",'FMI Template'!K398<>\"UA\"),'FMI Template'!K398,\"\")","v":""},{"$f":"IF('FMI Template'!K398=\"direct\",\"NA\",IF(AND('FMI Template'!M398<>\"\",'FMI Template'!M398<>\"UA\"),'FMI Template'!M398,\"\"))","v":""},{"$f":"IF('FMI Template'!K398=\"direct\",\"NA\",IF(AND('FMI Template'!N398<>\"\",'FMI Template'!N398<>\"UA\"),'FMI Template'!N398,\"\"))","v":""},{"$f":"IF(OR('FMI Template'!H398=\"Other\",'FMI Template'!H398=\"NA\"),'FMI Template'!Q398,\"\")","v":""},{"$f":"IF(AND('FMI Template'!O398<>\"\",'FMI Template'!O398<>\"NA\",'FMI Template'!O398<>\"UA\"),'FMI Template'!O398,\"\")","v":""}]
[null,{"$f":"IF(AND('FMI Template'!B399<>\"\",'FMI Template'!B399<>\"NA\",'FMI Template'!B399<>\"UA\"),'FMI Template'!B399,\"\")","v":""},{"$f":"IF(AND('FMI Template'!C399<>\"\",'FMI Template'!C399<>\"NA\",'FMI Template'!C399<>\"UA\"),'FMI Template'!C399,\"\")","v":""},{"$f":"IF(AND('FMI Template'!D399<>\"\",'FMI Template'!D399<>\"NA\",'FMI Template'!D399<>\"UA\"),'FMI Template'!D399,\"\")","v":""},{"$f":"IF(AND('FMI Template'!F399<>\"\",'FMI Template'!F399<>\"NA\",'FMI Template'!F399<>\"UA\"),'FMI Template'!F399,\"\")","v":""},{"$f":"IF(AND('FMI Template'!H399<>\"\", 'FMI Template'!H399<>\"UA\"),IF('FMI Template'!H399=\"CSD\",\"(I)CSD\",IF('FMI Template'!H399=\"CCP_Derivatives\",\"CCP-Derivatives\",IF('FMI Template'!H399=\"CCP_securities\",\"CCP-securities\",IF('FMI Template'!H399=\"PS_Retail\",\"PS\",IF('FMI Template'!H399=\"PS_LV\",\"PS\",'FMI Template'!H399))))),\"\")","v":""},{"$f":"IF(AND('FMI Template'!I399<>\"\", 'FMI Template'!I399<>\"UA\"),'FMI Template'!I399,\"\")","v":""},{"$f":"IF(AND('FMI Template'!J399<>\"\",'FMI Template'!J399<>\"UA\"),IF('FMI Template'!J399=\"CSD_SSS\",\"CSD-SSS\",IF('FMI Template'!J399=\"CCP_Derivatives\",\"CCP-Derivatives\",IF('FMI Template'!J399=\"CCP_securities\",\"CCP-securities\",IF('FMI Template'!J399=\"Trading_venue\",\"Trading-venue\",'FMI Template'!J399)))),\"\")","v":""},{"$f":"IF(AND('FMI Template'!K399<>\"\",'FMI Template'!K399<>\"UA\"),'FMI Template'!K399,\"\")","v":""},{"$f":"IF('FMI Template'!K399=\"direct\",\"NA\",IF(AND('FMI Template'!M399<>\"\",'FMI Template'!M399<>\"UA\"),'FMI Template'!M399,\"\"))","v":""},{"$f":"IF('FMI Template'!K399=\"direct\",\"NA\",IF(AND('FMI Template'!N399<>\"\",'FMI Template'!N399<>\"UA\"),'FMI Template'!N399,\"\"))","v":""},{"$f":"IF(OR('FMI Template'!H399=\"Other\",'FMI Template'!H399=\"NA\"),'FMI Template'!Q399,\"\")","v":""},{"$f":"IF(AND('FMI Template'!O399<>\"\",'FMI Template'!O399<>\"NA\",'FMI Template'!O399<>\"UA\"),'FMI Template'!O399,\"\")","v":""}]
[null,{"$f":"IF(AND('FMI Template'!B400<>\"\",'FMI Template'!B400<>\"NA\",'FMI Template'!B400<>\"UA\"),'FMI Template'!B400,\"\")","v":""},{"$f":"IF(AND('FMI Template'!C400<>\"\",'FMI Template'!C400<>\"NA\",'FMI Template'!C400<>\"UA\"),'FMI Template'!C400,\"\")","v":""},{"$f":"IF(AND('FMI Template'!D400<>\"\",'FMI Template'!D400<>\"NA\",'FMI Template'!D400<>\"UA\"),'FMI Template'!D400,\"\")","v":""},{"$f":"IF(AND('FMI Template'!F400<>\"\",'FMI Template'!F400<>\"NA\",'FMI Template'!F400<>\"UA\"),'FMI Template'!F400,\"\")","v":""},{"$f":"IF(AND('FMI Template'!H400<>\"\", 'FMI Template'!H400<>\"UA\"),IF('FMI Template'!H400=\"CSD\",\"(I)CSD\",IF('FMI Template'!H400=\"CCP_Derivatives\",\"CCP-Derivatives\",IF('FMI Template'!H400=\"CCP_securities\",\"CCP-securities\",IF('FMI Template'!H400=\"PS_Retail\",\"PS\",IF('FMI Template'!H400=\"PS_LV\",\"PS\",'FMI Template'!H400))))),\"\")","v":""},{"$f":"IF(AND('FMI Template'!I400<>\"\", 'FMI Template'!I400<>\"UA\"),'FMI Template'!I400,\"\")","v":""},{"$f":"IF(AND('FMI Template'!J400<>\"\",'FMI Template'!J400<>\"UA\"),IF('FMI Template'!J400=\"CSD_SSS\",\"CSD-SSS\",IF('FMI Template'!J400=\"CCP_Derivatives\",\"CCP-Derivatives\",IF('FMI Template'!J400=\"CCP_securities\",\"CCP-securities\",IF('FMI Template'!J400=\"Trading_venue\",\"Trading-venue\",'FMI Template'!J400)))),\"\")","v":""},{"$f":"IF(AND('FMI Template'!K400<>\"\",'FMI Template'!K400<>\"UA\"),'FMI Template'!K400,\"\")","v":""},{"$f":"IF('FMI Template'!K400=\"direct\",\"NA\",IF(AND('FMI Template'!M400<>\"\",'FMI Template'!M400<>\"UA\"),'FMI Template'!M400,\"\"))","v":""},{"$f":"IF('FMI Template'!K400=\"direct\",\"NA\",IF(AND('FMI Template'!N400<>\"\",'FMI Template'!N400<>\"UA\"),'FMI Template'!N400,\"\"))","v":""},{"$f":"IF(OR('FMI Template'!H400=\"Other\",'FMI Template'!H400=\"NA\"),'FMI Template'!Q400,\"\")","v":""},{"$f":"IF(AND('FMI Template'!O400<>\"\",'FMI Template'!O400<>\"NA\",'FMI Template'!O400<>\"UA\"),'FMI Template'!O400,\"\")","v":""}]
[null,{"$f":"IF(AND('FMI Template'!B401<>\"\",'FMI Template'!B401<>\"NA\",'FMI Template'!B401<>\"UA\"),'FMI Template'!B401,\"\")","v":""},{"$f":"IF(AND('FMI Template'!C401<>\"\",'FMI Template'!C401<>\"NA\",'FMI Template'!C401<>\"UA\"),'FMI Template'!C401,\"\")","v":""},{"$f":"IF(AND('FMI Template'!D401<>\"\",'FMI Template'!D401<>\"NA\",'FMI Template'!D401<>\"UA\"),'FMI Template'!D401,\"\")","v":""},{"$f":"IF(AND('FMI Template'!F401<>\"\",'FMI Template'!F401<>\"NA\",'FMI Template'!F401<>\"UA\"),'FMI Template'!F401,\"\")","v":""},{"$f":"IF(AND('FMI Template'!H401<>\"\", 'FMI Template'!H401<>\"UA\"),IF('FMI Template'!H401=\"CSD\",\"(I)CSD\",IF('FMI Template'!H401=\"CCP_Derivatives\",\"CCP-Derivatives\",IF('FMI Template'!H401=\"CCP_securities\",\"CCP-securities\",IF('FMI Template'!H401=\"PS_Retail\",\"PS\",IF('FMI Template'!H401=\"PS_LV\",\"PS\",'FMI Template'!H401))))),\"\")","v":""},{"$f":"IF(AND('FMI Template'!I401<>\"\", 'FMI Template'!I401<>\"UA\"),'FMI Template'!I401,\"\")","v":""},{"$f":"IF(AND('FMI Template'!J401<>\"\",'FMI Template'!J401<>\"UA\"),IF('FMI Template'!J401=\"CSD_SSS\",\"CSD-SSS\",IF('FMI Template'!J401=\"CCP_Derivatives\",\"CCP-Derivatives\",IF('FMI Template'!J401=\"CCP_securities\",\"CCP-securities\",IF('FMI Template'!J401=\"Trading_venue\",\"Trading-venue\",'FMI Template'!J401)))),\"\")","v":""},{"$f":"IF(AND('FMI Template'!K401<>\"\",'FMI Template'!K401<>\"UA\"),'FMI Template'!K401,\"\")","v":""},{"$f":"IF('FMI Template'!K401=\"direct\",\"NA\",IF(AND('FMI Template'!M401<>\"\",'FMI Template'!M401<>\"UA\"),'FMI Template'!M401,\"\"))","v":""},{"$f":"IF('FMI Template'!K401=\"direct\",\"NA\",IF(AND('FMI Template'!N401<>\"\",'FMI Template'!N401<>\"UA\"),'FMI Template'!N401,\"\"))","v":""},{"$f":"IF(OR('FMI Template'!H401=\"Other\",'FMI Template'!H401=\"NA\"),'FMI Template'!Q401,\"\")","v":""},{"$f":"IF(AND('FMI Template'!O401<>\"\",'FMI Template'!O401<>\"NA\",'FMI Template'!O401<>\"UA\"),'FMI Template'!O401,\"\")","v":""}]
[null,{"$f":"IF(AND('FMI Template'!B402<>\"\",'FMI Template'!B402<>\"NA\",'FMI Template'!B402<>\"UA\"),'FMI Template'!B402,\"\")","v":""},{"$f":"IF(AND('FMI Template'!C402<>\"\",'FMI Template'!C402<>\"NA\",'FMI Template'!C402<>\"UA\"),'FMI Template'!C402,\"\")","v":""},{"$f":"IF(AND('FMI Template'!D402<>\"\",'FMI Template'!D402<>\"NA\",'FMI Template'!D402<>\"UA\"),'FMI Template'!D402,\"\")","v":""},{"$f":"IF(AND('FMI Template'!F402<>\"\",'FMI Template'!F402<>\"NA\",'FMI Template'!F402<>\"UA\"),'FMI Template'!F402,\"\")","v":""},{"$f":"IF(AND('FMI Template'!H402<>\"\", 'FMI Template'!H402<>\"UA\"),IF('FMI Template'!H402=\"CSD\",\"(I)CSD\",IF('FMI Template'!H402=\"CCP_Derivatives\",\"CCP-Derivatives\",IF('FMI Template'!H402=\"CCP_securities\",\"CCP-securities\",IF('FMI Template'!H402=\"PS_Retail\",\"PS\",IF('FMI Template'!H402=\"PS_LV\",\"PS\",'FMI Template'!H402))))),\"\")","v":""},{"$f":"IF(AND('FMI Template'!I402<>\"\", 'FMI Template'!I402<>\"UA\"),'FMI Template'!I402,\"\")","v":""},{"$f":"IF(AND('FMI Template'!J402<>\"\",'FMI Template'!J402<>\"UA\"),IF('FMI Template'!J402=\"CSD_SSS\",\"CSD-SSS\",IF('FMI Template'!J402=\"CCP_Derivatives\",\"CCP-Derivatives\",IF('FMI Template'!J402=\"CCP_securities\",\"CCP-securities\",IF('FMI Template'!J402=\"Trading_venue\",\"Trading-venue\",'FMI Template'!J402)))),\"\")","v":""},{"$f":"IF(AND('FMI Template'!K402<>\"\",'FMI Template'!K402<>\"UA\"),'FMI Template'!K402,\"\")","v":""},{"$f":"IF('FMI Template'!K402=\"direct\",\"NA\",IF(AND('FMI Template'!M402<>\"\",'FMI Template'!M402<>\"UA\"),'FMI Template'!M402,\"\"))","v":""},{"$f":"IF('FMI Template'!K402=\"direct\",\"NA\",IF(AND('FMI Template'!N402<>\"\",'FMI Template'!N402<>\"UA\"),'FMI Template'!N402,\"\"))","v":""},{"$f":"IF(OR('FMI Template'!H402=\"Other\",'FMI Template'!H402=\"NA\"),'FMI Template'!Q402,\"\")","v":""},{"$f":"IF(AND('FMI Template'!O402<>\"\",'FMI Template'!O402<>\"NA\",'FMI Template'!O402<>\"UA\"),'FMI Template'!O402,\"\")","v":""}]
[null,{"$f":"IF(AND('FMI Template'!B403<>\"\",'FMI Template'!B403<>\"NA\",'FMI Template'!B403<>\"UA\"),'FMI Template'!B403,\"\")","v":""},{"$f":"IF(AND('FMI Template'!C403<>\"\",'FMI Template'!C403<>\"NA\",'FMI Template'!C403<>\"UA\"),'FMI Template'!C403,\"\")","v":""},{"$f":"IF(AND('FMI Template'!D403<>\"\",'FMI Template'!D403<>\"NA\",'FMI Template'!D403<>\"UA\"),'FMI Template'!D403,\"\")","v":""},{"$f":"IF(AND('FMI Template'!F403<>\"\",'FMI Template'!F403<>\"NA\",'FMI Template'!F403<>\"UA\"),'FMI Template'!F403,\"\")","v":""},{"$f":"IF(AND('FMI Template'!H403<>\"\", 'FMI Template'!H403<>\"UA\"),IF('FMI Template'!H403=\"CSD\",\"(I)CSD\",IF('FMI Template'!H403=\"CCP_Derivatives\",\"CCP-Derivatives\",IF('FMI Template'!H403=\"CCP_securities\",\"CCP-securities\",IF('FMI Template'!H403=\"PS_Retail\",\"PS\",IF('FMI Template'!H403=\"PS_LV\",\"PS\",'FMI Template'!H403))))),\"\")","v":""},{"$f":"IF(AND('FMI Template'!I403<>\"\", 'FMI Template'!I403<>\"UA\"),'FMI Template'!I403,\"\")","v":""},{"$f":"IF(AND('FMI Template'!J403<>\"\",'FMI Template'!J403<>\"UA\"),IF('FMI Template'!J403=\"CSD_SSS\",\"CSD-SSS\",IF('FMI Template'!J403=\"CCP_Derivatives\",\"CCP-Derivatives\",IF('FMI Template'!J403=\"CCP_securities\",\"CCP-securities\",IF('FMI Template'!J403=\"Trading_venue\",\"Trading-venue\",'FMI Template'!J403)))),\"\")","v":""},{"$f":"IF(AND('FMI Template'!K403<>\"\",'FMI Template'!K403<>\"UA\"),'FMI Template'!K403,\"\")","v":""},{"$f":"IF('FMI Template'!K403=\"direct\",\"NA\",IF(AND('FMI Template'!M403<>\"\",'FMI Template'!M403<>\"UA\"),'FMI Template'!M403,\"\"))","v":""},{"$f":"IF('FMI Template'!K403=\"direct\",\"NA\",IF(AND('FMI Template'!N403<>\"\",'FMI Template'!N403<>\"UA\"),'FMI Template'!N403,\"\"))","v":""},{"$f":"IF(OR('FMI Template'!H403=\"Other\",'FMI Template'!H403=\"NA\"),'FMI Template'!Q403,\"\")","v":""},{"$f":"IF(AND('FMI Template'!O403<>\"\",'FMI Template'!O403<>\"NA\",'FMI Template'!O403<>\"UA\"),'FMI Template'!O403,\"\")","v":""}]
[null,{"$f":"IF(AND('FMI Template'!B404<>\"\",'FMI Template'!B404<>\"NA\",'FMI Template'!B404<>\"UA\"),'FMI Template'!B404,\"\")","v":""},{"$f":"IF(AND('FMI Template'!C404<>\"\",'FMI Template'!C404<>\"NA\",'FMI Template'!C404<>\"UA\"),'FMI Template'!C404,\"\")","v":""},{"$f":"IF(AND('FMI Template'!D404<>\"\",'FMI Template'!D404<>\"NA\",'FMI Template'!D404<>\"UA\"),'FMI Template'!D404,\"\")","v":""},{"$f":"IF(AND('FMI Template'!F404<>\"\",'FMI Template'!F404<>\"NA\",'FMI Template'!F404<>\"UA\"),'FMI Template'!F404,\"\")","v":""},{"$f":"IF(AND('FMI Template'!H404<>\"\", 'FMI Template'!H404<>\"UA\"),IF('FMI Template'!H404=\"CSD\",\"(I)CSD\",IF('FMI Template'!H404=\"CCP_Derivatives\",\"CCP-Derivatives\",IF('FMI Template'!H404=\"CCP_securities\",\"CCP-securities\",IF('FMI Template'!H404=\"PS_Retail\",\"PS\",IF('FMI Template'!H404=\"PS_LV\",\"PS\",'FMI Template'!H404))))),\"\")","v":""},{"$f":"IF(AND('FMI Template'!I404<>\"\", 'FMI Template'!I404<>\"UA\"),'FMI Template'!I404,\"\")","v":""},{"$f":"IF(AND('FMI Template'!J404<>\"\",'FMI Template'!J404<>\"UA\"),IF('FMI Template'!J404=\"CSD_SSS\",\"CSD-SSS\",IF('FMI Template'!J404=\"CCP_Derivatives\",\"CCP-Derivatives\",IF('FMI Template'!J404=\"CCP_securities\",\"CCP-securities\",IF('FMI Template'!J404=\"Trading_venue\",\"Trading-venue\",'FMI Template'!J404)))),\"\")","v":""},{"$f":"IF(AND('FMI Template'!K404<>\"\",'FMI Template'!K404<>\"UA\"),'FMI Template'!K404,\"\")","v":""},{"$f":"IF('FMI Template'!K404=\"direct\",\"NA\",IF(AND('FMI Template'!M404<>\"\",'FMI Template'!M404<>\"UA\"),'FMI Template'!M404,\"\"))","v":""},{"$f":"IF('FMI Template'!K404=\"direct\",\"NA\",IF(AND('FMI Template'!N404<>\"\",'FMI Template'!N404<>\"UA\"),'FMI Template'!N404,\"\"))","v":""},{"$f":"IF(OR('FMI Template'!H404=\"Other\",'FMI Template'!H404=\"NA\"),'FMI Template'!Q404,\"\")","v":""},{"$f":"IF(AND('FMI Template'!O404<>\"\",'FMI Template'!O404<>\"NA\",'FMI Template'!O404<>\"UA\"),'FMI Template'!O404,\"\")","v":""}]
[null,{"$f":"IF(AND('FMI Template'!B405<>\"\",'FMI Template'!B405<>\"NA\",'FMI Template'!B405<>\"UA\"),'FMI Template'!B405,\"\")","v":""},{"$f":"IF(AND('FMI Template'!C405<>\"\",'FMI Template'!C405<>\"NA\",'FMI Template'!C405<>\"UA\"),'FMI Template'!C405,\"\")","v":""},{"$f":"IF(AND('FMI Template'!D405<>\"\",'FMI Template'!D405<>\"NA\",'FMI Template'!D405<>\"UA\"),'FMI Template'!D405,\"\")","v":""},{"$f":"IF(AND('FMI Template'!F405<>\"\",'FMI Template'!F405<>\"NA\",'FMI Template'!F405<>\"UA\"),'FMI Template'!F405,\"\")","v":""},{"$f":"IF(AND('FMI Template'!H405<>\"\", 'FMI Template'!H405<>\"UA\"),IF('FMI Template'!H405=\"CSD\",\"(I)CSD\",IF('FMI Template'!H405=\"CCP_Derivatives\",\"CCP-Derivatives\",IF('FMI Template'!H405=\"CCP_securities\",\"CCP-securities\",IF('FMI Template'!H405=\"PS_Retail\",\"PS\",IF('FMI Template'!H405=\"PS_LV\",\"PS\",'FMI Template'!H405))))),\"\")","v":""},{"$f":"IF(AND('FMI Template'!I405<>\"\", 'FMI Template'!I405<>\"UA\"),'FMI Template'!I405,\"\")","v":""},{"$f":"IF(AND('FMI Template'!J405<>\"\",'FMI Template'!J405<>\"UA\"),IF('FMI Template'!J405=\"CSD_SSS\",\"CSD-SSS\",IF('FMI Template'!J405=\"CCP_Derivatives\",\"CCP-Derivatives\",IF('FMI Template'!J405=\"CCP_securities\",\"CCP-securities\",IF('FMI Template'!J405=\"Trading_venue\",\"Trading-venue\",'FMI Template'!J405)))),\"\")","v":""},{"$f":"IF(AND('FMI Template'!K405<>\"\",'FMI Template'!K405<>\"UA\"),'FMI Template'!K405,\"\")","v":""},{"$f":"IF('FMI Template'!K405=\"direct\",\"NA\",IF(AND('FMI Template'!M405<>\"\",'FMI Template'!M405<>\"UA\"),'FMI Template'!M405,\"\"))","v":""},{"$f":"IF('FMI Template'!K405=\"direct\",\"NA\",IF(AND('FMI Template'!N405<>\"\",'FMI Template'!N405<>\"UA\"),'FMI Template'!N405,\"\"))","v":""},{"$f":"IF(OR('FMI Template'!H405=\"Other\",'FMI Template'!H405=\"NA\"),'FMI Template'!Q405,\"\")","v":""},{"$f":"IF(AND('FMI Template'!O405<>\"\",'FMI Template'!O405<>\"NA\",'FMI Template'!O405<>\"UA\"),'FMI Template'!O405,\"\")","v":""}]
[null,{"$f":"IF(AND('FMI Template'!B406<>\"\",'FMI Template'!B406<>\"NA\",'FMI Template'!B406<>\"UA\"),'FMI Template'!B406,\"\")","v":""},{"$f":"IF(AND('FMI Template'!C406<>\"\",'FMI Template'!C406<>\"NA\",'FMI Template'!C406<>\"UA\"),'FMI Template'!C406,\"\")","v":""},{"$f":"IF(AND('FMI Template'!D406<>\"\",'FMI Template'!D406<>\"NA\",'FMI Template'!D406<>\"UA\"),'FMI Template'!D406,\"\")","v":""},{"$f":"IF(AND('FMI Template'!F406<>\"\",'FMI Template'!F406<>\"NA\",'FMI Template'!F406<>\"UA\"),'FMI Template'!F406,\"\")","v":""},{"$f":"IF(AND('FMI Template'!H406<>\"\", 'FMI Template'!H406<>\"UA\"),IF('FMI Template'!H406=\"CSD\",\"(I)CSD\",IF('FMI Template'!H406=\"CCP_Derivatives\",\"CCP-Derivatives\",IF('FMI Template'!H406=\"CCP_securities\",\"CCP-securities\",IF('FMI Template'!H406=\"PS_Retail\",\"PS\",IF('FMI Template'!H406=\"PS_LV\",\"PS\",'FMI Template'!H406))))),\"\")","v":""},{"$f":"IF(AND('FMI Template'!I406<>\"\", 'FMI Template'!I406<>\"UA\"),'FMI Template'!I406,\"\")","v":""},{"$f":"IF(AND('FMI Template'!J406<>\"\",'FMI Template'!J406<>\"UA\"),IF('FMI Template'!J406=\"CSD_SSS\",\"CSD-SSS\",IF('FMI Template'!J406=\"CCP_Derivatives\",\"CCP-Derivatives\",IF('FMI Template'!J406=\"CCP_securities\",\"CCP-securities\",IF('FMI Template'!J406=\"Trading_venue\",\"Trading-venue\",'FMI Template'!J406)))),\"\")","v":""},{"$f":"IF(AND('FMI Template'!K406<>\"\",'FMI Template'!K406<>\"UA\"),'FMI Template'!K406,\"\")","v":""},{"$f":"IF('FMI Template'!K406=\"direct\",\"NA\",IF(AND('FMI Template'!M406<>\"\",'FMI Template'!M406<>\"UA\"),'FMI Template'!M406,\"\"))","v":""},{"$f":"IF('FMI Template'!K406=\"direct\",\"NA\",IF(AND('FMI Template'!N406<>\"\",'FMI Template'!N406<>\"UA\"),'FMI Template'!N406,\"\"))","v":""},{"$f":"IF(OR('FMI Template'!H406=\"Other\",'FMI Template'!H406=\"NA\"),'FMI Template'!Q406,\"\")","v":""},{"$f":"IF(AND('FMI Template'!O406<>\"\",'FMI Template'!O406<>\"NA\",'FMI Template'!O406<>\"UA\"),'FMI Template'!O406,\"\")","v":""}]
[null,{"$f":"IF(AND('FMI Template'!B407<>\"\",'FMI Template'!B407<>\"NA\",'FMI Template'!B407<>\"UA\"),'FMI Template'!B407,\"\")","v":""},{"$f":"IF(AND('FMI Template'!C407<>\"\",'FMI Template'!C407<>\"NA\",'FMI Template'!C407<>\"UA\"),'FMI Template'!C407,\"\")","v":""},{"$f":"IF(AND('FMI Template'!D407<>\"\",'FMI Template'!D407<>\"NA\",'FMI Template'!D407<>\"UA\"),'FMI Template'!D407,\"\")","v":""},{"$f":"IF(AND('FMI Template'!F407<>\"\",'FMI Template'!F407<>\"NA\",'FMI Template'!F407<>\"UA\"),'FMI Template'!F407,\"\")","v":""},{"$f":"IF(AND('FMI Template'!H407<>\"\", 'FMI Template'!H407<>\"UA\"),IF('FMI Template'!H407=\"CSD\",\"(I)CSD\",IF('FMI Template'!H407=\"CCP_Derivatives\",\"CCP-Derivatives\",IF('FMI Template'!H407=\"CCP_securities\",\"CCP-securities\",IF('FMI Template'!H407=\"PS_Retail\",\"PS\",IF('FMI Template'!H407=\"PS_LV\",\"PS\",'FMI Template'!H407))))),\"\")","v":""},{"$f":"IF(AND('FMI Template'!I407<>\"\", 'FMI Template'!I407<>\"UA\"),'FMI Template'!I407,\"\")","v":""},{"$f":"IF(AND('FMI Template'!J407<>\"\",'FMI Template'!J407<>\"UA\"),IF('FMI Template'!J407=\"CSD_SSS\",\"CSD-SSS\",IF('FMI Template'!J407=\"CCP_Derivatives\",\"CCP-Derivatives\",IF('FMI Template'!J407=\"CCP_securities\",\"CCP-securities\",IF('FMI Template'!J407=\"Trading_venue\",\"Trading-venue\",'FMI Template'!J407)))),\"\")","v":""},{"$f":"IF(AND('FMI Template'!K407<>\"\",'FMI Template'!K407<>\"UA\"),'FMI Template'!K407,\"\")","v":""},{"$f":"IF('FMI Template'!K407=\"direct\",\"NA\",IF(AND('FMI Template'!M407<>\"\",'FMI Template'!M407<>\"UA\"),'FMI Template'!M407,\"\"))","v":""},{"$f":"IF('FMI Template'!K407=\"direct\",\"NA\",IF(AND('FMI Template'!N407<>\"\",'FMI Template'!N407<>\"UA\"),'FMI Template'!N407,\"\"))","v":""},{"$f":"IF(OR('FMI Template'!H407=\"Other\",'FMI Template'!H407=\"NA\"),'FMI Template'!Q407,\"\")","v":""},{"$f":"IF(AND('FMI Template'!O407<>\"\",'FMI Template'!O407<>\"NA\",'FMI Template'!O407<>\"UA\"),'FMI Template'!O407,\"\")","v":""}]
[null,{"$f":"IF(AND('FMI Template'!B408<>\"\",'FMI Template'!B408<>\"NA\",'FMI Template'!B408<>\"UA\"),'FMI Template'!B408,\"\")","v":""},{"$f":"IF(AND('FMI Template'!C408<>\"\",'FMI Template'!C408<>\"NA\",'FMI Template'!C408<>\"UA\"),'FMI Template'!C408,\"\")","v":""},{"$f":"IF(AND('FMI Template'!D408<>\"\",'FMI Template'!D408<>\"NA\",'FMI Template'!D408<>\"UA\"),'FMI Template'!D408,\"\")","v":""},{"$f":"IF(AND('FMI Template'!F408<>\"\",'FMI Template'!F408<>\"NA\",'FMI Template'!F408<>\"UA\"),'FMI Template'!F408,\"\")","v":""},{"$f":"IF(AND('FMI Template'!H408<>\"\", 'FMI Template'!H408<>\"UA\"),IF('FMI Template'!H408=\"CSD\",\"(I)CSD\",IF('FMI Template'!H408=\"CCP_Derivatives\",\"CCP-Derivatives\",IF('FMI Template'!H408=\"CCP_securities\",\"CCP-securities\",IF('FMI Template'!H408=\"PS_Retail\",\"PS\",IF('FMI Template'!H408=\"PS_LV\",\"PS\",'FMI Template'!H408))))),\"\")","v":""},{"$f":"IF(AND('FMI Template'!I408<>\"\", 'FMI Template'!I408<>\"UA\"),'FMI Template'!I408,\"\")","v":""},{"$f":"IF(AND('FMI Template'!J408<>\"\",'FMI Template'!J408<>\"UA\"),IF('FMI Template'!J408=\"CSD_SSS\",\"CSD-SSS\",IF('FMI Template'!J408=\"CCP_Derivatives\",\"CCP-Derivatives\",IF('FMI Template'!J408=\"CCP_securities\",\"CCP-securities\",IF('FMI Template'!J408=\"Trading_venue\",\"Trading-venue\",'FMI Template'!J408)))),\"\")","v":""},{"$f":"IF(AND('FMI Template'!K408<>\"\",'FMI Template'!K408<>\"UA\"),'FMI Template'!K408,\"\")","v":""},{"$f":"IF('FMI Template'!K408=\"direct\",\"NA\",IF(AND('FMI Template'!M408<>\"\",'FMI Template'!M408<>\"UA\"),'FMI Template'!M408,\"\"))","v":""},{"$f":"IF('FMI Template'!K408=\"direct\",\"NA\",IF(AND('FMI Template'!N408<>\"\",'FMI Template'!N408<>\"UA\"),'FMI Template'!N408,\"\"))","v":""},{"$f":"IF(OR('FMI Template'!H408=\"Other\",'FMI Template'!H408=\"NA\"),'FMI Template'!Q408,\"\")","v":""},{"$f":"IF(AND('FMI Template'!O408<>\"\",'FMI Template'!O408<>\"NA\",'FMI Template'!O408<>\"UA\"),'FMI Template'!O408,\"\")","v":""}]
[null,{"$f":"IF(AND('FMI Template'!B409<>\"\",'FMI Template'!B409<>\"NA\",'FMI Template'!B409<>\"UA\"),'FMI Template'!B409,\"\")","v":""},{"$f":"IF(AND('FMI Template'!C409<>\"\",'FMI Template'!C409<>\"NA\",'FMI Template'!C409<>\"UA\"),'FMI Template'!C409,\"\")","v":""},{"$f":"IF(AND('FMI Template'!D409<>\"\",'FMI Template'!D409<>\"NA\",'FMI Template'!D409<>\"UA\"),'FMI Template'!D409,\"\")","v":""},{"$f":"IF(AND('FMI Template'!F409<>\"\",'FMI Template'!F409<>\"NA\",'FMI Template'!F409<>\"UA\"),'FMI Template'!F409,\"\")","v":""},{"$f":"IF(AND('FMI Template'!H409<>\"\", 'FMI Template'!H409<>\"UA\"),IF('FMI Template'!H409=\"CSD\",\"(I)CSD\",IF('FMI Template'!H409=\"CCP_Derivatives\",\"CCP-Derivatives\",IF('FMI Template'!H409=\"CCP_securities\",\"CCP-securities\",IF('FMI Template'!H409=\"PS_Retail\",\"PS\",IF('FMI Template'!H409=\"PS_LV\",\"PS\",'FMI Template'!H409))))),\"\")","v":""},{"$f":"IF(AND('FMI Template'!I409<>\"\", 'FMI Template'!I409<>\"UA\"),'FMI Template'!I409,\"\")","v":""},{"$f":"IF(AND('FMI Template'!J409<>\"\",'FMI Template'!J409<>\"UA\"),IF('FMI Template'!J409=\"CSD_SSS\",\"CSD-SSS\",IF('FMI Template'!J409=\"CCP_Derivatives\",\"CCP-Derivatives\",IF('FMI Template'!J409=\"CCP_securities\",\"CCP-securities\",IF('FMI Template'!J409=\"Trading_venue\",\"Trading-venue\",'FMI Template'!J409)))),\"\")","v":""},{"$f":"IF(AND('FMI Template'!K409<>\"\",'FMI Template'!K409<>\"UA\"),'FMI Template'!K409,\"\")","v":""},{"$f":"IF('FMI Template'!K409=\"direct\",\"NA\",IF(AND('FMI Template'!M409<>\"\",'FMI Template'!M409<>\"UA\"),'FMI Template'!M409,\"\"))","v":""},{"$f":"IF('FMI Template'!K409=\"direct\",\"NA\",IF(AND('FMI Template'!N409<>\"\",'FMI Template'!N409<>\"UA\"),'FMI Template'!N409,\"\"))","v":""},{"$f":"IF(OR('FMI Template'!H409=\"Other\",'FMI Template'!H409=\"NA\"),'FMI Template'!Q409,\"\")","v":""},{"$f":"IF(AND('FMI Template'!O409<>\"\",'FMI Template'!O409<>\"NA\",'FMI Template'!O409<>\"UA\"),'FMI Template'!O409,\"\")","v":""}]
[null,{"$f":"IF(AND('FMI Template'!B410<>\"\",'FMI Template'!B410<>\"NA\",'FMI Template'!B410<>\"UA\"),'FMI Template'!B410,\"\")","v":""},{"$f":"IF(AND('FMI Template'!C410<>\"\",'FMI Template'!C410<>\"NA\",'FMI Template'!C410<>\"UA\"),'FMI Template'!C410,\"\")","v":""},{"$f":"IF(AND('FMI Template'!D410<>\"\",'FMI Template'!D410<>\"NA\",'FMI Template'!D410<>\"UA\"),'FMI Template'!D410,\"\")","v":""},{"$f":"IF(AND('FMI Template'!F410<>\"\",'FMI Template'!F410<>\"NA\",'FMI Template'!F410<>\"UA\"),'FMI Template'!F410,\"\")","v":""},{"$f":"IF(AND('FMI Template'!H410<>\"\", 'FMI Template'!H410<>\"UA\"),IF('FMI Template'!H410=\"CSD\",\"(I)CSD\",IF('FMI Template'!H410=\"CCP_Derivatives\",\"CCP-Derivatives\",IF('FMI Template'!H410=\"CCP_securities\",\"CCP-securities\",IF('FMI Template'!H410=\"PS_Retail\",\"PS\",IF('FMI Template'!H410=\"PS_LV\",\"PS\",'FMI Template'!H410))))),\"\")","v":""},{"$f":"IF(AND('FMI Template'!I410<>\"\", 'FMI Template'!I410<>\"UA\"),'FMI Template'!I410,\"\")","v":""},{"$f":"IF(AND('FMI Template'!J410<>\"\",'FMI Template'!J410<>\"UA\"),IF('FMI Template'!J410=\"CSD_SSS\",\"CSD-SSS\",IF('FMI Template'!J410=\"CCP_Derivatives\",\"CCP-Derivatives\",IF('FMI Template'!J410=\"CCP_securities\",\"CCP-securities\",IF('FMI Template'!J410=\"Trading_venue\",\"Trading-venue\",'FMI Template'!J410)))),\"\")","v":""},{"$f":"IF(AND('FMI Template'!K410<>\"\",'FMI Template'!K410<>\"UA\"),'FMI Template'!K410,\"\")","v":""},{"$f":"IF('FMI Template'!K410=\"direct\",\"NA\",IF(AND('FMI Template'!M410<>\"\",'FMI Template'!M410<>\"UA\"),'FMI Template'!M410,\"\"))","v":""},{"$f":"IF('FMI Template'!K410=\"direct\",\"NA\",IF(AND('FMI Template'!N410<>\"\",'FMI Template'!N410<>\"UA\"),'FMI Template'!N410,\"\"))","v":""},{"$f":"IF(OR('FMI Template'!H410=\"Other\",'FMI Template'!H410=\"NA\"),'FMI Template'!Q410,\"\")","v":""},{"$f":"IF(AND('FMI Template'!O410<>\"\",'FMI Template'!O410<>\"NA\",'FMI Template'!O410<>\"UA\"),'FMI Template'!O410,\"\")","v":""}]
[null,{"$f":"IF(AND('FMI Template'!B411<>\"\",'FMI Template'!B411<>\"NA\",'FMI Template'!B411<>\"UA\"),'FMI Template'!B411,\"\")","v":""},{"$f":"IF(AND('FMI Template'!C411<>\"\",'FMI Template'!C411<>\"NA\",'FMI Template'!C411<>\"UA\"),'FMI Template'!C411,\"\")","v":""},{"$f":"IF(AND('FMI Template'!D411<>\"\",'FMI Template'!D411<>\"NA\",'FMI Template'!D411<>\"UA\"),'FMI Template'!D411,\"\")","v":""},{"$f":"IF(AND('FMI Template'!F411<>\"\",'FMI Template'!F411<>\"NA\",'FMI Template'!F411<>\"UA\"),'FMI Template'!F411,\"\")","v":""},{"$f":"IF(AND('FMI Template'!H411<>\"\", 'FMI Template'!H411<>\"UA\"),IF('FMI Template'!H411=\"CSD\",\"(I)CSD\",IF('FMI Template'!H411=\"CCP_Derivatives\",\"CCP-Derivatives\",IF('FMI Template'!H411=\"CCP_securities\",\"CCP-securities\",IF('FMI Template'!H411=\"PS_Retail\",\"PS\",IF('FMI Template'!H411=\"PS_LV\",\"PS\",'FMI Template'!H411))))),\"\")","v":""},{"$f":"IF(AND('FMI Template'!I411<>\"\", 'FMI Template'!I411<>\"UA\"),'FMI Template'!I411,\"\")","v":""},{"$f":"IF(AND('FMI Template'!J411<>\"\",'FMI Template'!J411<>\"UA\"),IF('FMI Template'!J411=\"CSD_SSS\",\"CSD-SSS\",IF('FMI Template'!J411=\"CCP_Derivatives\",\"CCP-Derivatives\",IF('FMI Template'!J411=\"CCP_securities\",\"CCP-securities\",IF('FMI Template'!J411=\"Trading_venue\",\"Trading-venue\",'FMI Template'!J411)))),\"\")","v":""},{"$f":"IF(AND('FMI Template'!K411<>\"\",'FMI Template'!K411<>\"UA\"),'FMI Template'!K411,\"\")","v":""},{"$f":"IF('FMI Template'!K411=\"direct\",\"NA\",IF(AND('FMI Template'!M411<>\"\",'FMI Template'!M411<>\"UA\"),'FMI Template'!M411,\"\"))","v":""},{"$f":"IF('FMI Template'!K411=\"direct\",\"NA\",IF(AND('FMI Template'!N411<>\"\",'FMI Template'!N411<>\"UA\"),'FMI Template'!N411,\"\"))","v":""},{"$f":"IF(OR('FMI Template'!H411=\"Other\",'FMI Template'!H411=\"NA\"),'FMI Template'!Q411,\"\")","v":""},{"$f":"IF(AND('FMI Template'!O411<>\"\",'FMI Template'!O411<>\"NA\",'FMI Template'!O411<>\"UA\"),'FMI Template'!O411,\"\")","v":""}]
[null,{"$f":"IF(AND('FMI Template'!B412<>\"\",'FMI Template'!B412<>\"NA\",'FMI Template'!B412<>\"UA\"),'FMI Template'!B412,\"\")","v":""},{"$f":"IF(AND('FMI Template'!C412<>\"\",'FMI Template'!C412<>\"NA\",'FMI Template'!C412<>\"UA\"),'FMI Template'!C412,\"\")","v":""},{"$f":"IF(AND('FMI Template'!D412<>\"\",'FMI Template'!D412<>\"NA\",'FMI Template'!D412<>\"UA\"),'FMI Template'!D412,\"\")","v":""},{"$f":"IF(AND('FMI Template'!F412<>\"\",'FMI Template'!F412<>\"NA\",'FMI Template'!F412<>\"UA\"),'FMI Template'!F412,\"\")","v":""},{"$f":"IF(AND('FMI Template'!H412<>\"\", 'FMI Template'!H412<>\"UA\"),IF('FMI Template'!H412=\"CSD\",\"(I)CSD\",IF('FMI Template'!H412=\"CCP_Derivatives\",\"CCP-Derivatives\",IF('FMI Template'!H412=\"CCP_securities\",\"CCP-securities\",IF('FMI Template'!H412=\"PS_Retail\",\"PS\",IF('FMI Template'!H412=\"PS_LV\",\"PS\",'FMI Template'!H412))))),\"\")","v":""},{"$f":"IF(AND('FMI Template'!I412<>\"\", 'FMI Template'!I412<>\"UA\"),'FMI Template'!I412,\"\")","v":""},{"$f":"IF(AND('FMI Template'!J412<>\"\",'FMI Template'!J412<>\"UA\"),IF('FMI Template'!J412=\"CSD_SSS\",\"CSD-SSS\",IF('FMI Template'!J412=\"CCP_Derivatives\",\"CCP-Derivatives\",IF('FMI Template'!J412=\"CCP_securities\",\"CCP-securities\",IF('FMI Template'!J412=\"Trading_venue\",\"Trading-venue\",'FMI Template'!J412)))),\"\")","v":""},{"$f":"IF(AND('FMI Template'!K412<>\"\",'FMI Template'!K412<>\"UA\"),'FMI Template'!K412,\"\")","v":""},{"$f":"IF('FMI Template'!K412=\"direct\",\"NA\",IF(AND('FMI Template'!M412<>\"\",'FMI Template'!M412<>\"UA\"),'FMI Template'!M412,\"\"))","v":""},{"$f":"IF('FMI Template'!K412=\"direct\",\"NA\",IF(AND('FMI Template'!N412<>\"\",'FMI Template'!N412<>\"UA\"),'FMI Template'!N412,\"\"))","v":""},{"$f":"IF(OR('FMI Template'!H412=\"Other\",'FMI Template'!H412=\"NA\"),'FMI Template'!Q412,\"\")","v":""},{"$f":"IF(AND('FMI Template'!O412<>\"\",'FMI Template'!O412<>\"NA\",'FMI Template'!O412<>\"UA\"),'FMI Template'!O412,\"\")","v":""}]
[null,{"$f":"IF(AND('FMI Template'!B413<>\"\",'FMI Template'!B413<>\"NA\",'FMI Template'!B413<>\"UA\"),'FMI Template'!B413,\"\")","v":""},{"$f":"IF(AND('FMI Template'!C413<>\"\",'FMI Template'!C413<>\"NA\",'FMI Template'!C413<>\"UA\"),'FMI Template'!C413,\"\")","v":""},{"$f":"IF(AND('FMI Template'!D413<>\"\",'FMI Template'!D413<>\"NA\",'FMI Template'!D413<>\"UA\"),'FMI Template'!D413,\"\")","v":""},{"$f":"IF(AND('FMI Template'!F413<>\"\",'FMI Template'!F413<>\"NA\",'FMI Template'!F413<>\"UA\"),'FMI Template'!F413,\"\")","v":""},{"$f":"IF(AND('FMI Template'!H413<>\"\", 'FMI Template'!H413<>\"UA\"),IF('FMI Template'!H413=\"CSD\",\"(I)CSD\",IF('FMI Template'!H413=\"CCP_Derivatives\",\"CCP-Derivatives\",IF('FMI Template'!H413=\"CCP_securities\",\"CCP-securities\",IF('FMI Template'!H413=\"PS_Retail\",\"PS\",IF('FMI Template'!H413=\"PS_LV\",\"PS\",'FMI Template'!H413))))),\"\")","v":""},{"$f":"IF(AND('FMI Template'!I413<>\"\", 'FMI Template'!I413<>\"UA\"),'FMI Template'!I413,\"\")","v":""},{"$f":"IF(AND('FMI Template'!J413<>\"\",'FMI Template'!J413<>\"UA\"),IF('FMI Template'!J413=\"CSD_SSS\",\"CSD-SSS\",IF('FMI Template'!J413=\"CCP_Derivatives\",\"CCP-Derivatives\",IF('FMI Template'!J413=\"CCP_securities\",\"CCP-securities\",IF('FMI Template'!J413=\"Trading_venue\",\"Trading-venue\",'FMI Template'!J413)))),\"\")","v":""},{"$f":"IF(AND('FMI Template'!K413<>\"\",'FMI Template'!K413<>\"UA\"),'FMI Template'!K413,\"\")","v":""},{"$f":"IF('FMI Template'!K413=\"direct\",\"NA\",IF(AND('FMI Template'!M413<>\"\",'FMI Template'!M413<>\"UA\"),'FMI Template'!M413,\"\"))","v":""},{"$f":"IF('FMI Template'!K413=\"direct\",\"NA\",IF(AND('FMI Template'!N413<>\"\",'FMI Template'!N413<>\"UA\"),'FMI Template'!N413,\"\"))","v":""},{"$f":"IF(OR('FMI Template'!H413=\"Other\",'FMI Template'!H413=\"NA\"),'FMI Template'!Q413,\"\")","v":""},{"$f":"IF(AND('FMI Template'!O413<>\"\",'FMI Template'!O413<>\"NA\",'FMI Template'!O413<>\"UA\"),'FMI Template'!O413,\"\")","v":""}]
[null,{"$f":"IF(AND('FMI Template'!B414<>\"\",'FMI Template'!B414<>\"NA\",'FMI Template'!B414<>\"UA\"),'FMI Template'!B414,\"\")","v":""},{"$f":"IF(AND('FMI Template'!C414<>\"\",'FMI Template'!C414<>\"NA\",'FMI Template'!C414<>\"UA\"),'FMI Template'!C414,\"\")","v":""},{"$f":"IF(AND('FMI Template'!D414<>\"\",'FMI Template'!D414<>\"NA\",'FMI Template'!D414<>\"UA\"),'FMI Template'!D414,\"\")","v":""},{"$f":"IF(AND('FMI Template'!F414<>\"\",'FMI Template'!F414<>\"NA\",'FMI Template'!F414<>\"UA\"),'FMI Template'!F414,\"\")","v":""},{"$f":"IF(AND('FMI Template'!H414<>\"\", 'FMI Template'!H414<>\"UA\"),IF('FMI Template'!H414=\"CSD\",\"(I)CSD\",IF('FMI Template'!H414=\"CCP_Derivatives\",\"CCP-Derivatives\",IF('FMI Template'!H414=\"CCP_securities\",\"CCP-securities\",IF('FMI Template'!H414=\"PS_Retail\",\"PS\",IF('FMI Template'!H414=\"PS_LV\",\"PS\",'FMI Template'!H414))))),\"\")","v":""},{"$f":"IF(AND('FMI Template'!I414<>\"\", 'FMI Template'!I414<>\"UA\"),'FMI Template'!I414,\"\")","v":""},{"$f":"IF(AND('FMI Template'!J414<>\"\",'FMI Template'!J414<>\"UA\"),IF('FMI Template'!J414=\"CSD_SSS\",\"CSD-SSS\",IF('FMI Template'!J414=\"CCP_Derivatives\",\"CCP-Derivatives\",IF('FMI Template'!J414=\"CCP_securities\",\"CCP-securities\",IF('FMI Template'!J414=\"Trading_venue\",\"Trading-venue\",'FMI Template'!J414)))),\"\")","v":""},{"$f":"IF(AND('FMI Template'!K414<>\"\",'FMI Template'!K414<>\"UA\"),'FMI Template'!K414,\"\")","v":""},{"$f":"IF('FMI Template'!K414=\"direct\",\"NA\",IF(AND('FMI Template'!M414<>\"\",'FMI Template'!M414<>\"UA\"),'FMI Template'!M414,\"\"))","v":""},{"$f":"IF('FMI Template'!K414=\"direct\",\"NA\",IF(AND('FMI Template'!N414<>\"\",'FMI Template'!N414<>\"UA\"),'FMI Template'!N414,\"\"))","v":""},{"$f":"IF(OR('FMI Template'!H414=\"Other\",'FMI Template'!H414=\"NA\"),'FMI Template'!Q414,\"\")","v":""},{"$f":"IF(AND('FMI Template'!O414<>\"\",'FMI Template'!O414<>\"NA\",'FMI Template'!O414<>\"UA\"),'FMI Template'!O414,\"\")","v":""}]
[null,{"$f":"IF(AND('FMI Template'!B415<>\"\",'FMI Template'!B415<>\"NA\",'FMI Template'!B415<>\"UA\"),'FMI Template'!B415,\"\")","v":""},{"$f":"IF(AND('FMI Template'!C415<>\"\",'FMI Template'!C415<>\"NA\",'FMI Template'!C415<>\"UA\"),'FMI Template'!C415,\"\")","v":""},{"$f":"IF(AND('FMI Template'!D415<>\"\",'FMI Template'!D415<>\"NA\",'FMI Template'!D415<>\"UA\"),'FMI Template'!D415,\"\")","v":""},{"$f":"IF(AND('FMI Template'!F415<>\"\",'FMI Template'!F415<>\"NA\",'FMI Template'!F415<>\"UA\"),'FMI Template'!F415,\"\")","v":""},{"$f":"IF(AND('FMI Template'!H415<>\"\", 'FMI Template'!H415<>\"UA\"),IF('FMI Template'!H415=\"CSD\",\"(I)CSD\",IF('FMI Template'!H415=\"CCP_Derivatives\",\"CCP-Derivatives\",IF('FMI Template'!H415=\"CCP_securities\",\"CCP-securities\",IF('FMI Template'!H415=\"PS_Retail\",\"PS\",IF('FMI Template'!H415=\"PS_LV\",\"PS\",'FMI Template'!H415))))),\"\")","v":""},{"$f":"IF(AND('FMI Template'!I415<>\"\", 'FMI Template'!I415<>\"UA\"),'FMI Template'!I415,\"\")","v":""},{"$f":"IF(AND('FMI Template'!J415<>\"\",'FMI Template'!J415<>\"UA\"),IF('FMI Template'!J415=\"CSD_SSS\",\"CSD-SSS\",IF('FMI Template'!J415=\"CCP_Derivatives\",\"CCP-Derivatives\",IF('FMI Template'!J415=\"CCP_securities\",\"CCP-securities\",IF('FMI Template'!J415=\"Trading_venue\",\"Trading-venue\",'FMI Template'!J415)))),\"\")","v":""},{"$f":"IF(AND('FMI Template'!K415<>\"\",'FMI Template'!K415<>\"UA\"),'FMI Template'!K415,\"\")","v":""},{"$f":"IF('FMI Template'!K415=\"direct\",\"NA\",IF(AND('FMI Template'!M415<>\"\",'FMI Template'!M415<>\"UA\"),'FMI Template'!M415,\"\"))","v":""},{"$f":"IF('FMI Template'!K415=\"direct\",\"NA\",IF(AND('FMI Template'!N415<>\"\",'FMI Template'!N415<>\"UA\"),'FMI Template'!N415,\"\"))","v":""},{"$f":"IF(OR('FMI Template'!H415=\"Other\",'FMI Template'!H415=\"NA\"),'FMI Template'!Q415,\"\")","v":""},{"$f":"IF(AND('FMI Template'!O415<>\"\",'FMI Template'!O415<>\"NA\",'FMI Template'!O415<>\"UA\"),'FMI Template'!O415,\"\")","v":""}]
[null,{"$f":"IF(AND('FMI Template'!B416<>\"\",'FMI Template'!B416<>\"NA\",'FMI Template'!B416<>\"UA\"),'FMI Template'!B416,\"\")","v":""},{"$f":"IF(AND('FMI Template'!C416<>\"\",'FMI Template'!C416<>\"NA\",'FMI Template'!C416<>\"UA\"),'FMI Template'!C416,\"\")","v":""},{"$f":"IF(AND('FMI Template'!D416<>\"\",'FMI Template'!D416<>\"NA\",'FMI Template'!D416<>\"UA\"),'FMI Template'!D416,\"\")","v":""},{"$f":"IF(AND('FMI Template'!F416<>\"\",'FMI Template'!F416<>\"NA\",'FMI Template'!F416<>\"UA\"),'FMI Template'!F416,\"\")","v":""},{"$f":"IF(AND('FMI Template'!H416<>\"\", 'FMI Template'!H416<>\"UA\"),IF('FMI Template'!H416=\"CSD\",\"(I)CSD\",IF('FMI Template'!H416=\"CCP_Derivatives\",\"CCP-Derivatives\",IF('FMI Template'!H416=\"CCP_securities\",\"CCP-securities\",IF('FMI Template'!H416=\"PS_Retail\",\"PS\",IF('FMI Template'!H416=\"PS_LV\",\"PS\",'FMI Template'!H416))))),\"\")","v":""},{"$f":"IF(AND('FMI Template'!I416<>\"\", 'FMI Template'!I416<>\"UA\"),'FMI Template'!I416,\"\")","v":""},{"$f":"IF(AND('FMI Template'!J416<>\"\",'FMI Template'!J416<>\"UA\"),IF('FMI Template'!J416=\"CSD_SSS\",\"CSD-SSS\",IF('FMI Template'!J416=\"CCP_Derivatives\",\"CCP-Derivatives\",IF('FMI Template'!J416=\"CCP_securities\",\"CCP-securities\",IF('FMI Template'!J416=\"Trading_venue\",\"Trading-venue\",'FMI Template'!J416)))),\"\")","v":""},{"$f":"IF(AND('FMI Template'!K416<>\"\",'FMI Template'!K416<>\"UA\"),'FMI Template'!K416,\"\")","v":""},{"$f":"IF('FMI Template'!K416=\"direct\",\"NA\",IF(AND('FMI Template'!M416<>\"\",'FMI Template'!M416<>\"UA\"),'FMI Template'!M416,\"\"))","v":""},{"$f":"IF('FMI Template'!K416=\"direct\",\"NA\",IF(AND('FMI Template'!N416<>\"\",'FMI Template'!N416<>\"UA\"),'FMI Template'!N416,\"\"))","v":""},{"$f":"IF(OR('FMI Template'!H416=\"Other\",'FMI Template'!H416=\"NA\"),'FMI Template'!Q416,\"\")","v":""},{"$f":"IF(AND('FMI Template'!O416<>\"\",'FMI Template'!O416<>\"NA\",'FMI Template'!O416<>\"UA\"),'FMI Template'!O416,\"\")","v":""}]
[null,{"$f":"IF(AND('FMI Template'!B417<>\"\",'FMI Template'!B417<>\"NA\",'FMI Template'!B417<>\"UA\"),'FMI Template'!B417,\"\")","v":""},{"$f":"IF(AND('FMI Template'!C417<>\"\",'FMI Template'!C417<>\"NA\",'FMI Template'!C417<>\"UA\"),'FMI Template'!C417,\"\")","v":""},{"$f":"IF(AND('FMI Template'!D417<>\"\",'FMI Template'!D417<>\"NA\",'FMI Template'!D417<>\"UA\"),'FMI Template'!D417,\"\")","v":""},{"$f":"IF(AND('FMI Template'!F417<>\"\",'FMI Template'!F417<>\"NA\",'FMI Template'!F417<>\"UA\"),'FMI Template'!F417,\"\")","v":""},{"$f":"IF(AND('FMI Template'!H417<>\"\", 'FMI Template'!H417<>\"UA\"),IF('FMI Template'!H417=\"CSD\",\"(I)CSD\",IF('FMI Template'!H417=\"CCP_Derivatives\",\"CCP-Derivatives\",IF('FMI Template'!H417=\"CCP_securities\",\"CCP-securities\",IF('FMI Template'!H417=\"PS_Retail\",\"PS\",IF('FMI Template'!H417=\"PS_LV\",\"PS\",'FMI Template'!H417))))),\"\")","v":""},{"$f":"IF(AND('FMI Template'!I417<>\"\", 'FMI Template'!I417<>\"UA\"),'FMI Template'!I417,\"\")","v":""},{"$f":"IF(AND('FMI Template'!J417<>\"\",'FMI Template'!J417<>\"UA\"),IF('FMI Template'!J417=\"CSD_SSS\",\"CSD-SSS\",IF('FMI Template'!J417=\"CCP_Derivatives\",\"CCP-Derivatives\",IF('FMI Template'!J417=\"CCP_securities\",\"CCP-securities\",IF('FMI Template'!J417=\"Trading_venue\",\"Trading-venue\",'FMI Template'!J417)))),\"\")","v":""},{"$f":"IF(AND('FMI Template'!K417<>\"\",'FMI Template'!K417<>\"UA\"),'FMI Template'!K417,\"\")","v":""},{"$f":"IF('FMI Template'!K417=\"direct\",\"NA\",IF(AND('FMI Template'!M417<>\"\",'FMI Template'!M417<>\"UA\"),'FMI Template'!M417,\"\"))","v":""},{"$f":"IF('FMI Template'!K417=\"direct\",\"NA\",IF(AND('FMI Template'!N417<>\"\",'FMI Template'!N417<>\"UA\"),'FMI Template'!N417,\"\"))","v":""},{"$f":"IF(OR('FMI Template'!H417=\"Other\",'FMI Template'!H417=\"NA\"),'FMI Template'!Q417,\"\")","v":""},{"$f":"IF(AND('FMI Template'!O417<>\"\",'FMI Template'!O417<>\"NA\",'FMI Template'!O417<>\"UA\"),'FMI Template'!O417,\"\")","v":""}]
[null,{"$f":"IF(AND('FMI Template'!B418<>\"\",'FMI Template'!B418<>\"NA\",'FMI Template'!B418<>\"UA\"),'FMI Template'!B418,\"\")","v":""},{"$f":"IF(AND('FMI Template'!C418<>\"\",'FMI Template'!C418<>\"NA\",'FMI Template'!C418<>\"UA\"),'FMI Template'!C418,\"\")","v":""},{"$f":"IF(AND('FMI Template'!D418<>\"\",'FMI Template'!D418<>\"NA\",'FMI Template'!D418<>\"UA\"),'FMI Template'!D418,\"\")","v":""},{"$f":"IF(AND('FMI Template'!F418<>\"\",'FMI Template'!F418<>\"NA\",'FMI Template'!F418<>\"UA\"),'FMI Template'!F418,\"\")","v":""},{"$f":"IF(AND('FMI Template'!H418<>\"\", 'FMI Template'!H418<>\"UA\"),IF('FMI Template'!H418=\"CSD\",\"(I)CSD\",IF('FMI Template'!H418=\"CCP_Derivatives\",\"CCP-Derivatives\",IF('FMI Template'!H418=\"CCP_securities\",\"CCP-securities\",IF('FMI Template'!H418=\"PS_Retail\",\"PS\",IF('FMI Template'!H418=\"PS_LV\",\"PS\",'FMI Template'!H418))))),\"\")","v":""},{"$f":"IF(AND('FMI Template'!I418<>\"\", 'FMI Template'!I418<>\"UA\"),'FMI Template'!I418,\"\")","v":""},{"$f":"IF(AND('FMI Template'!J418<>\"\",'FMI Template'!J418<>\"UA\"),IF('FMI Template'!J418=\"CSD_SSS\",\"CSD-SSS\",IF('FMI Template'!J418=\"CCP_Derivatives\",\"CCP-Derivatives\",IF('FMI Template'!J418=\"CCP_securities\",\"CCP-securities\",IF('FMI Template'!J418=\"Trading_venue\",\"Trading-venue\",'FMI Template'!J418)))),\"\")","v":""},{"$f":"IF(AND('FMI Template'!K418<>\"\",'FMI Template'!K418<>\"UA\"),'FMI Template'!K418,\"\")","v":""},{"$f":"IF('FMI Template'!K418=\"direct\",\"NA\",IF(AND('FMI Template'!M418<>\"\",'FMI Template'!M418<>\"UA\"),'FMI Template'!M418,\"\"))","v":""},{"$f":"IF('FMI Template'!K418=\"direct\",\"NA\",IF(AND('FMI Template'!N418<>\"\",'FMI Template'!N418<>\"UA\"),'FMI Template'!N418,\"\"))","v":""},{"$f":"IF(OR('FMI Template'!H418=\"Other\",'FMI Template'!H418=\"NA\"),'FMI Template'!Q418,\"\")","v":""},{"$f":"IF(AND('FMI Template'!O418<>\"\",'FMI Template'!O418<>\"NA\",'FMI Template'!O418<>\"UA\"),'FMI Template'!O418,\"\")","v":""}]
[null,{"$f":"IF(AND('FMI Template'!B419<>\"\",'FMI Template'!B419<>\"NA\",'FMI Template'!B419<>\"UA\"),'FMI Template'!B419,\"\")","v":""},{"$f":"IF(AND('FMI Template'!C419<>\"\",'FMI Template'!C419<>\"NA\",'FMI Template'!C419<>\"UA\"),'FMI Template'!C419,\"\")","v":""},{"$f":"IF(AND('FMI Template'!D419<>\"\",'FMI Template'!D419<>\"NA\",'FMI Template'!D419<>\"UA\"),'FMI Template'!D419,\"\")","v":""},{"$f":"IF(AND('FMI Template'!F419<>\"\",'FMI Template'!F419<>\"NA\",'FMI Template'!F419<>\"UA\"),'FMI Template'!F419,\"\")","v":""},{"$f":"IF(AND('FMI Template'!H419<>\"\", 'FMI Template'!H419<>\"UA\"),IF('FMI Template'!H419=\"CSD\",\"(I)CSD\",IF('FMI Template'!H419=\"CCP_Derivatives\",\"CCP-Derivatives\",IF('FMI Template'!H419=\"CCP_securities\",\"CCP-securities\",IF('FMI Template'!H419=\"PS_Retail\",\"PS\",IF('FMI Template'!H419=\"PS_LV\",\"PS\",'FMI Template'!H419))))),\"\")","v":""},{"$f":"IF(AND('FMI Template'!I419<>\"\", 'FMI Template'!I419<>\"UA\"),'FMI Template'!I419,\"\")","v":""},{"$f":"IF(AND('FMI Template'!J419<>\"\",'FMI Template'!J419<>\"UA\"),IF('FMI Template'!J419=\"CSD_SSS\",\"CSD-SSS\",IF('FMI Template'!J419=\"CCP_Derivatives\",\"CCP-Derivatives\",IF('FMI Template'!J419=\"CCP_securities\",\"CCP-securities\",IF('FMI Template'!J419=\"Trading_venue\",\"Trading-venue\",'FMI Template'!J419)))),\"\")","v":""},{"$f":"IF(AND('FMI Template'!K419<>\"\",'FMI Template'!K419<>\"UA\"),'FMI Template'!K419,\"\")","v":""},{"$f":"IF('FMI Template'!K419=\"direct\",\"NA\",IF(AND('FMI Template'!M419<>\"\",'FMI Template'!M419<>\"UA\"),'FMI Template'!M419,\"\"))","v":""},{"$f":"IF('FMI Template'!K419=\"direct\",\"NA\",IF(AND('FMI Template'!N419<>\"\",'FMI Template'!N419<>\"UA\"),'FMI Template'!N419,\"\"))","v":""},{"$f":"IF(OR('FMI Template'!H419=\"Other\",'FMI Template'!H419=\"NA\"),'FMI Template'!Q419,\"\")","v":""},{"$f":"IF(AND('FMI Template'!O419<>\"\",'FMI Template'!O419<>\"NA\",'FMI Template'!O419<>\"UA\"),'FMI Template'!O419,\"\")","v":""}]
[null,{"$f":"IF(AND('FMI Template'!B420<>\"\",'FMI Template'!B420<>\"NA\",'FMI Template'!B420<>\"UA\"),'FMI Template'!B420,\"\")","v":""},{"$f":"IF(AND('FMI Template'!C420<>\"\",'FMI Template'!C420<>\"NA\",'FMI Template'!C420<>\"UA\"),'FMI Template'!C420,\"\")","v":""},{"$f":"IF(AND('FMI Template'!D420<>\"\",'FMI Template'!D420<>\"NA\",'FMI Template'!D420<>\"UA\"),'FMI Template'!D420,\"\")","v":""},{"$f":"IF(AND('FMI Template'!F420<>\"\",'FMI Template'!F420<>\"NA\",'FMI Template'!F420<>\"UA\"),'FMI Template'!F420,\"\")","v":""},{"$f":"IF(AND('FMI Template'!H420<>\"\", 'FMI Template'!H420<>\"UA\"),IF('FMI Template'!H420=\"CSD\",\"(I)CSD\",IF('FMI Template'!H420=\"CCP_Derivatives\",\"CCP-Derivatives\",IF('FMI Template'!H420=\"CCP_securities\",\"CCP-securities\",IF('FMI Template'!H420=\"PS_Retail\",\"PS\",IF('FMI Template'!H420=\"PS_LV\",\"PS\",'FMI Template'!H420))))),\"\")","v":""},{"$f":"IF(AND('FMI Template'!I420<>\"\", 'FMI Template'!I420<>\"UA\"),'FMI Template'!I420,\"\")","v":""},{"$f":"IF(AND('FMI Template'!J420<>\"\",'FMI Template'!J420<>\"UA\"),IF('FMI Template'!J420=\"CSD_SSS\",\"CSD-SSS\",IF('FMI Template'!J420=\"CCP_Derivatives\",\"CCP-Derivatives\",IF('FMI Template'!J420=\"CCP_securities\",\"CCP-securities\",IF('FMI Template'!J420=\"Trading_venue\",\"Trading-venue\",'FMI Template'!J420)))),\"\")","v":""},{"$f":"IF(AND('FMI Template'!K420<>\"\",'FMI Template'!K420<>\"UA\"),'FMI Template'!K420,\"\")","v":""},{"$f":"IF('FMI Template'!K420=\"direct\",\"NA\",IF(AND('FMI Template'!M420<>\"\",'FMI Template'!M420<>\"UA\"),'FMI Template'!M420,\"\"))","v":""},{"$f":"IF('FMI Template'!K420=\"direct\",\"NA\",IF(AND('FMI Template'!N420<>\"\",'FMI Template'!N420<>\"UA\"),'FMI Template'!N420,\"\"))","v":""},{"$f":"IF(OR('FMI Template'!H420=\"Other\",'FMI Template'!H420=\"NA\"),'FMI Template'!Q420,\"\")","v":""},{"$f":"IF(AND('FMI Template'!O420<>\"\",'FMI Template'!O420<>\"NA\",'FMI Template'!O420<>\"UA\"),'FMI Template'!O420,\"\")","v":""}]
[null,{"$f":"IF(AND('FMI Template'!B421<>\"\",'FMI Template'!B421<>\"NA\",'FMI Template'!B421<>\"UA\"),'FMI Template'!B421,\"\")","v":""},{"$f":"IF(AND('FMI Template'!C421<>\"\",'FMI Template'!C421<>\"NA\",'FMI Template'!C421<>\"UA\"),'FMI Template'!C421,\"\")","v":""},{"$f":"IF(AND('FMI Template'!D421<>\"\",'FMI Template'!D421<>\"NA\",'FMI Template'!D421<>\"UA\"),'FMI Template'!D421,\"\")","v":""},{"$f":"IF(AND('FMI Template'!F421<>\"\",'FMI Template'!F421<>\"NA\",'FMI Template'!F421<>\"UA\"),'FMI Template'!F421,\"\")","v":""},{"$f":"IF(AND('FMI Template'!H421<>\"\", 'FMI Template'!H421<>\"UA\"),IF('FMI Template'!H421=\"CSD\",\"(I)CSD\",IF('FMI Template'!H421=\"CCP_Derivatives\",\"CCP-Derivatives\",IF('FMI Template'!H421=\"CCP_securities\",\"CCP-securities\",IF('FMI Template'!H421=\"PS_Retail\",\"PS\",IF('FMI Template'!H421=\"PS_LV\",\"PS\",'FMI Template'!H421))))),\"\")","v":""},{"$f":"IF(AND('FMI Template'!I421<>\"\", 'FMI Template'!I421<>\"UA\"),'FMI Template'!I421,\"\")","v":""},{"$f":"IF(AND('FMI Template'!J421<>\"\",'FMI Template'!J421<>\"UA\"),IF('FMI Template'!J421=\"CSD_SSS\",\"CSD-SSS\",IF('FMI Template'!J421=\"CCP_Derivatives\",\"CCP-Derivatives\",IF('FMI Template'!J421=\"CCP_securities\",\"CCP-securities\",IF('FMI Template'!J421=\"Trading_venue\",\"Trading-venue\",'FMI Template'!J421)))),\"\")","v":""},{"$f":"IF(AND('FMI Template'!K421<>\"\",'FMI Template'!K421<>\"UA\"),'FMI Template'!K421,\"\")","v":""},{"$f":"IF('FMI Template'!K421=\"direct\",\"NA\",IF(AND('FMI Template'!M421<>\"\",'FMI Template'!M421<>\"UA\"),'FMI Template'!M421,\"\"))","v":""},{"$f":"IF('FMI Template'!K421=\"direct\",\"NA\",IF(AND('FMI Template'!N421<>\"\",'FMI Template'!N421<>\"UA\"),'FMI Template'!N421,\"\"))","v":""},{"$f":"IF(OR('FMI Template'!H421=\"Other\",'FMI Template'!H421=\"NA\"),'FMI Template'!Q421,\"\")","v":""},{"$f":"IF(AND('FMI Template'!O421<>\"\",'FMI Template'!O421<>\"NA\",'FMI Template'!O421<>\"UA\"),'FMI Template'!O421,\"\")","v":""}]
[null,{"$f":"IF(AND('FMI Template'!B422<>\"\",'FMI Template'!B422<>\"NA\",'FMI Template'!B422<>\"UA\"),'FMI Template'!B422,\"\")","v":""},{"$f":"IF(AND('FMI Template'!C422<>\"\",'FMI Template'!C422<>\"NA\",'FMI Template'!C422<>\"UA\"),'FMI Template'!C422,\"\")","v":""},{"$f":"IF(AND('FMI Template'!D422<>\"\",'FMI Template'!D422<>\"NA\",'FMI Template'!D422<>\"UA\"),'FMI Template'!D422,\"\")","v":""},{"$f":"IF(AND('FMI Template'!F422<>\"\",'FMI Template'!F422<>\"NA\",'FMI Template'!F422<>\"UA\"),'FMI Template'!F422,\"\")","v":""},{"$f":"IF(AND('FMI Template'!H422<>\"\", 'FMI Template'!H422<>\"UA\"),IF('FMI Template'!H422=\"CSD\",\"(I)CSD\",IF('FMI Template'!H422=\"CCP_Derivatives\",\"CCP-Derivatives\",IF('FMI Template'!H422=\"CCP_securities\",\"CCP-securities\",IF('FMI Template'!H422=\"PS_Retail\",\"PS\",IF('FMI Template'!H422=\"PS_LV\",\"PS\",'FMI Template'!H422))))),\"\")","v":""},{"$f":"IF(AND('FMI Template'!I422<>\"\", 'FMI Template'!I422<>\"UA\"),'FMI Template'!I422,\"\")","v":""},{"$f":"IF(AND('FMI Template'!J422<>\"\",'FMI Template'!J422<>\"UA\"),IF('FMI Template'!J422=\"CSD_SSS\",\"CSD-SSS\",IF('FMI Template'!J422=\"CCP_Derivatives\",\"CCP-Derivatives\",IF('FMI Template'!J422=\"CCP_securities\",\"CCP-securities\",IF('FMI Template'!J422=\"Trading_venue\",\"Trading-venue\",'FMI Template'!J422)))),\"\")","v":""},{"$f":"IF(AND('FMI Template'!K422<>\"\",'FMI Template'!K422<>\"UA\"),'FMI Template'!K422,\"\")","v":""},{"$f":"IF('FMI Template'!K422=\"direct\",\"NA\",IF(AND('FMI Template'!M422<>\"\",'FMI Template'!M422<>\"UA\"),'FMI Template'!M422,\"\"))","v":""},{"$f":"IF('FMI Template'!K422=\"direct\",\"NA\",IF(AND('FMI Template'!N422<>\"\",'FMI Template'!N422<>\"UA\"),'FMI Template'!N422,\"\"))","v":""},{"$f":"IF(OR('FMI Template'!H422=\"Other\",'FMI Template'!H422=\"NA\"),'FMI Template'!Q422,\"\")","v":""},{"$f":"IF(AND('FMI Template'!O422<>\"\",'FMI Template'!O422<>\"NA\",'FMI Template'!O422<>\"UA\"),'FMI Template'!O422,\"\")","v":""}]
[null,{"$f":"IF(AND('FMI Template'!B423<>\"\",'FMI Template'!B423<>\"NA\",'FMI Template'!B423<>\"UA\"),'FMI Template'!B423,\"\")","v":""},{"$f":"IF(AND('FMI Template'!C423<>\"\",'FMI Template'!C423<>\"NA\",'FMI Template'!C423<>\"UA\"),'FMI Template'!C423,\"\")","v":""},{"$f":"IF(AND('FMI Template'!D423<>\"\",'FMI Template'!D423<>\"NA\",'FMI Template'!D423<>\"UA\"),'FMI Template'!D423,\"\")","v":""},{"$f":"IF(AND('FMI Template'!F423<>\"\",'FMI Template'!F423<>\"NA\",'FMI Template'!F423<>\"UA\"),'FMI Template'!F423,\"\")","v":""},{"$f":"IF(AND('FMI Template'!H423<>\"\", 'FMI Template'!H423<>\"UA\"),IF('FMI Template'!H423=\"CSD\",\"(I)CSD\",IF('FMI Template'!H423=\"CCP_Derivatives\",\"CCP-Derivatives\",IF('FMI Template'!H423=\"CCP_securities\",\"CCP-securities\",IF('FMI Template'!H423=\"PS_Retail\",\"PS\",IF('FMI Template'!H423=\"PS_LV\",\"PS\",'FMI Template'!H423))))),\"\")","v":""},{"$f":"IF(AND('FMI Template'!I423<>\"\", 'FMI Template'!I423<>\"UA\"),'FMI Template'!I423,\"\")","v":""},{"$f":"IF(AND('FMI Template'!J423<>\"\",'FMI Template'!J423<>\"UA\"),IF('FMI Template'!J423=\"CSD_SSS\",\"CSD-SSS\",IF('FMI Template'!J423=\"CCP_Derivatives\",\"CCP-Derivatives\",IF('FMI Template'!J423=\"CCP_securities\",\"CCP-securities\",IF('FMI Template'!J423=\"Trading_venue\",\"Trading-venue\",'FMI Template'!J423)))),\"\")","v":""},{"$f":"IF(AND('FMI Template'!K423<>\"\",'FMI Template'!K423<>\"UA\"),'FMI Template'!K423,\"\")","v":""},{"$f":"IF('FMI Template'!K423=\"direct\",\"NA\",IF(AND('FMI Template'!M423<>\"\",'FMI Template'!M423<>\"UA\"),'FMI Template'!M423,\"\"))","v":""},{"$f":"IF('FMI Template'!K423=\"direct\",\"NA\",IF(AND('FMI Template'!N423<>\"\",'FMI Template'!N423<>\"UA\"),'FMI Template'!N423,\"\"))","v":""},{"$f":"IF(OR('FMI Template'!H423=\"Other\",'FMI Template'!H423=\"NA\"),'FMI Template'!Q423,\"\")","v":""},{"$f":"IF(AND('FMI Template'!O423<>\"\",'FMI Template'!O423<>\"NA\",'FMI Template'!O423<>\"UA\"),'FMI Template'!O423,\"\")","v":""}]
[null,{"$f":"IF(AND('FMI Template'!B424<>\"\",'FMI Template'!B424<>\"NA\",'FMI Template'!B424<>\"UA\"),'FMI Template'!B424,\"\")","v":""},{"$f":"IF(AND('FMI Template'!C424<>\"\",'FMI Template'!C424<>\"NA\",'FMI Template'!C424<>\"UA\"),'FMI Template'!C424,\"\")","v":""},{"$f":"IF(AND('FMI Template'!D424<>\"\",'FMI Template'!D424<>\"NA\",'FMI Template'!D424<>\"UA\"),'FMI Template'!D424,\"\")","v":""},{"$f":"IF(AND('FMI Template'!F424<>\"\",'FMI Template'!F424<>\"NA\",'FMI Template'!F424<>\"UA\"),'FMI Template'!F424,\"\")","v":""},{"$f":"IF(AND('FMI Template'!H424<>\"\", 'FMI Template'!H424<>\"UA\"),IF('FMI Template'!H424=\"CSD\",\"(I)CSD\",IF('FMI Template'!H424=\"CCP_Derivatives\",\"CCP-Derivatives\",IF('FMI Template'!H424=\"CCP_securities\",\"CCP-securities\",IF('FMI Template'!H424=\"PS_Retail\",\"PS\",IF('FMI Template'!H424=\"PS_LV\",\"PS\",'FMI Template'!H424))))),\"\")","v":""},{"$f":"IF(AND('FMI Template'!I424<>\"\", 'FMI Template'!I424<>\"UA\"),'FMI Template'!I424,\"\")","v":""},{"$f":"IF(AND('FMI Template'!J424<>\"\",'FMI Template'!J424<>\"UA\"),IF('FMI Template'!J424=\"CSD_SSS\",\"CSD-SSS\",IF('FMI Template'!J424=\"CCP_Derivatives\",\"CCP-Derivatives\",IF('FMI Template'!J424=\"CCP_securities\",\"CCP-securities\",IF('FMI Template'!J424=\"Trading_venue\",\"Trading-venue\",'FMI Template'!J424)))),\"\")","v":""},{"$f":"IF(AND('FMI Template'!K424<>\"\",'FMI Template'!K424<>\"UA\"),'FMI Template'!K424,\"\")","v":""},{"$f":"IF('FMI Template'!K424=\"direct\",\"NA\",IF(AND('FMI Template'!M424<>\"\",'FMI Template'!M424<>\"UA\"),'FMI Template'!M424,\"\"))","v":""},{"$f":"IF('FMI Template'!K424=\"direct\",\"NA\",IF(AND('FMI Template'!N424<>\"\",'FMI Template'!N424<>\"UA\"),'FMI Template'!N424,\"\"))","v":""},{"$f":"IF(OR('FMI Template'!H424=\"Other\",'FMI Template'!H424=\"NA\"),'FMI Template'!Q424,\"\")","v":""},{"$f":"IF(AND('FMI Template'!O424<>\"\",'FMI Template'!O424<>\"NA\",'FMI Template'!O424<>\"UA\"),'FMI Template'!O424,\"\")","v":""}]
[null,{"$f":"IF(AND('FMI Template'!B425<>\"\",'FMI Template'!B425<>\"NA\",'FMI Template'!B425<>\"UA\"),'FMI Template'!B425,\"\")","v":""},{"$f":"IF(AND('FMI Template'!C425<>\"\",'FMI Template'!C425<>\"NA\",'FMI Template'!C425<>\"UA\"),'FMI Template'!C425,\"\")","v":""},{"$f":"IF(AND('FMI Template'!D425<>\"\",'FMI Template'!D425<>\"NA\",'FMI Template'!D425<>\"UA\"),'FMI Template'!D425,\"\")","v":""},{"$f":"IF(AND('FMI Template'!F425<>\"\",'FMI Template'!F425<>\"NA\",'FMI Template'!F425<>\"UA\"),'FMI Template'!F425,\"\")","v":""},{"$f":"IF(AND('FMI Template'!H425<>\"\", 'FMI Template'!H425<>\"UA\"),IF('FMI Template'!H425=\"CSD\",\"(I)CSD\",IF('FMI Template'!H425=\"CCP_Derivatives\",\"CCP-Derivatives\",IF('FMI Template'!H425=\"CCP_securities\",\"CCP-securities\",IF('FMI Template'!H425=\"PS_Retail\",\"PS\",IF('FMI Template'!H425=\"PS_LV\",\"PS\",'FMI Template'!H425))))),\"\")","v":""},{"$f":"IF(AND('FMI Template'!I425<>\"\", 'FMI Template'!I425<>\"UA\"),'FMI Template'!I425,\"\")","v":""},{"$f":"IF(AND('FMI Template'!J425<>\"\",'FMI Template'!J425<>\"UA\"),IF('FMI Template'!J425=\"CSD_SSS\",\"CSD-SSS\",IF('FMI Template'!J425=\"CCP_Derivatives\",\"CCP-Derivatives\",IF('FMI Template'!J425=\"CCP_securities\",\"CCP-securities\",IF('FMI Template'!J425=\"Trading_venue\",\"Trading-venue\",'FMI Template'!J425)))),\"\")","v":""},{"$f":"IF(AND('FMI Template'!K425<>\"\",'FMI Template'!K425<>\"UA\"),'FMI Template'!K425,\"\")","v":""},{"$f":"IF('FMI Template'!K425=\"direct\",\"NA\",IF(AND('FMI Template'!M425<>\"\",'FMI Template'!M425<>\"UA\"),'FMI Template'!M425,\"\"))","v":""},{"$f":"IF('FMI Template'!K425=\"direct\",\"NA\",IF(AND('FMI Template'!N425<>\"\",'FMI Template'!N425<>\"UA\"),'FMI Template'!N425,\"\"))","v":""},{"$f":"IF(OR('FMI Template'!H425=\"Other\",'FMI Template'!H425=\"NA\"),'FMI Template'!Q425,\"\")","v":""},{"$f":"IF(AND('FMI Template'!O425<>\"\",'FMI Template'!O425<>\"NA\",'FMI Template'!O425<>\"UA\"),'FMI Template'!O425,\"\")","v":""}]
[null,{"$f":"IF(AND('FMI Template'!B426<>\"\",'FMI Template'!B426<>\"NA\",'FMI Template'!B426<>\"UA\"),'FMI Template'!B426,\"\")","v":""},{"$f":"IF(AND('FMI Template'!C426<>\"\",'FMI Template'!C426<>\"NA\",'FMI Template'!C426<>\"UA\"),'FMI Template'!C426,\"\")","v":""},{"$f":"IF(AND('FMI Template'!D426<>\"\",'FMI Template'!D426<>\"NA\",'FMI Template'!D426<>\"UA\"),'FMI Template'!D426,\"\")","v":""},{"$f":"IF(AND('FMI Template'!F426<>\"\",'FMI Template'!F426<>\"NA\",'FMI Template'!F426<>\"UA\"),'FMI Template'!F426,\"\")","v":""},{"$f":"IF(AND('FMI Template'!H426<>\"\", 'FMI Template'!H426<>\"UA\"),IF('FMI Template'!H426=\"CSD\",\"(I)CSD\",IF('FMI Template'!H426=\"CCP_Derivatives\",\"CCP-Derivatives\",IF('FMI Template'!H426=\"CCP_securities\",\"CCP-securities\",IF('FMI Template'!H426=\"PS_Retail\",\"PS\",IF('FMI Template'!H426=\"PS_LV\",\"PS\",'FMI Template'!H426))))),\"\")","v":""},{"$f":"IF(AND('FMI Template'!I426<>\"\", 'FMI Template'!I426<>\"UA\"),'FMI Template'!I426,\"\")","v":""},{"$f":"IF(AND('FMI Template'!J426<>\"\",'FMI Template'!J426<>\"UA\"),IF('FMI Template'!J426=\"CSD_SSS\",\"CSD-SSS\",IF('FMI Template'!J426=\"CCP_Derivatives\",\"CCP-Derivatives\",IF('FMI Template'!J426=\"CCP_securities\",\"CCP-securities\",IF('FMI Template'!J426=\"Trading_venue\",\"Trading-venue\",'FMI Template'!J426)))),\"\")","v":""},{"$f":"IF(AND('FMI Template'!K426<>\"\",'FMI Template'!K426<>\"UA\"),'FMI Template'!K426,\"\")","v":""},{"$f":"IF('FMI Template'!K426=\"direct\",\"NA\",IF(AND('FMI Template'!M426<>\"\",'FMI Template'!M426<>\"UA\"),'FMI Template'!M426,\"\"))","v":""},{"$f":"IF('FMI Template'!K426=\"direct\",\"NA\",IF(AND('FMI Template'!N426<>\"\",'FMI Template'!N426<>\"UA\"),'FMI Template'!N426,\"\"))","v":""},{"$f":"IF(OR('FMI Template'!H426=\"Other\",'FMI Template'!H426=\"NA\"),'FMI Template'!Q426,\"\")","v":""},{"$f":"IF(AND('FMI Template'!O426<>\"\",'FMI Template'!O426<>\"NA\",'FMI Template'!O426<>\"UA\"),'FMI Template'!O426,\"\")","v":""}]
[null,{"$f":"IF(AND('FMI Template'!B427<>\"\",'FMI Template'!B427<>\"NA\",'FMI Template'!B427<>\"UA\"),'FMI Template'!B427,\"\")","v":""},{"$f":"IF(AND('FMI Template'!C427<>\"\",'FMI Template'!C427<>\"NA\",'FMI Template'!C427<>\"UA\"),'FMI Template'!C427,\"\")","v":""},{"$f":"IF(AND('FMI Template'!D427<>\"\",'FMI Template'!D427<>\"NA\",'FMI Template'!D427<>\"UA\"),'FMI Template'!D427,\"\")","v":""},{"$f":"IF(AND('FMI Template'!F427<>\"\",'FMI Template'!F427<>\"NA\",'FMI Template'!F427<>\"UA\"),'FMI Template'!F427,\"\")","v":""},{"$f":"IF(AND('FMI Template'!H427<>\"\", 'FMI Template'!H427<>\"UA\"),IF('FMI Template'!H427=\"CSD\",\"(I)CSD\",IF('FMI Template'!H427=\"CCP_Derivatives\",\"CCP-Derivatives\",IF('FMI Template'!H427=\"CCP_securities\",\"CCP-securities\",IF('FMI Template'!H427=\"PS_Retail\",\"PS\",IF('FMI Template'!H427=\"PS_LV\",\"PS\",'FMI Template'!H427))))),\"\")","v":""},{"$f":"IF(AND('FMI Template'!I427<>\"\", 'FMI Template'!I427<>\"UA\"),'FMI Template'!I427,\"\")","v":""},{"$f":"IF(AND('FMI Template'!J427<>\"\",'FMI Template'!J427<>\"UA\"),IF('FMI Template'!J427=\"CSD_SSS\",\"CSD-SSS\",IF('FMI Template'!J427=\"CCP_Derivatives\",\"CCP-Derivatives\",IF('FMI Template'!J427=\"CCP_securities\",\"CCP-securities\",IF('FMI Template'!J427=\"Trading_venue\",\"Trading-venue\",'FMI Template'!J427)))),\"\")","v":""},{"$f":"IF(AND('FMI Template'!K427<>\"\",'FMI Template'!K427<>\"UA\"),'FMI Template'!K427,\"\")","v":""},{"$f":"IF('FMI Template'!K427=\"direct\",\"NA\",IF(AND('FMI Template'!M427<>\"\",'FMI Template'!M427<>\"UA\"),'FMI Template'!M427,\"\"))","v":""},{"$f":"IF('FMI Template'!K427=\"direct\",\"NA\",IF(AND('FMI Template'!N427<>\"\",'FMI Template'!N427<>\"UA\"),'FMI Template'!N427,\"\"))","v":""},{"$f":"IF(OR('FMI Template'!H427=\"Other\",'FMI Template'!H427=\"NA\"),'FMI Template'!Q427,\"\")","v":""},{"$f":"IF(AND('FMI Template'!O427<>\"\",'FMI Template'!O427<>\"NA\",'FMI Template'!O427<>\"UA\"),'FMI Template'!O427,\"\")","v":""}]
[null,{"$f":"IF(AND('FMI Template'!B428<>\"\",'FMI Template'!B428<>\"NA\",'FMI Template'!B428<>\"UA\"),'FMI Template'!B428,\"\")","v":""},{"$f":"IF(AND('FMI Template'!C428<>\"\",'FMI Template'!C428<>\"NA\",'FMI Template'!C428<>\"UA\"),'FMI Template'!C428,\"\")","v":""},{"$f":"IF(AND('FMI Template'!D428<>\"\",'FMI Template'!D428<>\"NA\",'FMI Template'!D428<>\"UA\"),'FMI Template'!D428,\"\")","v":""},{"$f":"IF(AND('FMI Template'!F428<>\"\",'FMI Template'!F428<>\"NA\",'FMI Template'!F428<>\"UA\"),'FMI Template'!F428,\"\")","v":""},{"$f":"IF(AND('FMI Template'!H428<>\"\", 'FMI Template'!H428<>\"UA\"),IF('FMI Template'!H428=\"CSD\",\"(I)CSD\",IF('FMI Template'!H428=\"CCP_Derivatives\",\"CCP-Derivatives\",IF('FMI Template'!H428=\"CCP_securities\",\"CCP-securities\",IF('FMI Template'!H428=\"PS_Retail\",\"PS\",IF('FMI Template'!H428=\"PS_LV\",\"PS\",'FMI Template'!H428))))),\"\")","v":""},{"$f":"IF(AND('FMI Template'!I428<>\"\", 'FMI Template'!I428<>\"UA\"),'FMI Template'!I428,\"\")","v":""},{"$f":"IF(AND('FMI Template'!J428<>\"\",'FMI Template'!J428<>\"UA\"),IF('FMI Template'!J428=\"CSD_SSS\",\"CSD-SSS\",IF('FMI Template'!J428=\"CCP_Derivatives\",\"CCP-Derivatives\",IF('FMI Template'!J428=\"CCP_securities\",\"CCP-securities\",IF('FMI Template'!J428=\"Trading_venue\",\"Trading-venue\",'FMI Template'!J428)))),\"\")","v":""},{"$f":"IF(AND('FMI Template'!K428<>\"\",'FMI Template'!K428<>\"UA\"),'FMI Template'!K428,\"\")","v":""},{"$f":"IF('FMI Template'!K428=\"direct\",\"NA\",IF(AND('FMI Template'!M428<>\"\",'FMI Template'!M428<>\"UA\"),'FMI Template'!M428,\"\"))","v":""},{"$f":"IF('FMI Template'!K428=\"direct\",\"NA\",IF(AND('FMI Template'!N428<>\"\",'FMI Template'!N428<>\"UA\"),'FMI Template'!N428,\"\"))","v":""},{"$f":"IF(OR('FMI Template'!H428=\"Other\",'FMI Template'!H428=\"NA\"),'FMI Template'!Q428,\"\")","v":""},{"$f":"IF(AND('FMI Template'!O428<>\"\",'FMI Template'!O428<>\"NA\",'FMI Template'!O428<>\"UA\"),'FMI Template'!O428,\"\")","v":""}]
[null,{"$f":"IF(AND('FMI Template'!B429<>\"\",'FMI Template'!B429<>\"NA\",'FMI Template'!B429<>\"UA\"),'FMI Template'!B429,\"\")","v":""},{"$f":"IF(AND('FMI Template'!C429<>\"\",'FMI Template'!C429<>\"NA\",'FMI Template'!C429<>\"UA\"),'FMI Template'!C429,\"\")","v":""},{"$f":"IF(AND('FMI Template'!D429<>\"\",'FMI Template'!D429<>\"NA\",'FMI Template'!D429<>\"UA\"),'FMI Template'!D429,\"\")","v":""},{"$f":"IF(AND('FMI Template'!F429<>\"\",'FMI Template'!F429<>\"NA\",'FMI Template'!F429<>\"UA\"),'FMI Template'!F429,\"\")","v":""},{"$f":"IF(AND('FMI Template'!H429<>\"\", 'FMI Template'!H429<>\"UA\"),IF('FMI Template'!H429=\"CSD\",\"(I)CSD\",IF('FMI Template'!H429=\"CCP_Derivatives\",\"CCP-Derivatives\",IF('FMI Template'!H429=\"CCP_securities\",\"CCP-securities\",IF('FMI Template'!H429=\"PS_Retail\",\"PS\",IF('FMI Template'!H429=\"PS_LV\",\"PS\",'FMI Template'!H429))))),\"\")","v":""},{"$f":"IF(AND('FMI Template'!I429<>\"\", 'FMI Template'!I429<>\"UA\"),'FMI Template'!I429,\"\")","v":""},{"$f":"IF(AND('FMI Template'!J429<>\"\",'FMI Template'!J429<>\"UA\"),IF('FMI Template'!J429=\"CSD_SSS\",\"CSD-SSS\",IF('FMI Template'!J429=\"CCP_Derivatives\",\"CCP-Derivatives\",IF('FMI Template'!J429=\"CCP_securities\",\"CCP-securities\",IF('FMI Template'!J429=\"Trading_venue\",\"Trading-venue\",'FMI Template'!J429)))),\"\")","v":""},{"$f":"IF(AND('FMI Template'!K429<>\"\",'FMI Template'!K429<>\"UA\"),'FMI Template'!K429,\"\")","v":""},{"$f":"IF('FMI Template'!K429=\"direct\",\"NA\",IF(AND('FMI Template'!M429<>\"\",'FMI Template'!M429<>\"UA\"),'FMI Template'!M429,\"\"))","v":""},{"$f":"IF('FMI Template'!K429=\"direct\",\"NA\",IF(AND('FMI Template'!N429<>\"\",'FMI Template'!N429<>\"UA\"),'FMI Template'!N429,\"\"))","v":""},{"$f":"IF(OR('FMI Template'!H429=\"Other\",'FMI Template'!H429=\"NA\"),'FMI Template'!Q429,\"\")","v":""},{"$f":"IF(AND('FMI Template'!O429<>\"\",'FMI Template'!O429<>\"NA\",'FMI Template'!O429<>\"UA\"),'FMI Template'!O429,\"\")","v":""}]
[null,{"$f":"IF(AND('FMI Template'!B430<>\"\",'FMI Template'!B430<>\"NA\",'FMI Template'!B430<>\"UA\"),'FMI Template'!B430,\"\")","v":""},{"$f":"IF(AND('FMI Template'!C430<>\"\",'FMI Template'!C430<>\"NA\",'FMI Template'!C430<>\"UA\"),'FMI Template'!C430,\"\")","v":""},{"$f":"IF(AND('FMI Template'!D430<>\"\",'FMI Template'!D430<>\"NA\",'FMI Template'!D430<>\"UA\"),'FMI Template'!D430,\"\")","v":""},{"$f":"IF(AND('FMI Template'!F430<>\"\",'FMI Template'!F430<>\"NA\",'FMI Template'!F430<>\"UA\"),'FMI Template'!F430,\"\")","v":""},{"$f":"IF(AND('FMI Template'!H430<>\"\", 'FMI Template'!H430<>\"UA\"),IF('FMI Template'!H430=\"CSD\",\"(I)CSD\",IF('FMI Template'!H430=\"CCP_Derivatives\",\"CCP-Derivatives\",IF('FMI Template'!H430=\"CCP_securities\",\"CCP-securities\",IF('FMI Template'!H430=\"PS_Retail\",\"PS\",IF('FMI Template'!H430=\"PS_LV\",\"PS\",'FMI Template'!H430))))),\"\")","v":""},{"$f":"IF(AND('FMI Template'!I430<>\"\", 'FMI Template'!I430<>\"UA\"),'FMI Template'!I430,\"\")","v":""},{"$f":"IF(AND('FMI Template'!J430<>\"\",'FMI Template'!J430<>\"UA\"),IF('FMI Template'!J430=\"CSD_SSS\",\"CSD-SSS\",IF('FMI Template'!J430=\"CCP_Derivatives\",\"CCP-Derivatives\",IF('FMI Template'!J430=\"CCP_securities\",\"CCP-securities\",IF('FMI Template'!J430=\"Trading_venue\",\"Trading-venue\",'FMI Template'!J430)))),\"\")","v":""},{"$f":"IF(AND('FMI Template'!K430<>\"\",'FMI Template'!K430<>\"UA\"),'FMI Template'!K430,\"\")","v":""},{"$f":"IF('FMI Template'!K430=\"direct\",\"NA\",IF(AND('FMI Template'!M430<>\"\",'FMI Template'!M430<>\"UA\"),'FMI Template'!M430,\"\"))","v":""},{"$f":"IF('FMI Template'!K430=\"direct\",\"NA\",IF(AND('FMI Template'!N430<>\"\",'FMI Template'!N430<>\"UA\"),'FMI Template'!N430,\"\"))","v":""},{"$f":"IF(OR('FMI Template'!H430=\"Other\",'FMI Template'!H430=\"NA\"),'FMI Template'!Q430,\"\")","v":""},{"$f":"IF(AND('FMI Template'!O430<>\"\",'FMI Template'!O430<>\"NA\",'FMI Template'!O430<>\"UA\"),'FMI Template'!O430,\"\")","v":""}]
[null,{"$f":"IF(AND('FMI Template'!B431<>\"\",'FMI Template'!B431<>\"NA\",'FMI Template'!B431<>\"UA\"),'FMI Template'!B431,\"\")","v":""},{"$f":"IF(AND('FMI Template'!C431<>\"\",'FMI Template'!C431<>\"NA\",'FMI Template'!C431<>\"UA\"),'FMI Template'!C431,\"\")","v":""},{"$f":"IF(AND('FMI Template'!D431<>\"\",'FMI Template'!D431<>\"NA\",'FMI Template'!D431<>\"UA\"),'FMI Template'!D431,\"\")","v":""},{"$f":"IF(AND('FMI Template'!F431<>\"\",'FMI Template'!F431<>\"NA\",'FMI Template'!F431<>\"UA\"),'FMI Template'!F431,\"\")","v":""},{"$f":"IF(AND('FMI Template'!H431<>\"\", 'FMI Template'!H431<>\"UA\"),IF('FMI Template'!H431=\"CSD\",\"(I)CSD\",IF('FMI Template'!H431=\"CCP_Derivatives\",\"CCP-Derivatives\",IF('FMI Template'!H431=\"CCP_securities\",\"CCP-securities\",IF('FMI Template'!H431=\"PS_Retail\",\"PS\",IF('FMI Template'!H431=\"PS_LV\",\"PS\",'FMI Template'!H431))))),\"\")","v":""},{"$f":"IF(AND('FMI Template'!I431<>\"\", 'FMI Template'!I431<>\"UA\"),'FMI Template'!I431,\"\")","v":""},{"$f":"IF(AND('FMI Template'!J431<>\"\",'FMI Template'!J431<>\"UA\"),IF('FMI Template'!J431=\"CSD_SSS\",\"CSD-SSS\",IF('FMI Template'!J431=\"CCP_Derivatives\",\"CCP-Derivatives\",IF('FMI Template'!J431=\"CCP_securities\",\"CCP-securities\",IF('FMI Template'!J431=\"Trading_venue\",\"Trading-venue\",'FMI Template'!J431)))),\"\")","v":""},{"$f":"IF(AND('FMI Template'!K431<>\"\",'FMI Template'!K431<>\"UA\"),'FMI Template'!K431,\"\")","v":""},{"$f":"IF('FMI Template'!K431=\"direct\",\"NA\",IF(AND('FMI Template'!M431<>\"\",'FMI Template'!M431<>\"UA\"),'FMI Template'!M431,\"\"))","v":""},{"$f":"IF('FMI Template'!K431=\"direct\",\"NA\",IF(AND('FMI Template'!N431<>\"\",'FMI Template'!N431<>\"UA\"),'FMI Template'!N431,\"\"))","v":""},{"$f":"IF(OR('FMI Template'!H431=\"Other\",'FMI Template'!H431=\"NA\"),'FMI Template'!Q431,\"\")","v":""},{"$f":"IF(AND('FMI Template'!O431<>\"\",'FMI Template'!O431<>\"NA\",'FMI Template'!O431<>\"UA\"),'FMI Template'!O431,\"\")","v":""}]
[null,{"$f":"IF(AND('FMI Template'!B432<>\"\",'FMI Template'!B432<>\"NA\",'FMI Template'!B432<>\"UA\"),'FMI Template'!B432,\"\")","v":""},{"$f":"IF(AND('FMI Template'!C432<>\"\",'FMI Template'!C432<>\"NA\",'FMI Template'!C432<>\"UA\"),'FMI Template'!C432,\"\")","v":""},{"$f":"IF(AND('FMI Template'!D432<>\"\",'FMI Template'!D432<>\"NA\",'FMI Template'!D432<>\"UA\"),'FMI Template'!D432,\"\")","v":""},{"$f":"IF(AND('FMI Template'!F432<>\"\",'FMI Template'!F432<>\"NA\",'FMI Template'!F432<>\"UA\"),'FMI Template'!F432,\"\")","v":""},{"$f":"IF(AND('FMI Template'!H432<>\"\", 'FMI Template'!H432<>\"UA\"),IF('FMI Template'!H432=\"CSD\",\"(I)CSD\",IF('FMI Template'!H432=\"CCP_Derivatives\",\"CCP-Derivatives\",IF('FMI Template'!H432=\"CCP_securities\",\"CCP-securities\",IF('FMI Template'!H432=\"PS_Retail\",\"PS\",IF('FMI Template'!H432=\"PS_LV\",\"PS\",'FMI Template'!H432))))),\"\")","v":""},{"$f":"IF(AND('FMI Template'!I432<>\"\", 'FMI Template'!I432<>\"UA\"),'FMI Template'!I432,\"\")","v":""},{"$f":"IF(AND('FMI Template'!J432<>\"\",'FMI Template'!J432<>\"UA\"),IF('FMI Template'!J432=\"CSD_SSS\",\"CSD-SSS\",IF('FMI Template'!J432=\"CCP_Derivatives\",\"CCP-Derivatives\",IF('FMI Template'!J432=\"CCP_securities\",\"CCP-securities\",IF('FMI Template'!J432=\"Trading_venue\",\"Trading-venue\",'FMI Template'!J432)))),\"\")","v":""},{"$f":"IF(AND('FMI Template'!K432<>\"\",'FMI Template'!K432<>\"UA\"),'FMI Template'!K432,\"\")","v":""},{"$f":"IF('FMI Template'!K432=\"direct\",\"NA\",IF(AND('FMI Template'!M432<>\"\",'FMI Template'!M432<>\"UA\"),'FMI Template'!M432,\"\"))","v":""},{"$f":"IF('FMI Template'!K432=\"direct\",\"NA\",IF(AND('FMI Template'!N432<>\"\",'FMI Template'!N432<>\"UA\"),'FMI Template'!N432,\"\"))","v":""},{"$f":"IF(OR('FMI Template'!H432=\"Other\",'FMI Template'!H432=\"NA\"),'FMI Template'!Q432,\"\")","v":""},{"$f":"IF(AND('FMI Template'!O432<>\"\",'FMI Template'!O432<>\"NA\",'FMI Template'!O432<>\"UA\"),'FMI Template'!O432,\"\")","v":""}]
[null,{"$f":"IF(AND('FMI Template'!B433<>\"\",'FMI Template'!B433<>\"NA\",'FMI Template'!B433<>\"UA\"),'FMI Template'!B433,\"\")","v":""},{"$f":"IF(AND('FMI Template'!C433<>\"\",'FMI Template'!C433<>\"NA\",'FMI Template'!C433<>\"UA\"),'FMI Template'!C433,\"\")","v":""},{"$f":"IF(AND('FMI Template'!D433<>\"\",'FMI Template'!D433<>\"NA\",'FMI Template'!D433<>\"UA\"),'FMI Template'!D433,\"\")","v":""},{"$f":"IF(AND('FMI Template'!F433<>\"\",'FMI Template'!F433<>\"NA\",'FMI Template'!F433<>\"UA\"),'FMI Template'!F433,\"\")","v":""},{"$f":"IF(AND('FMI Template'!H433<>\"\", 'FMI Template'!H433<>\"UA\"),IF('FMI Template'!H433=\"CSD\",\"(I)CSD\",IF('FMI Template'!H433=\"CCP_Derivatives\",\"CCP-Derivatives\",IF('FMI Template'!H433=\"CCP_securities\",\"CCP-securities\",IF('FMI Template'!H433=\"PS_Retail\",\"PS\",IF('FMI Template'!H433=\"PS_LV\",\"PS\",'FMI Template'!H433))))),\"\")","v":""},{"$f":"IF(AND('FMI Template'!I433<>\"\", 'FMI Template'!I433<>\"UA\"),'FMI Template'!I433,\"\")","v":""},{"$f":"IF(AND('FMI Template'!J433<>\"\",'FMI Template'!J433<>\"UA\"),IF('FMI Template'!J433=\"CSD_SSS\",\"CSD-SSS\",IF('FMI Template'!J433=\"CCP_Derivatives\",\"CCP-Derivatives\",IF('FMI Template'!J433=\"CCP_securities\",\"CCP-securities\",IF('FMI Template'!J433=\"Trading_venue\",\"Trading-venue\",'FMI Template'!J433)))),\"\")","v":""},{"$f":"IF(AND('FMI Template'!K433<>\"\",'FMI Template'!K433<>\"UA\"),'FMI Template'!K433,\"\")","v":""},{"$f":"IF('FMI Template'!K433=\"direct\",\"NA\",IF(AND('FMI Template'!M433<>\"\",'FMI Template'!M433<>\"UA\"),'FMI Template'!M433,\"\"))","v":""},{"$f":"IF('FMI Template'!K433=\"direct\",\"NA\",IF(AND('FMI Template'!N433<>\"\",'FMI Template'!N433<>\"UA\"),'FMI Template'!N433,\"\"))","v":""},{"$f":"IF(OR('FMI Template'!H433=\"Other\",'FMI Template'!H433=\"NA\"),'FMI Template'!Q433,\"\")","v":""},{"$f":"IF(AND('FMI Template'!O433<>\"\",'FMI Template'!O433<>\"NA\",'FMI Template'!O433<>\"UA\"),'FMI Template'!O433,\"\")","v":""}]
[null,{"$f":"IF(AND('FMI Template'!B434<>\"\",'FMI Template'!B434<>\"NA\",'FMI Template'!B434<>\"UA\"),'FMI Template'!B434,\"\")","v":""},{"$f":"IF(AND('FMI Template'!C434<>\"\",'FMI Template'!C434<>\"NA\",'FMI Template'!C434<>\"UA\"),'FMI Template'!C434,\"\")","v":""},{"$f":"IF(AND('FMI Template'!D434<>\"\",'FMI Template'!D434<>\"NA\",'FMI Template'!D434<>\"UA\"),'FMI Template'!D434,\"\")","v":""},{"$f":"IF(AND('FMI Template'!F434<>\"\",'FMI Template'!F434<>\"NA\",'FMI Template'!F434<>\"UA\"),'FMI Template'!F434,\"\")","v":""},{"$f":"IF(AND('FMI Template'!H434<>\"\", 'FMI Template'!H434<>\"UA\"),IF('FMI Template'!H434=\"CSD\",\"(I)CSD\",IF('FMI Template'!H434=\"CCP_Derivatives\",\"CCP-Derivatives\",IF('FMI Template'!H434=\"CCP_securities\",\"CCP-securities\",IF('FMI Template'!H434=\"PS_Retail\",\"PS\",IF('FMI Template'!H434=\"PS_LV\",\"PS\",'FMI Template'!H434))))),\"\")","v":""},{"$f":"IF(AND('FMI Template'!I434<>\"\", 'FMI Template'!I434<>\"UA\"),'FMI Template'!I434,\"\")","v":""},{"$f":"IF(AND('FMI Template'!J434<>\"\",'FMI Template'!J434<>\"UA\"),IF('FMI Template'!J434=\"CSD_SSS\",\"CSD-SSS\",IF('FMI Template'!J434=\"CCP_Derivatives\",\"CCP-Derivatives\",IF('FMI Template'!J434=\"CCP_securities\",\"CCP-securities\",IF('FMI Template'!J434=\"Trading_venue\",\"Trading-venue\",'FMI Template'!J434)))),\"\")","v":""},{"$f":"IF(AND('FMI Template'!K434<>\"\",'FMI Template'!K434<>\"UA\"),'FMI Template'!K434,\"\")","v":""},{"$f":"IF('FMI Template'!K434=\"direct\",\"NA\",IF(AND('FMI Template'!M434<>\"\",'FMI Template'!M434<>\"UA\"),'FMI Template'!M434,\"\"))","v":""},{"$f":"IF('FMI Template'!K434=\"direct\",\"NA\",IF(AND('FMI Template'!N434<>\"\",'FMI Template'!N434<>\"UA\"),'FMI Template'!N434,\"\"))","v":""},{"$f":"IF(OR('FMI Template'!H434=\"Other\",'FMI Template'!H434=\"NA\"),'FMI Template'!Q434,\"\")","v":""},{"$f":"IF(AND('FMI Template'!O434<>\"\",'FMI Template'!O434<>\"NA\",'FMI Template'!O434<>\"UA\"),'FMI Template'!O434,\"\")","v":""}]
[null,{"$f":"IF(AND('FMI Template'!B435<>\"\",'FMI Template'!B435<>\"NA\",'FMI Template'!B435<>\"UA\"),'FMI Template'!B435,\"\")","v":""},{"$f":"IF(AND('FMI Template'!C435<>\"\",'FMI Template'!C435<>\"NA\",'FMI Template'!C435<>\"UA\"),'FMI Template'!C435,\"\")","v":""},{"$f":"IF(AND('FMI Template'!D435<>\"\",'FMI Template'!D435<>\"NA\",'FMI Template'!D435<>\"UA\"),'FMI Template'!D435,\"\")","v":""},{"$f":"IF(AND('FMI Template'!F435<>\"\",'FMI Template'!F435<>\"NA\",'FMI Template'!F435<>\"UA\"),'FMI Template'!F435,\"\")","v":""},{"$f":"IF(AND('FMI Template'!H435<>\"\", 'FMI Template'!H435<>\"UA\"),IF('FMI Template'!H435=\"CSD\",\"(I)CSD\",IF('FMI Template'!H435=\"CCP_Derivatives\",\"CCP-Derivatives\",IF('FMI Template'!H435=\"CCP_securities\",\"CCP-securities\",IF('FMI Template'!H435=\"PS_Retail\",\"PS\",IF('FMI Template'!H435=\"PS_LV\",\"PS\",'FMI Template'!H435))))),\"\")","v":""},{"$f":"IF(AND('FMI Template'!I435<>\"\", 'FMI Template'!I435<>\"UA\"),'FMI Template'!I435,\"\")","v":""},{"$f":"IF(AND('FMI Template'!J435<>\"\",'FMI Template'!J435<>\"UA\"),IF('FMI Template'!J435=\"CSD_SSS\",\"CSD-SSS\",IF('FMI Template'!J435=\"CCP_Derivatives\",\"CCP-Derivatives\",IF('FMI Template'!J435=\"CCP_securities\",\"CCP-securities\",IF('FMI Template'!J435=\"Trading_venue\",\"Trading-venue\",'FMI Template'!J435)))),\"\")","v":""},{"$f":"IF(AND('FMI Template'!K435<>\"\",'FMI Template'!K435<>\"UA\"),'FMI Template'!K435,\"\")","v":""},{"$f":"IF('FMI Template'!K435=\"direct\",\"NA\",IF(AND('FMI Template'!M435<>\"\",'FMI Template'!M435<>\"UA\"),'FMI Template'!M435,\"\"))","v":""},{"$f":"IF('FMI Template'!K435=\"direct\",\"NA\",IF(AND('FMI Template'!N435<>\"\",'FMI Template'!N435<>\"UA\"),'FMI Template'!N435,\"\"))","v":""},{"$f":"IF(OR('FMI Template'!H435=\"Other\",'FMI Template'!H435=\"NA\"),'FMI Template'!Q435,\"\")","v":""},{"$f":"IF(AND('FMI Template'!O435<>\"\",'FMI Template'!O435<>\"NA\",'FMI Template'!O435<>\"UA\"),'FMI Template'!O435,\"\")","v":""}]
[null,{"$f":"IF(AND('FMI Template'!B436<>\"\",'FMI Template'!B436<>\"NA\",'FMI Template'!B436<>\"UA\"),'FMI Template'!B436,\"\")","v":""},{"$f":"IF(AND('FMI Template'!C436<>\"\",'FMI Template'!C436<>\"NA\",'FMI Template'!C436<>\"UA\"),'FMI Template'!C436,\"\")","v":""},{"$f":"IF(AND('FMI Template'!D436<>\"\",'FMI Template'!D436<>\"NA\",'FMI Template'!D436<>\"UA\"),'FMI Template'!D436,\"\")","v":""},{"$f":"IF(AND('FMI Template'!F436<>\"\",'FMI Template'!F436<>\"NA\",'FMI Template'!F436<>\"UA\"),'FMI Template'!F436,\"\")","v":""},{"$f":"IF(AND('FMI Template'!H436<>\"\", 'FMI Template'!H436<>\"UA\"),IF('FMI Template'!H436=\"CSD\",\"(I)CSD\",IF('FMI Template'!H436=\"CCP_Derivatives\",\"CCP-Derivatives\",IF('FMI Template'!H436=\"CCP_securities\",\"CCP-securities\",IF('FMI Template'!H436=\"PS_Retail\",\"PS\",IF('FMI Template'!H436=\"PS_LV\",\"PS\",'FMI Template'!H436))))),\"\")","v":""},{"$f":"IF(AND('FMI Template'!I436<>\"\", 'FMI Template'!I436<>\"UA\"),'FMI Template'!I436,\"\")","v":""},{"$f":"IF(AND('FMI Template'!J436<>\"\",'FMI Template'!J436<>\"UA\"),IF('FMI Template'!J436=\"CSD_SSS\",\"CSD-SSS\",IF('FMI Template'!J436=\"CCP_Derivatives\",\"CCP-Derivatives\",IF('FMI Template'!J436=\"CCP_securities\",\"CCP-securities\",IF('FMI Template'!J436=\"Trading_venue\",\"Trading-venue\",'FMI Template'!J436)))),\"\")","v":""},{"$f":"IF(AND('FMI Template'!K436<>\"\",'FMI Template'!K436<>\"UA\"),'FMI Template'!K436,\"\")","v":""},{"$f":"IF('FMI Template'!K436=\"direct\",\"NA\",IF(AND('FMI Template'!M436<>\"\",'FMI Template'!M436<>\"UA\"),'FMI Template'!M436,\"\"))","v":""},{"$f":"IF('FMI Template'!K436=\"direct\",\"NA\",IF(AND('FMI Template'!N436<>\"\",'FMI Template'!N436<>\"UA\"),'FMI Template'!N436,\"\"))","v":""},{"$f":"IF(OR('FMI Template'!H436=\"Other\",'FMI Template'!H436=\"NA\"),'FMI Template'!Q436,\"\")","v":""},{"$f":"IF(AND('FMI Template'!O436<>\"\",'FMI Template'!O436<>\"NA\",'FMI Template'!O436<>\"UA\"),'FMI Template'!O436,\"\")","v":""}]
[null,{"$f":"IF(AND('FMI Template'!B437<>\"\",'FMI Template'!B437<>\"NA\",'FMI Template'!B437<>\"UA\"),'FMI Template'!B437,\"\")","v":""},{"$f":"IF(AND('FMI Template'!C437<>\"\",'FMI Template'!C437<>\"NA\",'FMI Template'!C437<>\"UA\"),'FMI Template'!C437,\"\")","v":""},{"$f":"IF(AND('FMI Template'!D437<>\"\",'FMI Template'!D437<>\"NA\",'FMI Template'!D437<>\"UA\"),'FMI Template'!D437,\"\")","v":""},{"$f":"IF(AND('FMI Template'!F437<>\"\",'FMI Template'!F437<>\"NA\",'FMI Template'!F437<>\"UA\"),'FMI Template'!F437,\"\")","v":""},{"$f":"IF(AND('FMI Template'!H437<>\"\", 'FMI Template'!H437<>\"UA\"),IF('FMI Template'!H437=\"CSD\",\"(I)CSD\",IF('FMI Template'!H437=\"CCP_Derivatives\",\"CCP-Derivatives\",IF('FMI Template'!H437=\"CCP_securities\",\"CCP-securities\",IF('FMI Template'!H437=\"PS_Retail\",\"PS\",IF('FMI Template'!H437=\"PS_LV\",\"PS\",'FMI Template'!H437))))),\"\")","v":""},{"$f":"IF(AND('FMI Template'!I437<>\"\", 'FMI Template'!I437<>\"UA\"),'FMI Template'!I437,\"\")","v":""},{"$f":"IF(AND('FMI Template'!J437<>\"\",'FMI Template'!J437<>\"UA\"),IF('FMI Template'!J437=\"CSD_SSS\",\"CSD-SSS\",IF('FMI Template'!J437=\"CCP_Derivatives\",\"CCP-Derivatives\",IF('FMI Template'!J437=\"CCP_securities\",\"CCP-securities\",IF('FMI Template'!J437=\"Trading_venue\",\"Trading-venue\",'FMI Template'!J437)))),\"\")","v":""},{"$f":"IF(AND('FMI Template'!K437<>\"\",'FMI Template'!K437<>\"UA\"),'FMI Template'!K437,\"\")","v":""},{"$f":"IF('FMI Template'!K437=\"direct\",\"NA\",IF(AND('FMI Template'!M437<>\"\",'FMI Template'!M437<>\"UA\"),'FMI Template'!M437,\"\"))","v":""},{"$f":"IF('FMI Template'!K437=\"direct\",\"NA\",IF(AND('FMI Template'!N437<>\"\",'FMI Template'!N437<>\"UA\"),'FMI Template'!N437,\"\"))","v":""},{"$f":"IF(OR('FMI Template'!H437=\"Other\",'FMI Template'!H437=\"NA\"),'FMI Template'!Q437,\"\")","v":""},{"$f":"IF(AND('FMI Template'!O437<>\"\",'FMI Template'!O437<>\"NA\",'FMI Template'!O437<>\"UA\"),'FMI Template'!O437,\"\")","v":""}]
[null,{"$f":"IF(AND('FMI Template'!B438<>\"\",'FMI Template'!B438<>\"NA\",'FMI Template'!B438<>\"UA\"),'FMI Template'!B438,\"\")","v":""},{"$f":"IF(AND('FMI Template'!C438<>\"\",'FMI Template'!C438<>\"NA\",'FMI Template'!C438<>\"UA\"),'FMI Template'!C438,\"\")","v":""},{"$f":"IF(AND('FMI Template'!D438<>\"\",'FMI Template'!D438<>\"NA\",'FMI Template'!D438<>\"UA\"),'FMI Template'!D438,\"\")","v":""},{"$f":"IF(AND('FMI Template'!F438<>\"\",'FMI Template'!F438<>\"NA\",'FMI Template'!F438<>\"UA\"),'FMI Template'!F438,\"\")","v":""},{"$f":"IF(AND('FMI Template'!H438<>\"\", 'FMI Template'!H438<>\"UA\"),IF('FMI Template'!H438=\"CSD\",\"(I)CSD\",IF('FMI Template'!H438=\"CCP_Derivatives\",\"CCP-Derivatives\",IF('FMI Template'!H438=\"CCP_securities\",\"CCP-securities\",IF('FMI Template'!H438=\"PS_Retail\",\"PS\",IF('FMI Template'!H438=\"PS_LV\",\"PS\",'FMI Template'!H438))))),\"\")","v":""},{"$f":"IF(AND('FMI Template'!I438<>\"\", 'FMI Template'!I438<>\"UA\"),'FMI Template'!I438,\"\")","v":""},{"$f":"IF(AND('FMI Template'!J438<>\"\",'FMI Template'!J438<>\"UA\"),IF('FMI Template'!J438=\"CSD_SSS\",\"CSD-SSS\",IF('FMI Template'!J438=\"CCP_Derivatives\",\"CCP-Derivatives\",IF('FMI Template'!J438=\"CCP_securities\",\"CCP-securities\",IF('FMI Template'!J438=\"Trading_venue\",\"Trading-venue\",'FMI Template'!J438)))),\"\")","v":""},{"$f":"IF(AND('FMI Template'!K438<>\"\",'FMI Template'!K438<>\"UA\"),'FMI Template'!K438,\"\")","v":""},{"$f":"IF('FMI Template'!K438=\"direct\",\"NA\",IF(AND('FMI Template'!M438<>\"\",'FMI Template'!M438<>\"UA\"),'FMI Template'!M438,\"\"))","v":""},{"$f":"IF('FMI Template'!K438=\"direct\",\"NA\",IF(AND('FMI Template'!N438<>\"\",'FMI Template'!N438<>\"UA\"),'FMI Template'!N438,\"\"))","v":""},{"$f":"IF(OR('FMI Template'!H438=\"Other\",'FMI Template'!H438=\"NA\"),'FMI Template'!Q438,\"\")","v":""},{"$f":"IF(AND('FMI Template'!O438<>\"\",'FMI Template'!O438<>\"NA\",'FMI Template'!O438<>\"UA\"),'FMI Template'!O438,\"\")","v":""}]
[null,{"$f":"IF(AND('FMI Template'!B439<>\"\",'FMI Template'!B439<>\"NA\",'FMI Template'!B439<>\"UA\"),'FMI Template'!B439,\"\")","v":""},{"$f":"IF(AND('FMI Template'!C439<>\"\",'FMI Template'!C439<>\"NA\",'FMI Template'!C439<>\"UA\"),'FMI Template'!C439,\"\")","v":""},{"$f":"IF(AND('FMI Template'!D439<>\"\",'FMI Template'!D439<>\"NA\",'FMI Template'!D439<>\"UA\"),'FMI Template'!D439,\"\")","v":""},{"$f":"IF(AND('FMI Template'!F439<>\"\",'FMI Template'!F439<>\"NA\",'FMI Template'!F439<>\"UA\"),'FMI Template'!F439,\"\")","v":""},{"$f":"IF(AND('FMI Template'!H439<>\"\", 'FMI Template'!H439<>\"UA\"),IF('FMI Template'!H439=\"CSD\",\"(I)CSD\",IF('FMI Template'!H439=\"CCP_Derivatives\",\"CCP-Derivatives\",IF('FMI Template'!H439=\"CCP_securities\",\"CCP-securities\",IF('FMI Template'!H439=\"PS_Retail\",\"PS\",IF('FMI Template'!H439=\"PS_LV\",\"PS\",'FMI Template'!H439))))),\"\")","v":""},{"$f":"IF(AND('FMI Template'!I439<>\"\", 'FMI Template'!I439<>\"UA\"),'FMI Template'!I439,\"\")","v":""},{"$f":"IF(AND('FMI Template'!J439<>\"\",'FMI Template'!J439<>\"UA\"),IF('FMI Template'!J439=\"CSD_SSS\",\"CSD-SSS\",IF('FMI Template'!J439=\"CCP_Derivatives\",\"CCP-Derivatives\",IF('FMI Template'!J439=\"CCP_securities\",\"CCP-securities\",IF('FMI Template'!J439=\"Trading_venue\",\"Trading-venue\",'FMI Template'!J439)))),\"\")","v":""},{"$f":"IF(AND('FMI Template'!K439<>\"\",'FMI Template'!K439<>\"UA\"),'FMI Template'!K439,\"\")","v":""},{"$f":"IF('FMI Template'!K439=\"direct\",\"NA\",IF(AND('FMI Template'!M439<>\"\",'FMI Template'!M439<>\"UA\"),'FMI Template'!M439,\"\"))","v":""},{"$f":"IF('FMI Template'!K439=\"direct\",\"NA\",IF(AND('FMI Template'!N439<>\"\",'FMI Template'!N439<>\"UA\"),'FMI Template'!N439,\"\"))","v":""},{"$f":"IF(OR('FMI Template'!H439=\"Other\",'FMI Template'!H439=\"NA\"),'FMI Template'!Q439,\"\")","v":""},{"$f":"IF(AND('FMI Template'!O439<>\"\",'FMI Template'!O439<>\"NA\",'FMI Template'!O439<>\"UA\"),'FMI Template'!O439,\"\")","v":""}]
[null,{"$f":"IF(AND('FMI Template'!B440<>\"\",'FMI Template'!B440<>\"NA\",'FMI Template'!B440<>\"UA\"),'FMI Template'!B440,\"\")","v":""},{"$f":"IF(AND('FMI Template'!C440<>\"\",'FMI Template'!C440<>\"NA\",'FMI Template'!C440<>\"UA\"),'FMI Template'!C440,\"\")","v":""},{"$f":"IF(AND('FMI Template'!D440<>\"\",'FMI Template'!D440<>\"NA\",'FMI Template'!D440<>\"UA\"),'FMI Template'!D440,\"\")","v":""},{"$f":"IF(AND('FMI Template'!F440<>\"\",'FMI Template'!F440<>\"NA\",'FMI Template'!F440<>\"UA\"),'FMI Template'!F440,\"\")","v":""},{"$f":"IF(AND('FMI Template'!H440<>\"\", 'FMI Template'!H440<>\"UA\"),IF('FMI Template'!H440=\"CSD\",\"(I)CSD\",IF('FMI Template'!H440=\"CCP_Derivatives\",\"CCP-Derivatives\",IF('FMI Template'!H440=\"CCP_securities\",\"CCP-securities\",IF('FMI Template'!H440=\"PS_Retail\",\"PS\",IF('FMI Template'!H440=\"PS_LV\",\"PS\",'FMI Template'!H440))))),\"\")","v":""},{"$f":"IF(AND('FMI Template'!I440<>\"\", 'FMI Template'!I440<>\"UA\"),'FMI Template'!I440,\"\")","v":""},{"$f":"IF(AND('FMI Template'!J440<>\"\",'FMI Template'!J440<>\"UA\"),IF('FMI Template'!J440=\"CSD_SSS\",\"CSD-SSS\",IF('FMI Template'!J440=\"CCP_Derivatives\",\"CCP-Derivatives\",IF('FMI Template'!J440=\"CCP_securities\",\"CCP-securities\",IF('FMI Template'!J440=\"Trading_venue\",\"Trading-venue\",'FMI Template'!J440)))),\"\")","v":""},{"$f":"IF(AND('FMI Template'!K440<>\"\",'FMI Template'!K440<>\"UA\"),'FMI Template'!K440,\"\")","v":""},{"$f":"IF('FMI Template'!K440=\"direct\",\"NA\",IF(AND('FMI Template'!M440<>\"\",'FMI Template'!M440<>\"UA\"),'FMI Template'!M440,\"\"))","v":""},{"$f":"IF('FMI Template'!K440=\"direct\",\"NA\",IF(AND('FMI Template'!N440<>\"\",'FMI Template'!N440<>\"UA\"),'FMI Template'!N440,\"\"))","v":""},{"$f":"IF(OR('FMI Template'!H440=\"Other\",'FMI Template'!H440=\"NA\"),'FMI Template'!Q440,\"\")","v":""},{"$f":"IF(AND('FMI Template'!O440<>\"\",'FMI Template'!O440<>\"NA\",'FMI Template'!O440<>\"UA\"),'FMI Template'!O440,\"\")","v":""}]
[null,{"$f":"IF(AND('FMI Template'!B441<>\"\",'FMI Template'!B441<>\"NA\",'FMI Template'!B441<>\"UA\"),'FMI Template'!B441,\"\")","v":""},{"$f":"IF(AND('FMI Template'!C441<>\"\",'FMI Template'!C441<>\"NA\",'FMI Template'!C441<>\"UA\"),'FMI Template'!C441,\"\")","v":""},{"$f":"IF(AND('FMI Template'!D441<>\"\",'FMI Template'!D441<>\"NA\",'FMI Template'!D441<>\"UA\"),'FMI Template'!D441,\"\")","v":""},{"$f":"IF(AND('FMI Template'!F441<>\"\",'FMI Template'!F441<>\"NA\",'FMI Template'!F441<>\"UA\"),'FMI Template'!F441,\"\")","v":""},{"$f":"IF(AND('FMI Template'!H441<>\"\", 'FMI Template'!H441<>\"UA\"),IF('FMI Template'!H441=\"CSD\",\"(I)CSD\",IF('FMI Template'!H441=\"CCP_Derivatives\",\"CCP-Derivatives\",IF('FMI Template'!H441=\"CCP_securities\",\"CCP-securities\",IF('FMI Template'!H441=\"PS_Retail\",\"PS\",IF('FMI Template'!H441=\"PS_LV\",\"PS\",'FMI Template'!H441))))),\"\")","v":""},{"$f":"IF(AND('FMI Template'!I441<>\"\", 'FMI Template'!I441<>\"UA\"),'FMI Template'!I441,\"\")","v":""},{"$f":"IF(AND('FMI Template'!J441<>\"\",'FMI Template'!J441<>\"UA\"),IF('FMI Template'!J441=\"CSD_SSS\",\"CSD-SSS\",IF('FMI Template'!J441=\"CCP_Derivatives\",\"CCP-Derivatives\",IF('FMI Template'!J441=\"CCP_securities\",\"CCP-securities\",IF('FMI Template'!J441=\"Trading_venue\",\"Trading-venue\",'FMI Template'!J441)))),\"\")","v":""},{"$f":"IF(AND('FMI Template'!K441<>\"\",'FMI Template'!K441<>\"UA\"),'FMI Template'!K441,\"\")","v":""},{"$f":"IF('FMI Template'!K441=\"direct\",\"NA\",IF(AND('FMI Template'!M441<>\"\",'FMI Template'!M441<>\"UA\"),'FMI Template'!M441,\"\"))","v":""},{"$f":"IF('FMI Template'!K441=\"direct\",\"NA\",IF(AND('FMI Template'!N441<>\"\",'FMI Template'!N441<>\"UA\"),'FMI Template'!N441,\"\"))","v":""},{"$f":"IF(OR('FMI Template'!H441=\"Other\",'FMI Template'!H441=\"NA\"),'FMI Template'!Q441,\"\")","v":""},{"$f":"IF(AND('FMI Template'!O441<>\"\",'FMI Template'!O441<>\"NA\",'FMI Template'!O441<>\"UA\"),'FMI Template'!O441,\"\")","v":""}]
[null,{"$f":"IF(AND('FMI Template'!B442<>\"\",'FMI Template'!B442<>\"NA\",'FMI Template'!B442<>\"UA\"),'FMI Template'!B442,\"\")","v":""},{"$f":"IF(AND('FMI Template'!C442<>\"\",'FMI Template'!C442<>\"NA\",'FMI Template'!C442<>\"UA\"),'FMI Template'!C442,\"\")","v":""},{"$f":"IF(AND('FMI Template'!D442<>\"\",'FMI Template'!D442<>\"NA\",'FMI Template'!D442<>\"UA\"),'FMI Template'!D442,\"\")","v":""},{"$f":"IF(AND('FMI Template'!F442<>\"\",'FMI Template'!F442<>\"NA\",'FMI Template'!F442<>\"UA\"),'FMI Template'!F442,\"\")","v":""},{"$f":"IF(AND('FMI Template'!H442<>\"\", 'FMI Template'!H442<>\"UA\"),IF('FMI Template'!H442=\"CSD\",\"(I)CSD\",IF('FMI Template'!H442=\"CCP_Derivatives\",\"CCP-Derivatives\",IF('FMI Template'!H442=\"CCP_securities\",\"CCP-securities\",IF('FMI Template'!H442=\"PS_Retail\",\"PS\",IF('FMI Template'!H442=\"PS_LV\",\"PS\",'FMI Template'!H442))))),\"\")","v":""},{"$f":"IF(AND('FMI Template'!I442<>\"\", 'FMI Template'!I442<>\"UA\"),'FMI Template'!I442,\"\")","v":""},{"$f":"IF(AND('FMI Template'!J442<>\"\",'FMI Template'!J442<>\"UA\"),IF('FMI Template'!J442=\"CSD_SSS\",\"CSD-SSS\",IF('FMI Template'!J442=\"CCP_Derivatives\",\"CCP-Derivatives\",IF('FMI Template'!J442=\"CCP_securities\",\"CCP-securities\",IF('FMI Template'!J442=\"Trading_venue\",\"Trading-venue\",'FMI Template'!J442)))),\"\")","v":""},{"$f":"IF(AND('FMI Template'!K442<>\"\",'FMI Template'!K442<>\"UA\"),'FMI Template'!K442,\"\")","v":""},{"$f":"IF('FMI Template'!K442=\"direct\",\"NA\",IF(AND('FMI Template'!M442<>\"\",'FMI Template'!M442<>\"UA\"),'FMI Template'!M442,\"\"))","v":""},{"$f":"IF('FMI Template'!K442=\"direct\",\"NA\",IF(AND('FMI Template'!N442<>\"\",'FMI Template'!N442<>\"UA\"),'FMI Template'!N442,\"\"))","v":""},{"$f":"IF(OR('FMI Template'!H442=\"Other\",'FMI Template'!H442=\"NA\"),'FMI Template'!Q442,\"\")","v":""},{"$f":"IF(AND('FMI Template'!O442<>\"\",'FMI Template'!O442<>\"NA\",'FMI Template'!O442<>\"UA\"),'FMI Template'!O442,\"\")","v":""}]
[null,{"$f":"IF(AND('FMI Template'!B443<>\"\",'FMI Template'!B443<>\"NA\",'FMI Template'!B443<>\"UA\"),'FMI Template'!B443,\"\")","v":""},{"$f":"IF(AND('FMI Template'!C443<>\"\",'FMI Template'!C443<>\"NA\",'FMI Template'!C443<>\"UA\"),'FMI Template'!C443,\"\")","v":""},{"$f":"IF(AND('FMI Template'!D443<>\"\",'FMI Template'!D443<>\"NA\",'FMI Template'!D443<>\"UA\"),'FMI Template'!D443,\"\")","v":""},{"$f":"IF(AND('FMI Template'!F443<>\"\",'FMI Template'!F443<>\"NA\",'FMI Template'!F443<>\"UA\"),'FMI Template'!F443,\"\")","v":""},{"$f":"IF(AND('FMI Template'!H443<>\"\", 'FMI Template'!H443<>\"UA\"),IF('FMI Template'!H443=\"CSD\",\"(I)CSD\",IF('FMI Template'!H443=\"CCP_Derivatives\",\"CCP-Derivatives\",IF('FMI Template'!H443=\"CCP_securities\",\"CCP-securities\",IF('FMI Template'!H443=\"PS_Retail\",\"PS\",IF('FMI Template'!H443=\"PS_LV\",\"PS\",'FMI Template'!H443))))),\"\")","v":""},{"$f":"IF(AND('FMI Template'!I443<>\"\", 'FMI Template'!I443<>\"UA\"),'FMI Template'!I443,\"\")","v":""},{"$f":"IF(AND('FMI Template'!J443<>\"\",'FMI Template'!J443<>\"UA\"),IF('FMI Template'!J443=\"CSD_SSS\",\"CSD-SSS\",IF('FMI Template'!J443=\"CCP_Derivatives\",\"CCP-Derivatives\",IF('FMI Template'!J443=\"CCP_securities\",\"CCP-securities\",IF('FMI Template'!J443=\"Trading_venue\",\"Trading-venue\",'FMI Template'!J443)))),\"\")","v":""},{"$f":"IF(AND('FMI Template'!K443<>\"\",'FMI Template'!K443<>\"UA\"),'FMI Template'!K443,\"\")","v":""},{"$f":"IF('FMI Template'!K443=\"direct\",\"NA\",IF(AND('FMI Template'!M443<>\"\",'FMI Template'!M443<>\"UA\"),'FMI Template'!M443,\"\"))","v":""},{"$f":"IF('FMI Template'!K443=\"direct\",\"NA\",IF(AND('FMI Template'!N443<>\"\",'FMI Template'!N443<>\"UA\"),'FMI Template'!N443,\"\"))","v":""},{"$f":"IF(OR('FMI Template'!H443=\"Other\",'FMI Template'!H443=\"NA\"),'FMI Template'!Q443,\"\")","v":""},{"$f":"IF(AND('FMI Template'!O443<>\"\",'FMI Template'!O443<>\"NA\",'FMI Template'!O443<>\"UA\"),'FMI Template'!O443,\"\")","v":""}]
[null,{"$f":"IF(AND('FMI Template'!B444<>\"\",'FMI Template'!B444<>\"NA\",'FMI Template'!B444<>\"UA\"),'FMI Template'!B444,\"\")","v":""},{"$f":"IF(AND('FMI Template'!C444<>\"\",'FMI Template'!C444<>\"NA\",'FMI Template'!C444<>\"UA\"),'FMI Template'!C444,\"\")","v":""},{"$f":"IF(AND('FMI Template'!D444<>\"\",'FMI Template'!D444<>\"NA\",'FMI Template'!D444<>\"UA\"),'FMI Template'!D444,\"\")","v":""},{"$f":"IF(AND('FMI Template'!F444<>\"\",'FMI Template'!F444<>\"NA\",'FMI Template'!F444<>\"UA\"),'FMI Template'!F444,\"\")","v":""},{"$f":"IF(AND('FMI Template'!H444<>\"\", 'FMI Template'!H444<>\"UA\"),IF('FMI Template'!H444=\"CSD\",\"(I)CSD\",IF('FMI Template'!H444=\"CCP_Derivatives\",\"CCP-Derivatives\",IF('FMI Template'!H444=\"CCP_securities\",\"CCP-securities\",IF('FMI Template'!H444=\"PS_Retail\",\"PS\",IF('FMI Template'!H444=\"PS_LV\",\"PS\",'FMI Template'!H444))))),\"\")","v":""},{"$f":"IF(AND('FMI Template'!I444<>\"\", 'FMI Template'!I444<>\"UA\"),'FMI Template'!I444,\"\")","v":""},{"$f":"IF(AND('FMI Template'!J444<>\"\",'FMI Template'!J444<>\"UA\"),IF('FMI Template'!J444=\"CSD_SSS\",\"CSD-SSS\",IF('FMI Template'!J444=\"CCP_Derivatives\",\"CCP-Derivatives\",IF('FMI Template'!J444=\"CCP_securities\",\"CCP-securities\",IF('FMI Template'!J444=\"Trading_venue\",\"Trading-venue\",'FMI Template'!J444)))),\"\")","v":""},{"$f":"IF(AND('FMI Template'!K444<>\"\",'FMI Template'!K444<>\"UA\"),'FMI Template'!K444,\"\")","v":""},{"$f":"IF('FMI Template'!K444=\"direct\",\"NA\",IF(AND('FMI Template'!M444<>\"\",'FMI Template'!M444<>\"UA\"),'FMI Template'!M444,\"\"))","v":""},{"$f":"IF('FMI Template'!K444=\"direct\",\"NA\",IF(AND('FMI Template'!N444<>\"\",'FMI Template'!N444<>\"UA\"),'FMI Template'!N444,\"\"))","v":""},{"$f":"IF(OR('FMI Template'!H444=\"Other\",'FMI Template'!H444=\"NA\"),'FMI Template'!Q444,\"\")","v":""},{"$f":"IF(AND('FMI Template'!O444<>\"\",'FMI Template'!O444<>\"NA\",'FMI Template'!O444<>\"UA\"),'FMI Template'!O444,\"\")","v":""}]
[null,{"$f":"IF(AND('FMI Template'!B445<>\"\",'FMI Template'!B445<>\"NA\",'FMI Template'!B445<>\"UA\"),'FMI Template'!B445,\"\")","v":""},{"$f":"IF(AND('FMI Template'!C445<>\"\",'FMI Template'!C445<>\"NA\",'FMI Template'!C445<>\"UA\"),'FMI Template'!C445,\"\")","v":""},{"$f":"IF(AND('FMI Template'!D445<>\"\",'FMI Template'!D445<>\"NA\",'FMI Template'!D445<>\"UA\"),'FMI Template'!D445,\"\")","v":""},{"$f":"IF(AND('FMI Template'!F445<>\"\",'FMI Template'!F445<>\"NA\",'FMI Template'!F445<>\"UA\"),'FMI Template'!F445,\"\")","v":""},{"$f":"IF(AND('FMI Template'!H445<>\"\", 'FMI Template'!H445<>\"UA\"),IF('FMI Template'!H445=\"CSD\",\"(I)CSD\",IF('FMI Template'!H445=\"CCP_Derivatives\",\"CCP-Derivatives\",IF('FMI Template'!H445=\"CCP_securities\",\"CCP-securities\",IF('FMI Template'!H445=\"PS_Retail\",\"PS\",IF('FMI Template'!H445=\"PS_LV\",\"PS\",'FMI Template'!H445))))),\"\")","v":""},{"$f":"IF(AND('FMI Template'!I445<>\"\", 'FMI Template'!I445<>\"UA\"),'FMI Template'!I445,\"\")","v":""},{"$f":"IF(AND('FMI Template'!J445<>\"\",'FMI Template'!J445<>\"UA\"),IF('FMI Template'!J445=\"CSD_SSS\",\"CSD-SSS\",IF('FMI Template'!J445=\"CCP_Derivatives\",\"CCP-Derivatives\",IF('FMI Template'!J445=\"CCP_securities\",\"CCP-securities\",IF('FMI Template'!J445=\"Trading_venue\",\"Trading-venue\",'FMI Template'!J445)))),\"\")","v":""},{"$f":"IF(AND('FMI Template'!K445<>\"\",'FMI Template'!K445<>\"UA\"),'FMI Template'!K445,\"\")","v":""},{"$f":"IF('FMI Template'!K445=\"direct\",\"NA\",IF(AND('FMI Template'!M445<>\"\",'FMI Template'!M445<>\"UA\"),'FMI Template'!M445,\"\"))","v":""},{"$f":"IF('FMI Template'!K445=\"direct\",\"NA\",IF(AND('FMI Template'!N445<>\"\",'FMI Template'!N445<>\"UA\"),'FMI Template'!N445,\"\"))","v":""},{"$f":"IF(OR('FMI Template'!H445=\"Other\",'FMI Template'!H445=\"NA\"),'FMI Template'!Q445,\"\")","v":""},{"$f":"IF(AND('FMI Template'!O445<>\"\",'FMI Template'!O445<>\"NA\",'FMI Template'!O445<>\"UA\"),'FMI Template'!O445,\"\")","v":""}]
[null,{"$f":"IF(AND('FMI Template'!B446<>\"\",'FMI Template'!B446<>\"NA\",'FMI Template'!B446<>\"UA\"),'FMI Template'!B446,\"\")","v":""},{"$f":"IF(AND('FMI Template'!C446<>\"\",'FMI Template'!C446<>\"NA\",'FMI Template'!C446<>\"UA\"),'FMI Template'!C446,\"\")","v":""},{"$f":"IF(AND('FMI Template'!D446<>\"\",'FMI Template'!D446<>\"NA\",'FMI Template'!D446<>\"UA\"),'FMI Template'!D446,\"\")","v":""},{"$f":"IF(AND('FMI Template'!F446<>\"\",'FMI Template'!F446<>\"NA\",'FMI Template'!F446<>\"UA\"),'FMI Template'!F446,\"\")","v":""},{"$f":"IF(AND('FMI Template'!H446<>\"\", 'FMI Template'!H446<>\"UA\"),IF('FMI Template'!H446=\"CSD\",\"(I)CSD\",IF('FMI Template'!H446=\"CCP_Derivatives\",\"CCP-Derivatives\",IF('FMI Template'!H446=\"CCP_securities\",\"CCP-securities\",IF('FMI Template'!H446=\"PS_Retail\",\"PS\",IF('FMI Template'!H446=\"PS_LV\",\"PS\",'FMI Template'!H446))))),\"\")","v":""},{"$f":"IF(AND('FMI Template'!I446<>\"\", 'FMI Template'!I446<>\"UA\"),'FMI Template'!I446,\"\")","v":""},{"$f":"IF(AND('FMI Template'!J446<>\"\",'FMI Template'!J446<>\"UA\"),IF('FMI Template'!J446=\"CSD_SSS\",\"CSD-SSS\",IF('FMI Template'!J446=\"CCP_Derivatives\",\"CCP-Derivatives\",IF('FMI Template'!J446=\"CCP_securities\",\"CCP-securities\",IF('FMI Template'!J446=\"Trading_venue\",\"Trading-venue\",'FMI Template'!J446)))),\"\")","v":""},{"$f":"IF(AND('FMI Template'!K446<>\"\",'FMI Template'!K446<>\"UA\"),'FMI Template'!K446,\"\")","v":""},{"$f":"IF('FMI Template'!K446=\"direct\",\"NA\",IF(AND('FMI Template'!M446<>\"\",'FMI Template'!M446<>\"UA\"),'FMI Template'!M446,\"\"))","v":""},{"$f":"IF('FMI Template'!K446=\"direct\",\"NA\",IF(AND('FMI Template'!N446<>\"\",'FMI Template'!N446<>\"UA\"),'FMI Template'!N446,\"\"))","v":""},{"$f":"IF(OR('FMI Template'!H446=\"Other\",'FMI Template'!H446=\"NA\"),'FMI Template'!Q446,\"\")","v":""},{"$f":"IF(AND('FMI Template'!O446<>\"\",'FMI Template'!O446<>\"NA\",'FMI Template'!O446<>\"UA\"),'FMI Template'!O446,\"\")","v":""}]
[null,{"$f":"IF(AND('FMI Template'!B447<>\"\",'FMI Template'!B447<>\"NA\",'FMI Template'!B447<>\"UA\"),'FMI Template'!B447,\"\")","v":""},{"$f":"IF(AND('FMI Template'!C447<>\"\",'FMI Template'!C447<>\"NA\",'FMI Template'!C447<>\"UA\"),'FMI Template'!C447,\"\")","v":""},{"$f":"IF(AND('FMI Template'!D447<>\"\",'FMI Template'!D447<>\"NA\",'FMI Template'!D447<>\"UA\"),'FMI Template'!D447,\"\")","v":""},{"$f":"IF(AND('FMI Template'!F447<>\"\",'FMI Template'!F447<>\"NA\",'FMI Template'!F447<>\"UA\"),'FMI Template'!F447,\"\")","v":""},{"$f":"IF(AND('FMI Template'!H447<>\"\", 'FMI Template'!H447<>\"UA\"),IF('FMI Template'!H447=\"CSD\",\"(I)CSD\",IF('FMI Template'!H447=\"CCP_Derivatives\",\"CCP-Derivatives\",IF('FMI Template'!H447=\"CCP_securities\",\"CCP-securities\",IF('FMI Template'!H447=\"PS_Retail\",\"PS\",IF('FMI Template'!H447=\"PS_LV\",\"PS\",'FMI Template'!H447))))),\"\")","v":""},{"$f":"IF(AND('FMI Template'!I447<>\"\", 'FMI Template'!I447<>\"UA\"),'FMI Template'!I447,\"\")","v":""},{"$f":"IF(AND('FMI Template'!J447<>\"\",'FMI Template'!J447<>\"UA\"),IF('FMI Template'!J447=\"CSD_SSS\",\"CSD-SSS\",IF('FMI Template'!J447=\"CCP_Derivatives\",\"CCP-Derivatives\",IF('FMI Template'!J447=\"CCP_securities\",\"CCP-securities\",IF('FMI Template'!J447=\"Trading_venue\",\"Trading-venue\",'FMI Template'!J447)))),\"\")","v":""},{"$f":"IF(AND('FMI Template'!K447<>\"\",'FMI Template'!K447<>\"UA\"),'FMI Template'!K447,\"\")","v":""},{"$f":"IF('FMI Template'!K447=\"direct\",\"NA\",IF(AND('FMI Template'!M447<>\"\",'FMI Template'!M447<>\"UA\"),'FMI Template'!M447,\"\"))","v":""},{"$f":"IF('FMI Template'!K447=\"direct\",\"NA\",IF(AND('FMI Template'!N447<>\"\",'FMI Template'!N447<>\"UA\"),'FMI Template'!N447,\"\"))","v":""},{"$f":"IF(OR('FMI Template'!H447=\"Other\",'FMI Template'!H447=\"NA\"),'FMI Template'!Q447,\"\")","v":""},{"$f":"IF(AND('FMI Template'!O447<>\"\",'FMI Template'!O447<>\"NA\",'FMI Template'!O447<>\"UA\"),'FMI Template'!O447,\"\")","v":""}]
[null,{"$f":"IF(AND('FMI Template'!B448<>\"\",'FMI Template'!B448<>\"NA\",'FMI Template'!B448<>\"UA\"),'FMI Template'!B448,\"\")","v":""},{"$f":"IF(AND('FMI Template'!C448<>\"\",'FMI Template'!C448<>\"NA\",'FMI Template'!C448<>\"UA\"),'FMI Template'!C448,\"\")","v":""},{"$f":"IF(AND('FMI Template'!D448<>\"\",'FMI Template'!D448<>\"NA\",'FMI Template'!D448<>\"UA\"),'FMI Template'!D448,\"\")","v":""},{"$f":"IF(AND('FMI Template'!F448<>\"\",'FMI Template'!F448<>\"NA\",'FMI Template'!F448<>\"UA\"),'FMI Template'!F448,\"\")","v":""},{"$f":"IF(AND('FMI Template'!H448<>\"\", 'FMI Template'!H448<>\"UA\"),IF('FMI Template'!H448=\"CSD\",\"(I)CSD\",IF('FMI Template'!H448=\"CCP_Derivatives\",\"CCP-Derivatives\",IF('FMI Template'!H448=\"CCP_securities\",\"CCP-securities\",IF('FMI Template'!H448=\"PS_Retail\",\"PS\",IF('FMI Template'!H448=\"PS_LV\",\"PS\",'FMI Template'!H448))))),\"\")","v":""},{"$f":"IF(AND('FMI Template'!I448<>\"\", 'FMI Template'!I448<>\"UA\"),'FMI Template'!I448,\"\")","v":""},{"$f":"IF(AND('FMI Template'!J448<>\"\",'FMI Template'!J448<>\"UA\"),IF('FMI Template'!J448=\"CSD_SSS\",\"CSD-SSS\",IF('FMI Template'!J448=\"CCP_Derivatives\",\"CCP-Derivatives\",IF('FMI Template'!J448=\"CCP_securities\",\"CCP-securities\",IF('FMI Template'!J448=\"Trading_venue\",\"Trading-venue\",'FMI Template'!J448)))),\"\")","v":""},{"$f":"IF(AND('FMI Template'!K448<>\"\",'FMI Template'!K448<>\"UA\"),'FMI Template'!K448,\"\")","v":""},{"$f":"IF('FMI Template'!K448=\"direct\",\"NA\",IF(AND('FMI Template'!M448<>\"\",'FMI Template'!M448<>\"UA\"),'FMI Template'!M448,\"\"))","v":""},{"$f":"IF('FMI Template'!K448=\"direct\",\"NA\",IF(AND('FMI Template'!N448<>\"\",'FMI Template'!N448<>\"UA\"),'FMI Template'!N448,\"\"))","v":""},{"$f":"IF(OR('FMI Template'!H448=\"Other\",'FMI Template'!H448=\"NA\"),'FMI Template'!Q448,\"\")","v":""},{"$f":"IF(AND('FMI Template'!O448<>\"\",'FMI Template'!O448<>\"NA\",'FMI Template'!O448<>\"UA\"),'FMI Template'!O448,\"\")","v":""}]
[null,{"$f":"IF(AND('FMI Template'!B449<>\"\",'FMI Template'!B449<>\"NA\",'FMI Template'!B449<>\"UA\"),'FMI Template'!B449,\"\")","v":""},{"$f":"IF(AND('FMI Template'!C449<>\"\",'FMI Template'!C449<>\"NA\",'FMI Template'!C449<>\"UA\"),'FMI Template'!C449,\"\")","v":""},{"$f":"IF(AND('FMI Template'!D449<>\"\",'FMI Template'!D449<>\"NA\",'FMI Template'!D449<>\"UA\"),'FMI Template'!D449,\"\")","v":""},{"$f":"IF(AND('FMI Template'!F449<>\"\",'FMI Template'!F449<>\"NA\",'FMI Template'!F449<>\"UA\"),'FMI Template'!F449,\"\")","v":""},{"$f":"IF(AND('FMI Template'!H449<>\"\", 'FMI Template'!H449<>\"UA\"),IF('FMI Template'!H449=\"CSD\",\"(I)CSD\",IF('FMI Template'!H449=\"CCP_Derivatives\",\"CCP-Derivatives\",IF('FMI Template'!H449=\"CCP_securities\",\"CCP-securities\",IF('FMI Template'!H449=\"PS_Retail\",\"PS\",IF('FMI Template'!H449=\"PS_LV\",\"PS\",'FMI Template'!H449))))),\"\")","v":""},{"$f":"IF(AND('FMI Template'!I449<>\"\", 'FMI Template'!I449<>\"UA\"),'FMI Template'!I449,\"\")","v":""},{"$f":"IF(AND('FMI Template'!J449<>\"\",'FMI Template'!J449<>\"UA\"),IF('FMI Template'!J449=\"CSD_SSS\",\"CSD-SSS\",IF('FMI Template'!J449=\"CCP_Derivatives\",\"CCP-Derivatives\",IF('FMI Template'!J449=\"CCP_securities\",\"CCP-securities\",IF('FMI Template'!J449=\"Trading_venue\",\"Trading-venue\",'FMI Template'!J449)))),\"\")","v":""},{"$f":"IF(AND('FMI Template'!K449<>\"\",'FMI Template'!K449<>\"UA\"),'FMI Template'!K449,\"\")","v":""},{"$f":"IF('FMI Template'!K449=\"direct\",\"NA\",IF(AND('FMI Template'!M449<>\"\",'FMI Template'!M449<>\"UA\"),'FMI Template'!M449,\"\"))","v":""},{"$f":"IF('FMI Template'!K449=\"direct\",\"NA\",IF(AND('FMI Template'!N449<>\"\",'FMI Template'!N449<>\"UA\"),'FMI Template'!N449,\"\"))","v":""},{"$f":"IF(OR('FMI Template'!H449=\"Other\",'FMI Template'!H449=\"NA\"),'FMI Template'!Q449,\"\")","v":""},{"$f":"IF(AND('FMI Template'!O449<>\"\",'FMI Template'!O449<>\"NA\",'FMI Template'!O449<>\"UA\"),'FMI Template'!O449,\"\")","v":""}]
[null,{"$f":"IF(AND('FMI Template'!B450<>\"\",'FMI Template'!B450<>\"NA\",'FMI Template'!B450<>\"UA\"),'FMI Template'!B450,\"\")","v":""},{"$f":"IF(AND('FMI Template'!C450<>\"\",'FMI Template'!C450<>\"NA\",'FMI Template'!C450<>\"UA\"),'FMI Template'!C450,\"\")","v":""},{"$f":"IF(AND('FMI Template'!D450<>\"\",'FMI Template'!D450<>\"NA\",'FMI Template'!D450<>\"UA\"),'FMI Template'!D450,\"\")","v":""},{"$f":"IF(AND('FMI Template'!F450<>\"\",'FMI Template'!F450<>\"NA\",'FMI Template'!F450<>\"UA\"),'FMI Template'!F450,\"\")","v":""},{"$f":"IF(AND('FMI Template'!H450<>\"\", 'FMI Template'!H450<>\"UA\"),IF('FMI Template'!H450=\"CSD\",\"(I)CSD\",IF('FMI Template'!H450=\"CCP_Derivatives\",\"CCP-Derivatives\",IF('FMI Template'!H450=\"CCP_securities\",\"CCP-securities\",IF('FMI Template'!H450=\"PS_Retail\",\"PS\",IF('FMI Template'!H450=\"PS_LV\",\"PS\",'FMI Template'!H450))))),\"\")","v":""},{"$f":"IF(AND('FMI Template'!I450<>\"\", 'FMI Template'!I450<>\"UA\"),'FMI Template'!I450,\"\")","v":""},{"$f":"IF(AND('FMI Template'!J450<>\"\",'FMI Template'!J450<>\"UA\"),IF('FMI Template'!J450=\"CSD_SSS\",\"CSD-SSS\",IF('FMI Template'!J450=\"CCP_Derivatives\",\"CCP-Derivatives\",IF('FMI Template'!J450=\"CCP_securities\",\"CCP-securities\",IF('FMI Template'!J450=\"Trading_venue\",\"Trading-venue\",'FMI Template'!J450)))),\"\")","v":""},{"$f":"IF(AND('FMI Template'!K450<>\"\",'FMI Template'!K450<>\"UA\"),'FMI Template'!K450,\"\")","v":""},{"$f":"IF('FMI Template'!K450=\"direct\",\"NA\",IF(AND('FMI Template'!M450<>\"\",'FMI Template'!M450<>\"UA\"),'FMI Template'!M450,\"\"))","v":""},{"$f":"IF('FMI Template'!K450=\"direct\",\"NA\",IF(AND('FMI Template'!N450<>\"\",'FMI Template'!N450<>\"UA\"),'FMI Template'!N450,\"\"))","v":""},{"$f":"IF(OR('FMI Template'!H450=\"Other\",'FMI Template'!H450=\"NA\"),'FMI Template'!Q450,\"\")","v":""},{"$f":"IF(AND('FMI Template'!O450<>\"\",'FMI Template'!O450<>\"NA\",'FMI Template'!O450<>\"UA\"),'FMI Template'!O450,\"\")","v":""}]
[null,{"$f":"IF(AND('FMI Template'!B451<>\"\",'FMI Template'!B451<>\"NA\",'FMI Template'!B451<>\"UA\"),'FMI Template'!B451,\"\")","v":""},{"$f":"IF(AND('FMI Template'!C451<>\"\",'FMI Template'!C451<>\"NA\",'FMI Template'!C451<>\"UA\"),'FMI Template'!C451,\"\")","v":""},{"$f":"IF(AND('FMI Template'!D451<>\"\",'FMI Template'!D451<>\"NA\",'FMI Template'!D451<>\"UA\"),'FMI Template'!D451,\"\")","v":""},{"$f":"IF(AND('FMI Template'!F451<>\"\",'FMI Template'!F451<>\"NA\",'FMI Template'!F451<>\"UA\"),'FMI Template'!F451,\"\")","v":""},{"$f":"IF(AND('FMI Template'!H451<>\"\", 'FMI Template'!H451<>\"UA\"),IF('FMI Template'!H451=\"CSD\",\"(I)CSD\",IF('FMI Template'!H451=\"CCP_Derivatives\",\"CCP-Derivatives\",IF('FMI Template'!H451=\"CCP_securities\",\"CCP-securities\",IF('FMI Template'!H451=\"PS_Retail\",\"PS\",IF('FMI Template'!H451=\"PS_LV\",\"PS\",'FMI Template'!H451))))),\"\")","v":""},{"$f":"IF(AND('FMI Template'!I451<>\"\", 'FMI Template'!I451<>\"UA\"),'FMI Template'!I451,\"\")","v":""},{"$f":"IF(AND('FMI Template'!J451<>\"\",'FMI Template'!J451<>\"UA\"),IF('FMI Template'!J451=\"CSD_SSS\",\"CSD-SSS\",IF('FMI Template'!J451=\"CCP_Derivatives\",\"CCP-Derivatives\",IF('FMI Template'!J451=\"CCP_securities\",\"CCP-securities\",IF('FMI Template'!J451=\"Trading_venue\",\"Trading-venue\",'FMI Template'!J451)))),\"\")","v":""},{"$f":"IF(AND('FMI Template'!K451<>\"\",'FMI Template'!K451<>\"UA\"),'FMI Template'!K451,\"\")","v":""},{"$f":"IF('FMI Template'!K451=\"direct\",\"NA\",IF(AND('FMI Template'!M451<>\"\",'FMI Template'!M451<>\"UA\"),'FMI Template'!M451,\"\"))","v":""},{"$f":"IF('FMI Template'!K451=\"direct\",\"NA\",IF(AND('FMI Template'!N451<>\"\",'FMI Template'!N451<>\"UA\"),'FMI Template'!N451,\"\"))","v":""},{"$f":"IF(OR('FMI Template'!H451=\"Other\",'FMI Template'!H451=\"NA\"),'FMI Template'!Q451,\"\")","v":""},{"$f":"IF(AND('FMI Template'!O451<>\"\",'FMI Template'!O451<>\"NA\",'FMI Template'!O451<>\"UA\"),'FMI Template'!O451,\"\")","v":""}]
[null,{"$f":"IF(AND('FMI Template'!B452<>\"\",'FMI Template'!B452<>\"NA\",'FMI Template'!B452<>\"UA\"),'FMI Template'!B452,\"\")","v":""},{"$f":"IF(AND('FMI Template'!C452<>\"\",'FMI Template'!C452<>\"NA\",'FMI Template'!C452<>\"UA\"),'FMI Template'!C452,\"\")","v":""},{"$f":"IF(AND('FMI Template'!D452<>\"\",'FMI Template'!D452<>\"NA\",'FMI Template'!D452<>\"UA\"),'FMI Template'!D452,\"\")","v":""},{"$f":"IF(AND('FMI Template'!F452<>\"\",'FMI Template'!F452<>\"NA\",'FMI Template'!F452<>\"UA\"),'FMI Template'!F452,\"\")","v":""},{"$f":"IF(AND('FMI Template'!H452<>\"\", 'FMI Template'!H452<>\"UA\"),IF('FMI Template'!H452=\"CSD\",\"(I)CSD\",IF('FMI Template'!H452=\"CCP_Derivatives\",\"CCP-Derivatives\",IF('FMI Template'!H452=\"CCP_securities\",\"CCP-securities\",IF('FMI Template'!H452=\"PS_Retail\",\"PS\",IF('FMI Template'!H452=\"PS_LV\",\"PS\",'FMI Template'!H452))))),\"\")","v":""},{"$f":"IF(AND('FMI Template'!I452<>\"\", 'FMI Template'!I452<>\"UA\"),'FMI Template'!I452,\"\")","v":""},{"$f":"IF(AND('FMI Template'!J452<>\"\",'FMI Template'!J452<>\"UA\"),IF('FMI Template'!J452=\"CSD_SSS\",\"CSD-SSS\",IF('FMI Template'!J452=\"CCP_Derivatives\",\"CCP-Derivatives\",IF('FMI Template'!J452=\"CCP_securities\",\"CCP-securities\",IF('FMI Template'!J452=\"Trading_venue\",\"Trading-venue\",'FMI Template'!J452)))),\"\")","v":""},{"$f":"IF(AND('FMI Template'!K452<>\"\",'FMI Template'!K452<>\"UA\"),'FMI Template'!K452,\"\")","v":""},{"$f":"IF('FMI Template'!K452=\"direct\",\"NA\",IF(AND('FMI Template'!M452<>\"\",'FMI Template'!M452<>\"UA\"),'FMI Template'!M452,\"\"))","v":""},{"$f":"IF('FMI Template'!K452=\"direct\",\"NA\",IF(AND('FMI Template'!N452<>\"\",'FMI Template'!N452<>\"UA\"),'FMI Template'!N452,\"\"))","v":""},{"$f":"IF(OR('FMI Template'!H452=\"Other\",'FMI Template'!H452=\"NA\"),'FMI Template'!Q452,\"\")","v":""},{"$f":"IF(AND('FMI Template'!O452<>\"\",'FMI Template'!O452<>\"NA\",'FMI Template'!O452<>\"UA\"),'FMI Template'!O452,\"\")","v":""}]
[null,{"$f":"IF(AND('FMI Template'!B453<>\"\",'FMI Template'!B453<>\"NA\",'FMI Template'!B453<>\"UA\"),'FMI Template'!B453,\"\")","v":""},{"$f":"IF(AND('FMI Template'!C453<>\"\",'FMI Template'!C453<>\"NA\",'FMI Template'!C453<>\"UA\"),'FMI Template'!C453,\"\")","v":""},{"$f":"IF(AND('FMI Template'!D453<>\"\",'FMI Template'!D453<>\"NA\",'FMI Template'!D453<>\"UA\"),'FMI Template'!D453,\"\")","v":""},{"$f":"IF(AND('FMI Template'!F453<>\"\",'FMI Template'!F453<>\"NA\",'FMI Template'!F453<>\"UA\"),'FMI Template'!F453,\"\")","v":""},{"$f":"IF(AND('FMI Template'!H453<>\"\", 'FMI Template'!H453<>\"UA\"),IF('FMI Template'!H453=\"CSD\",\"(I)CSD\",IF('FMI Template'!H453=\"CCP_Derivatives\",\"CCP-Derivatives\",IF('FMI Template'!H453=\"CCP_securities\",\"CCP-securities\",IF('FMI Template'!H453=\"PS_Retail\",\"PS\",IF('FMI Template'!H453=\"PS_LV\",\"PS\",'FMI Template'!H453))))),\"\")","v":""},{"$f":"IF(AND('FMI Template'!I453<>\"\", 'FMI Template'!I453<>\"UA\"),'FMI Template'!I453,\"\")","v":""},{"$f":"IF(AND('FMI Template'!J453<>\"\",'FMI Template'!J453<>\"UA\"),IF('FMI Template'!J453=\"CSD_SSS\",\"CSD-SSS\",IF('FMI Template'!J453=\"CCP_Derivatives\",\"CCP-Derivatives\",IF('FMI Template'!J453=\"CCP_securities\",\"CCP-securities\",IF('FMI Template'!J453=\"Trading_venue\",\"Trading-venue\",'FMI Template'!J453)))),\"\")","v":""},{"$f":"IF(AND('FMI Template'!K453<>\"\",'FMI Template'!K453<>\"UA\"),'FMI Template'!K453,\"\")","v":""},{"$f":"IF('FMI Template'!K453=\"direct\",\"NA\",IF(AND('FMI Template'!M453<>\"\",'FMI Template'!M453<>\"UA\"),'FMI Template'!M453,\"\"))","v":""},{"$f":"IF('FMI Template'!K453=\"direct\",\"NA\",IF(AND('FMI Template'!N453<>\"\",'FMI Template'!N453<>\"UA\"),'FMI Template'!N453,\"\"))","v":""},{"$f":"IF(OR('FMI Template'!H453=\"Other\",'FMI Template'!H453=\"NA\"),'FMI Template'!Q453,\"\")","v":""},{"$f":"IF(AND('FMI Template'!O453<>\"\",'FMI Template'!O453<>\"NA\",'FMI Template'!O453<>\"UA\"),'FMI Template'!O453,\"\")","v":""}]
[null,{"$f":"IF(AND('FMI Template'!B454<>\"\",'FMI Template'!B454<>\"NA\",'FMI Template'!B454<>\"UA\"),'FMI Template'!B454,\"\")","v":""},{"$f":"IF(AND('FMI Template'!C454<>\"\",'FMI Template'!C454<>\"NA\",'FMI Template'!C454<>\"UA\"),'FMI Template'!C454,\"\")","v":""},{"$f":"IF(AND('FMI Template'!D454<>\"\",'FMI Template'!D454<>\"NA\",'FMI Template'!D454<>\"UA\"),'FMI Template'!D454,\"\")","v":""},{"$f":"IF(AND('FMI Template'!F454<>\"\",'FMI Template'!F454<>\"NA\",'FMI Template'!F454<>\"UA\"),'FMI Template'!F454,\"\")","v":""},{"$f":"IF(AND('FMI Template'!H454<>\"\", 'FMI Template'!H454<>\"UA\"),IF('FMI Template'!H454=\"CSD\",\"(I)CSD\",IF('FMI Template'!H454=\"CCP_Derivatives\",\"CCP-Derivatives\",IF('FMI Template'!H454=\"CCP_securities\",\"CCP-securities\",IF('FMI Template'!H454=\"PS_Retail\",\"PS\",IF('FMI Template'!H454=\"PS_LV\",\"PS\",'FMI Template'!H454))))),\"\")","v":""},{"$f":"IF(AND('FMI Template'!I454<>\"\", 'FMI Template'!I454<>\"UA\"),'FMI Template'!I454,\"\")","v":""},{"$f":"IF(AND('FMI Template'!J454<>\"\",'FMI Template'!J454<>\"UA\"),IF('FMI Template'!J454=\"CSD_SSS\",\"CSD-SSS\",IF('FMI Template'!J454=\"CCP_Derivatives\",\"CCP-Derivatives\",IF('FMI Template'!J454=\"CCP_securities\",\"CCP-securities\",IF('FMI Template'!J454=\"Trading_venue\",\"Trading-venue\",'FMI Template'!J454)))),\"\")","v":""},{"$f":"IF(AND('FMI Template'!K454<>\"\",'FMI Template'!K454<>\"UA\"),'FMI Template'!K454,\"\")","v":""},{"$f":"IF('FMI Template'!K454=\"direct\",\"NA\",IF(AND('FMI Template'!M454<>\"\",'FMI Template'!M454<>\"UA\"),'FMI Template'!M454,\"\"))","v":""},{"$f":"IF('FMI Template'!K454=\"direct\",\"NA\",IF(AND('FMI Template'!N454<>\"\",'FMI Template'!N454<>\"UA\"),'FMI Template'!N454,\"\"))","v":""},{"$f":"IF(OR('FMI Template'!H454=\"Other\",'FMI Template'!H454=\"NA\"),'FMI Template'!Q454,\"\")","v":""},{"$f":"IF(AND('FMI Template'!O454<>\"\",'FMI Template'!O454<>\"NA\",'FMI Template'!O454<>\"UA\"),'FMI Template'!O454,\"\")","v":""}]
[null,{"$f":"IF(AND('FMI Template'!B455<>\"\",'FMI Template'!B455<>\"NA\",'FMI Template'!B455<>\"UA\"),'FMI Template'!B455,\"\")","v":""},{"$f":"IF(AND('FMI Template'!C455<>\"\",'FMI Template'!C455<>\"NA\",'FMI Template'!C455<>\"UA\"),'FMI Template'!C455,\"\")","v":""},{"$f":"IF(AND('FMI Template'!D455<>\"\",'FMI Template'!D455<>\"NA\",'FMI Template'!D455<>\"UA\"),'FMI Template'!D455,\"\")","v":""},{"$f":"IF(AND('FMI Template'!F455<>\"\",'FMI Template'!F455<>\"NA\",'FMI Template'!F455<>\"UA\"),'FMI Template'!F455,\"\")","v":""},{"$f":"IF(AND('FMI Template'!H455<>\"\", 'FMI Template'!H455<>\"UA\"),IF('FMI Template'!H455=\"CSD\",\"(I)CSD\",IF('FMI Template'!H455=\"CCP_Derivatives\",\"CCP-Derivatives\",IF('FMI Template'!H455=\"CCP_securities\",\"CCP-securities\",IF('FMI Template'!H455=\"PS_Retail\",\"PS\",IF('FMI Template'!H455=\"PS_LV\",\"PS\",'FMI Template'!H455))))),\"\")","v":""},{"$f":"IF(AND('FMI Template'!I455<>\"\", 'FMI Template'!I455<>\"UA\"),'FMI Template'!I455,\"\")","v":""},{"$f":"IF(AND('FMI Template'!J455<>\"\",'FMI Template'!J455<>\"UA\"),IF('FMI Template'!J455=\"CSD_SSS\",\"CSD-SSS\",IF('FMI Template'!J455=\"CCP_Derivatives\",\"CCP-Derivatives\",IF('FMI Template'!J455=\"CCP_securities\",\"CCP-securities\",IF('FMI Template'!J455=\"Trading_venue\",\"Trading-venue\",'FMI Template'!J455)))),\"\")","v":""},{"$f":"IF(AND('FMI Template'!K455<>\"\",'FMI Template'!K455<>\"UA\"),'FMI Template'!K455,\"\")","v":""},{"$f":"IF('FMI Template'!K455=\"direct\",\"NA\",IF(AND('FMI Template'!M455<>\"\",'FMI Template'!M455<>\"UA\"),'FMI Template'!M455,\"\"))","v":""},{"$f":"IF('FMI Template'!K455=\"direct\",\"NA\",IF(AND('FMI Template'!N455<>\"\",'FMI Template'!N455<>\"UA\"),'FMI Template'!N455,\"\"))","v":""},{"$f":"IF(OR('FMI Template'!H455=\"Other\",'FMI Template'!H455=\"NA\"),'FMI Template'!Q455,\"\")","v":""},{"$f":"IF(AND('FMI Template'!O455<>\"\",'FMI Template'!O455<>\"NA\",'FMI Template'!O455<>\"UA\"),'FMI Template'!O455,\"\")","v":""}]
[null,{"$f":"IF(AND('FMI Template'!B456<>\"\",'FMI Template'!B456<>\"NA\",'FMI Template'!B456<>\"UA\"),'FMI Template'!B456,\"\")","v":""},{"$f":"IF(AND('FMI Template'!C456<>\"\",'FMI Template'!C456<>\"NA\",'FMI Template'!C456<>\"UA\"),'FMI Template'!C456,\"\")","v":""},{"$f":"IF(AND('FMI Template'!D456<>\"\",'FMI Template'!D456<>\"NA\",'FMI Template'!D456<>\"UA\"),'FMI Template'!D456,\"\")","v":""},{"$f":"IF(AND('FMI Template'!F456<>\"\",'FMI Template'!F456<>\"NA\",'FMI Template'!F456<>\"UA\"),'FMI Template'!F456,\"\")","v":""},{"$f":"IF(AND('FMI Template'!H456<>\"\", 'FMI Template'!H456<>\"UA\"),IF('FMI Template'!H456=\"CSD\",\"(I)CSD\",IF('FMI Template'!H456=\"CCP_Derivatives\",\"CCP-Derivatives\",IF('FMI Template'!H456=\"CCP_securities\",\"CCP-securities\",IF('FMI Template'!H456=\"PS_Retail\",\"PS\",IF('FMI Template'!H456=\"PS_LV\",\"PS\",'FMI Template'!H456))))),\"\")","v":""},{"$f":"IF(AND('FMI Template'!I456<>\"\", 'FMI Template'!I456<>\"UA\"),'FMI Template'!I456,\"\")","v":""},{"$f":"IF(AND('FMI Template'!J456<>\"\",'FMI Template'!J456<>\"UA\"),IF('FMI Template'!J456=\"CSD_SSS\",\"CSD-SSS\",IF('FMI Template'!J456=\"CCP_Derivatives\",\"CCP-Derivatives\",IF('FMI Template'!J456=\"CCP_securities\",\"CCP-securities\",IF('FMI Template'!J456=\"Trading_venue\",\"Trading-venue\",'FMI Template'!J456)))),\"\")","v":""},{"$f":"IF(AND('FMI Template'!K456<>\"\",'FMI Template'!K456<>\"UA\"),'FMI Template'!K456,\"\")","v":""},{"$f":"IF('FMI Template'!K456=\"direct\",\"NA\",IF(AND('FMI Template'!M456<>\"\",'FMI Template'!M456<>\"UA\"),'FMI Template'!M456,\"\"))","v":""},{"$f":"IF('FMI Template'!K456=\"direct\",\"NA\",IF(AND('FMI Template'!N456<>\"\",'FMI Template'!N456<>\"UA\"),'FMI Template'!N456,\"\"))","v":""},{"$f":"IF(OR('FMI Template'!H456=\"Other\",'FMI Template'!H456=\"NA\"),'FMI Template'!Q456,\"\")","v":""},{"$f":"IF(AND('FMI Template'!O456<>\"\",'FMI Template'!O456<>\"NA\",'FMI Template'!O456<>\"UA\"),'FMI Template'!O456,\"\")","v":""}]
[null,{"$f":"IF(AND('FMI Template'!B457<>\"\",'FMI Template'!B457<>\"NA\",'FMI Template'!B457<>\"UA\"),'FMI Template'!B457,\"\")","v":""},{"$f":"IF(AND('FMI Template'!C457<>\"\",'FMI Template'!C457<>\"NA\",'FMI Template'!C457<>\"UA\"),'FMI Template'!C457,\"\")","v":""},{"$f":"IF(AND('FMI Template'!D457<>\"\",'FMI Template'!D457<>\"NA\",'FMI Template'!D457<>\"UA\"),'FMI Template'!D457,\"\")","v":""},{"$f":"IF(AND('FMI Template'!F457<>\"\",'FMI Template'!F457<>\"NA\",'FMI Template'!F457<>\"UA\"),'FMI Template'!F457,\"\")","v":""},{"$f":"IF(AND('FMI Template'!H457<>\"\", 'FMI Template'!H457<>\"UA\"),IF('FMI Template'!H457=\"CSD\",\"(I)CSD\",IF('FMI Template'!H457=\"CCP_Derivatives\",\"CCP-Derivatives\",IF('FMI Template'!H457=\"CCP_securities\",\"CCP-securities\",IF('FMI Template'!H457=\"PS_Retail\",\"PS\",IF('FMI Template'!H457=\"PS_LV\",\"PS\",'FMI Template'!H457))))),\"\")","v":""},{"$f":"IF(AND('FMI Template'!I457<>\"\", 'FMI Template'!I457<>\"UA\"),'FMI Template'!I457,\"\")","v":""},{"$f":"IF(AND('FMI Template'!J457<>\"\",'FMI Template'!J457<>\"UA\"),IF('FMI Template'!J457=\"CSD_SSS\",\"CSD-SSS\",IF('FMI Template'!J457=\"CCP_Derivatives\",\"CCP-Derivatives\",IF('FMI Template'!J457=\"CCP_securities\",\"CCP-securities\",IF('FMI Template'!J457=\"Trading_venue\",\"Trading-venue\",'FMI Template'!J457)))),\"\")","v":""},{"$f":"IF(AND('FMI Template'!K457<>\"\",'FMI Template'!K457<>\"UA\"),'FMI Template'!K457,\"\")","v":""},{"$f":"IF('FMI Template'!K457=\"direct\",\"NA\",IF(AND('FMI Template'!M457<>\"\",'FMI Template'!M457<>\"UA\"),'FMI Template'!M457,\"\"))","v":""},{"$f":"IF('FMI Template'!K457=\"direct\",\"NA\",IF(AND('FMI Template'!N457<>\"\",'FMI Template'!N457<>\"UA\"),'FMI Template'!N457,\"\"))","v":""},{"$f":"IF(OR('FMI Template'!H457=\"Other\",'FMI Template'!H457=\"NA\"),'FMI Template'!Q457,\"\")","v":""},{"$f":"IF(AND('FMI Template'!O457<>\"\",'FMI Template'!O457<>\"NA\",'FMI Template'!O457<>\"UA\"),'FMI Template'!O457,\"\")","v":""}]
[null,{"$f":"IF(AND('FMI Template'!B458<>\"\",'FMI Template'!B458<>\"NA\",'FMI Template'!B458<>\"UA\"),'FMI Template'!B458,\"\")","v":""},{"$f":"IF(AND('FMI Template'!C458<>\"\",'FMI Template'!C458<>\"NA\",'FMI Template'!C458<>\"UA\"),'FMI Template'!C458,\"\")","v":""},{"$f":"IF(AND('FMI Template'!D458<>\"\",'FMI Template'!D458<>\"NA\",'FMI Template'!D458<>\"UA\"),'FMI Template'!D458,\"\")","v":""},{"$f":"IF(AND('FMI Template'!F458<>\"\",'FMI Template'!F458<>\"NA\",'FMI Template'!F458<>\"UA\"),'FMI Template'!F458,\"\")","v":""},{"$f":"IF(AND('FMI Template'!H458<>\"\", 'FMI Template'!H458<>\"UA\"),IF('FMI Template'!H458=\"CSD\",\"(I)CSD\",IF('FMI Template'!H458=\"CCP_Derivatives\",\"CCP-Derivatives\",IF('FMI Template'!H458=\"CCP_securities\",\"CCP-securities\",IF('FMI Template'!H458=\"PS_Retail\",\"PS\",IF('FMI Template'!H458=\"PS_LV\",\"PS\",'FMI Template'!H458))))),\"\")","v":""},{"$f":"IF(AND('FMI Template'!I458<>\"\", 'FMI Template'!I458<>\"UA\"),'FMI Template'!I458,\"\")","v":""},{"$f":"IF(AND('FMI Template'!J458<>\"\",'FMI Template'!J458<>\"UA\"),IF('FMI Template'!J458=\"CSD_SSS\",\"CSD-SSS\",IF('FMI Template'!J458=\"CCP_Derivatives\",\"CCP-Derivatives\",IF('FMI Template'!J458=\"CCP_securities\",\"CCP-securities\",IF('FMI Template'!J458=\"Trading_venue\",\"Trading-venue\",'FMI Template'!J458)))),\"\")","v":""},{"$f":"IF(AND('FMI Template'!K458<>\"\",'FMI Template'!K458<>\"UA\"),'FMI Template'!K458,\"\")","v":""},{"$f":"IF('FMI Template'!K458=\"direct\",\"NA\",IF(AND('FMI Template'!M458<>\"\",'FMI Template'!M458<>\"UA\"),'FMI Template'!M458,\"\"))","v":""},{"$f":"IF('FMI Template'!K458=\"direct\",\"NA\",IF(AND('FMI Template'!N458<>\"\",'FMI Template'!N458<>\"UA\"),'FMI Template'!N458,\"\"))","v":""},{"$f":"IF(OR('FMI Template'!H458=\"Other\",'FMI Template'!H458=\"NA\"),'FMI Template'!Q458,\"\")","v":""},{"$f":"IF(AND('FMI Template'!O458<>\"\",'FMI Template'!O458<>\"NA\",'FMI Template'!O458<>\"UA\"),'FMI Template'!O458,\"\")","v":""}]
[null,{"$f":"IF(AND('FMI Template'!B459<>\"\",'FMI Template'!B459<>\"NA\",'FMI Template'!B459<>\"UA\"),'FMI Template'!B459,\"\")","v":""},{"$f":"IF(AND('FMI Template'!C459<>\"\",'FMI Template'!C459<>\"NA\",'FMI Template'!C459<>\"UA\"),'FMI Template'!C459,\"\")","v":""},{"$f":"IF(AND('FMI Template'!D459<>\"\",'FMI Template'!D459<>\"NA\",'FMI Template'!D459<>\"UA\"),'FMI Template'!D459,\"\")","v":""},{"$f":"IF(AND('FMI Template'!F459<>\"\",'FMI Template'!F459<>\"NA\",'FMI Template'!F459<>\"UA\"),'FMI Template'!F459,\"\")","v":""},{"$f":"IF(AND('FMI Template'!H459<>\"\", 'FMI Template'!H459<>\"UA\"),IF('FMI Template'!H459=\"CSD\",\"(I)CSD\",IF('FMI Template'!H459=\"CCP_Derivatives\",\"CCP-Derivatives\",IF('FMI Template'!H459=\"CCP_securities\",\"CCP-securities\",IF('FMI Template'!H459=\"PS_Retail\",\"PS\",IF('FMI Template'!H459=\"PS_LV\",\"PS\",'FMI Template'!H459))))),\"\")","v":""},{"$f":"IF(AND('FMI Template'!I459<>\"\", 'FMI Template'!I459<>\"UA\"),'FMI Template'!I459,\"\")","v":""},{"$f":"IF(AND('FMI Template'!J459<>\"\",'FMI Template'!J459<>\"UA\"),IF('FMI Template'!J459=\"CSD_SSS\",\"CSD-SSS\",IF('FMI Template'!J459=\"CCP_Derivatives\",\"CCP-Derivatives\",IF('FMI Template'!J459=\"CCP_securities\",\"CCP-securities\",IF('FMI Template'!J459=\"Trading_venue\",\"Trading-venue\",'FMI Template'!J459)))),\"\")","v":""},{"$f":"IF(AND('FMI Template'!K459<>\"\",'FMI Template'!K459<>\"UA\"),'FMI Template'!K459,\"\")","v":""},{"$f":"IF('FMI Template'!K459=\"direct\",\"NA\",IF(AND('FMI Template'!M459<>\"\",'FMI Template'!M459<>\"UA\"),'FMI Template'!M459,\"\"))","v":""},{"$f":"IF('FMI Template'!K459=\"direct\",\"NA\",IF(AND('FMI Template'!N459<>\"\",'FMI Template'!N459<>\"UA\"),'FMI Template'!N459,\"\"))","v":""},{"$f":"IF(OR('FMI Template'!H459=\"Other\",'FMI Template'!H459=\"NA\"),'FMI Template'!Q459,\"\")","v":""},{"$f":"IF(AND('FMI Template'!O459<>\"\",'FMI Template'!O459<>\"NA\",'FMI Template'!O459<>\"UA\"),'FMI Template'!O459,\"\")","v":""}]
[null,{"$f":"IF(AND('FMI Template'!B460<>\"\",'FMI Template'!B460<>\"NA\",'FMI Template'!B460<>\"UA\"),'FMI Template'!B460,\"\")","v":""},{"$f":"IF(AND('FMI Template'!C460<>\"\",'FMI Template'!C460<>\"NA\",'FMI Template'!C460<>\"UA\"),'FMI Template'!C460,\"\")","v":""},{"$f":"IF(AND('FMI Template'!D460<>\"\",'FMI Template'!D460<>\"NA\",'FMI Template'!D460<>\"UA\"),'FMI Template'!D460,\"\")","v":""},{"$f":"IF(AND('FMI Template'!F460<>\"\",'FMI Template'!F460<>\"NA\",'FMI Template'!F460<>\"UA\"),'FMI Template'!F460,\"\")","v":""},{"$f":"IF(AND('FMI Template'!H460<>\"\", 'FMI Template'!H460<>\"UA\"),IF('FMI Template'!H460=\"CSD\",\"(I)CSD\",IF('FMI Template'!H460=\"CCP_Derivatives\",\"CCP-Derivatives\",IF('FMI Template'!H460=\"CCP_securities\",\"CCP-securities\",IF('FMI Template'!H460=\"PS_Retail\",\"PS\",IF('FMI Template'!H460=\"PS_LV\",\"PS\",'FMI Template'!H460))))),\"\")","v":""},{"$f":"IF(AND('FMI Template'!I460<>\"\", 'FMI Template'!I460<>\"UA\"),'FMI Template'!I460,\"\")","v":""},{"$f":"IF(AND('FMI Template'!J460<>\"\",'FMI Template'!J460<>\"UA\"),IF('FMI Template'!J460=\"CSD_SSS\",\"CSD-SSS\",IF('FMI Template'!J460=\"CCP_Derivatives\",\"CCP-Derivatives\",IF('FMI Template'!J460=\"CCP_securities\",\"CCP-securities\",IF('FMI Template'!J460=\"Trading_venue\",\"Trading-venue\",'FMI Template'!J460)))),\"\")","v":""},{"$f":"IF(AND('FMI Template'!K460<>\"\",'FMI Template'!K460<>\"UA\"),'FMI Template'!K460,\"\")","v":""},{"$f":"IF('FMI Template'!K460=\"direct\",\"NA\",IF(AND('FMI Template'!M460<>\"\",'FMI Template'!M460<>\"UA\"),'FMI Template'!M460,\"\"))","v":""},{"$f":"IF('FMI Template'!K460=\"direct\",\"NA\",IF(AND('FMI Template'!N460<>\"\",'FMI Template'!N460<>\"UA\"),'FMI Template'!N460,\"\"))","v":""},{"$f":"IF(OR('FMI Template'!H460=\"Other\",'FMI Template'!H460=\"NA\"),'FMI Template'!Q460,\"\")","v":""},{"$f":"IF(AND('FMI Template'!O460<>\"\",'FMI Template'!O460<>\"NA\",'FMI Template'!O460<>\"UA\"),'FMI Template'!O460,\"\")","v":""}]
[null,{"$f":"IF(AND('FMI Template'!B461<>\"\",'FMI Template'!B461<>\"NA\",'FMI Template'!B461<>\"UA\"),'FMI Template'!B461,\"\")","v":""},{"$f":"IF(AND('FMI Template'!C461<>\"\",'FMI Template'!C461<>\"NA\",'FMI Template'!C461<>\"UA\"),'FMI Template'!C461,\"\")","v":""},{"$f":"IF(AND('FMI Template'!D461<>\"\",'FMI Template'!D461<>\"NA\",'FMI Template'!D461<>\"UA\"),'FMI Template'!D461,\"\")","v":""},{"$f":"IF(AND('FMI Template'!F461<>\"\",'FMI Template'!F461<>\"NA\",'FMI Template'!F461<>\"UA\"),'FMI Template'!F461,\"\")","v":""},{"$f":"IF(AND('FMI Template'!H461<>\"\", 'FMI Template'!H461<>\"UA\"),IF('FMI Template'!H461=\"CSD\",\"(I)CSD\",IF('FMI Template'!H461=\"CCP_Derivatives\",\"CCP-Derivatives\",IF('FMI Template'!H461=\"CCP_securities\",\"CCP-securities\",IF('FMI Template'!H461=\"PS_Retail\",\"PS\",IF('FMI Template'!H461=\"PS_LV\",\"PS\",'FMI Template'!H461))))),\"\")","v":""},{"$f":"IF(AND('FMI Template'!I461<>\"\", 'FMI Template'!I461<>\"UA\"),'FMI Template'!I461,\"\")","v":""},{"$f":"IF(AND('FMI Template'!J461<>\"\",'FMI Template'!J461<>\"UA\"),IF('FMI Template'!J461=\"CSD_SSS\",\"CSD-SSS\",IF('FMI Template'!J461=\"CCP_Derivatives\",\"CCP-Derivatives\",IF('FMI Template'!J461=\"CCP_securities\",\"CCP-securities\",IF('FMI Template'!J461=\"Trading_venue\",\"Trading-venue\",'FMI Template'!J461)))),\"\")","v":""},{"$f":"IF(AND('FMI Template'!K461<>\"\",'FMI Template'!K461<>\"UA\"),'FMI Template'!K461,\"\")","v":""},{"$f":"IF('FMI Template'!K461=\"direct\",\"NA\",IF(AND('FMI Template'!M461<>\"\",'FMI Template'!M461<>\"UA\"),'FMI Template'!M461,\"\"))","v":""},{"$f":"IF('FMI Template'!K461=\"direct\",\"NA\",IF(AND('FMI Template'!N461<>\"\",'FMI Template'!N461<>\"UA\"),'FMI Template'!N461,\"\"))","v":""},{"$f":"IF(OR('FMI Template'!H461=\"Other\",'FMI Template'!H461=\"NA\"),'FMI Template'!Q461,\"\")","v":""},{"$f":"IF(AND('FMI Template'!O461<>\"\",'FMI Template'!O461<>\"NA\",'FMI Template'!O461<>\"UA\"),'FMI Template'!O461,\"\")","v":""}]
[null,{"$f":"IF(AND('FMI Template'!B462<>\"\",'FMI Template'!B462<>\"NA\",'FMI Template'!B462<>\"UA\"),'FMI Template'!B462,\"\")","v":""},{"$f":"IF(AND('FMI Template'!C462<>\"\",'FMI Template'!C462<>\"NA\",'FMI Template'!C462<>\"UA\"),'FMI Template'!C462,\"\")","v":""},{"$f":"IF(AND('FMI Template'!D462<>\"\",'FMI Template'!D462<>\"NA\",'FMI Template'!D462<>\"UA\"),'FMI Template'!D462,\"\")","v":""},{"$f":"IF(AND('FMI Template'!F462<>\"\",'FMI Template'!F462<>\"NA\",'FMI Template'!F462<>\"UA\"),'FMI Template'!F462,\"\")","v":""},{"$f":"IF(AND('FMI Template'!H462<>\"\", 'FMI Template'!H462<>\"UA\"),IF('FMI Template'!H462=\"CSD\",\"(I)CSD\",IF('FMI Template'!H462=\"CCP_Derivatives\",\"CCP-Derivatives\",IF('FMI Template'!H462=\"CCP_securities\",\"CCP-securities\",IF('FMI Template'!H462=\"PS_Retail\",\"PS\",IF('FMI Template'!H462=\"PS_LV\",\"PS\",'FMI Template'!H462))))),\"\")","v":""},{"$f":"IF(AND('FMI Template'!I462<>\"\", 'FMI Template'!I462<>\"UA\"),'FMI Template'!I462,\"\")","v":""},{"$f":"IF(AND('FMI Template'!J462<>\"\",'FMI Template'!J462<>\"UA\"),IF('FMI Template'!J462=\"CSD_SSS\",\"CSD-SSS\",IF('FMI Template'!J462=\"CCP_Derivatives\",\"CCP-Derivatives\",IF('FMI Template'!J462=\"CCP_securities\",\"CCP-securities\",IF('FMI Template'!J462=\"Trading_venue\",\"Trading-venue\",'FMI Template'!J462)))),\"\")","v":""},{"$f":"IF(AND('FMI Template'!K462<>\"\",'FMI Template'!K462<>\"UA\"),'FMI Template'!K462,\"\")","v":""},{"$f":"IF('FMI Template'!K462=\"direct\",\"NA\",IF(AND('FMI Template'!M462<>\"\",'FMI Template'!M462<>\"UA\"),'FMI Template'!M462,\"\"))","v":""},{"$f":"IF('FMI Template'!K462=\"direct\",\"NA\",IF(AND('FMI Template'!N462<>\"\",'FMI Template'!N462<>\"UA\"),'FMI Template'!N462,\"\"))","v":""},{"$f":"IF(OR('FMI Template'!H462=\"Other\",'FMI Template'!H462=\"NA\"),'FMI Template'!Q462,\"\")","v":""},{"$f":"IF(AND('FMI Template'!O462<>\"\",'FMI Template'!O462<>\"NA\",'FMI Template'!O462<>\"UA\"),'FMI Template'!O462,\"\")","v":""}]
[null,{"$f":"IF(AND('FMI Template'!B463<>\"\",'FMI Template'!B463<>\"NA\",'FMI Template'!B463<>\"UA\"),'FMI Template'!B463,\"\")","v":""},{"$f":"IF(AND('FMI Template'!C463<>\"\",'FMI Template'!C463<>\"NA\",'FMI Template'!C463<>\"UA\"),'FMI Template'!C463,\"\")","v":""},{"$f":"IF(AND('FMI Template'!D463<>\"\",'FMI Template'!D463<>\"NA\",'FMI Template'!D463<>\"UA\"),'FMI Template'!D463,\"\")","v":""},{"$f":"IF(AND('FMI Template'!F463<>\"\",'FMI Template'!F463<>\"NA\",'FMI Template'!F463<>\"UA\"),'FMI Template'!F463,\"\")","v":""},{"$f":"IF(AND('FMI Template'!H463<>\"\", 'FMI Template'!H463<>\"UA\"),IF('FMI Template'!H463=\"CSD\",\"(I)CSD\",IF('FMI Template'!H463=\"CCP_Derivatives\",\"CCP-Derivatives\",IF('FMI Template'!H463=\"CCP_securities\",\"CCP-securities\",IF('FMI Template'!H463=\"PS_Retail\",\"PS\",IF('FMI Template'!H463=\"PS_LV\",\"PS\",'FMI Template'!H463))))),\"\")","v":""},{"$f":"IF(AND('FMI Template'!I463<>\"\", 'FMI Template'!I463<>\"UA\"),'FMI Template'!I463,\"\")","v":""},{"$f":"IF(AND('FMI Template'!J463<>\"\",'FMI Template'!J463<>\"UA\"),IF('FMI Template'!J463=\"CSD_SSS\",\"CSD-SSS\",IF('FMI Template'!J463=\"CCP_Derivatives\",\"CCP-Derivatives\",IF('FMI Template'!J463=\"CCP_securities\",\"CCP-securities\",IF('FMI Template'!J463=\"Trading_venue\",\"Trading-venue\",'FMI Template'!J463)))),\"\")","v":""},{"$f":"IF(AND('FMI Template'!K463<>\"\",'FMI Template'!K463<>\"UA\"),'FMI Template'!K463,\"\")","v":""},{"$f":"IF('FMI Template'!K463=\"direct\",\"NA\",IF(AND('FMI Template'!M463<>\"\",'FMI Template'!M463<>\"UA\"),'FMI Template'!M463,\"\"))","v":""},{"$f":"IF('FMI Template'!K463=\"direct\",\"NA\",IF(AND('FMI Template'!N463<>\"\",'FMI Template'!N463<>\"UA\"),'FMI Template'!N463,\"\"))","v":""},{"$f":"IF(OR('FMI Template'!H463=\"Other\",'FMI Template'!H463=\"NA\"),'FMI Template'!Q463,\"\")","v":""},{"$f":"IF(AND('FMI Template'!O463<>\"\",'FMI Template'!O463<>\"NA\",'FMI Template'!O463<>\"UA\"),'FMI Template'!O463,\"\")","v":""}]
[null,{"$f":"IF(AND('FMI Template'!B464<>\"\",'FMI Template'!B464<>\"NA\",'FMI Template'!B464<>\"UA\"),'FMI Template'!B464,\"\")","v":""},{"$f":"IF(AND('FMI Template'!C464<>\"\",'FMI Template'!C464<>\"NA\",'FMI Template'!C464<>\"UA\"),'FMI Template'!C464,\"\")","v":""},{"$f":"IF(AND('FMI Template'!D464<>\"\",'FMI Template'!D464<>\"NA\",'FMI Template'!D464<>\"UA\"),'FMI Template'!D464,\"\")","v":""},{"$f":"IF(AND('FMI Template'!F464<>\"\",'FMI Template'!F464<>\"NA\",'FMI Template'!F464<>\"UA\"),'FMI Template'!F464,\"\")","v":""},{"$f":"IF(AND('FMI Template'!H464<>\"\", 'FMI Template'!H464<>\"UA\"),IF('FMI Template'!H464=\"CSD\",\"(I)CSD\",IF('FMI Template'!H464=\"CCP_Derivatives\",\"CCP-Derivatives\",IF('FMI Template'!H464=\"CCP_securities\",\"CCP-securities\",IF('FMI Template'!H464=\"PS_Retail\",\"PS\",IF('FMI Template'!H464=\"PS_LV\",\"PS\",'FMI Template'!H464))))),\"\")","v":""},{"$f":"IF(AND('FMI Template'!I464<>\"\", 'FMI Template'!I464<>\"UA\"),'FMI Template'!I464,\"\")","v":""},{"$f":"IF(AND('FMI Template'!J464<>\"\",'FMI Template'!J464<>\"UA\"),IF('FMI Template'!J464=\"CSD_SSS\",\"CSD-SSS\",IF('FMI Template'!J464=\"CCP_Derivatives\",\"CCP-Derivatives\",IF('FMI Template'!J464=\"CCP_securities\",\"CCP-securities\",IF('FMI Template'!J464=\"Trading_venue\",\"Trading-venue\",'FMI Template'!J464)))),\"\")","v":""},{"$f":"IF(AND('FMI Template'!K464<>\"\",'FMI Template'!K464<>\"UA\"),'FMI Template'!K464,\"\")","v":""},{"$f":"IF('FMI Template'!K464=\"direct\",\"NA\",IF(AND('FMI Template'!M464<>\"\",'FMI Template'!M464<>\"UA\"),'FMI Template'!M464,\"\"))","v":""},{"$f":"IF('FMI Template'!K464=\"direct\",\"NA\",IF(AND('FMI Template'!N464<>\"\",'FMI Template'!N464<>\"UA\"),'FMI Template'!N464,\"\"))","v":""},{"$f":"IF(OR('FMI Template'!H464=\"Other\",'FMI Template'!H464=\"NA\"),'FMI Template'!Q464,\"\")","v":""},{"$f":"IF(AND('FMI Template'!O464<>\"\",'FMI Template'!O464<>\"NA\",'FMI Template'!O464<>\"UA\"),'FMI Template'!O464,\"\")","v":""}]
[null,{"$f":"IF(AND('FMI Template'!B465<>\"\",'FMI Template'!B465<>\"NA\",'FMI Template'!B465<>\"UA\"),'FMI Template'!B465,\"\")","v":""},{"$f":"IF(AND('FMI Template'!C465<>\"\",'FMI Template'!C465<>\"NA\",'FMI Template'!C465<>\"UA\"),'FMI Template'!C465,\"\")","v":""},{"$f":"IF(AND('FMI Template'!D465<>\"\",'FMI Template'!D465<>\"NA\",'FMI Template'!D465<>\"UA\"),'FMI Template'!D465,\"\")","v":""},{"$f":"IF(AND('FMI Template'!F465<>\"\",'FMI Template'!F465<>\"NA\",'FMI Template'!F465<>\"UA\"),'FMI Template'!F465,\"\")","v":""},{"$f":"IF(AND('FMI Template'!H465<>\"\", 'FMI Template'!H465<>\"UA\"),IF('FMI Template'!H465=\"CSD\",\"(I)CSD\",IF('FMI Template'!H465=\"CCP_Derivatives\",\"CCP-Derivatives\",IF('FMI Template'!H465=\"CCP_securities\",\"CCP-securities\",IF('FMI Template'!H465=\"PS_Retail\",\"PS\",IF('FMI Template'!H465=\"PS_LV\",\"PS\",'FMI Template'!H465))))),\"\")","v":""},{"$f":"IF(AND('FMI Template'!I465<>\"\", 'FMI Template'!I465<>\"UA\"),'FMI Template'!I465,\"\")","v":""},{"$f":"IF(AND('FMI Template'!J465<>\"\",'FMI Template'!J465<>\"UA\"),IF('FMI Template'!J465=\"CSD_SSS\",\"CSD-SSS\",IF('FMI Template'!J465=\"CCP_Derivatives\",\"CCP-Derivatives\",IF('FMI Template'!J465=\"CCP_securities\",\"CCP-securities\",IF('FMI Template'!J465=\"Trading_venue\",\"Trading-venue\",'FMI Template'!J465)))),\"\")","v":""},{"$f":"IF(AND('FMI Template'!K465<>\"\",'FMI Template'!K465<>\"UA\"),'FMI Template'!K465,\"\")","v":""},{"$f":"IF('FMI Template'!K465=\"direct\",\"NA\",IF(AND('FMI Template'!M465<>\"\",'FMI Template'!M465<>\"UA\"),'FMI Template'!M465,\"\"))","v":""},{"$f":"IF('FMI Template'!K465=\"direct\",\"NA\",IF(AND('FMI Template'!N465<>\"\",'FMI Template'!N465<>\"UA\"),'FMI Template'!N465,\"\"))","v":""},{"$f":"IF(OR('FMI Template'!H465=\"Other\",'FMI Template'!H465=\"NA\"),'FMI Template'!Q465,\"\")","v":""},{"$f":"IF(AND('FMI Template'!O465<>\"\",'FMI Template'!O465<>\"NA\",'FMI Template'!O465<>\"UA\"),'FMI Template'!O465,\"\")","v":""}]
[null,{"$f":"IF(AND('FMI Template'!B466<>\"\",'FMI Template'!B466<>\"NA\",'FMI Template'!B466<>\"UA\"),'FMI Template'!B466,\"\")","v":""},{"$f":"IF(AND('FMI Template'!C466<>\"\",'FMI Template'!C466<>\"NA\",'FMI Template'!C466<>\"UA\"),'FMI Template'!C466,\"\")","v":""},{"$f":"IF(AND('FMI Template'!D466<>\"\",'FMI Template'!D466<>\"NA\",'FMI Template'!D466<>\"UA\"),'FMI Template'!D466,\"\")","v":""},{"$f":"IF(AND('FMI Template'!F466<>\"\",'FMI Template'!F466<>\"NA\",'FMI Template'!F466<>\"UA\"),'FMI Template'!F466,\"\")","v":""},{"$f":"IF(AND('FMI Template'!H466<>\"\", 'FMI Template'!H466<>\"UA\"),IF('FMI Template'!H466=\"CSD\",\"(I)CSD\",IF('FMI Template'!H466=\"CCP_Derivatives\",\"CCP-Derivatives\",IF('FMI Template'!H466=\"CCP_securities\",\"CCP-securities\",IF('FMI Template'!H466=\"PS_Retail\",\"PS\",IF('FMI Template'!H466=\"PS_LV\",\"PS\",'FMI Template'!H466))))),\"\")","v":""},{"$f":"IF(AND('FMI Template'!I466<>\"\", 'FMI Template'!I466<>\"UA\"),'FMI Template'!I466,\"\")","v":""},{"$f":"IF(AND('FMI Template'!J466<>\"\",'FMI Template'!J466<>\"UA\"),IF('FMI Template'!J466=\"CSD_SSS\",\"CSD-SSS\",IF('FMI Template'!J466=\"CCP_Derivatives\",\"CCP-Derivatives\",IF('FMI Template'!J466=\"CCP_securities\",\"CCP-securities\",IF('FMI Template'!J466=\"Trading_venue\",\"Trading-venue\",'FMI Template'!J466)))),\"\")","v":""},{"$f":"IF(AND('FMI Template'!K466<>\"\",'FMI Template'!K466<>\"UA\"),'FMI Template'!K466,\"\")","v":""},{"$f":"IF('FMI Template'!K466=\"direct\",\"NA\",IF(AND('FMI Template'!M466<>\"\",'FMI Template'!M466<>\"UA\"),'FMI Template'!M466,\"\"))","v":""},{"$f":"IF('FMI Template'!K466=\"direct\",\"NA\",IF(AND('FMI Template'!N466<>\"\",'FMI Template'!N466<>\"UA\"),'FMI Template'!N466,\"\"))","v":""},{"$f":"IF(OR('FMI Template'!H466=\"Other\",'FMI Template'!H466=\"NA\"),'FMI Template'!Q466,\"\")","v":""},{"$f":"IF(AND('FMI Template'!O466<>\"\",'FMI Template'!O466<>\"NA\",'FMI Template'!O466<>\"UA\"),'FMI Template'!O466,\"\")","v":""}]
[null,{"$f":"IF(AND('FMI Template'!B467<>\"\",'FMI Template'!B467<>\"NA\",'FMI Template'!B467<>\"UA\"),'FMI Template'!B467,\"\")","v":""},{"$f":"IF(AND('FMI Template'!C467<>\"\",'FMI Template'!C467<>\"NA\",'FMI Template'!C467<>\"UA\"),'FMI Template'!C467,\"\")","v":""},{"$f":"IF(AND('FMI Template'!D467<>\"\",'FMI Template'!D467<>\"NA\",'FMI Template'!D467<>\"UA\"),'FMI Template'!D467,\"\")","v":""},{"$f":"IF(AND('FMI Template'!F467<>\"\",'FMI Template'!F467<>\"NA\",'FMI Template'!F467<>\"UA\"),'FMI Template'!F467,\"\")","v":""},{"$f":"IF(AND('FMI Template'!H467<>\"\", 'FMI Template'!H467<>\"UA\"),IF('FMI Template'!H467=\"CSD\",\"(I)CSD\",IF('FMI Template'!H467=\"CCP_Derivatives\",\"CCP-Derivatives\",IF('FMI Template'!H467=\"CCP_securities\",\"CCP-securities\",IF('FMI Template'!H467=\"PS_Retail\",\"PS\",IF('FMI Template'!H467=\"PS_LV\",\"PS\",'FMI Template'!H467))))),\"\")","v":""},{"$f":"IF(AND('FMI Template'!I467<>\"\", 'FMI Template'!I467<>\"UA\"),'FMI Template'!I467,\"\")","v":""},{"$f":"IF(AND('FMI Template'!J467<>\"\",'FMI Template'!J467<>\"UA\"),IF('FMI Template'!J467=\"CSD_SSS\",\"CSD-SSS\",IF('FMI Template'!J467=\"CCP_Derivatives\",\"CCP-Derivatives\",IF('FMI Template'!J467=\"CCP_securities\",\"CCP-securities\",IF('FMI Template'!J467=\"Trading_venue\",\"Trading-venue\",'FMI Template'!J467)))),\"\")","v":""},{"$f":"IF(AND('FMI Template'!K467<>\"\",'FMI Template'!K467<>\"UA\"),'FMI Template'!K467,\"\")","v":""},{"$f":"IF('FMI Template'!K467=\"direct\",\"NA\",IF(AND('FMI Template'!M467<>\"\",'FMI Template'!M467<>\"UA\"),'FMI Template'!M467,\"\"))","v":""},{"$f":"IF('FMI Template'!K467=\"direct\",\"NA\",IF(AND('FMI Template'!N467<>\"\",'FMI Template'!N467<>\"UA\"),'FMI Template'!N467,\"\"))","v":""},{"$f":"IF(OR('FMI Template'!H467=\"Other\",'FMI Template'!H467=\"NA\"),'FMI Template'!Q467,\"\")","v":""},{"$f":"IF(AND('FMI Template'!O467<>\"\",'FMI Template'!O467<>\"NA\",'FMI Template'!O467<>\"UA\"),'FMI Template'!O467,\"\")","v":""}]
[null,{"$f":"IF(AND('FMI Template'!B468<>\"\",'FMI Template'!B468<>\"NA\",'FMI Template'!B468<>\"UA\"),'FMI Template'!B468,\"\")","v":""},{"$f":"IF(AND('FMI Template'!C468<>\"\",'FMI Template'!C468<>\"NA\",'FMI Template'!C468<>\"UA\"),'FMI Template'!C468,\"\")","v":""},{"$f":"IF(AND('FMI Template'!D468<>\"\",'FMI Template'!D468<>\"NA\",'FMI Template'!D468<>\"UA\"),'FMI Template'!D468,\"\")","v":""},{"$f":"IF(AND('FMI Template'!F468<>\"\",'FMI Template'!F468<>\"NA\",'FMI Template'!F468<>\"UA\"),'FMI Template'!F468,\"\")","v":""},{"$f":"IF(AND('FMI Template'!H468<>\"\", 'FMI Template'!H468<>\"UA\"),IF('FMI Template'!H468=\"CSD\",\"(I)CSD\",IF('FMI Template'!H468=\"CCP_Derivatives\",\"CCP-Derivatives\",IF('FMI Template'!H468=\"CCP_securities\",\"CCP-securities\",IF('FMI Template'!H468=\"PS_Retail\",\"PS\",IF('FMI Template'!H468=\"PS_LV\",\"PS\",'FMI Template'!H468))))),\"\")","v":""},{"$f":"IF(AND('FMI Template'!I468<>\"\", 'FMI Template'!I468<>\"UA\"),'FMI Template'!I468,\"\")","v":""},{"$f":"IF(AND('FMI Template'!J468<>\"\",'FMI Template'!J468<>\"UA\"),IF('FMI Template'!J468=\"CSD_SSS\",\"CSD-SSS\",IF('FMI Template'!J468=\"CCP_Derivatives\",\"CCP-Derivatives\",IF('FMI Template'!J468=\"CCP_securities\",\"CCP-securities\",IF('FMI Template'!J468=\"Trading_venue\",\"Trading-venue\",'FMI Template'!J468)))),\"\")","v":""},{"$f":"IF(AND('FMI Template'!K468<>\"\",'FMI Template'!K468<>\"UA\"),'FMI Template'!K468,\"\")","v":""},{"$f":"IF('FMI Template'!K468=\"direct\",\"NA\",IF(AND('FMI Template'!M468<>\"\",'FMI Template'!M468<>\"UA\"),'FMI Template'!M468,\"\"))","v":""},{"$f":"IF('FMI Template'!K468=\"direct\",\"NA\",IF(AND('FMI Template'!N468<>\"\",'FMI Template'!N468<>\"UA\"),'FMI Template'!N468,\"\"))","v":""},{"$f":"IF(OR('FMI Template'!H468=\"Other\",'FMI Template'!H468=\"NA\"),'FMI Template'!Q468,\"\")","v":""},{"$f":"IF(AND('FMI Template'!O468<>\"\",'FMI Template'!O468<>\"NA\",'FMI Template'!O468<>\"UA\"),'FMI Template'!O468,\"\")","v":""}]
[null,{"$f":"IF(AND('FMI Template'!B469<>\"\",'FMI Template'!B469<>\"NA\",'FMI Template'!B469<>\"UA\"),'FMI Template'!B469,\"\")","v":""},{"$f":"IF(AND('FMI Template'!C469<>\"\",'FMI Template'!C469<>\"NA\",'FMI Template'!C469<>\"UA\"),'FMI Template'!C469,\"\")","v":""},{"$f":"IF(AND('FMI Template'!D469<>\"\",'FMI Template'!D469<>\"NA\",'FMI Template'!D469<>\"UA\"),'FMI Template'!D469,\"\")","v":""},{"$f":"IF(AND('FMI Template'!F469<>\"\",'FMI Template'!F469<>\"NA\",'FMI Template'!F469<>\"UA\"),'FMI Template'!F469,\"\")","v":""},{"$f":"IF(AND('FMI Template'!H469<>\"\", 'FMI Template'!H469<>\"UA\"),IF('FMI Template'!H469=\"CSD\",\"(I)CSD\",IF('FMI Template'!H469=\"CCP_Derivatives\",\"CCP-Derivatives\",IF('FMI Template'!H469=\"CCP_securities\",\"CCP-securities\",IF('FMI Template'!H469=\"PS_Retail\",\"PS\",IF('FMI Template'!H469=\"PS_LV\",\"PS\",'FMI Template'!H469))))),\"\")","v":""},{"$f":"IF(AND('FMI Template'!I469<>\"\", 'FMI Template'!I469<>\"UA\"),'FMI Template'!I469,\"\")","v":""},{"$f":"IF(AND('FMI Template'!J469<>\"\",'FMI Template'!J469<>\"UA\"),IF('FMI Template'!J469=\"CSD_SSS\",\"CSD-SSS\",IF('FMI Template'!J469=\"CCP_Derivatives\",\"CCP-Derivatives\",IF('FMI Template'!J469=\"CCP_securities\",\"CCP-securities\",IF('FMI Template'!J469=\"Trading_venue\",\"Trading-venue\",'FMI Template'!J469)))),\"\")","v":""},{"$f":"IF(AND('FMI Template'!K469<>\"\",'FMI Template'!K469<>\"UA\"),'FMI Template'!K469,\"\")","v":""},{"$f":"IF('FMI Template'!K469=\"direct\",\"NA\",IF(AND('FMI Template'!M469<>\"\",'FMI Template'!M469<>\"UA\"),'FMI Template'!M469,\"\"))","v":""},{"$f":"IF('FMI Template'!K469=\"direct\",\"NA\",IF(AND('FMI Template'!N469<>\"\",'FMI Template'!N469<>\"UA\"),'FMI Template'!N469,\"\"))","v":""},{"$f":"IF(OR('FMI Template'!H469=\"Other\",'FMI Template'!H469=\"NA\"),'FMI Template'!Q469,\"\")","v":""},{"$f":"IF(AND('FMI Template'!O469<>\"\",'FMI Template'!O469<>\"NA\",'FMI Template'!O469<>\"UA\"),'FMI Template'!O469,\"\")","v":""}]
[null,{"$f":"IF(AND('FMI Template'!B470<>\"\",'FMI Template'!B470<>\"NA\",'FMI Template'!B470<>\"UA\"),'FMI Template'!B470,\"\")","v":""},{"$f":"IF(AND('FMI Template'!C470<>\"\",'FMI Template'!C470<>\"NA\",'FMI Template'!C470<>\"UA\"),'FMI Template'!C470,\"\")","v":""},{"$f":"IF(AND('FMI Template'!D470<>\"\",'FMI Template'!D470<>\"NA\",'FMI Template'!D470<>\"UA\"),'FMI Template'!D470,\"\")","v":""},{"$f":"IF(AND('FMI Template'!F470<>\"\",'FMI Template'!F470<>\"NA\",'FMI Template'!F470<>\"UA\"),'FMI Template'!F470,\"\")","v":""},{"$f":"IF(AND('FMI Template'!H470<>\"\", 'FMI Template'!H470<>\"UA\"),IF('FMI Template'!H470=\"CSD\",\"(I)CSD\",IF('FMI Template'!H470=\"CCP_Derivatives\",\"CCP-Derivatives\",IF('FMI Template'!H470=\"CCP_securities\",\"CCP-securities\",IF('FMI Template'!H470=\"PS_Retail\",\"PS\",IF('FMI Template'!H470=\"PS_LV\",\"PS\",'FMI Template'!H470))))),\"\")","v":""},{"$f":"IF(AND('FMI Template'!I470<>\"\", 'FMI Template'!I470<>\"UA\"),'FMI Template'!I470,\"\")","v":""},{"$f":"IF(AND('FMI Template'!J470<>\"\",'FMI Template'!J470<>\"UA\"),IF('FMI Template'!J470=\"CSD_SSS\",\"CSD-SSS\",IF('FMI Template'!J470=\"CCP_Derivatives\",\"CCP-Derivatives\",IF('FMI Template'!J470=\"CCP_securities\",\"CCP-securities\",IF('FMI Template'!J470=\"Trading_venue\",\"Trading-venue\",'FMI Template'!J470)))),\"\")","v":""},{"$f":"IF(AND('FMI Template'!K470<>\"\",'FMI Template'!K470<>\"UA\"),'FMI Template'!K470,\"\")","v":""},{"$f":"IF('FMI Template'!K470=\"direct\",\"NA\",IF(AND('FMI Template'!M470<>\"\",'FMI Template'!M470<>\"UA\"),'FMI Template'!M470,\"\"))","v":""},{"$f":"IF('FMI Template'!K470=\"direct\",\"NA\",IF(AND('FMI Template'!N470<>\"\",'FMI Template'!N470<>\"UA\"),'FMI Template'!N470,\"\"))","v":""},{"$f":"IF(OR('FMI Template'!H470=\"Other\",'FMI Template'!H470=\"NA\"),'FMI Template'!Q470,\"\")","v":""},{"$f":"IF(AND('FMI Template'!O470<>\"\",'FMI Template'!O470<>\"NA\",'FMI Template'!O470<>\"UA\"),'FMI Template'!O470,\"\")","v":""}]
[null,{"$f":"IF(AND('FMI Template'!B471<>\"\",'FMI Template'!B471<>\"NA\",'FMI Template'!B471<>\"UA\"),'FMI Template'!B471,\"\")","v":""},{"$f":"IF(AND('FMI Template'!C471<>\"\",'FMI Template'!C471<>\"NA\",'FMI Template'!C471<>\"UA\"),'FMI Template'!C471,\"\")","v":""},{"$f":"IF(AND('FMI Template'!D471<>\"\",'FMI Template'!D471<>\"NA\",'FMI Template'!D471<>\"UA\"),'FMI Template'!D471,\"\")","v":""},{"$f":"IF(AND('FMI Template'!F471<>\"\",'FMI Template'!F471<>\"NA\",'FMI Template'!F471<>\"UA\"),'FMI Template'!F471,\"\")","v":""},{"$f":"IF(AND('FMI Template'!H471<>\"\", 'FMI Template'!H471<>\"UA\"),IF('FMI Template'!H471=\"CSD\",\"(I)CSD\",IF('FMI Template'!H471=\"CCP_Derivatives\",\"CCP-Derivatives\",IF('FMI Template'!H471=\"CCP_securities\",\"CCP-securities\",IF('FMI Template'!H471=\"PS_Retail\",\"PS\",IF('FMI Template'!H471=\"PS_LV\",\"PS\",'FMI Template'!H471))))),\"\")","v":""},{"$f":"IF(AND('FMI Template'!I471<>\"\", 'FMI Template'!I471<>\"UA\"),'FMI Template'!I471,\"\")","v":""},{"$f":"IF(AND('FMI Template'!J471<>\"\",'FMI Template'!J471<>\"UA\"),IF('FMI Template'!J471=\"CSD_SSS\",\"CSD-SSS\",IF('FMI Template'!J471=\"CCP_Derivatives\",\"CCP-Derivatives\",IF('FMI Template'!J471=\"CCP_securities\",\"CCP-securities\",IF('FMI Template'!J471=\"Trading_venue\",\"Trading-venue\",'FMI Template'!J471)))),\"\")","v":""},{"$f":"IF(AND('FMI Template'!K471<>\"\",'FMI Template'!K471<>\"UA\"),'FMI Template'!K471,\"\")","v":""},{"$f":"IF('FMI Template'!K471=\"direct\",\"NA\",IF(AND('FMI Template'!M471<>\"\",'FMI Template'!M471<>\"UA\"),'FMI Template'!M471,\"\"))","v":""},{"$f":"IF('FMI Template'!K471=\"direct\",\"NA\",IF(AND('FMI Template'!N471<>\"\",'FMI Template'!N471<>\"UA\"),'FMI Template'!N471,\"\"))","v":""},{"$f":"IF(OR('FMI Template'!H471=\"Other\",'FMI Template'!H471=\"NA\"),'FMI Template'!Q471,\"\")","v":""},{"$f":"IF(AND('FMI Template'!O471<>\"\",'FMI Template'!O471<>\"NA\",'FMI Template'!O471<>\"UA\"),'FMI Template'!O471,\"\")","v":""}]
[null,{"$f":"IF(AND('FMI Template'!B472<>\"\",'FMI Template'!B472<>\"NA\",'FMI Template'!B472<>\"UA\"),'FMI Template'!B472,\"\")","v":""},{"$f":"IF(AND('FMI Template'!C472<>\"\",'FMI Template'!C472<>\"NA\",'FMI Template'!C472<>\"UA\"),'FMI Template'!C472,\"\")","v":""},{"$f":"IF(AND('FMI Template'!D472<>\"\",'FMI Template'!D472<>\"NA\",'FMI Template'!D472<>\"UA\"),'FMI Template'!D472,\"\")","v":""},{"$f":"IF(AND('FMI Template'!F472<>\"\",'FMI Template'!F472<>\"NA\",'FMI Template'!F472<>\"UA\"),'FMI Template'!F472,\"\")","v":""},{"$f":"IF(AND('FMI Template'!H472<>\"\", 'FMI Template'!H472<>\"UA\"),IF('FMI Template'!H472=\"CSD\",\"(I)CSD\",IF('FMI Template'!H472=\"CCP_Derivatives\",\"CCP-Derivatives\",IF('FMI Template'!H472=\"CCP_securities\",\"CCP-securities\",IF('FMI Template'!H472=\"PS_Retail\",\"PS\",IF('FMI Template'!H472=\"PS_LV\",\"PS\",'FMI Template'!H472))))),\"\")","v":""},{"$f":"IF(AND('FMI Template'!I472<>\"\", 'FMI Template'!I472<>\"UA\"),'FMI Template'!I472,\"\")","v":""},{"$f":"IF(AND('FMI Template'!J472<>\"\",'FMI Template'!J472<>\"UA\"),IF('FMI Template'!J472=\"CSD_SSS\",\"CSD-SSS\",IF('FMI Template'!J472=\"CCP_Derivatives\",\"CCP-Derivatives\",IF('FMI Template'!J472=\"CCP_securities\",\"CCP-securities\",IF('FMI Template'!J472=\"Trading_venue\",\"Trading-venue\",'FMI Template'!J472)))),\"\")","v":""},{"$f":"IF(AND('FMI Template'!K472<>\"\",'FMI Template'!K472<>\"UA\"),'FMI Template'!K472,\"\")","v":""},{"$f":"IF('FMI Template'!K472=\"direct\",\"NA\",IF(AND('FMI Template'!M472<>\"\",'FMI Template'!M472<>\"UA\"),'FMI Template'!M472,\"\"))","v":""},{"$f":"IF('FMI Template'!K472=\"direct\",\"NA\",IF(AND('FMI Template'!N472<>\"\",'FMI Template'!N472<>\"UA\"),'FMI Template'!N472,\"\"))","v":""},{"$f":"IF(OR('FMI Template'!H472=\"Other\",'FMI Template'!H472=\"NA\"),'FMI Template'!Q472,\"\")","v":""},{"$f":"IF(AND('FMI Template'!O472<>\"\",'FMI Template'!O472<>\"NA\",'FMI Template'!O472<>\"UA\"),'FMI Template'!O472,\"\")","v":""}]
[null,{"$f":"IF(AND('FMI Template'!B473<>\"\",'FMI Template'!B473<>\"NA\",'FMI Template'!B473<>\"UA\"),'FMI Template'!B473,\"\")","v":""},{"$f":"IF(AND('FMI Template'!C473<>\"\",'FMI Template'!C473<>\"NA\",'FMI Template'!C473<>\"UA\"),'FMI Template'!C473,\"\")","v":""},{"$f":"IF(AND('FMI Template'!D473<>\"\",'FMI Template'!D473<>\"NA\",'FMI Template'!D473<>\"UA\"),'FMI Template'!D473,\"\")","v":""},{"$f":"IF(AND('FMI Template'!F473<>\"\",'FMI Template'!F473<>\"NA\",'FMI Template'!F473<>\"UA\"),'FMI Template'!F473,\"\")","v":""},{"$f":"IF(AND('FMI Template'!H473<>\"\", 'FMI Template'!H473<>\"UA\"),IF('FMI Template'!H473=\"CSD\",\"(I)CSD\",IF('FMI Template'!H473=\"CCP_Derivatives\",\"CCP-Derivatives\",IF('FMI Template'!H473=\"CCP_securities\",\"CCP-securities\",IF('FMI Template'!H473=\"PS_Retail\",\"PS\",IF('FMI Template'!H473=\"PS_LV\",\"PS\",'FMI Template'!H473))))),\"\")","v":""},{"$f":"IF(AND('FMI Template'!I473<>\"\", 'FMI Template'!I473<>\"UA\"),'FMI Template'!I473,\"\")","v":""},{"$f":"IF(AND('FMI Template'!J473<>\"\",'FMI Template'!J473<>\"UA\"),IF('FMI Template'!J473=\"CSD_SSS\",\"CSD-SSS\",IF('FMI Template'!J473=\"CCP_Derivatives\",\"CCP-Derivatives\",IF('FMI Template'!J473=\"CCP_securities\",\"CCP-securities\",IF('FMI Template'!J473=\"Trading_venue\",\"Trading-venue\",'FMI Template'!J473)))),\"\")","v":""},{"$f":"IF(AND('FMI Template'!K473<>\"\",'FMI Template'!K473<>\"UA\"),'FMI Template'!K473,\"\")","v":""},{"$f":"IF('FMI Template'!K473=\"direct\",\"NA\",IF(AND('FMI Template'!M473<>\"\",'FMI Template'!M473<>\"UA\"),'FMI Template'!M473,\"\"))","v":""},{"$f":"IF('FMI Template'!K473=\"direct\",\"NA\",IF(AND('FMI Template'!N473<>\"\",'FMI Template'!N473<>\"UA\"),'FMI Template'!N473,\"\"))","v":""},{"$f":"IF(OR('FMI Template'!H473=\"Other\",'FMI Template'!H473=\"NA\"),'FMI Template'!Q473,\"\")","v":""},{"$f":"IF(AND('FMI Template'!O473<>\"\",'FMI Template'!O473<>\"NA\",'FMI Template'!O473<>\"UA\"),'FMI Template'!O473,\"\")","v":""}]
[null,{"$f":"IF(AND('FMI Template'!B474<>\"\",'FMI Template'!B474<>\"NA\",'FMI Template'!B474<>\"UA\"),'FMI Template'!B474,\"\")","v":""},{"$f":"IF(AND('FMI Template'!C474<>\"\",'FMI Template'!C474<>\"NA\",'FMI Template'!C474<>\"UA\"),'FMI Template'!C474,\"\")","v":""},{"$f":"IF(AND('FMI Template'!D474<>\"\",'FMI Template'!D474<>\"NA\",'FMI Template'!D474<>\"UA\"),'FMI Template'!D474,\"\")","v":""},{"$f":"IF(AND('FMI Template'!F474<>\"\",'FMI Template'!F474<>\"NA\",'FMI Template'!F474<>\"UA\"),'FMI Template'!F474,\"\")","v":""},{"$f":"IF(AND('FMI Template'!H474<>\"\", 'FMI Template'!H474<>\"UA\"),IF('FMI Template'!H474=\"CSD\",\"(I)CSD\",IF('FMI Template'!H474=\"CCP_Derivatives\",\"CCP-Derivatives\",IF('FMI Template'!H474=\"CCP_securities\",\"CCP-securities\",IF('FMI Template'!H474=\"PS_Retail\",\"PS\",IF('FMI Template'!H474=\"PS_LV\",\"PS\",'FMI Template'!H474))))),\"\")","v":""},{"$f":"IF(AND('FMI Template'!I474<>\"\", 'FMI Template'!I474<>\"UA\"),'FMI Template'!I474,\"\")","v":""},{"$f":"IF(AND('FMI Template'!J474<>\"\",'FMI Template'!J474<>\"UA\"),IF('FMI Template'!J474=\"CSD_SSS\",\"CSD-SSS\",IF('FMI Template'!J474=\"CCP_Derivatives\",\"CCP-Derivatives\",IF('FMI Template'!J474=\"CCP_securities\",\"CCP-securities\",IF('FMI Template'!J474=\"Trading_venue\",\"Trading-venue\",'FMI Template'!J474)))),\"\")","v":""},{"$f":"IF(AND('FMI Template'!K474<>\"\",'FMI Template'!K474<>\"UA\"),'FMI Template'!K474,\"\")","v":""},{"$f":"IF('FMI Template'!K474=\"direct\",\"NA\",IF(AND('FMI Template'!M474<>\"\",'FMI Template'!M474<>\"UA\"),'FMI Template'!M474,\"\"))","v":""},{"$f":"IF('FMI Template'!K474=\"direct\",\"NA\",IF(AND('FMI Template'!N474<>\"\",'FMI Template'!N474<>\"UA\"),'FMI Template'!N474,\"\"))","v":""},{"$f":"IF(OR('FMI Template'!H474=\"Other\",'FMI Template'!H474=\"NA\"),'FMI Template'!Q474,\"\")","v":""},{"$f":"IF(AND('FMI Template'!O474<>\"\",'FMI Template'!O474<>\"NA\",'FMI Template'!O474<>\"UA\"),'FMI Template'!O474,\"\")","v":""}]
[null,{"$f":"IF(AND('FMI Template'!B475<>\"\",'FMI Template'!B475<>\"NA\",'FMI Template'!B475<>\"UA\"),'FMI Template'!B475,\"\")","v":""},{"$f":"IF(AND('FMI Template'!C475<>\"\",'FMI Template'!C475<>\"NA\",'FMI Template'!C475<>\"UA\"),'FMI Template'!C475,\"\")","v":""},{"$f":"IF(AND('FMI Template'!D475<>\"\",'FMI Template'!D475<>\"NA\",'FMI Template'!D475<>\"UA\"),'FMI Template'!D475,\"\")","v":""},{"$f":"IF(AND('FMI Template'!F475<>\"\",'FMI Template'!F475<>\"NA\",'FMI Template'!F475<>\"UA\"),'FMI Template'!F475,\"\")","v":""},{"$f":"IF(AND('FMI Template'!H475<>\"\", 'FMI Template'!H475<>\"UA\"),IF('FMI Template'!H475=\"CSD\",\"(I)CSD\",IF('FMI Template'!H475=\"CCP_Derivatives\",\"CCP-Derivatives\",IF('FMI Template'!H475=\"CCP_securities\",\"CCP-securities\",IF('FMI Template'!H475=\"PS_Retail\",\"PS\",IF('FMI Template'!H475=\"PS_LV\",\"PS\",'FMI Template'!H475))))),\"\")","v":""},{"$f":"IF(AND('FMI Template'!I475<>\"\", 'FMI Template'!I475<>\"UA\"),'FMI Template'!I475,\"\")","v":""},{"$f":"IF(AND('FMI Template'!J475<>\"\",'FMI Template'!J475<>\"UA\"),IF('FMI Template'!J475=\"CSD_SSS\",\"CSD-SSS\",IF('FMI Template'!J475=\"CCP_Derivatives\",\"CCP-Derivatives\",IF('FMI Template'!J475=\"CCP_securities\",\"CCP-securities\",IF('FMI Template'!J475=\"Trading_venue\",\"Trading-venue\",'FMI Template'!J475)))),\"\")","v":""},{"$f":"IF(AND('FMI Template'!K475<>\"\",'FMI Template'!K475<>\"UA\"),'FMI Template'!K475,\"\")","v":""},{"$f":"IF('FMI Template'!K475=\"direct\",\"NA\",IF(AND('FMI Template'!M475<>\"\",'FMI Template'!M475<>\"UA\"),'FMI Template'!M475,\"\"))","v":""},{"$f":"IF('FMI Template'!K475=\"direct\",\"NA\",IF(AND('FMI Template'!N475<>\"\",'FMI Template'!N475<>\"UA\"),'FMI Template'!N475,\"\"))","v":""},{"$f":"IF(OR('FMI Template'!H475=\"Other\",'FMI Template'!H475=\"NA\"),'FMI Template'!Q475,\"\")","v":""},{"$f":"IF(AND('FMI Template'!O475<>\"\",'FMI Template'!O475<>\"NA\",'FMI Template'!O475<>\"UA\"),'FMI Template'!O475,\"\")","v":""}]
[null,{"$f":"IF(AND('FMI Template'!B476<>\"\",'FMI Template'!B476<>\"NA\",'FMI Template'!B476<>\"UA\"),'FMI Template'!B476,\"\")","v":""},{"$f":"IF(AND('FMI Template'!C476<>\"\",'FMI Template'!C476<>\"NA\",'FMI Template'!C476<>\"UA\"),'FMI Template'!C476,\"\")","v":""},{"$f":"IF(AND('FMI Template'!D476<>\"\",'FMI Template'!D476<>\"NA\",'FMI Template'!D476<>\"UA\"),'FMI Template'!D476,\"\")","v":""},{"$f":"IF(AND('FMI Template'!F476<>\"\",'FMI Template'!F476<>\"NA\",'FMI Template'!F476<>\"UA\"),'FMI Template'!F476,\"\")","v":""},{"$f":"IF(AND('FMI Template'!H476<>\"\", 'FMI Template'!H476<>\"UA\"),IF('FMI Template'!H476=\"CSD\",\"(I)CSD\",IF('FMI Template'!H476=\"CCP_Derivatives\",\"CCP-Derivatives\",IF('FMI Template'!H476=\"CCP_securities\",\"CCP-securities\",IF('FMI Template'!H476=\"PS_Retail\",\"PS\",IF('FMI Template'!H476=\"PS_LV\",\"PS\",'FMI Template'!H476))))),\"\")","v":""},{"$f":"IF(AND('FMI Template'!I476<>\"\", 'FMI Template'!I476<>\"UA\"),'FMI Template'!I476,\"\")","v":""},{"$f":"IF(AND('FMI Template'!J476<>\"\",'FMI Template'!J476<>\"UA\"),IF('FMI Template'!J476=\"CSD_SSS\",\"CSD-SSS\",IF('FMI Template'!J476=\"CCP_Derivatives\",\"CCP-Derivatives\",IF('FMI Template'!J476=\"CCP_securities\",\"CCP-securities\",IF('FMI Template'!J476=\"Trading_venue\",\"Trading-venue\",'FMI Template'!J476)))),\"\")","v":""},{"$f":"IF(AND('FMI Template'!K476<>\"\",'FMI Template'!K476<>\"UA\"),'FMI Template'!K476,\"\")","v":""},{"$f":"IF('FMI Template'!K476=\"direct\",\"NA\",IF(AND('FMI Template'!M476<>\"\",'FMI Template'!M476<>\"UA\"),'FMI Template'!M476,\"\"))","v":""},{"$f":"IF('FMI Template'!K476=\"direct\",\"NA\",IF(AND('FMI Template'!N476<>\"\",'FMI Template'!N476<>\"UA\"),'FMI Template'!N476,\"\"))","v":""},{"$f":"IF(OR('FMI Template'!H476=\"Other\",'FMI Template'!H476=\"NA\"),'FMI Template'!Q476,\"\")","v":""},{"$f":"IF(AND('FMI Template'!O476<>\"\",'FMI Template'!O476<>\"NA\",'FMI Template'!O476<>\"UA\"),'FMI Template'!O476,\"\")","v":""}]
[null,{"$f":"IF(AND('FMI Template'!B477<>\"\",'FMI Template'!B477<>\"NA\",'FMI Template'!B477<>\"UA\"),'FMI Template'!B477,\"\")","v":""},{"$f":"IF(AND('FMI Template'!C477<>\"\",'FMI Template'!C477<>\"NA\",'FMI Template'!C477<>\"UA\"),'FMI Template'!C477,\"\")","v":""},{"$f":"IF(AND('FMI Template'!D477<>\"\",'FMI Template'!D477<>\"NA\",'FMI Template'!D477<>\"UA\"),'FMI Template'!D477,\"\")","v":""},{"$f":"IF(AND('FMI Template'!F477<>\"\",'FMI Template'!F477<>\"NA\",'FMI Template'!F477<>\"UA\"),'FMI Template'!F477,\"\")","v":""},{"$f":"IF(AND('FMI Template'!H477<>\"\", 'FMI Template'!H477<>\"UA\"),IF('FMI Template'!H477=\"CSD\",\"(I)CSD\",IF('FMI Template'!H477=\"CCP_Derivatives\",\"CCP-Derivatives\",IF('FMI Template'!H477=\"CCP_securities\",\"CCP-securities\",IF('FMI Template'!H477=\"PS_Retail\",\"PS\",IF('FMI Template'!H477=\"PS_LV\",\"PS\",'FMI Template'!H477))))),\"\")","v":""},{"$f":"IF(AND('FMI Template'!I477<>\"\", 'FMI Template'!I477<>\"UA\"),'FMI Template'!I477,\"\")","v":""},{"$f":"IF(AND('FMI Template'!J477<>\"\",'FMI Template'!J477<>\"UA\"),IF('FMI Template'!J477=\"CSD_SSS\",\"CSD-SSS\",IF('FMI Template'!J477=\"CCP_Derivatives\",\"CCP-Derivatives\",IF('FMI Template'!J477=\"CCP_securities\",\"CCP-securities\",IF('FMI Template'!J477=\"Trading_venue\",\"Trading-venue\",'FMI Template'!J477)))),\"\")","v":""},{"$f":"IF(AND('FMI Template'!K477<>\"\",'FMI Template'!K477<>\"UA\"),'FMI Template'!K477,\"\")","v":""},{"$f":"IF('FMI Template'!K477=\"direct\",\"NA\",IF(AND('FMI Template'!M477<>\"\",'FMI Template'!M477<>\"UA\"),'FMI Template'!M477,\"\"))","v":""},{"$f":"IF('FMI Template'!K477=\"direct\",\"NA\",IF(AND('FMI Template'!N477<>\"\",'FMI Template'!N477<>\"UA\"),'FMI Template'!N477,\"\"))","v":""},{"$f":"IF(OR('FMI Template'!H477=\"Other\",'FMI Template'!H477=\"NA\"),'FMI Template'!Q477,\"\")","v":""},{"$f":"IF(AND('FMI Template'!O477<>\"\",'FMI Template'!O477<>\"NA\",'FMI Template'!O477<>\"UA\"),'FMI Template'!O477,\"\")","v":""}]
[null,{"$f":"IF(AND('FMI Template'!B478<>\"\",'FMI Template'!B478<>\"NA\",'FMI Template'!B478<>\"UA\"),'FMI Template'!B478,\"\")","v":""},{"$f":"IF(AND('FMI Template'!C478<>\"\",'FMI Template'!C478<>\"NA\",'FMI Template'!C478<>\"UA\"),'FMI Template'!C478,\"\")","v":""},{"$f":"IF(AND('FMI Template'!D478<>\"\",'FMI Template'!D478<>\"NA\",'FMI Template'!D478<>\"UA\"),'FMI Template'!D478,\"\")","v":""},{"$f":"IF(AND('FMI Template'!F478<>\"\",'FMI Template'!F478<>\"NA\",'FMI Template'!F478<>\"UA\"),'FMI Template'!F478,\"\")","v":""},{"$f":"IF(AND('FMI Template'!H478<>\"\", 'FMI Template'!H478<>\"UA\"),IF('FMI Template'!H478=\"CSD\",\"(I)CSD\",IF('FMI Template'!H478=\"CCP_Derivatives\",\"CCP-Derivatives\",IF('FMI Template'!H478=\"CCP_securities\",\"CCP-securities\",IF('FMI Template'!H478=\"PS_Retail\",\"PS\",IF('FMI Template'!H478=\"PS_LV\",\"PS\",'FMI Template'!H478))))),\"\")","v":""},{"$f":"IF(AND('FMI Template'!I478<>\"\", 'FMI Template'!I478<>\"UA\"),'FMI Template'!I478,\"\")","v":""},{"$f":"IF(AND('FMI Template'!J478<>\"\",'FMI Template'!J478<>\"UA\"),IF('FMI Template'!J478=\"CSD_SSS\",\"CSD-SSS\",IF('FMI Template'!J478=\"CCP_Derivatives\",\"CCP-Derivatives\",IF('FMI Template'!J478=\"CCP_securities\",\"CCP-securities\",IF('FMI Template'!J478=\"Trading_venue\",\"Trading-venue\",'FMI Template'!J478)))),\"\")","v":""},{"$f":"IF(AND('FMI Template'!K478<>\"\",'FMI Template'!K478<>\"UA\"),'FMI Template'!K478,\"\")","v":""},{"$f":"IF('FMI Template'!K478=\"direct\",\"NA\",IF(AND('FMI Template'!M478<>\"\",'FMI Template'!M478<>\"UA\"),'FMI Template'!M478,\"\"))","v":""},{"$f":"IF('FMI Template'!K478=\"direct\",\"NA\",IF(AND('FMI Template'!N478<>\"\",'FMI Template'!N478<>\"UA\"),'FMI Template'!N478,\"\"))","v":""},{"$f":"IF(OR('FMI Template'!H478=\"Other\",'FMI Template'!H478=\"NA\"),'FMI Template'!Q478,\"\")","v":""},{"$f":"IF(AND('FMI Template'!O478<>\"\",'FMI Template'!O478<>\"NA\",'FMI Template'!O478<>\"UA\"),'FMI Template'!O478,\"\")","v":""}]
[null,{"$f":"IF(AND('FMI Template'!B479<>\"\",'FMI Template'!B479<>\"NA\",'FMI Template'!B479<>\"UA\"),'FMI Template'!B479,\"\")","v":""},{"$f":"IF(AND('FMI Template'!C479<>\"\",'FMI Template'!C479<>\"NA\",'FMI Template'!C479<>\"UA\"),'FMI Template'!C479,\"\")","v":""},{"$f":"IF(AND('FMI Template'!D479<>\"\",'FMI Template'!D479<>\"NA\",'FMI Template'!D479<>\"UA\"),'FMI Template'!D479,\"\")","v":""},{"$f":"IF(AND('FMI Template'!F479<>\"\",'FMI Template'!F479<>\"NA\",'FMI Template'!F479<>\"UA\"),'FMI Template'!F479,\"\")","v":""},{"$f":"IF(AND('FMI Template'!H479<>\"\", 'FMI Template'!H479<>\"UA\"),IF('FMI Template'!H479=\"CSD\",\"(I)CSD\",IF('FMI Template'!H479=\"CCP_Derivatives\",\"CCP-Derivatives\",IF('FMI Template'!H479=\"CCP_securities\",\"CCP-securities\",IF('FMI Template'!H479=\"PS_Retail\",\"PS\",IF('FMI Template'!H479=\"PS_LV\",\"PS\",'FMI Template'!H479))))),\"\")","v":""},{"$f":"IF(AND('FMI Template'!I479<>\"\", 'FMI Template'!I479<>\"UA\"),'FMI Template'!I479,\"\")","v":""},{"$f":"IF(AND('FMI Template'!J479<>\"\",'FMI Template'!J479<>\"UA\"),IF('FMI Template'!J479=\"CSD_SSS\",\"CSD-SSS\",IF('FMI Template'!J479=\"CCP_Derivatives\",\"CCP-Derivatives\",IF('FMI Template'!J479=\"CCP_securities\",\"CCP-securities\",IF('FMI Template'!J479=\"Trading_venue\",\"Trading-venue\",'FMI Template'!J479)))),\"\")","v":""},{"$f":"IF(AND('FMI Template'!K479<>\"\",'FMI Template'!K479<>\"UA\"),'FMI Template'!K479,\"\")","v":""},{"$f":"IF('FMI Template'!K479=\"direct\",\"NA\",IF(AND('FMI Template'!M479<>\"\",'FMI Template'!M479<>\"UA\"),'FMI Template'!M479,\"\"))","v":""},{"$f":"IF('FMI Template'!K479=\"direct\",\"NA\",IF(AND('FMI Template'!N479<>\"\",'FMI Template'!N479<>\"UA\"),'FMI Template'!N479,\"\"))","v":""},{"$f":"IF(OR('FMI Template'!H479=\"Other\",'FMI Template'!H479=\"NA\"),'FMI Template'!Q479,\"\")","v":""},{"$f":"IF(AND('FMI Template'!O479<>\"\",'FMI Template'!O479<>\"NA\",'FMI Template'!O479<>\"UA\"),'FMI Template'!O479,\"\")","v":""}]
[null,{"$f":"IF(AND('FMI Template'!B480<>\"\",'FMI Template'!B480<>\"NA\",'FMI Template'!B480<>\"UA\"),'FMI Template'!B480,\"\")","v":""},{"$f":"IF(AND('FMI Template'!C480<>\"\",'FMI Template'!C480<>\"NA\",'FMI Template'!C480<>\"UA\"),'FMI Template'!C480,\"\")","v":""},{"$f":"IF(AND('FMI Template'!D480<>\"\",'FMI Template'!D480<>\"NA\",'FMI Template'!D480<>\"UA\"),'FMI Template'!D480,\"\")","v":""},{"$f":"IF(AND('FMI Template'!F480<>\"\",'FMI Template'!F480<>\"NA\",'FMI Template'!F480<>\"UA\"),'FMI Template'!F480,\"\")","v":""},{"$f":"IF(AND('FMI Template'!H480<>\"\", 'FMI Template'!H480<>\"UA\"),IF('FMI Template'!H480=\"CSD\",\"(I)CSD\",IF('FMI Template'!H480=\"CCP_Derivatives\",\"CCP-Derivatives\",IF('FMI Template'!H480=\"CCP_securities\",\"CCP-securities\",IF('FMI Template'!H480=\"PS_Retail\",\"PS\",IF('FMI Template'!H480=\"PS_LV\",\"PS\",'FMI Template'!H480))))),\"\")","v":""},{"$f":"IF(AND('FMI Template'!I480<>\"\", 'FMI Template'!I480<>\"UA\"),'FMI Template'!I480,\"\")","v":""},{"$f":"IF(AND('FMI Template'!J480<>\"\",'FMI Template'!J480<>\"UA\"),IF('FMI Template'!J480=\"CSD_SSS\",\"CSD-SSS\",IF('FMI Template'!J480=\"CCP_Derivatives\",\"CCP-Derivatives\",IF('FMI Template'!J480=\"CCP_securities\",\"CCP-securities\",IF('FMI Template'!J480=\"Trading_venue\",\"Trading-venue\",'FMI Template'!J480)))),\"\")","v":""},{"$f":"IF(AND('FMI Template'!K480<>\"\",'FMI Template'!K480<>\"UA\"),'FMI Template'!K480,\"\")","v":""},{"$f":"IF('FMI Template'!K480=\"direct\",\"NA\",IF(AND('FMI Template'!M480<>\"\",'FMI Template'!M480<>\"UA\"),'FMI Template'!M480,\"\"))","v":""},{"$f":"IF('FMI Template'!K480=\"direct\",\"NA\",IF(AND('FMI Template'!N480<>\"\",'FMI Template'!N480<>\"UA\"),'FMI Template'!N480,\"\"))","v":""},{"$f":"IF(OR('FMI Template'!H480=\"Other\",'FMI Template'!H480=\"NA\"),'FMI Template'!Q480,\"\")","v":""},{"$f":"IF(AND('FMI Template'!O480<>\"\",'FMI Template'!O480<>\"NA\",'FMI Template'!O480<>\"UA\"),'FMI Template'!O480,\"\")","v":""}]
[null,{"$f":"IF(AND('FMI Template'!B481<>\"\",'FMI Template'!B481<>\"NA\",'FMI Template'!B481<>\"UA\"),'FMI Template'!B481,\"\")","v":""},{"$f":"IF(AND('FMI Template'!C481<>\"\",'FMI Template'!C481<>\"NA\",'FMI Template'!C481<>\"UA\"),'FMI Template'!C481,\"\")","v":""},{"$f":"IF(AND('FMI Template'!D481<>\"\",'FMI Template'!D481<>\"NA\",'FMI Template'!D481<>\"UA\"),'FMI Template'!D481,\"\")","v":""},{"$f":"IF(AND('FMI Template'!F481<>\"\",'FMI Template'!F481<>\"NA\",'FMI Template'!F481<>\"UA\"),'FMI Template'!F481,\"\")","v":""},{"$f":"IF(AND('FMI Template'!H481<>\"\", 'FMI Template'!H481<>\"UA\"),IF('FMI Template'!H481=\"CSD\",\"(I)CSD\",IF('FMI Template'!H481=\"CCP_Derivatives\",\"CCP-Derivatives\",IF('FMI Template'!H481=\"CCP_securities\",\"CCP-securities\",IF('FMI Template'!H481=\"PS_Retail\",\"PS\",IF('FMI Template'!H481=\"PS_LV\",\"PS\",'FMI Template'!H481))))),\"\")","v":""},{"$f":"IF(AND('FMI Template'!I481<>\"\", 'FMI Template'!I481<>\"UA\"),'FMI Template'!I481,\"\")","v":""},{"$f":"IF(AND('FMI Template'!J481<>\"\",'FMI Template'!J481<>\"UA\"),IF('FMI Template'!J481=\"CSD_SSS\",\"CSD-SSS\",IF('FMI Template'!J481=\"CCP_Derivatives\",\"CCP-Derivatives\",IF('FMI Template'!J481=\"CCP_securities\",\"CCP-securities\",IF('FMI Template'!J481=\"Trading_venue\",\"Trading-venue\",'FMI Template'!J481)))),\"\")","v":""},{"$f":"IF(AND('FMI Template'!K481<>\"\",'FMI Template'!K481<>\"UA\"),'FMI Template'!K481,\"\")","v":""},{"$f":"IF('FMI Template'!K481=\"direct\",\"NA\",IF(AND('FMI Template'!M481<>\"\",'FMI Template'!M481<>\"UA\"),'FMI Template'!M481,\"\"))","v":""},{"$f":"IF('FMI Template'!K481=\"direct\",\"NA\",IF(AND('FMI Template'!N481<>\"\",'FMI Template'!N481<>\"UA\"),'FMI Template'!N481,\"\"))","v":""},{"$f":"IF(OR('FMI Template'!H481=\"Other\",'FMI Template'!H481=\"NA\"),'FMI Template'!Q481,\"\")","v":""},{"$f":"IF(AND('FMI Template'!O481<>\"\",'FMI Template'!O481<>\"NA\",'FMI Template'!O481<>\"UA\"),'FMI Template'!O481,\"\")","v":""}]
[null,{"$f":"IF(AND('FMI Template'!B482<>\"\",'FMI Template'!B482<>\"NA\",'FMI Template'!B482<>\"UA\"),'FMI Template'!B482,\"\")","v":""},{"$f":"IF(AND('FMI Template'!C482<>\"\",'FMI Template'!C482<>\"NA\",'FMI Template'!C482<>\"UA\"),'FMI Template'!C482,\"\")","v":""},{"$f":"IF(AND('FMI Template'!D482<>\"\",'FMI Template'!D482<>\"NA\",'FMI Template'!D482<>\"UA\"),'FMI Template'!D482,\"\")","v":""},{"$f":"IF(AND('FMI Template'!F482<>\"\",'FMI Template'!F482<>\"NA\",'FMI Template'!F482<>\"UA\"),'FMI Template'!F482,\"\")","v":""},{"$f":"IF(AND('FMI Template'!H482<>\"\", 'FMI Template'!H482<>\"UA\"),IF('FMI Template'!H482=\"CSD\",\"(I)CSD\",IF('FMI Template'!H482=\"CCP_Derivatives\",\"CCP-Derivatives\",IF('FMI Template'!H482=\"CCP_securities\",\"CCP-securities\",IF('FMI Template'!H482=\"PS_Retail\",\"PS\",IF('FMI Template'!H482=\"PS_LV\",\"PS\",'FMI Template'!H482))))),\"\")","v":""},{"$f":"IF(AND('FMI Template'!I482<>\"\", 'FMI Template'!I482<>\"UA\"),'FMI Template'!I482,\"\")","v":""},{"$f":"IF(AND('FMI Template'!J482<>\"\",'FMI Template'!J482<>\"UA\"),IF('FMI Template'!J482=\"CSD_SSS\",\"CSD-SSS\",IF('FMI Template'!J482=\"CCP_Derivatives\",\"CCP-Derivatives\",IF('FMI Template'!J482=\"CCP_securities\",\"CCP-securities\",IF('FMI Template'!J482=\"Trading_venue\",\"Trading-venue\",'FMI Template'!J482)))),\"\")","v":""},{"$f":"IF(AND('FMI Template'!K482<>\"\",'FMI Template'!K482<>\"UA\"),'FMI Template'!K482,\"\")","v":""},{"$f":"IF('FMI Template'!K482=\"direct\",\"NA\",IF(AND('FMI Template'!M482<>\"\",'FMI Template'!M482<>\"UA\"),'FMI Template'!M482,\"\"))","v":""},{"$f":"IF('FMI Template'!K482=\"direct\",\"NA\",IF(AND('FMI Template'!N482<>\"\",'FMI Template'!N482<>\"UA\"),'FMI Template'!N482,\"\"))","v":""},{"$f":"IF(OR('FMI Template'!H482=\"Other\",'FMI Template'!H482=\"NA\"),'FMI Template'!Q482,\"\")","v":""},{"$f":"IF(AND('FMI Template'!O482<>\"\",'FMI Template'!O482<>\"NA\",'FMI Template'!O482<>\"UA\"),'FMI Template'!O482,\"\")","v":""}]
[null,{"$f":"IF(AND('FMI Template'!B483<>\"\",'FMI Template'!B483<>\"NA\",'FMI Template'!B483<>\"UA\"),'FMI Template'!B483,\"\")","v":""},{"$f":"IF(AND('FMI Template'!C483<>\"\",'FMI Template'!C483<>\"NA\",'FMI Template'!C483<>\"UA\"),'FMI Template'!C483,\"\")","v":""},{"$f":"IF(AND('FMI Template'!D483<>\"\",'FMI Template'!D483<>\"NA\",'FMI Template'!D483<>\"UA\"),'FMI Template'!D483,\"\")","v":""},{"$f":"IF(AND('FMI Template'!F483<>\"\",'FMI Template'!F483<>\"NA\",'FMI Template'!F483<>\"UA\"),'FMI Template'!F483,\"\")","v":""},{"$f":"IF(AND('FMI Template'!H483<>\"\", 'FMI Template'!H483<>\"UA\"),IF('FMI Template'!H483=\"CSD\",\"(I)CSD\",IF('FMI Template'!H483=\"CCP_Derivatives\",\"CCP-Derivatives\",IF('FMI Template'!H483=\"CCP_securities\",\"CCP-securities\",IF('FMI Template'!H483=\"PS_Retail\",\"PS\",IF('FMI Template'!H483=\"PS_LV\",\"PS\",'FMI Template'!H483))))),\"\")","v":""},{"$f":"IF(AND('FMI Template'!I483<>\"\", 'FMI Template'!I483<>\"UA\"),'FMI Template'!I483,\"\")","v":""},{"$f":"IF(AND('FMI Template'!J483<>\"\",'FMI Template'!J483<>\"UA\"),IF('FMI Template'!J483=\"CSD_SSS\",\"CSD-SSS\",IF('FMI Template'!J483=\"CCP_Derivatives\",\"CCP-Derivatives\",IF('FMI Template'!J483=\"CCP_securities\",\"CCP-securities\",IF('FMI Template'!J483=\"Trading_venue\",\"Trading-venue\",'FMI Template'!J483)))),\"\")","v":""},{"$f":"IF(AND('FMI Template'!K483<>\"\",'FMI Template'!K483<>\"UA\"),'FMI Template'!K483,\"\")","v":""},{"$f":"IF('FMI Template'!K483=\"direct\",\"NA\",IF(AND('FMI Template'!M483<>\"\",'FMI Template'!M483<>\"UA\"),'FMI Template'!M483,\"\"))","v":""},{"$f":"IF('FMI Template'!K483=\"direct\",\"NA\",IF(AND('FMI Template'!N483<>\"\",'FMI Template'!N483<>\"UA\"),'FMI Template'!N483,\"\"))","v":""},{"$f":"IF(OR('FMI Template'!H483=\"Other\",'FMI Template'!H483=\"NA\"),'FMI Template'!Q483,\"\")","v":""},{"$f":"IF(AND('FMI Template'!O483<>\"\",'FMI Template'!O483<>\"NA\",'FMI Template'!O483<>\"UA\"),'FMI Template'!O483,\"\")","v":""}]
[null,{"$f":"IF(AND('FMI Template'!B484<>\"\",'FMI Template'!B484<>\"NA\",'FMI Template'!B484<>\"UA\"),'FMI Template'!B484,\"\")","v":""},{"$f":"IF(AND('FMI Template'!C484<>\"\",'FMI Template'!C484<>\"NA\",'FMI Template'!C484<>\"UA\"),'FMI Template'!C484,\"\")","v":""},{"$f":"IF(AND('FMI Template'!D484<>\"\",'FMI Template'!D484<>\"NA\",'FMI Template'!D484<>\"UA\"),'FMI Template'!D484,\"\")","v":""},{"$f":"IF(AND('FMI Template'!F484<>\"\",'FMI Template'!F484<>\"NA\",'FMI Template'!F484<>\"UA\"),'FMI Template'!F484,\"\")","v":""},{"$f":"IF(AND('FMI Template'!H484<>\"\", 'FMI Template'!H484<>\"UA\"),IF('FMI Template'!H484=\"CSD\",\"(I)CSD\",IF('FMI Template'!H484=\"CCP_Derivatives\",\"CCP-Derivatives\",IF('FMI Template'!H484=\"CCP_securities\",\"CCP-securities\",IF('FMI Template'!H484=\"PS_Retail\",\"PS\",IF('FMI Template'!H484=\"PS_LV\",\"PS\",'FMI Template'!H484))))),\"\")","v":""},{"$f":"IF(AND('FMI Template'!I484<>\"\", 'FMI Template'!I484<>\"UA\"),'FMI Template'!I484,\"\")","v":""},{"$f":"IF(AND('FMI Template'!J484<>\"\",'FMI Template'!J484<>\"UA\"),IF('FMI Template'!J484=\"CSD_SSS\",\"CSD-SSS\",IF('FMI Template'!J484=\"CCP_Derivatives\",\"CCP-Derivatives\",IF('FMI Template'!J484=\"CCP_securities\",\"CCP-securities\",IF('FMI Template'!J484=\"Trading_venue\",\"Trading-venue\",'FMI Template'!J484)))),\"\")","v":""},{"$f":"IF(AND('FMI Template'!K484<>\"\",'FMI Template'!K484<>\"UA\"),'FMI Template'!K484,\"\")","v":""},{"$f":"IF('FMI Template'!K484=\"direct\",\"NA\",IF(AND('FMI Template'!M484<>\"\",'FMI Template'!M484<>\"UA\"),'FMI Template'!M484,\"\"))","v":""},{"$f":"IF('FMI Template'!K484=\"direct\",\"NA\",IF(AND('FMI Template'!N484<>\"\",'FMI Template'!N484<>\"UA\"),'FMI Template'!N484,\"\"))","v":""},{"$f":"IF(OR('FMI Template'!H484=\"Other\",'FMI Template'!H484=\"NA\"),'FMI Template'!Q484,\"\")","v":""},{"$f":"IF(AND('FMI Template'!O484<>\"\",'FMI Template'!O484<>\"NA\",'FMI Template'!O484<>\"UA\"),'FMI Template'!O484,\"\")","v":""}]
[null,{"$f":"IF(AND('FMI Template'!B485<>\"\",'FMI Template'!B485<>\"NA\",'FMI Template'!B485<>\"UA\"),'FMI Template'!B485,\"\")","v":""},{"$f":"IF(AND('FMI Template'!C485<>\"\",'FMI Template'!C485<>\"NA\",'FMI Template'!C485<>\"UA\"),'FMI Template'!C485,\"\")","v":""},{"$f":"IF(AND('FMI Template'!D485<>\"\",'FMI Template'!D485<>\"NA\",'FMI Template'!D485<>\"UA\"),'FMI Template'!D485,\"\")","v":""},{"$f":"IF(AND('FMI Template'!F485<>\"\",'FMI Template'!F485<>\"NA\",'FMI Template'!F485<>\"UA\"),'FMI Template'!F485,\"\")","v":""},{"$f":"IF(AND('FMI Template'!H485<>\"\", 'FMI Template'!H485<>\"UA\"),IF('FMI Template'!H485=\"CSD\",\"(I)CSD\",IF('FMI Template'!H485=\"CCP_Derivatives\",\"CCP-Derivatives\",IF('FMI Template'!H485=\"CCP_securities\",\"CCP-securities\",IF('FMI Template'!H485=\"PS_Retail\",\"PS\",IF('FMI Template'!H485=\"PS_LV\",\"PS\",'FMI Template'!H485))))),\"\")","v":""},{"$f":"IF(AND('FMI Template'!I485<>\"\", 'FMI Template'!I485<>\"UA\"),'FMI Template'!I485,\"\")","v":""},{"$f":"IF(AND('FMI Template'!J485<>\"\",'FMI Template'!J485<>\"UA\"),IF('FMI Template'!J485=\"CSD_SSS\",\"CSD-SSS\",IF('FMI Template'!J485=\"CCP_Derivatives\",\"CCP-Derivatives\",IF('FMI Template'!J485=\"CCP_securities\",\"CCP-securities\",IF('FMI Template'!J485=\"Trading_venue\",\"Trading-venue\",'FMI Template'!J485)))),\"\")","v":""},{"$f":"IF(AND('FMI Template'!K485<>\"\",'FMI Template'!K485<>\"UA\"),'FMI Template'!K485,\"\")","v":""},{"$f":"IF('FMI Template'!K485=\"direct\",\"NA\",IF(AND('FMI Template'!M485<>\"\",'FMI Template'!M485<>\"UA\"),'FMI Template'!M485,\"\"))","v":""},{"$f":"IF('FMI Template'!K485=\"direct\",\"NA\",IF(AND('FMI Template'!N485<>\"\",'FMI Template'!N485<>\"UA\"),'FMI Template'!N485,\"\"))","v":""},{"$f":"IF(OR('FMI Template'!H485=\"Other\",'FMI Template'!H485=\"NA\"),'FMI Template'!Q485,\"\")","v":""},{"$f":"IF(AND('FMI Template'!O485<>\"\",'FMI Template'!O485<>\"NA\",'FMI Template'!O485<>\"UA\"),'FMI Template'!O485,\"\")","v":""}]
[null,{"$f":"IF(AND('FMI Template'!B486<>\"\",'FMI Template'!B486<>\"NA\",'FMI Template'!B486<>\"UA\"),'FMI Template'!B486,\"\")","v":""},{"$f":"IF(AND('FMI Template'!C486<>\"\",'FMI Template'!C486<>\"NA\",'FMI Template'!C486<>\"UA\"),'FMI Template'!C486,\"\")","v":""},{"$f":"IF(AND('FMI Template'!D486<>\"\",'FMI Template'!D486<>\"NA\",'FMI Template'!D486<>\"UA\"),'FMI Template'!D486,\"\")","v":""},{"$f":"IF(AND('FMI Template'!F486<>\"\",'FMI Template'!F486<>\"NA\",'FMI Template'!F486<>\"UA\"),'FMI Template'!F486,\"\")","v":""},{"$f":"IF(AND('FMI Template'!H486<>\"\", 'FMI Template'!H486<>\"UA\"),IF('FMI Template'!H486=\"CSD\",\"(I)CSD\",IF('FMI Template'!H486=\"CCP_Derivatives\",\"CCP-Derivatives\",IF('FMI Template'!H486=\"CCP_securities\",\"CCP-securities\",IF('FMI Template'!H486=\"PS_Retail\",\"PS\",IF('FMI Template'!H486=\"PS_LV\",\"PS\",'FMI Template'!H486))))),\"\")","v":""},{"$f":"IF(AND('FMI Template'!I486<>\"\", 'FMI Template'!I486<>\"UA\"),'FMI Template'!I486,\"\")","v":""},{"$f":"IF(AND('FMI Template'!J486<>\"\",'FMI Template'!J486<>\"UA\"),IF('FMI Template'!J486=\"CSD_SSS\",\"CSD-SSS\",IF('FMI Template'!J486=\"CCP_Derivatives\",\"CCP-Derivatives\",IF('FMI Template'!J486=\"CCP_securities\",\"CCP-securities\",IF('FMI Template'!J486=\"Trading_venue\",\"Trading-venue\",'FMI Template'!J486)))),\"\")","v":""},{"$f":"IF(AND('FMI Template'!K486<>\"\",'FMI Template'!K486<>\"UA\"),'FMI Template'!K486,\"\")","v":""},{"$f":"IF('FMI Template'!K486=\"direct\",\"NA\",IF(AND('FMI Template'!M486<>\"\",'FMI Template'!M486<>\"UA\"),'FMI Template'!M486,\"\"))","v":""},{"$f":"IF('FMI Template'!K486=\"direct\",\"NA\",IF(AND('FMI Template'!N486<>\"\",'FMI Template'!N486<>\"UA\"),'FMI Template'!N486,\"\"))","v":""},{"$f":"IF(OR('FMI Template'!H486=\"Other\",'FMI Template'!H486=\"NA\"),'FMI Template'!Q486,\"\")","v":""},{"$f":"IF(AND('FMI Template'!O486<>\"\",'FMI Template'!O486<>\"NA\",'FMI Template'!O486<>\"UA\"),'FMI Template'!O486,\"\")","v":""}]
[null,{"$f":"IF(AND('FMI Template'!B487<>\"\",'FMI Template'!B487<>\"NA\",'FMI Template'!B487<>\"UA\"),'FMI Template'!B487,\"\")","v":""},{"$f":"IF(AND('FMI Template'!C487<>\"\",'FMI Template'!C487<>\"NA\",'FMI Template'!C487<>\"UA\"),'FMI Template'!C487,\"\")","v":""},{"$f":"IF(AND('FMI Template'!D487<>\"\",'FMI Template'!D487<>\"NA\",'FMI Template'!D487<>\"UA\"),'FMI Template'!D487,\"\")","v":""},{"$f":"IF(AND('FMI Template'!F487<>\"\",'FMI Template'!F487<>\"NA\",'FMI Template'!F487<>\"UA\"),'FMI Template'!F487,\"\")","v":""},{"$f":"IF(AND('FMI Template'!H487<>\"\", 'FMI Template'!H487<>\"UA\"),IF('FMI Template'!H487=\"CSD\",\"(I)CSD\",IF('FMI Template'!H487=\"CCP_Derivatives\",\"CCP-Derivatives\",IF('FMI Template'!H487=\"CCP_securities\",\"CCP-securities\",IF('FMI Template'!H487=\"PS_Retail\",\"PS\",IF('FMI Template'!H487=\"PS_LV\",\"PS\",'FMI Template'!H487))))),\"\")","v":""},{"$f":"IF(AND('FMI Template'!I487<>\"\", 'FMI Template'!I487<>\"UA\"),'FMI Template'!I487,\"\")","v":""},{"$f":"IF(AND('FMI Template'!J487<>\"\",'FMI Template'!J487<>\"UA\"),IF('FMI Template'!J487=\"CSD_SSS\",\"CSD-SSS\",IF('FMI Template'!J487=\"CCP_Derivatives\",\"CCP-Derivatives\",IF('FMI Template'!J487=\"CCP_securities\",\"CCP-securities\",IF('FMI Template'!J487=\"Trading_venue\",\"Trading-venue\",'FMI Template'!J487)))),\"\")","v":""},{"$f":"IF(AND('FMI Template'!K487<>\"\",'FMI Template'!K487<>\"UA\"),'FMI Template'!K487,\"\")","v":""},{"$f":"IF('FMI Template'!K487=\"direct\",\"NA\",IF(AND('FMI Template'!M487<>\"\",'FMI Template'!M487<>\"UA\"),'FMI Template'!M487,\"\"))","v":""},{"$f":"IF('FMI Template'!K487=\"direct\",\"NA\",IF(AND('FMI Template'!N487<>\"\",'FMI Template'!N487<>\"UA\"),'FMI Template'!N487,\"\"))","v":""},{"$f":"IF(OR('FMI Template'!H487=\"Other\",'FMI Template'!H487=\"NA\"),'FMI Template'!Q487,\"\")","v":""},{"$f":"IF(AND('FMI Template'!O487<>\"\",'FMI Template'!O487<>\"NA\",'FMI Template'!O487<>\"UA\"),'FMI Template'!O487,\"\")","v":""}]
[null,{"$f":"IF(AND('FMI Template'!B488<>\"\",'FMI Template'!B488<>\"NA\",'FMI Template'!B488<>\"UA\"),'FMI Template'!B488,\"\")","v":""},{"$f":"IF(AND('FMI Template'!C488<>\"\",'FMI Template'!C488<>\"NA\",'FMI Template'!C488<>\"UA\"),'FMI Template'!C488,\"\")","v":""},{"$f":"IF(AND('FMI Template'!D488<>\"\",'FMI Template'!D488<>\"NA\",'FMI Template'!D488<>\"UA\"),'FMI Template'!D488,\"\")","v":""},{"$f":"IF(AND('FMI Template'!F488<>\"\",'FMI Template'!F488<>\"NA\",'FMI Template'!F488<>\"UA\"),'FMI Template'!F488,\"\")","v":""},{"$f":"IF(AND('FMI Template'!H488<>\"\", 'FMI Template'!H488<>\"UA\"),IF('FMI Template'!H488=\"CSD\",\"(I)CSD\",IF('FMI Template'!H488=\"CCP_Derivatives\",\"CCP-Derivatives\",IF('FMI Template'!H488=\"CCP_securities\",\"CCP-securities\",IF('FMI Template'!H488=\"PS_Retail\",\"PS\",IF('FMI Template'!H488=\"PS_LV\",\"PS\",'FMI Template'!H488))))),\"\")","v":""},{"$f":"IF(AND('FMI Template'!I488<>\"\", 'FMI Template'!I488<>\"UA\"),'FMI Template'!I488,\"\")","v":""},{"$f":"IF(AND('FMI Template'!J488<>\"\",'FMI Template'!J488<>\"UA\"),IF('FMI Template'!J488=\"CSD_SSS\",\"CSD-SSS\",IF('FMI Template'!J488=\"CCP_Derivatives\",\"CCP-Derivatives\",IF('FMI Template'!J488=\"CCP_securities\",\"CCP-securities\",IF('FMI Template'!J488=\"Trading_venue\",\"Trading-venue\",'FMI Template'!J488)))),\"\")","v":""},{"$f":"IF(AND('FMI Template'!K488<>\"\",'FMI Template'!K488<>\"UA\"),'FMI Template'!K488,\"\")","v":""},{"$f":"IF('FMI Template'!K488=\"direct\",\"NA\",IF(AND('FMI Template'!M488<>\"\",'FMI Template'!M488<>\"UA\"),'FMI Template'!M488,\"\"))","v":""},{"$f":"IF('FMI Template'!K488=\"direct\",\"NA\",IF(AND('FMI Template'!N488<>\"\",'FMI Template'!N488<>\"UA\"),'FMI Template'!N488,\"\"))","v":""},{"$f":"IF(OR('FMI Template'!H488=\"Other\",'FMI Template'!H488=\"NA\"),'FMI Template'!Q488,\"\")","v":""},{"$f":"IF(AND('FMI Template'!O488<>\"\",'FMI Template'!O488<>\"NA\",'FMI Template'!O488<>\"UA\"),'FMI Template'!O488,\"\")","v":""}]
[null,{"$f":"IF(AND('FMI Template'!B489<>\"\",'FMI Template'!B489<>\"NA\",'FMI Template'!B489<>\"UA\"),'FMI Template'!B489,\"\")","v":""},{"$f":"IF(AND('FMI Template'!C489<>\"\",'FMI Template'!C489<>\"NA\",'FMI Template'!C489<>\"UA\"),'FMI Template'!C489,\"\")","v":""},{"$f":"IF(AND('FMI Template'!D489<>\"\",'FMI Template'!D489<>\"NA\",'FMI Template'!D489<>\"UA\"),'FMI Template'!D489,\"\")","v":""},{"$f":"IF(AND('FMI Template'!F489<>\"\",'FMI Template'!F489<>\"NA\",'FMI Template'!F489<>\"UA\"),'FMI Template'!F489,\"\")","v":""},{"$f":"IF(AND('FMI Template'!H489<>\"\", 'FMI Template'!H489<>\"UA\"),IF('FMI Template'!H489=\"CSD\",\"(I)CSD\",IF('FMI Template'!H489=\"CCP_Derivatives\",\"CCP-Derivatives\",IF('FMI Template'!H489=\"CCP_securities\",\"CCP-securities\",IF('FMI Template'!H489=\"PS_Retail\",\"PS\",IF('FMI Template'!H489=\"PS_LV\",\"PS\",'FMI Template'!H489))))),\"\")","v":""},{"$f":"IF(AND('FMI Template'!I489<>\"\", 'FMI Template'!I489<>\"UA\"),'FMI Template'!I489,\"\")","v":""},{"$f":"IF(AND('FMI Template'!J489<>\"\",'FMI Template'!J489<>\"UA\"),IF('FMI Template'!J489=\"CSD_SSS\",\"CSD-SSS\",IF('FMI Template'!J489=\"CCP_Derivatives\",\"CCP-Derivatives\",IF('FMI Template'!J489=\"CCP_securities\",\"CCP-securities\",IF('FMI Template'!J489=\"Trading_venue\",\"Trading-venue\",'FMI Template'!J489)))),\"\")","v":""},{"$f":"IF(AND('FMI Template'!K489<>\"\",'FMI Template'!K489<>\"UA\"),'FMI Template'!K489,\"\")","v":""},{"$f":"IF('FMI Template'!K489=\"direct\",\"NA\",IF(AND('FMI Template'!M489<>\"\",'FMI Template'!M489<>\"UA\"),'FMI Template'!M489,\"\"))","v":""},{"$f":"IF('FMI Template'!K489=\"direct\",\"NA\",IF(AND('FMI Template'!N489<>\"\",'FMI Template'!N489<>\"UA\"),'FMI Template'!N489,\"\"))","v":""},{"$f":"IF(OR('FMI Template'!H489=\"Other\",'FMI Template'!H489=\"NA\"),'FMI Template'!Q489,\"\")","v":""},{"$f":"IF(AND('FMI Template'!O489<>\"\",'FMI Template'!O489<>\"NA\",'FMI Template'!O489<>\"UA\"),'FMI Template'!O489,\"\")","v":""}]
[null,{"$f":"IF(AND('FMI Template'!B490<>\"\",'FMI Template'!B490<>\"NA\",'FMI Template'!B490<>\"UA\"),'FMI Template'!B490,\"\")","v":""},{"$f":"IF(AND('FMI Template'!C490<>\"\",'FMI Template'!C490<>\"NA\",'FMI Template'!C490<>\"UA\"),'FMI Template'!C490,\"\")","v":""},{"$f":"IF(AND('FMI Template'!D490<>\"\",'FMI Template'!D490<>\"NA\",'FMI Template'!D490<>\"UA\"),'FMI Template'!D490,\"\")","v":""},{"$f":"IF(AND('FMI Template'!F490<>\"\",'FMI Template'!F490<>\"NA\",'FMI Template'!F490<>\"UA\"),'FMI Template'!F490,\"\")","v":""},{"$f":"IF(AND('FMI Template'!H490<>\"\", 'FMI Template'!H490<>\"UA\"),IF('FMI Template'!H490=\"CSD\",\"(I)CSD\",IF('FMI Template'!H490=\"CCP_Derivatives\",\"CCP-Derivatives\",IF('FMI Template'!H490=\"CCP_securities\",\"CCP-securities\",IF('FMI Template'!H490=\"PS_Retail\",\"PS\",IF('FMI Template'!H490=\"PS_LV\",\"PS\",'FMI Template'!H490))))),\"\")","v":""},{"$f":"IF(AND('FMI Template'!I490<>\"\", 'FMI Template'!I490<>\"UA\"),'FMI Template'!I490,\"\")","v":""},{"$f":"IF(AND('FMI Template'!J490<>\"\",'FMI Template'!J490<>\"UA\"),IF('FMI Template'!J490=\"CSD_SSS\",\"CSD-SSS\",IF('FMI Template'!J490=\"CCP_Derivatives\",\"CCP-Derivatives\",IF('FMI Template'!J490=\"CCP_securities\",\"CCP-securities\",IF('FMI Template'!J490=\"Trading_venue\",\"Trading-venue\",'FMI Template'!J490)))),\"\")","v":""},{"$f":"IF(AND('FMI Template'!K490<>\"\",'FMI Template'!K490<>\"UA\"),'FMI Template'!K490,\"\")","v":""},{"$f":"IF('FMI Template'!K490=\"direct\",\"NA\",IF(AND('FMI Template'!M490<>\"\",'FMI Template'!M490<>\"UA\"),'FMI Template'!M490,\"\"))","v":""},{"$f":"IF('FMI Template'!K490=\"direct\",\"NA\",IF(AND('FMI Template'!N490<>\"\",'FMI Template'!N490<>\"UA\"),'FMI Template'!N490,\"\"))","v":""},{"$f":"IF(OR('FMI Template'!H490=\"Other\",'FMI Template'!H490=\"NA\"),'FMI Template'!Q490,\"\")","v":""},{"$f":"IF(AND('FMI Template'!O490<>\"\",'FMI Template'!O490<>\"NA\",'FMI Template'!O490<>\"UA\"),'FMI Template'!O490,\"\")","v":""}]
[null,{"$f":"IF(AND('FMI Template'!B491<>\"\",'FMI Template'!B491<>\"NA\",'FMI Template'!B491<>\"UA\"),'FMI Template'!B491,\"\")","v":""},{"$f":"IF(AND('FMI Template'!C491<>\"\",'FMI Template'!C491<>\"NA\",'FMI Template'!C491<>\"UA\"),'FMI Template'!C491,\"\")","v":""},{"$f":"IF(AND('FMI Template'!D491<>\"\",'FMI Template'!D491<>\"NA\",'FMI Template'!D491<>\"UA\"),'FMI Template'!D491,\"\")","v":""},{"$f":"IF(AND('FMI Template'!F491<>\"\",'FMI Template'!F491<>\"NA\",'FMI Template'!F491<>\"UA\"),'FMI Template'!F491,\"\")","v":""},{"$f":"IF(AND('FMI Template'!H491<>\"\", 'FMI Template'!H491<>\"UA\"),IF('FMI Template'!H491=\"CSD\",\"(I)CSD\",IF('FMI Template'!H491=\"CCP_Derivatives\",\"CCP-Derivatives\",IF('FMI Template'!H491=\"CCP_securities\",\"CCP-securities\",IF('FMI Template'!H491=\"PS_Retail\",\"PS\",IF('FMI Template'!H491=\"PS_LV\",\"PS\",'FMI Template'!H491))))),\"\")","v":""},{"$f":"IF(AND('FMI Template'!I491<>\"\", 'FMI Template'!I491<>\"UA\"),'FMI Template'!I491,\"\")","v":""},{"$f":"IF(AND('FMI Template'!J491<>\"\",'FMI Template'!J491<>\"UA\"),IF('FMI Template'!J491=\"CSD_SSS\",\"CSD-SSS\",IF('FMI Template'!J491=\"CCP_Derivatives\",\"CCP-Derivatives\",IF('FMI Template'!J491=\"CCP_securities\",\"CCP-securities\",IF('FMI Template'!J491=\"Trading_venue\",\"Trading-venue\",'FMI Template'!J491)))),\"\")","v":""},{"$f":"IF(AND('FMI Template'!K491<>\"\",'FMI Template'!K491<>\"UA\"),'FMI Template'!K491,\"\")","v":""},{"$f":"IF('FMI Template'!K491=\"direct\",\"NA\",IF(AND('FMI Template'!M491<>\"\",'FMI Template'!M491<>\"UA\"),'FMI Template'!M491,\"\"))","v":""},{"$f":"IF('FMI Template'!K491=\"direct\",\"NA\",IF(AND('FMI Template'!N491<>\"\",'FMI Template'!N491<>\"UA\"),'FMI Template'!N491,\"\"))","v":""},{"$f":"IF(OR('FMI Template'!H491=\"Other\",'FMI Template'!H491=\"NA\"),'FMI Template'!Q491,\"\")","v":""},{"$f":"IF(AND('FMI Template'!O491<>\"\",'FMI Template'!O491<>\"NA\",'FMI Template'!O491<>\"UA\"),'FMI Template'!O491,\"\")","v":""}]
[null,{"$f":"IF(AND('FMI Template'!B492<>\"\",'FMI Template'!B492<>\"NA\",'FMI Template'!B492<>\"UA\"),'FMI Template'!B492,\"\")","v":""},{"$f":"IF(AND('FMI Template'!C492<>\"\",'FMI Template'!C492<>\"NA\",'FMI Template'!C492<>\"UA\"),'FMI Template'!C492,\"\")","v":""},{"$f":"IF(AND('FMI Template'!D492<>\"\",'FMI Template'!D492<>\"NA\",'FMI Template'!D492<>\"UA\"),'FMI Template'!D492,\"\")","v":""},{"$f":"IF(AND('FMI Template'!F492<>\"\",'FMI Template'!F492<>\"NA\",'FMI Template'!F492<>\"UA\"),'FMI Template'!F492,\"\")","v":""},{"$f":"IF(AND('FMI Template'!H492<>\"\", 'FMI Template'!H492<>\"UA\"),IF('FMI Template'!H492=\"CSD\",\"(I)CSD\",IF('FMI Template'!H492=\"CCP_Derivatives\",\"CCP-Derivatives\",IF('FMI Template'!H492=\"CCP_securities\",\"CCP-securities\",IF('FMI Template'!H492=\"PS_Retail\",\"PS\",IF('FMI Template'!H492=\"PS_LV\",\"PS\",'FMI Template'!H492))))),\"\")","v":""},{"$f":"IF(AND('FMI Template'!I492<>\"\", 'FMI Template'!I492<>\"UA\"),'FMI Template'!I492,\"\")","v":""},{"$f":"IF(AND('FMI Template'!J492<>\"\",'FMI Template'!J492<>\"UA\"),IF('FMI Template'!J492=\"CSD_SSS\",\"CSD-SSS\",IF('FMI Template'!J492=\"CCP_Derivatives\",\"CCP-Derivatives\",IF('FMI Template'!J492=\"CCP_securities\",\"CCP-securities\",IF('FMI Template'!J492=\"Trading_venue\",\"Trading-venue\",'FMI Template'!J492)))),\"\")","v":""},{"$f":"IF(AND('FMI Template'!K492<>\"\",'FMI Template'!K492<>\"UA\"),'FMI Template'!K492,\"\")","v":""},{"$f":"IF('FMI Template'!K492=\"direct\",\"NA\",IF(AND('FMI Template'!M492<>\"\",'FMI Template'!M492<>\"UA\"),'FMI Template'!M492,\"\"))","v":""},{"$f":"IF('FMI Template'!K492=\"direct\",\"NA\",IF(AND('FMI Template'!N492<>\"\",'FMI Template'!N492<>\"UA\"),'FMI Template'!N492,\"\"))","v":""},{"$f":"IF(OR('FMI Template'!H492=\"Other\",'FMI Template'!H492=\"NA\"),'FMI Template'!Q492,\"\")","v":""},{"$f":"IF(AND('FMI Template'!O492<>\"\",'FMI Template'!O492<>\"NA\",'FMI Template'!O492<>\"UA\"),'FMI Template'!O492,\"\")","v":""}]
[null,{"$f":"IF(AND('FMI Template'!B493<>\"\",'FMI Template'!B493<>\"NA\",'FMI Template'!B493<>\"UA\"),'FMI Template'!B493,\"\")","v":""},{"$f":"IF(AND('FMI Template'!C493<>\"\",'FMI Template'!C493<>\"NA\",'FMI Template'!C493<>\"UA\"),'FMI Template'!C493,\"\")","v":""},{"$f":"IF(AND('FMI Template'!D493<>\"\",'FMI Template'!D493<>\"NA\",'FMI Template'!D493<>\"UA\"),'FMI Template'!D493,\"\")","v":""},{"$f":"IF(AND('FMI Template'!F493<>\"\",'FMI Template'!F493<>\"NA\",'FMI Template'!F493<>\"UA\"),'FMI Template'!F493,\"\")","v":""},{"$f":"IF(AND('FMI Template'!H493<>\"\", 'FMI Template'!H493<>\"UA\"),IF('FMI Template'!H493=\"CSD\",\"(I)CSD\",IF('FMI Template'!H493=\"CCP_Derivatives\",\"CCP-Derivatives\",IF('FMI Template'!H493=\"CCP_securities\",\"CCP-securities\",IF('FMI Template'!H493=\"PS_Retail\",\"PS\",IF('FMI Template'!H493=\"PS_LV\",\"PS\",'FMI Template'!H493))))),\"\")","v":""},{"$f":"IF(AND('FMI Template'!I493<>\"\", 'FMI Template'!I493<>\"UA\"),'FMI Template'!I493,\"\")","v":""},{"$f":"IF(AND('FMI Template'!J493<>\"\",'FMI Template'!J493<>\"UA\"),IF('FMI Template'!J493=\"CSD_SSS\",\"CSD-SSS\",IF('FMI Template'!J493=\"CCP_Derivatives\",\"CCP-Derivatives\",IF('FMI Template'!J493=\"CCP_securities\",\"CCP-securities\",IF('FMI Template'!J493=\"Trading_venue\",\"Trading-venue\",'FMI Template'!J493)))),\"\")","v":""},{"$f":"IF(AND('FMI Template'!K493<>\"\",'FMI Template'!K493<>\"UA\"),'FMI Template'!K493,\"\")","v":""},{"$f":"IF('FMI Template'!K493=\"direct\",\"NA\",IF(AND('FMI Template'!M493<>\"\",'FMI Template'!M493<>\"UA\"),'FMI Template'!M493,\"\"))","v":""},{"$f":"IF('FMI Template'!K493=\"direct\",\"NA\",IF(AND('FMI Template'!N493<>\"\",'FMI Template'!N493<>\"UA\"),'FMI Template'!N493,\"\"))","v":""},{"$f":"IF(OR('FMI Template'!H493=\"Other\",'FMI Template'!H493=\"NA\"),'FMI Template'!Q493,\"\")","v":""},{"$f":"IF(AND('FMI Template'!O493<>\"\",'FMI Template'!O493<>\"NA\",'FMI Template'!O493<>\"UA\"),'FMI Template'!O493,\"\")","v":""}]
[null,{"$f":"IF(AND('FMI Template'!B494<>\"\",'FMI Template'!B494<>\"NA\",'FMI Template'!B494<>\"UA\"),'FMI Template'!B494,\"\")","v":""},{"$f":"IF(AND('FMI Template'!C494<>\"\",'FMI Template'!C494<>\"NA\",'FMI Template'!C494<>\"UA\"),'FMI Template'!C494,\"\")","v":""},{"$f":"IF(AND('FMI Template'!D494<>\"\",'FMI Template'!D494<>\"NA\",'FMI Template'!D494<>\"UA\"),'FMI Template'!D494,\"\")","v":""},{"$f":"IF(AND('FMI Template'!F494<>\"\",'FMI Template'!F494<>\"NA\",'FMI Template'!F494<>\"UA\"),'FMI Template'!F494,\"\")","v":""},{"$f":"IF(AND('FMI Template'!H494<>\"\", 'FMI Template'!H494<>\"UA\"),IF('FMI Template'!H494=\"CSD\",\"(I)CSD\",IF('FMI Template'!H494=\"CCP_Derivatives\",\"CCP-Derivatives\",IF('FMI Template'!H494=\"CCP_securities\",\"CCP-securities\",IF('FMI Template'!H494=\"PS_Retail\",\"PS\",IF('FMI Template'!H494=\"PS_LV\",\"PS\",'FMI Template'!H494))))),\"\")","v":""},{"$f":"IF(AND('FMI Template'!I494<>\"\", 'FMI Template'!I494<>\"UA\"),'FMI Template'!I494,\"\")","v":""},{"$f":"IF(AND('FMI Template'!J494<>\"\",'FMI Template'!J494<>\"UA\"),IF('FMI Template'!J494=\"CSD_SSS\",\"CSD-SSS\",IF('FMI Template'!J494=\"CCP_Derivatives\",\"CCP-Derivatives\",IF('FMI Template'!J494=\"CCP_securities\",\"CCP-securities\",IF('FMI Template'!J494=\"Trading_venue\",\"Trading-venue\",'FMI Template'!J494)))),\"\")","v":""},{"$f":"IF(AND('FMI Template'!K494<>\"\",'FMI Template'!K494<>\"UA\"),'FMI Template'!K494,\"\")","v":""},{"$f":"IF('FMI Template'!K494=\"direct\",\"NA\",IF(AND('FMI Template'!M494<>\"\",'FMI Template'!M494<>\"UA\"),'FMI Template'!M494,\"\"))","v":""},{"$f":"IF('FMI Template'!K494=\"direct\",\"NA\",IF(AND('FMI Template'!N494<>\"\",'FMI Template'!N494<>\"UA\"),'FMI Template'!N494,\"\"))","v":""},{"$f":"IF(OR('FMI Template'!H494=\"Other\",'FMI Template'!H494=\"NA\"),'FMI Template'!Q494,\"\")","v":""},{"$f":"IF(AND('FMI Template'!O494<>\"\",'FMI Template'!O494<>\"NA\",'FMI Template'!O494<>\"UA\"),'FMI Template'!O494,\"\")","v":""}]
[null,{"$f":"IF(AND('FMI Template'!B495<>\"\",'FMI Template'!B495<>\"NA\",'FMI Template'!B495<>\"UA\"),'FMI Template'!B495,\"\")","v":""},{"$f":"IF(AND('FMI Template'!C495<>\"\",'FMI Template'!C495<>\"NA\",'FMI Template'!C495<>\"UA\"),'FMI Template'!C495,\"\")","v":""},{"$f":"IF(AND('FMI Template'!D495<>\"\",'FMI Template'!D495<>\"NA\",'FMI Template'!D495<>\"UA\"),'FMI Template'!D495,\"\")","v":""},{"$f":"IF(AND('FMI Template'!F495<>\"\",'FMI Template'!F495<>\"NA\",'FMI Template'!F495<>\"UA\"),'FMI Template'!F495,\"\")","v":""},{"$f":"IF(AND('FMI Template'!H495<>\"\", 'FMI Template'!H495<>\"UA\"),IF('FMI Template'!H495=\"CSD\",\"(I)CSD\",IF('FMI Template'!H495=\"CCP_Derivatives\",\"CCP-Derivatives\",IF('FMI Template'!H495=\"CCP_securities\",\"CCP-securities\",IF('FMI Template'!H495=\"PS_Retail\",\"PS\",IF('FMI Template'!H495=\"PS_LV\",\"PS\",'FMI Template'!H495))))),\"\")","v":""},{"$f":"IF(AND('FMI Template'!I495<>\"\", 'FMI Template'!I495<>\"UA\"),'FMI Template'!I495,\"\")","v":""},{"$f":"IF(AND('FMI Template'!J495<>\"\",'FMI Template'!J495<>\"UA\"),IF('FMI Template'!J495=\"CSD_SSS\",\"CSD-SSS\",IF('FMI Template'!J495=\"CCP_Derivatives\",\"CCP-Derivatives\",IF('FMI Template'!J495=\"CCP_securities\",\"CCP-securities\",IF('FMI Template'!J495=\"Trading_venue\",\"Trading-venue\",'FMI Template'!J495)))),\"\")","v":""},{"$f":"IF(AND('FMI Template'!K495<>\"\",'FMI Template'!K495<>\"UA\"),'FMI Template'!K495,\"\")","v":""},{"$f":"IF('FMI Template'!K495=\"direct\",\"NA\",IF(AND('FMI Template'!M495<>\"\",'FMI Template'!M495<>\"UA\"),'FMI Template'!M495,\"\"))","v":""},{"$f":"IF('FMI Template'!K495=\"direct\",\"NA\",IF(AND('FMI Template'!N495<>\"\",'FMI Template'!N495<>\"UA\"),'FMI Template'!N495,\"\"))","v":""},{"$f":"IF(OR('FMI Template'!H495=\"Other\",'FMI Template'!H495=\"NA\"),'FMI Template'!Q495,\"\")","v":""},{"$f":"IF(AND('FMI Template'!O495<>\"\",'FMI Template'!O495<>\"NA\",'FMI Template'!O495<>\"UA\"),'FMI Template'!O495,\"\")","v":""}]
[null,{"$f":"IF(AND('FMI Template'!B496<>\"\",'FMI Template'!B496<>\"NA\",'FMI Template'!B496<>\"UA\"),'FMI Template'!B496,\"\")","v":""},{"$f":"IF(AND('FMI Template'!C496<>\"\",'FMI Template'!C496<>\"NA\",'FMI Template'!C496<>\"UA\"),'FMI Template'!C496,\"\")","v":""},{"$f":"IF(AND('FMI Template'!D496<>\"\",'FMI Template'!D496<>\"NA\",'FMI Template'!D496<>\"UA\"),'FMI Template'!D496,\"\")","v":""},{"$f":"IF(AND('FMI Template'!F496<>\"\",'FMI Template'!F496<>\"NA\",'FMI Template'!F496<>\"UA\"),'FMI Template'!F496,\"\")","v":""},{"$f":"IF(AND('FMI Template'!H496<>\"\", 'FMI Template'!H496<>\"UA\"),IF('FMI Template'!H496=\"CSD\",\"(I)CSD\",IF('FMI Template'!H496=\"CCP_Derivatives\",\"CCP-Derivatives\",IF('FMI Template'!H496=\"CCP_securities\",\"CCP-securities\",IF('FMI Template'!H496=\"PS_Retail\",\"PS\",IF('FMI Template'!H496=\"PS_LV\",\"PS\",'FMI Template'!H496))))),\"\")","v":""},{"$f":"IF(AND('FMI Template'!I496<>\"\", 'FMI Template'!I496<>\"UA\"),'FMI Template'!I496,\"\")","v":""},{"$f":"IF(AND('FMI Template'!J496<>\"\",'FMI Template'!J496<>\"UA\"),IF('FMI Template'!J496=\"CSD_SSS\",\"CSD-SSS\",IF('FMI Template'!J496=\"CCP_Derivatives\",\"CCP-Derivatives\",IF('FMI Template'!J496=\"CCP_securities\",\"CCP-securities\",IF('FMI Template'!J496=\"Trading_venue\",\"Trading-venue\",'FMI Template'!J496)))),\"\")","v":""},{"$f":"IF(AND('FMI Template'!K496<>\"\",'FMI Template'!K496<>\"UA\"),'FMI Template'!K496,\"\")","v":""},{"$f":"IF('FMI Template'!K496=\"direct\",\"NA\",IF(AND('FMI Template'!M496<>\"\",'FMI Template'!M496<>\"UA\"),'FMI Template'!M496,\"\"))","v":""},{"$f":"IF('FMI Template'!K496=\"direct\",\"NA\",IF(AND('FMI Template'!N496<>\"\",'FMI Template'!N496<>\"UA\"),'FMI Template'!N496,\"\"))","v":""},{"$f":"IF(OR('FMI Template'!H496=\"Other\",'FMI Template'!H496=\"NA\"),'FMI Template'!Q496,\"\")","v":""},{"$f":"IF(AND('FMI Template'!O496<>\"\",'FMI Template'!O496<>\"NA\",'FMI Template'!O496<>\"UA\"),'FMI Template'!O496,\"\")","v":""}]
[null,{"$f":"IF(AND('FMI Template'!B497<>\"\",'FMI Template'!B497<>\"NA\",'FMI Template'!B497<>\"UA\"),'FMI Template'!B497,\"\")","v":""},{"$f":"IF(AND('FMI Template'!C497<>\"\",'FMI Template'!C497<>\"NA\",'FMI Template'!C497<>\"UA\"),'FMI Template'!C497,\"\")","v":""},{"$f":"IF(AND('FMI Template'!D497<>\"\",'FMI Template'!D497<>\"NA\",'FMI Template'!D497<>\"UA\"),'FMI Template'!D497,\"\")","v":""},{"$f":"IF(AND('FMI Template'!F497<>\"\",'FMI Template'!F497<>\"NA\",'FMI Template'!F497<>\"UA\"),'FMI Template'!F497,\"\")","v":""},{"$f":"IF(AND('FMI Template'!H497<>\"\", 'FMI Template'!H497<>\"UA\"),IF('FMI Template'!H497=\"CSD\",\"(I)CSD\",IF('FMI Template'!H497=\"CCP_Derivatives\",\"CCP-Derivatives\",IF('FMI Template'!H497=\"CCP_securities\",\"CCP-securities\",IF('FMI Template'!H497=\"PS_Retail\",\"PS\",IF('FMI Template'!H497=\"PS_LV\",\"PS\",'FMI Template'!H497))))),\"\")","v":""},{"$f":"IF(AND('FMI Template'!I497<>\"\", 'FMI Template'!I497<>\"UA\"),'FMI Template'!I497,\"\")","v":""},{"$f":"IF(AND('FMI Template'!J497<>\"\",'FMI Template'!J497<>\"UA\"),IF('FMI Template'!J497=\"CSD_SSS\",\"CSD-SSS\",IF('FMI Template'!J497=\"CCP_Derivatives\",\"CCP-Derivatives\",IF('FMI Template'!J497=\"CCP_securities\",\"CCP-securities\",IF('FMI Template'!J497=\"Trading_venue\",\"Trading-venue\",'FMI Template'!J497)))),\"\")","v":""},{"$f":"IF(AND('FMI Template'!K497<>\"\",'FMI Template'!K497<>\"UA\"),'FMI Template'!K497,\"\")","v":""},{"$f":"IF('FMI Template'!K497=\"direct\",\"NA\",IF(AND('FMI Template'!M497<>\"\",'FMI Template'!M497<>\"UA\"),'FMI Template'!M497,\"\"))","v":""},{"$f":"IF('FMI Template'!K497=\"direct\",\"NA\",IF(AND('FMI Template'!N497<>\"\",'FMI Template'!N497<>\"UA\"),'FMI Template'!N497,\"\"))","v":""},{"$f":"IF(OR('FMI Template'!H497=\"Other\",'FMI Template'!H497=\"NA\"),'FMI Template'!Q497,\"\")","v":""},{"$f":"IF(AND('FMI Template'!O497<>\"\",'FMI Template'!O497<>\"NA\",'FMI Template'!O497<>\"UA\"),'FMI Template'!O497,\"\")","v":""}]
[null,{"$f":"IF(AND('FMI Template'!B498<>\"\",'FMI Template'!B498<>\"NA\",'FMI Template'!B498<>\"UA\"),'FMI Template'!B498,\"\")","v":""},{"$f":"IF(AND('FMI Template'!C498<>\"\",'FMI Template'!C498<>\"NA\",'FMI Template'!C498<>\"UA\"),'FMI Template'!C498,\"\")","v":""},{"$f":"IF(AND('FMI Template'!D498<>\"\",'FMI Template'!D498<>\"NA\",'FMI Template'!D498<>\"UA\"),'FMI Template'!D498,\"\")","v":""},{"$f":"IF(AND('FMI Template'!F498<>\"\",'FMI Template'!F498<>\"NA\",'FMI Template'!F498<>\"UA\"),'FMI Template'!F498,\"\")","v":""},{"$f":"IF(AND('FMI Template'!H498<>\"\", 'FMI Template'!H498<>\"UA\"),IF('FMI Template'!H498=\"CSD\",\"(I)CSD\",IF('FMI Template'!H498=\"CCP_Derivatives\",\"CCP-Derivatives\",IF('FMI Template'!H498=\"CCP_securities\",\"CCP-securities\",IF('FMI Template'!H498=\"PS_Retail\",\"PS\",IF('FMI Template'!H498=\"PS_LV\",\"PS\",'FMI Template'!H498))))),\"\")","v":""},{"$f":"IF(AND('FMI Template'!I498<>\"\", 'FMI Template'!I498<>\"UA\"),'FMI Template'!I498,\"\")","v":""},{"$f":"IF(AND('FMI Template'!J498<>\"\",'FMI Template'!J498<>\"UA\"),IF('FMI Template'!J498=\"CSD_SSS\",\"CSD-SSS\",IF('FMI Template'!J498=\"CCP_Derivatives\",\"CCP-Derivatives\",IF('FMI Template'!J498=\"CCP_securities\",\"CCP-securities\",IF('FMI Template'!J498=\"Trading_venue\",\"Trading-venue\",'FMI Template'!J498)))),\"\")","v":""},{"$f":"IF(AND('FMI Template'!K498<>\"\",'FMI Template'!K498<>\"UA\"),'FMI Template'!K498,\"\")","v":""},{"$f":"IF('FMI Template'!K498=\"direct\",\"NA\",IF(AND('FMI Template'!M498<>\"\",'FMI Template'!M498<>\"UA\"),'FMI Template'!M498,\"\"))","v":""},{"$f":"IF('FMI Template'!K498=\"direct\",\"NA\",IF(AND('FMI Template'!N498<>\"\",'FMI Template'!N498<>\"UA\"),'FMI Template'!N498,\"\"))","v":""},{"$f":"IF(OR('FMI Template'!H498=\"Other\",'FMI Template'!H498=\"NA\"),'FMI Template'!Q498,\"\")","v":""},{"$f":"IF(AND('FMI Template'!O498<>\"\",'FMI Template'!O498<>\"NA\",'FMI Template'!O498<>\"UA\"),'FMI Template'!O498,\"\")","v":""}]
[null,{"$f":"IF(AND('FMI Template'!B499<>\"\",'FMI Template'!B499<>\"NA\",'FMI Template'!B499<>\"UA\"),'FMI Template'!B499,\"\")","v":""},{"$f":"IF(AND('FMI Template'!C499<>\"\",'FMI Template'!C499<>\"NA\",'FMI Template'!C499<>\"UA\"),'FMI Template'!C499,\"\")","v":""},{"$f":"IF(AND('FMI Template'!D499<>\"\",'FMI Template'!D499<>\"NA\",'FMI Template'!D499<>\"UA\"),'FMI Template'!D499,\"\")","v":""},{"$f":"IF(AND('FMI Template'!F499<>\"\",'FMI Template'!F499<>\"NA\",'FMI Template'!F499<>\"UA\"),'FMI Template'!F499,\"\")","v":""},{"$f":"IF(AND('FMI Template'!H499<>\"\", 'FMI Template'!H499<>\"UA\"),IF('FMI Template'!H499=\"CSD\",\"(I)CSD\",IF('FMI Template'!H499=\"CCP_Derivatives\",\"CCP-Derivatives\",IF('FMI Template'!H499=\"CCP_securities\",\"CCP-securities\",IF('FMI Template'!H499=\"PS_Retail\",\"PS\",IF('FMI Template'!H499=\"PS_LV\",\"PS\",'FMI Template'!H499))))),\"\")","v":""},{"$f":"IF(AND('FMI Template'!I499<>\"\", 'FMI Template'!I499<>\"UA\"),'FMI Template'!I499,\"\")","v":""},{"$f":"IF(AND('FMI Template'!J499<>\"\",'FMI Template'!J499<>\"UA\"),IF('FMI Template'!J499=\"CSD_SSS\",\"CSD-SSS\",IF('FMI Template'!J499=\"CCP_Derivatives\",\"CCP-Derivatives\",IF('FMI Template'!J499=\"CCP_securities\",\"CCP-securities\",IF('FMI Template'!J499=\"Trading_venue\",\"Trading-venue\",'FMI Template'!J499)))),\"\")","v":""},{"$f":"IF(AND('FMI Template'!K499<>\"\",'FMI Template'!K499<>\"UA\"),'FMI Template'!K499,\"\")","v":""},{"$f":"IF('FMI Template'!K499=\"direct\",\"NA\",IF(AND('FMI Template'!M499<>\"\",'FMI Template'!M499<>\"UA\"),'FMI Template'!M499,\"\"))","v":""},{"$f":"IF('FMI Template'!K499=\"direct\",\"NA\",IF(AND('FMI Template'!N499<>\"\",'FMI Template'!N499<>\"UA\"),'FMI Template'!N499,\"\"))","v":""},{"$f":"IF(OR('FMI Template'!H499=\"Other\",'FMI Template'!H499=\"NA\"),'FMI Template'!Q499,\"\")","v":""},{"$f":"IF(AND('FMI Template'!O499<>\"\",'FMI Template'!O499<>\"NA\",'FMI Template'!O499<>\"UA\"),'FMI Template'!O499,\"\")","v":""}]
[null,{"$f":"IF(AND('FMI Template'!B500<>\"\",'FMI Template'!B500<>\"NA\",'FMI Template'!B500<>\"UA\"),'FMI Template'!B500,\"\")","v":""},{"$f":"IF(AND('FMI Template'!C500<>\"\",'FMI Template'!C500<>\"NA\",'FMI Template'!C500<>\"UA\"),'FMI Template'!C500,\"\")","v":""},{"$f":"IF(AND('FMI Template'!D500<>\"\",'FMI Template'!D500<>\"NA\",'FMI Template'!D500<>\"UA\"),'FMI Template'!D500,\"\")","v":""},{"$f":"IF(AND('FMI Template'!F500<>\"\",'FMI Template'!F500<>\"NA\",'FMI Template'!F500<>\"UA\"),'FMI Template'!F500,\"\")","v":""},{"$f":"IF(AND('FMI Template'!H500<>\"\", 'FMI Template'!H500<>\"UA\"),IF('FMI Template'!H500=\"CSD\",\"(I)CSD\",IF('FMI Template'!H500=\"CCP_Derivatives\",\"CCP-Derivatives\",IF('FMI Template'!H500=\"CCP_securities\",\"CCP-securities\",IF('FMI Template'!H500=\"PS_Retail\",\"PS\",IF('FMI Template'!H500=\"PS_LV\",\"PS\",'FMI Template'!H500))))),\"\")","v":""},{"$f":"IF(AND('FMI Template'!I500<>\"\", 'FMI Template'!I500<>\"UA\"),'FMI Template'!I500,\"\")","v":""},{"$f":"IF(AND('FMI Template'!J500<>\"\",'FMI Template'!J500<>\"UA\"),IF('FMI Template'!J500=\"CSD_SSS\",\"CSD-SSS\",IF('FMI Template'!J500=\"CCP_Derivatives\",\"CCP-Derivatives\",IF('FMI Template'!J500=\"CCP_securities\",\"CCP-securities\",IF('FMI Template'!J500=\"Trading_venue\",\"Trading-venue\",'FMI Template'!J500)))),\"\")","v":""},{"$f":"IF(AND('FMI Template'!K500<>\"\",'FMI Template'!K500<>\"UA\"),'FMI Template'!K500,\"\")","v":""},{"$f":"IF('FMI Template'!K500=\"direct\",\"NA\",IF(AND('FMI Template'!M500<>\"\",'FMI Template'!M500<>\"UA\"),'FMI Template'!M500,\"\"))","v":""},{"$f":"IF('FMI Template'!K500=\"direct\",\"NA\",IF(AND('FMI Template'!N500<>\"\",'FMI Template'!N500<>\"UA\"),'FMI Template'!N500,\"\"))","v":""},{"$f":"IF(OR('FMI Template'!H500=\"Other\",'FMI Template'!H500=\"NA\"),'FMI Template'!Q500,\"\")","v":""},{"$f":"IF(AND('FMI Template'!O500<>\"\",'FMI Template'!O500<>\"NA\",'FMI Template'!O500<>\"UA\"),'FMI Template'!O500,\"\")","v":""}]
[null,{"$f":"IF(AND('FMI Template'!B501<>\"\",'FMI Template'!B501<>\"NA\",'FMI Template'!B501<>\"UA\"),'FMI Template'!B501,\"\")","v":""},{"$f":"IF(AND('FMI Template'!C501<>\"\",'FMI Template'!C501<>\"NA\",'FMI Template'!C501<>\"UA\"),'FMI Template'!C501,\"\")","v":""},{"$f":"IF(AND('FMI Template'!D501<>\"\",'FMI Template'!D501<>\"NA\",'FMI Template'!D501<>\"UA\"),'FMI Template'!D501,\"\")","v":""},{"$f":"IF(AND('FMI Template'!F501<>\"\",'FMI Template'!F501<>\"NA\",'FMI Template'!F501<>\"UA\"),'FMI Template'!F501,\"\")","v":""},{"$f":"IF(AND('FMI Template'!H501<>\"\", 'FMI Template'!H501<>\"UA\"),IF('FMI Template'!H501=\"CSD\",\"(I)CSD\",IF('FMI Template'!H501=\"CCP_Derivatives\",\"CCP-Derivatives\",IF('FMI Template'!H501=\"CCP_securities\",\"CCP-securities\",IF('FMI Template'!H501=\"PS_Retail\",\"PS\",IF('FMI Template'!H501=\"PS_LV\",\"PS\",'FMI Template'!H501))))),\"\")","v":""},{"$f":"IF(AND('FMI Template'!I501<>\"\", 'FMI Template'!I501<>\"UA\"),'FMI Template'!I501,\"\")","v":""},{"$f":"IF(AND('FMI Template'!J501<>\"\",'FMI Template'!J501<>\"UA\"),IF('FMI Template'!J501=\"CSD_SSS\",\"CSD-SSS\",IF('FMI Template'!J501=\"CCP_Derivatives\",\"CCP-Derivatives\",IF('FMI Template'!J501=\"CCP_securities\",\"CCP-securities\",IF('FMI Template'!J501=\"Trading_venue\",\"Trading-venue\",'FMI Template'!J501)))),\"\")","v":""},{"$f":"IF(AND('FMI Template'!K501<>\"\",'FMI Template'!K501<>\"UA\"),'FMI Template'!K501,\"\")","v":""},{"$f":"IF('FMI Template'!K501=\"direct\",\"NA\",IF(AND('FMI Template'!M501<>\"\",'FMI Template'!M501<>\"UA\"),'FMI Template'!M501,\"\"))","v":""},{"$f":"IF('FMI Template'!K501=\"direct\",\"NA\",IF(AND('FMI Template'!N501<>\"\",'FMI Template'!N501<>\"UA\"),'FMI Template'!N501,\"\"))","v":""},{"$f":"IF(OR('FMI Template'!H501=\"Other\",'FMI Template'!H501=\"NA\"),'FMI Template'!Q501,\"\")","v":""},{"$f":"IF(AND('FMI Template'!O501<>\"\",'FMI Template'!O501<>\"NA\",'FMI Template'!O501<>\"UA\"),'FMI Template'!O501,\"\")","v":""}]
[null,{"$f":"IF(AND('FMI Template'!B502<>\"\",'FMI Template'!B502<>\"NA\",'FMI Template'!B502<>\"UA\"),'FMI Template'!B502,\"\")","v":""},{"$f":"IF(AND('FMI Template'!C502<>\"\",'FMI Template'!C502<>\"NA\",'FMI Template'!C502<>\"UA\"),'FMI Template'!C502,\"\")","v":""},{"$f":"IF(AND('FMI Template'!D502<>\"\",'FMI Template'!D502<>\"NA\",'FMI Template'!D502<>\"UA\"),'FMI Template'!D502,\"\")","v":""},{"$f":"IF(AND('FMI Template'!F502<>\"\",'FMI Template'!F502<>\"NA\",'FMI Template'!F502<>\"UA\"),'FMI Template'!F502,\"\")","v":""},{"$f":"IF(AND('FMI Template'!H502<>\"\", 'FMI Template'!H502<>\"UA\"),IF('FMI Template'!H502=\"CSD\",\"(I)CSD\",IF('FMI Template'!H502=\"CCP_Derivatives\",\"CCP-Derivatives\",IF('FMI Template'!H502=\"CCP_securities\",\"CCP-securities\",IF('FMI Template'!H502=\"PS_Retail\",\"PS\",IF('FMI Template'!H502=\"PS_LV\",\"PS\",'FMI Template'!H502))))),\"\")","v":""},{"$f":"IF(AND('FMI Template'!I502<>\"\", 'FMI Template'!I502<>\"UA\"),'FMI Template'!I502,\"\")","v":""},{"$f":"IF(AND('FMI Template'!J502<>\"\",'FMI Template'!J502<>\"UA\"),IF('FMI Template'!J502=\"CSD_SSS\",\"CSD-SSS\",IF('FMI Template'!J502=\"CCP_Derivatives\",\"CCP-Derivatives\",IF('FMI Template'!J502=\"CCP_securities\",\"CCP-securities\",IF('FMI Template'!J502=\"Trading_venue\",\"Trading-venue\",'FMI Template'!J502)))),\"\")","v":""},{"$f":"IF(AND('FMI Template'!K502<>\"\",'FMI Template'!K502<>\"UA\"),'FMI Template'!K502,\"\")","v":""},{"$f":"IF('FMI Template'!K502=\"direct\",\"NA\",IF(AND('FMI Template'!M502<>\"\",'FMI Template'!M502<>\"UA\"),'FMI Template'!M502,\"\"))","v":""},{"$f":"IF('FMI Template'!K502=\"direct\",\"NA\",IF(AND('FMI Template'!N502<>\"\",'FMI Template'!N502<>\"UA\"),'FMI Template'!N502,\"\"))","v":""},{"$f":"IF(OR('FMI Template'!H502=\"Other\",'FMI Template'!H502=\"NA\"),'FMI Template'!Q502,\"\")","v":""},{"$f":"IF(AND('FMI Template'!O502<>\"\",'FMI Template'!O502<>\"NA\",'FMI Template'!O502<>\"UA\"),'FMI Template'!O502,\"\")","v":""}]
[null,{"$f":"IF(AND('FMI Template'!B503<>\"\",'FMI Template'!B503<>\"NA\",'FMI Template'!B503<>\"UA\"),'FMI Template'!B503,\"\")","v":""},{"$f":"IF(AND('FMI Template'!C503<>\"\",'FMI Template'!C503<>\"NA\",'FMI Template'!C503<>\"UA\"),'FMI Template'!C503,\"\")","v":""},{"$f":"IF(AND('FMI Template'!D503<>\"\",'FMI Template'!D503<>\"NA\",'FMI Template'!D503<>\"UA\"),'FMI Template'!D503,\"\")","v":""},{"$f":"IF(AND('FMI Template'!F503<>\"\",'FMI Template'!F503<>\"NA\",'FMI Template'!F503<>\"UA\"),'FMI Template'!F503,\"\")","v":""},{"$f":"IF(AND('FMI Template'!H503<>\"\", 'FMI Template'!H503<>\"UA\"),IF('FMI Template'!H503=\"CSD\",\"(I)CSD\",IF('FMI Template'!H503=\"CCP_Derivatives\",\"CCP-Derivatives\",IF('FMI Template'!H503=\"CCP_securities\",\"CCP-securities\",IF('FMI Template'!H503=\"PS_Retail\",\"PS\",IF('FMI Template'!H503=\"PS_LV\",\"PS\",'FMI Template'!H503))))),\"\")","v":""},{"$f":"IF(AND('FMI Template'!I503<>\"\", 'FMI Template'!I503<>\"UA\"),'FMI Template'!I503,\"\")","v":""},{"$f":"IF(AND('FMI Template'!J503<>\"\",'FMI Template'!J503<>\"UA\"),IF('FMI Template'!J503=\"CSD_SSS\",\"CSD-SSS\",IF('FMI Template'!J503=\"CCP_Derivatives\",\"CCP-Derivatives\",IF('FMI Template'!J503=\"CCP_securities\",\"CCP-securities\",IF('FMI Template'!J503=\"Trading_venue\",\"Trading-venue\",'FMI Template'!J503)))),\"\")","v":""},{"$f":"IF(AND('FMI Template'!K503<>\"\",'FMI Template'!K503<>\"UA\"),'FMI Template'!K503,\"\")","v":""},{"$f":"IF('FMI Template'!K503=\"direct\",\"NA\",IF(AND('FMI Template'!M503<>\"\",'FMI Template'!M503<>\"UA\"),'FMI Template'!M503,\"\"))","v":""},{"$f":"IF('FMI Template'!K503=\"direct\",\"NA\",IF(AND('FMI Template'!N503<>\"\",'FMI Template'!N503<>\"UA\"),'FMI Template'!N503,\"\"))","v":""},{"$f":"IF(OR('FMI Template'!H503=\"Other\",'FMI Template'!H503=\"NA\"),'FMI Template'!Q503,\"\")","v":""},{"$f":"IF(AND('FMI Template'!O503<>\"\",'FMI Template'!O503<>\"NA\",'FMI Template'!O503<>\"UA\"),'FMI Template'!O503,\"\")","v":""}]
[null,{"$f":"IF(AND('FMI Template'!B504<>\"\",'FMI Template'!B504<>\"NA\",'FMI Template'!B504<>\"UA\"),'FMI Template'!B504,\"\")","v":""},{"$f":"IF(AND('FMI Template'!C504<>\"\",'FMI Template'!C504<>\"NA\",'FMI Template'!C504<>\"UA\"),'FMI Template'!C504,\"\")","v":""},{"$f":"IF(AND('FMI Template'!D504<>\"\",'FMI Template'!D504<>\"NA\",'FMI Template'!D504<>\"UA\"),'FMI Template'!D504,\"\")","v":""},{"$f":"IF(AND('FMI Template'!F504<>\"\",'FMI Template'!F504<>\"NA\",'FMI Template'!F504<>\"UA\"),'FMI Template'!F504,\"\")","v":""},{"$f":"IF(AND('FMI Template'!H504<>\"\", 'FMI Template'!H504<>\"UA\"),IF('FMI Template'!H504=\"CSD\",\"(I)CSD\",IF('FMI Template'!H504=\"CCP_Derivatives\",\"CCP-Derivatives\",IF('FMI Template'!H504=\"CCP_securities\",\"CCP-securities\",IF('FMI Template'!H504=\"PS_Retail\",\"PS\",IF('FMI Template'!H504=\"PS_LV\",\"PS\",'FMI Template'!H504))))),\"\")","v":""},{"$f":"IF(AND('FMI Template'!I504<>\"\", 'FMI Template'!I504<>\"UA\"),'FMI Template'!I504,\"\")","v":""},{"$f":"IF(AND('FMI Template'!J504<>\"\",'FMI Template'!J504<>\"UA\"),IF('FMI Template'!J504=\"CSD_SSS\",\"CSD-SSS\",IF('FMI Template'!J504=\"CCP_Derivatives\",\"CCP-Derivatives\",IF('FMI Template'!J504=\"CCP_securities\",\"CCP-securities\",IF('FMI Template'!J504=\"Trading_venue\",\"Trading-venue\",'FMI Template'!J504)))),\"\")","v":""},{"$f":"IF(AND('FMI Template'!K504<>\"\",'FMI Template'!K504<>\"UA\"),'FMI Template'!K504,\"\")","v":""},{"$f":"IF('FMI Template'!K504=\"direct\",\"NA\",IF(AND('FMI Template'!M504<>\"\",'FMI Template'!M504<>\"UA\"),'FMI Template'!M504,\"\"))","v":""},{"$f":"IF('FMI Template'!K504=\"direct\",\"NA\",IF(AND('FMI Template'!N504<>\"\",'FMI Template'!N504<>\"UA\"),'FMI Template'!N504,\"\"))","v":""},{"$f":"IF(OR('FMI Template'!H504=\"Other\",'FMI Template'!H504=\"NA\"),'FMI Template'!Q504,\"\")","v":""},{"$f":"IF(AND('FMI Template'!O504<>\"\",'FMI Template'!O504<>\"NA\",'FMI Template'!O504<>\"UA\"),'FMI Template'!O504,\"\")","v":""}]

{"sheet":"Dropdown List","index":2,"n_rows":251,"n_cols":9,"rows_kept":251,"cut":false,"hidden":true,"merged":[]}
["Country ","System Type","Participation Mode","Currency","Ancillary FMI services with credit or liquidity exposures","Services to FMIs","Communication Providers","Critical Functions","Critical Functions ID"]
["AD","PS","Direct","EUR","Yes (please specify in free form text)","price provider","FMI proprietary","deposits",1]
["AE","CSD","Indirect","USD","No  ","liquidity provider","SWIFT","lending",2]
["AF","SSS","NA","GBP",null,"cash settlement for certain currencies","other (please specify in free form text)","payment/cash/clearing/settlement/custody",3]
["AG","CCP_Derivatives",null,"CHF",null,"custody",null,"capital markets",4]
["AI","CCP_Securities",null,"JPY",null,"indirect access to (foreign) CSDs",null,"wholesale funding",5]
["AL","TR",null,"other (please specify in free form text)",null,"investment counterparty"]
["AM","Trading_venue",null,null,null,"other (please specify in free form text)"]
["AO","Other"]
["AQ","NA"]
["AR"]
["AS"]
["AT"]
["AU"]
["AW"]
["AX"]
["AZ"]
["BA"]
["BB"]
["BD"]
["BE"]
["BF"]
["BG"]
["BH"]
["BI"]
["BJ"]
["BL"]
["BM"]
["BN"]
["BO"]
["BQ"]
["BR"]
["BS"]
["BT"]
["BV"]
["BW"]
["BY"]
["BZ"]
["CA"]
["CC"]
["CD"]
["CF"]
["CG"]
["CH"]
["CI"]
["CK"]
["CL"]
["CM"]
["CN"]
["CO"]
["CR"]
["CU"]
["CV"]
["CW"]
["CX"]
["CY"]
["CZ"]
["DE"]
["DJ"]
["DK"]
["DM"]
["DO"]
["DZ"]
["EC"]
["EE"]
["EG"]
["EH"]
["ER"]
["ES"]
["ET"]
["FI"]
["FJ"]
["FK"]
["FM"]
["FO"]
["FR"]
["GA"]
["GB"]
["GD"]
["GE"]
["GF"]
["GG"]
["GH"]
["GI"]
["GL"]
["GM"]
["GN"]
["GP"]
["GQ"]
["GR"]
["GS"]
["GT"]
["GU"]
["GW"]
["GY"]
["HK"]
["HM"]
["HN"]
["HR"]
["HT"]
["HU"]
["ID"]
["IE"]
["IL"]
["IM"]
["IN"]
["IO"]
["IQ"]
["IR"]
["IS"]
["IT"]
["JE"]
["JM"]
["JO"]
["JP"]
["KE"]
["KG"]
["KH"]
["KI"]
["KM"]
["KN"]
["KP"]
["KR"]
["KW"]
["KY"]
["KZ"]
["LA"]
["LB"]
["LC"]
["LI"]
["LK"]
["LR"]
["LS"]
["LT"]
["LU"]
["LV"]
["LY"]
["MA"]
["MC"]
["MD"]
["ME"]
["MF"]
["MG"]
["MH"]
["MK"]
["ML"]
["MM"]
["MN"]
["MO"]
["MP"]
["MQ"]
["MR"]
["MS"]
["MT"]
["MU"]
["MV"]
["MW"]
["MX"]
["MY"]
["MZ"]
["NA"]
["NC"]
["NE"]
["NF"]
["NG"]
["NI"]
["NL"]
["NO"]
["NP"]
["NR"]
["NU"]
["NZ"]
["OM"]
["PA"]
["PE"]
["PF"]
["PG"]
["PH"]
["PK"]
["PL"]
["PM"]
["PN"]
["PR"]
["PS"]
["PT"]
["PW"]
["PY"]
["QA"]
["RE"]
["RO"]
["RS"]
["RU"]
["RW"]
["SA"]
["SB"]
["SC"]
["SD"]
["SE"]
["SG"]
["SH"]
["SI"]
["SJ"]
["SK"]
["SL"]
["SM"]
["SN"]
["SO"]
["SR"]
["SS"]
["ST"]
["SV"]
["SX"]
["SY"]
["SZ"]
["TC"]
["TD"]
["TF"]
["TG"]
["TH"]
["TJ"]
["TK"]
["TL"]
["TM"]
["TN"]
["TO"]
["TR"]
["TT"]
["TV"]
["TW"]
["TZ"]
["UA"]
["UG"]
["UM"]
["US"]
["UY"]
["UZ"]
["VA"]
["VC"]
["VE"]
["VG"]
["VI"]
["VN"]
["VU"]
["WF"]
["WS"]
["YE"]
["YT"]
["ZA"]
["ZM"]
["ZW"]
["Other"]

{"sheet":"FMIs","index":3,"n_rows":74,"n_cols":31,"rows_kept":74,"cut":false,"hidden":false,"merged":[[1,28,1,30],[1,8,1,10],[1,0,1,2],[1,4,1,6],[1,12,1,14],[1,16,1,18],[1,20,1,22],[1,24,1,26]]}
["Non exhaustive list of FMIs, as reported in 2018"]
["PS Large Value ",null,null,null,"PS Retail ",null,null,null,"PS = PS Large Value + PS Retail",null,null,null,"CCP Derivatives ",null,null,null,"CCP Securities ",null,null,null,"(I)CSD and/or SSS ",null,null,null,"Trading venue ",null,null,null,"Trade repository"]
["FMI name","Operator or parent company (if relevant)","Country",null,"FMI name","Operator or parent company (if relevant)","Country",null,"FMI name","Operator or parent company (if relevant)","Country",null,"FMI name","Operator or parent company (if relevant)","Country",null,"FMI name","Operator or parent company (if relevant)","Country",null,"FMI name","Operator or parent company (if relevant)","Country",null,"FMI name","Operator or parent company (if relevant)","Country",null,"FMI name","Operator or parent company (if relevant)","Country"]
["ASTI National Bank booking system","Oesterreichische National Bank","AT",null,"Athens Clearing Office (ACO)","Bank of Greece","EL",null,"ASTI National Bank booking system","Oesterreichische National Bank","AT",null,"ATHEXClear (Athens Exchange Clearing House SA","Athex Group","EL",null,"ATHEXClear (Athens Exchange Clearing House SA","Athex Group","EL",null,"ATHEX CSD","Athex Group","EL",null,"ATHEX (Athens Exchange)","Athex Group","EL",null,"Bloomberg Trade Repository Limited","Bloomberg L.P.","UK"]
["CERTIS (Czech Express Real Time Interbank Gross Settlement System)","Czech National Bank","CZ",null,"Automated Clearing House (ACH)","The Clearing House","US",null,"Athens Clearing Office (ACO)","Bank of Greece","EL",null,"BME Clearing","BME","ES",null,"BME Clearing","BME","ES",null,"BOGS (Bank of Greece Securities Settlement System)","Bank of Greece","EL",null,"Bolsa de Barcelona","BME","ES",null,"CME Trade Repository Ltd (CME TR)"]
["CHAPS (Clearing House Automated Payment System )","Bank of England","UK",null,"Automated Clearing Settlement System (ACSS)",null,"CA",null,"Automated Clearing House (ACH)","The Clearing House","US",null,"Casa de Compensare Bucuresti SA",null,"RO",null,"Casa de Compensare Bucuresti SA",null,"RO",null,"Canadian depository for securities (CDS)",null,"CA",null,"Bolsa de Bilbao","BME","ES",null,"DTCC Derivatives Repository / Data Repository","DTCC","UK, US, JP, SG"]
["CHATS (HKD Clearing House Automated Transfer System)","HKICL (Hong-Kong Interbank Clearing Limited)","HK",null,"BACS (Bankers' Automated Clearing Services)",null,"UK",null,"Automated Clearing Settlement System (ACSS)",null,"CA",null,"Casa Romana de Compensatie SA","Sibex","RO",null,"Casa Romana de Compensatie SA","Sibex","RO",null,"Central Depository & Clearing Company",null,"HR",null,"Bolsa de Madrid","BME","ES",null,"ICE Trade Vault Europe Limited (ICE TVEL)","Intercontinental Exchange"]
["CHATS (USD)","HKICL (Hong-Kong Interbank Clearing Limited)","HK",null,"Bankgirocentralen BGC AB (Bankgirot) ",null,"SE",null,"BACS (Bankers' Automated Clearing Services)",null,"UK",null,"Cassa Compensazione e Garantia (CC&G)","London Stock Exchange","IT",null,"Cassa Compensazione e Garantia (CC&G)","London Stock Exchange","IT",null,"Central Depository AD",null,"BG",null,"Bolsa de Valencia","BME","ES",null,"KDPW-TR",null,"PL"]
["CHIPS","The Clearing House","US",null,"BI-COMP","Banca d'Italia","IT",null,"Bankgirocentralen BGC AB (Bankgirot) ",null,"SE",null,"CME Clearing Europe Limited",null,"UK",null,"CCP Austria",null,"AT",null,"Central Depository of Securities Prague",null,"CZ",null,"BondSpot S.A.",null,"PL",null,"NEX Abide Trade Repository AB"]
["CLS",null,"US",null,"BISERA (Bank Integrated System for Electronic Payments)","BORICA-BANKSERVICE AD","BG",null,"BI-COMP","Banca d'Italia","IT",null,"EUREX Clearing AG","Deutsche Börse","DE",null,"EUREX Clearing AG","Deutsche Börse","DE",null,"Centralna klirinško depotna družba (KDD)",null,"SI",null,"Borsa Italiana SpA","London Stock Exchange","IT",null,"Regis-TR ","JV Iberclear-Clearstream"]
["Croatian LVPS","Hrvatska Narodna Banka (central bank) ","HR",null,"BORICA","BORICA-BANKSERVICE AD","BG",null,"BISERA (Bank Integrated System for Electronic Payments)","BORICA-BANKSERVICE AD","BG",null,"European Commodity Clearing AG (ECC)","Deutsche Börse Group","DE",null,"EuroCCP",null,"NL",null,"Centrální depozitár cenných papíru SR a.s. (CDCP)",null,"CZ",null,"Bratislava Stock Exchange",null,"SK",null,"UnaVista Limited"]
["EURO 1","EBA Clearing","EU",null,"CEC","STET (FR)","BE",null,"BORICA","BORICA-BANKSERVICE AD","BG",null,"ICE Clear Europe Limited",null,"UK",null,"Fixed Income Clearing Corp (FICC)","DTCC","US",null,"Centralny Depositar Cennych Papierov (CDCP) SR",null,"SK",null,"Budapest Stock Exchange",null,"HU"]
["Fedwire Funds Service","Federal reserve Bank of New York","US",null,"Cheque & Credit Clearing Company Ltd","Cheque & Credit Clearing Company Ltd","UK",null,"CEC","STET (FR)","BE",null,"ICE Clear Netherlands",null,"NL",null,"KDPW_CCP S.A. ",null,"PL",null,"Clearstream Banking AG","Deutsche Börse","DE",null,"Bulgarian Stock Exchange",null,"BG"]
["HSVP (RTGS)",null,"HR",null,"Clearing Service Austria (CSA)","OeNB and Geldservice Austria (GSA)","AT",null,"CERTIS (Czech Express Real Time Interbank Gross Settlement System)","Czech National Bank","CZ",null,"KDPW_CCP S.A. ",null,"PL",null,"KELER CCP",null,"HU",null,"Clearstream Banking Luxembourg",null,"LU",null,"Bursa de Valori Bucaresti",null,"RO"]
["K-RIX","Sveriges Riksbank","SE",null,"Clearing Service International (CSI)","OeNB and Geldservice Austria (GSA)","AT",null,"CHAPS (Clearing House Automated Payment System )","Bank of England","UK",null,"KELER CCP",null,"HU",null,"LCH Clearnet Ltd",null,"UK",null,"Cyprus CDCR (Central Depository and Central Registry)","Cyprus Stock Exchange","CY",null,"Burza cenných papírů Praha, a.s. (Prague Stock Exchange)","CEESEG AG","CZ"]
["KRONOS","Danmarks Nationalbank","DK",null,"Cyprus Clearing House","Cyprus Stock Exchange","CY",null,"CHATS (HKD Clearing House Automated Transfer System)","HKICL (Hong-Kong Interbank Clearing Limited)","HK",null,"LCH Clearnet Ltd",null,"UK",null,"LCH Clearnet SA",null,"FR",null,"Depozitarul Central S.A.","Group BvB","RO",null,"CEESEG AG (Wiener Borse)","CEESEG AG","AT"]
["Large Value Transfer System (LVTS)","Bank of Canada","CA",null,"DIAS (Interbanking Systems S.A.)",null,"EL",null,"CHATS (USD)","HKICL (Hong-Kong Interbank Clearing Limited)","HK",null,"LCH Clearnet SA",null,"FR",null,"National Securities Clearing Corp. (NSCC)","DTCC","US",null,"DTC (Depository Trust Company)","DTCC","US",null,"Cyprus Stock Exchange","Cyprus Stock Exchange","CY"]
["MEPS+ (MAS Electronic Payment System)","Monetary Authority of Singapore","SG",null,"Electronic Clearing System (EKS)","Latvijas Banka (central bank)","LV",null,"Cheque & Credit Clearing Company Ltd","Cheque & Credit Clearing Company Ltd","UK",null,"LME Clear Limited",null,"UK",null,"SIX x-clear","SIX SIS","CH",null,"Eesti Väärtpaberikeskus (ECSD)","NASDAQ OMX","EE",null,"Deutsche Börse AG","Deutsche Börse","DE"]
["NBO Online","Norges Bank","NO",null,"Equens Worldline",null,null,null,"CHIPS","The Clearing House","US",null,"Nasdaq OMX Clearing","NASDAQ OMX","SE",null,null,null,null,null,"Euroclear Bank","Euroclear","BE",null,"Euronext Amsterdam Cash Market","Euronext","NL"]
["NICS (Norwegian Inter Bank Clearing System)","BITS, outsourced to NETS","NO",null,"EuroELIXIR","KIR","PL",null,"Clearing Service Austria (CSA)","OeNB and Geldservice Austria (GSA)","AT",null,"National Securities Clearing Corp. (NSCC)","DTCC","US",null,null,null,null,null,"Euroclear Belgium (part of ESES)","Euroclear","BE",null,"Euronext Brussels SA","Euronext","BE"]
["POPS","FA","FI",null,"EuroSIC","SwissEuroClearingBank (SECB)","CH",null,"Clearing Service International (CSI)","OeNB and Geldservice Austria (GSA)","AT",null,"SIX x-clear","SIX SIS","CH",null,null,null,null,null,"Euroclear Finland","Euroclear","FI",null,"Euronext Lisbon SA","Euronext","PT"]
["RECOUR","NBB","BE",null,"Express Elixir","KIR","PL",null,"CLS",null,"US",null,null,null,null,null,null,null,null,null,"Euroclear France (part of ESES)",null,"FR",null,"Gielda Papierow Wartosciowych w Warszawie (Warsaw Stock Exchange)",null,"PL"]
["REGIS","Banca Nationala a Romaniei (central bank)","RO",null,"Faster Payments Service (FPS)",null,"UK",null,"Croatian LVPS","Hrvatska Narodna Banka (central bank) ","HR",null,null,null,null,null,null,null,null,null,"Euroclear Netherlands (part of ESES)","Euroclear","NL",null,"Irish Stock Exchange Ltd",null,"IE"]
["RINGS (Real-time INterbank Gross-settlement System)","Central Bank of Bulgaria","BG",null,"FedACH Services","Federal Reserve Bank","US",null,"Cyprus Clearing House","Cyprus Stock Exchange","CY",null,null,null,null,null,null,null,null,null,"Euroclear Sweden AB","Euroclear","SE",null,"Ljubljana Stock Exchange","Zagreb Stock Exchange","SI"]
["RIX","Sveriges Riksbank","SE",null,"Interbank Clearing System (ICS)","GIRO Elszámolásforgalmi Zrt.","HU",null,"DIAS (Interbanking Systems S.A.)",null,"EL",null,null,null,null,null,null,null,null,null,"Euroclear UK & Ireland Limited (EUI) (CREST)","Euroclear","UK",null,"London Stock Exchange Ltd (LSE)","London Stock Exchange","UK"]
["SORBNET/SORBNET2","Narodowy Bank Polski (central bank)","PL",null,"Irish Paper Clearing Company (IPCC)",null,"IE",null,"Electronic Clearing System (EKS)","Latvijas Banka (central bank)","LV",null,null,null,null,null,null,null,null,null,"Government Securities Depository (GSD)","Bulgarian National Bank","BG",null,"Luxembourg Stock Exchange",null,"LU"]
["STEP 1","EBA Clearing","BE",null,"Irish Retail Electronic Payments Clearing Company (IRECC)",null,"IE",null,"Equens Worldline",null,null,null,null,null,null,null,null,null,null,null,"Iberclear","BME","ES",null,"Malta Stock Exchange",null,"MT"]
["TARGET2","ECB","BE",null,"JCC Sepa Direct Debits System",null,"CY",null,"EURO 1","EBA Clearing","EU",null,null,null,null,null,null,null,null,null,"INTERBOLSA",null,"PT",null,"MEFF Sociedad Rectora de Productos Derivados S. A.","BME","ES"]
["VIBER","Magyar Nemzeti Bank (central bank)","HU",null,"KIR – Krajowa Izba Rozliczeniowa (National Settlement Office)","KIR","PL",null,"EuroELIXIR","KIR","PL",null,null,null,null,null,null,null,null,null,"KDPW S.A.",null,"PL",null,"Mercados de Deuda Pública en Anotaciones",null,"ES"]
["Clearing Service Austria (CSA)","OeNB and Geldservice Austria (GSA)","AT",null,"KUBAS","Lithuanian Central Credit Union","LT",null,"EuroSIC","SwissEuroClearingBank (SECB)","CH",null,null,null,null,null,null,null,null,null,"KELER",null,"HU",null,"MTS","London Stock Exchange","UK/IT"]
["Clearing Service International (CSI)","OeNB and Geldservice Austria (GSA)","AT",null,"LINK",null,"UK",null,"Express Elixir","KIR","PL",null,null,null,null,null,null,null,null,null,"Latvian Central Depository (LCD)","NASDAQ OMX","LV",null,"MTS Portugal","London Stock Exchange","PT"]
["Cyprus Clearing House","Cyprus Stock Exchange","CY",null,"Malta Clearing House","Central Bank of Malta","MT",null,"Faster Payments Service (FPS)",null,"UK",null,null,null,null,null,null,null,null,null,"Lietuvos centrinis vertybinių popierių depozitoriumas ","NASDAQ OMX","LT",null,"Nasdaq Helsinki","Nasdaq Helsinki Oy","FI"]
["DIAS (Interbanking Systems S.A.)",null,"EL",null,"NCS ( National Clearing System)",null,"HR",null,"FedACH Services","Federal Reserve Bank","US",null,null,null,null,null,null,null,null,null,"LUX CSD","Deutsche Borse","LU",null,"Nasdaq OMX Stockholm","NASDAQ OMX","SE"]
["Electronic Clearing System (EKS)","Latvijas Banka (central bank)","LV",null,"NETS (Network for Electronic Transfers)",null,"SG",null,"Fedwire Funds Service","Federal reserve Bank of New York","US",null,null,null,null,null,null,null,null,null,"Malta Stock Exchange CSD",null,"MT",null,"NYSE Euronext Paris","Euronext","FR"]
["Equens",null,"NL",null,"Nets Estonia AS",null,"EE",null,"HSVP (RTGS)",null,"HR",null,null,null,null,null,null,null,null,null,"Monte Titoli","London Stock Exchange","IT",null,"Prague Stock Exchange (Burza cenných papírů Praha, a.s)",null,"CZ"]
["EuroELIXIR","KIR","PL",null,"RPS","Bundesbank","DE",null,"Interbank Clearing System (ICS)","GIRO Elszámolásforgalmi Zrt.","HU",null,null,null,null,null,null,null,null,null,"Národný Centralny Depositar Cennych Papierov (nCDCP) SR",null,"SK",null,"RM-SYSTEM Czech Stock Exchange",null,"CZ"]
["Express Elixir","KIR","PL",null,"RT1","EBA Clearing","BE",null,"Irish Paper Clearing Company (IPCC)",null,"IE",null,null,null,null,null,null,null,null,null,"NBB SSS","NBB","BE",null,"SIX Swiss Exchange","SIX SIS","CH"]
["Faster Payments Service",null,"UK",null,"SENT","Transfond SA","RO",null,"Irish Retail Electronic Payments Clearing Company (IRECC)",null,"IE",null,null,null,null,null,null,null,null,null,"OeKB CSD (WSB System)",null,"AT",null,"Wiener Börse (see also (CEESEG AG)","CEESEG AG","AT"]
["FedACH Services","Federal Reserve Bank","US",null,"SEPA-MMS","Bank of Lithuania","LT",null,"JCC Sepa Direct Debits System",null,"CY",null,null,null,null,null,null,null,null,null,"RoClear ","Depozitarul Central SA","RO",null,"Xetra (Deutsche Börse)","Deutsche Borse","DE"]
["Interbank Clearing System (ICS)","GIRO Elszámolásforgalmi Zrt.","HU",null,"SICOI","Banco de Portugal","PT",null,"KIR – Krajowa Izba Rozliczeniowa (National Settlement Office)","KIR","PL",null,null,null,null,null,null,null,null,null,"SAFIR","Banca Nationala a Romaniei (central bank)","RO"]
["Irish Paper Clearing Company (IPCC)",null,"IE",null,"SIMP - PS",null,"SI",null,"K-RIX","Sveriges Riksbank","SE",null,null,null,null,null,null,null,null,null,"SIX SIS","SIX SIS","CH"]
["Irish Retail Electronic Payments Clearing Company (IRECC)",null,"IE",null,"SIPS","Národná banka Slovenska","SK",null,"KRONOS","Danmarks Nationalbank","DK",null,null,null,null,null,null,null,null,null,"SKARBNET4","Narodowy Bank Polski (central bank)","PL"]
["JCC Sepa Direct Debits System",null,"CY",null,"SIX InterbankClearing (SIC)",null,"CH",null,"KUBAS","Lithuanian Central Credit Union","LT",null,null,null,null,null,null,null,null,null,"SKD (Short Term Bond System)","Czech National Bank","CZ"]
["KIR – Krajowa Izba Rozliczeniowa (National Settlement Office)","KIR","PL",null,"SNCE (Sistema Nacional de Compensación Electrónica)",null,"ES",null,"Large Value Transfer System (LVTS)","Bank of Canada","CA",null,null,null,null,null,null,null,null,null,"Verdipapirsentralen (VPS)",null,"NO"]
["KUBAS","Lithuanian Central Credit Union","LT",null,"STEP 2","EBA Clearing","BE",null,"LINK",null,"UK",null,null,null,null,null,null,null,null,null,"VP Lux","VP Securities AS","LU"]
["LINK",null,"UK",null,"STET/CORE","STET","FR",null,"Malta Clearing House","Central Bank of Malta","MT",null,null,null,null,null,null,null,null,null,"VP Securities","VP Securities AS","DK"]
["Malta Clearing House","Central Bank of Malta","MT",null,"Straksclearingen","NETS","DK",null,"MEPS+ (MAS Electronic Payment System)","Monetary Authority of Singapore","SG",null,null,null,null,null,null,null,null,null,"T2S (SSS - only for direct connectivity)",null,"EU"]
["RT1","EBA Clearing","BE",null,"Sumclearingen",null,"DK",null,"NBO Online","Norges Bank","NO"]
["RPS","Bundesbank","DE",null,null,null,null,null,"NCS ( National Clearing System)",null,"HR"]
["SENT","Transfond SA","RO",null,null,null,null,null,"NETS (Network for Electronic Transfers)",null,"SG"]
["SEPA-MMS","Bank of Lithuania","LT",null,null,null,null,null,"Nets Estonia AS",null,"EE"]
["SICOI","Banco de Portugal","PT",null,null,null,null,null,"NICS (Norwegian Inter Bank Clearing System)","BITS, outsourced to NETS","NO"]
["SIPS","Národná banka Slovenska","SK",null,null,null,null,null,"POPS","FA","FI"]
["SNCE (Sistema Nacional de Compensación Electrónica)",null,"ES",null,"  ",null,null,null,"RECOUR","NBB","BE"]
["STEP 2","EBA Clearing","BE",null,null,null,null,null,"REGIS","Banca Nationala a Romaniei (central bank)","RO"]
["STET","STET","FR",null,null,null,null,null,"RINGS (Real-time INterbank Gross-settlement System)","Central Bank of Bulgaria","BG"]
[null,null,null,null,null,null,null,null,"RIX","Sveriges Riksbank","SE"]
[null,null,null,null,null,null,null,null,"RPS","Bundesbank","DE"]
[null,null,null,null,null,null,null,null,"RT1","EBA Clearing","BE"]
[null,null,null,null,null,null,null,null,"SENT","Transfond SA","RO"]
[null,null,null,null,null,null,null,null,"SEPA-MMS","Bank of Lithuania","LT"]
[null,null,null,null,null,null,null,null,"SICOI","Banco de Portugal","PT"]
[null,null,null,null,null,null,null,null,"SIMP - PS",null,"SI"]
[null,null,null,null,null,null,null,null,"SIPS","Národná banka Slovenska","SK"]
[null,null,null,null,null,null,null,null,"SIX InterbankClearing (SIC)",null,"CH"]
[null,null,null,null,null,null,null,null,"SNCE (Sistema Nacional de Compensación Electrónica)",null,"ES"]
[null,null,null,null,null,null,null,null,"SORBNET/SORBNET2","Narodowy Bank Polski (central bank)","PL"]
[null,null,null,null,null,null,null,null,"STEP 1","EBA Clearing","BE"]
[null,null,null,null,null,null,null,null,"STEP 2","EBA Clearing","BE"]
[null,null,null,null,null,null,null,null,"STET/CORE","STET","FR"]
[null,null,null,null,null,null,null,null,"Straksclearingen","NETS","DK"]
[null,null,null,null,null,null,null,null,"Sumclearingen",null,"DK"]
[null,null,null,null,null,null,null,null,"TARGET2","ECB","BE"]
[null,null,null,null,null,null,null,null,"VIBER","Magyar Nemzeti Bank (central bank)","HU"]

{"sheet":"Questions","index":4,"n_rows":21,"n_cols":7,"rows_kept":21,"cut":false,"hidden":false,"merged":[]}
[]
[null,"N°","Subject","Column Number","Column Name","Question ","Answer"]
[null,1]
[null,2]
[null,3]
[null,4]
[null,5]
[null,6]
[null,7]
[null,8]
[null,9]
[null,10]
[null,11]
[null,12]
[null,13]
[null,14]
[null,15]
[null,16]
[null,17]
[null,18]
[null,19]